{"text_format":"1","workbook":"xlsx","n_sheets":5,"sheets":["Init","Analyse1","Spectres","Data","Donnees"],"not_rendered":{"charts":9,"images":3,"macros":1,"external_links":0,"defined_names":29,"comments":2,"pivot_tables":0},"unopened":[],"bounds":{"document_bytes":16777216,"sheet_cells":100000,"rows_first":2000,"rows_last":500,"rows_between":2000,"halvings":0,"cell_chars":16384,"cell_head_chars":4096},"cells_cut":0,"cells_raw":0,"read":"whole","date_system":"1900"}

{"sheet":"Init","index":0,"n_rows":17,"n_cols":14,"rows_kept":17,"cut":false,"hidden":false,"merged":[]}
[]
[]
[]
[]
[]
[]
[]
[]
[]
[]
[]
[]
[]
[]
[null,null,null,null,null,null,null,null,null,null,null,null,-3200,0.9]
[null,null,null,null,null,null,null,null,null,null,null,null,0,10]
[null,null,null,null,null,null,null,null,null,null,null,null,3200,1]

{"sheet":"Analyse1","index":1,"n_rows":1020,"n_cols":40,"rows_kept":1020,"cut":false,"hidden":false,"merged":[[12,6,12,7],[18,0,18,2],[24,3,24,4]]}
["Analyse Raies",null,null,null,null,null,null,null,null,null,null,null,null,null,null,null,null,"P Cyg"]
[]
["V",13.3,null,"Min Flux",5300,null,"I moyenne",{"$f":"+AVERAGE(Data!C:C)","v":1.1123540257836602},null,null,false]
["E(B-V)",0.4,null,"Max Flux",5800,null,"Flux V",{"$f":"10^(-0.4*B3-8.449)","v":1.7021585083949459E-14},null,null,null,null,null,null,null,null,null,null,null,"2"]
[]
["l Min",{"$f":"+MIN(Data!A:A)","v":4323.8969999999999},null,null,null,null,"lc1 Min",{"$f":"+H7-I6","v":6495.81},20]
["l Max",{"$f":"+MAX(Data!A:A)","v":7295.8969999999999},null,"l0",{"$f":"+VLOOKUP(Donnees!$C$31,Donnees!$C$16:$G$29,3,1)","v":6562.81},null,"lc1 Max",{"$f":"+E7-I7","v":6515.81},47]
["Pas",{"$f":"+Data!A2-Data!A1","v":1},null,"Range",250,null,"lInt Min",{"$f":"+E7-I8","v":6515.81},47]
["Range",{"$f":"+B7-B6","v":2972},null,"l Min",{"$f":"+E7-E8/2","v":6437.81},null,"lInt Max",{"$f":"+E7+I9","v":6614.81},52]
[null,null,null,"l Max",{"$f":"+E7+E8/2","v":6687.81},null,"lc2 Min",{"$f":"+E7+I10","v":6614.81},52]
[null,null,null,"I Max",{"$f":"+MAX(B35:B155)","v":10.197024271380201},null,"lc2 Max",{"$f":"+H10+I11","v":6633.81},19]
[]
[null,null,null,"I Max/c",{"$f":"+I_Max-H17","v":8.5023150514757884},null,"Continuum"]
[null,null,null,null,{"$f":"+E13/2+H17","v":5.9458667456423075},null,{"$f":"+AVERAGE(H6:H7)","v":6505.81},{"$f":"+AVERAGE(H10:H11)","v":6624.31}]
[null,null,null,null,null,null,{"$f":"+AVERAGE(V$35:V$1019)","v":1.6876539866902369},{"$f":"+AVERAGE(W35:W1019)","v":1.7023214452144455}]
[null,null,null,null,null,null,"Pente",{"$f":"+(H15-G15)/(H14-G14)","v":1.237760213013383E-4}]
[null,null,null,null,null,null,"c(l0)",{"$f":"+G15+(E7-G14)*H16","v":1.6947092199044131}]
[]
["Ajustement gaussien",null,null,"ec",{"$f":"+SUM(AG35:AG156)","v":198.08945093502192},null,null,null,null,null,null,null,null,null,null,null,null,null,null,null,null,null,null,null,null,null,null,null,null,null,null,null,"D",null,5,5,2,2,5,5]
[null,"m",null,"s","Intensité",null,"FWHM","EW",null,null,null,null,null,null,null,null,null,null,null,null,null,null,null,null,null,null,null,null,null,"m",null,"s","I",null,"m min","m max","s min","s max","I min","I max"]
["Raie 1",6562.058593877663,0,2.9237470955802394,67.966647615507583,null,{"$f":"+D21*2.3548","v":6.8848396606723474},{"$f":"+E21/($G$15+(B21-$E$7)*$H$16)","v":40.27507651316575},null,null,null,null,null,null,null,null,null,null,null,null,null,null,null,null,null,null,null,null,"Raie 1",{"$f":"+$E$7","v":6562.81},null,4,5.9,null,{"$f":"+AD21-AI$19","v":6557.81},{"$f":"+AD21+AJ$19","v":6567.81},{"$f":"+AF21-AK$19","v":2},{"$f":"+AF21-AL$19","v":2},{"$f":"+AG21-AM$19","v":0.90000000000000036},{"$f":"+AG21-AN$19","v":0.90000000000000036}]
["Raie 2",6564.4929756223855,0,14.654886244883389,18.619906660074264,null,{"$f":"+D22*2.3548","v":34.509326129451402},{"$f":"+E22/($G$15+(B22-$E$7)*$H$16)","v":11.031650315449861},null,null,null,null,null,null,null,null,null,null,null,null,null,null,null,null,null,null,null,null,"Raie 2",5016,null,4,4,null,{"$f":"+AD22-AI$19","v":5011},{"$f":"+AD22+AJ$19","v":5021},{"$f":"+AF22-AK$19","v":2},{"$f":"+AF22-AL$19","v":2},{"$f":"+AG22-AM$19","v":-1},{"$f":"+AG22-AN$19","v":-1}]
["Raie 3",6562.81,0,2.5526090772285062,0,null,6.0108838550576866,0,null,null,null,null,null,null,null,null,null,null,null,null,null,null,null,null,null,null,null,null,"Raie 3",5016,null,10,0,null,5011,5021,8,8,-5,-5]
[null,null,null,null,null,null,"Somme EW",{"$f":"+H21+H22+H23","v":51.306726828615609}]
[null,null,null,"Mesures",null,null,null,null,null,null,null,null,null,null,null,null,null,null,null,"0.5"]
[]
[null,null,null,"Intensité",{"$f":"+SUM(D35:D156)*Pas","v":211.46371099293455}]
[null,null,null,"EW",{"$f":"+SUM(E35:E250)*Pas","v":315.94864101450634},null,null,null,null,null,null,null,null,"Intégration"]
[null,null,null,"Flux",{"$f":"+Analyse1!H17/H3*H4*E28","v":8.1934848108920589E-12},null,null," ",null,null,null,null,null,"Continuum"]
[]
[]
["l","Intensité",null,"Ir - Ic","(Ir - Ic)/Ic",null,"l"]
["Å",null,null,null,null,null,"km.s-1",null,null,null,null,null,null,null,null,null,null,null,null,null,null,"Continuum",null,null,null,null,null,null,"Gauss 1","Gauss 2","Gaus3","S Gauss","ec"]
[]
[{"$f":"+VLOOKUP($E$9,Data!A:B,1,1)","v":6436.8969999999999},{"$f":"IF(A35<E$10+1,+VLOOKUP($A35,Data!A:B,2,1),\"\")","v":0.97834908083696204},null,{"$f":"+IF(AND(A35<$H$9,A35>$H$8),B35-X35,0)","v":0},{"$f":"+D35/X35","v":0},null,{"$f":"+(A35-E$7)/E$7*300000","v":-5755.7509664305589},null,null,null,null,null,null,null,null,null,null,null,null,null,null,{"$f":"+IF(AND($A35>$H$6,$A35<$H$7),$B35,\"\")","v":""},{"$f":"+IF(AND($A35>$H$10,$A35<$H$11),$B35,\"\")","v":""},{"$f":"+$G$15+(A35-$G$14)*$H$16","v":1.6791242097342978},null,{"$f":"IF(AND($V35<>\"\",A35>$H$6,A35<$H$7),ABS($V35-$X35),\"\")","v":""},{"$f":"IF(AND($W35<>\"\",$A35>$H$10,$A35<$H$11),ABS($W35-$X35),\"\")","v":""},null,{"$f":"+$E$21/($D$21*SQRT(2*3.14159))*(EXP(-(($A35-$B$21)^2)/(2*$D$21^2)))+$X35","v":1.6791242097342978},{"$f":"+$E$22/($D$22*SQRT(2*3.14159))*(EXP(-(($A35-$B$22)^2)/(2*$D$22^2)))+$X35","v":1.6791242097342978},{"$f":"+$E$23/($D$23*SQRT(2*3.14159))*(EXP(-(($A35-$B$23)^2)/(2*$D$23^2)))+$X35","v":1.6791242097342978},{"$f":"+AC35+AD35+AE35-2*X35","v":1.6791242097342982},{"$f":"IF(D35<>0,+ABS(B35-AF35),0)","v":0},null,{"$f":"+H6","v":6495.81},{"$f":"+S25","v":0}]
[{"$f":"IF(A35<$E$10,+VLOOKUP($A35+1,Data!A:B,1,1),\"\")","v":6437.8969999999999},{"$f":"IF(A36<E$10+1,+VLOOKUP($A36,Data!A:B,2,1),\"\")","v":0.98649074831809402},null,0,0,null,{"$f":"+(A36-E$7)/E$7*300000","v":-5710.0388400700513},null,null,null,null,null,null,null,null,null,null,null,null,null,null,"","",1.6792479857555991,null,"","",null,1.6792479857555991,1.6792479857555991,1.6792479857555991,{"$f":"+AC36+AD36+AE36-2*X36","v":1.6792479857555991},0,null,{"$f":"+AI35","v":6495.81},{"$f":"+VLOOKUP(AI35,$A$35:$B$1016,2,1)","v":0.96979965105505195}]
[{"$f":"IF(A36<$E$10,+VLOOKUP($A36+1,Data!A:B,1,1),\"\")","v":6438.8969999999999},{"$f":"IF(A37<E$10+1,+VLOOKUP($A37,Data!A:B,2,1),\"\")","v":0.99571615427367999},null,0,0,null,-5664.3267137095454,null,null,null,null,null,null,null,null,null,null,null,null,null,null,"","",1.6793717617769004,null,"","",null,1.6793717617769004,1.6793717617769004,1.6793717617769004,1.6793717617769,0,null,{"$f":"+H7","v":6515.81},{"$f":"+S25","v":0}]
[{"$f":"IF(A37<$E$10,+VLOOKUP($A37+1,Data!A:B,1,1),\"\")","v":6439.8969999999999},{"$f":"IF(A38<E$10+1,+VLOOKUP($A38,Data!A:B,2,1),\"\")","v":1.0029989596278699},null,0,0,null,-5618.6145873490377,null,null,null,null,null,null,null,null,null,null,null,null,null,null,"","",1.6794955377982017,null,"","",null,1.6794955377982017,1.6794955377982017,1.6794955377982017,1.6794955377982017,0,null,{"$f":"+AI37","v":6515.81},{"$f":"+VLOOKUP(AI37,$A$35:$B$1016,2,1)","v":3.00150879631228}]
[{"$f":"IF(A38<$E$10,+VLOOKUP($A38+1,Data!A:B,1,1),\"\")","v":6440.8969999999999},{"$f":"IF(A39<E$10+1,+VLOOKUP($A39,Data!A:B,2,1),\"\")","v":1.0052907840752301},null,0,0,null,-5572.9024609885309,null,null,null,null,null,null,null,null,null,null,null,null,null,null,"","",1.679619313819503,null,"","",null,1.679619313819503,1.6796193138195032,1.679619313819503,1.6796193138195035,0,null,{"$f":"+H10","v":6614.81},{"$f":"+S25","v":0}]
[{"$f":"IF(A39<$E$10,+VLOOKUP($A39+1,Data!A:B,1,1),\"\")","v":6441.8969999999999},{"$f":"IF(A40<E$10+1,+VLOOKUP($A40,Data!A:B,2,1),\"\")","v":0.99962112711262097},null,0,0,null,-5527.1903346280233,null,null,null,null,null,null,null,null,null,null,null,null,null,null,"","",1.6797430898408043,null,"","",null,1.6797430898408043,1.6797430898408046,1.6797430898408043,1.6797430898408043,0,null,{"$f":"+AI39","v":6614.81},{"$f":"+VLOOKUP(AI39,$A$35:$B$1016,2,1)","v":3.5845265561448199}]
[{"$f":"IF(A40<$E$10,+VLOOKUP($A40+1,Data!A:B,1,1),\"\")","v":6442.8969999999999},{"$f":"IF(A41<E$10+1,+VLOOKUP($A41,Data!A:B,2,1),\"\")","v":0.98623444672074001},null,0,0,null,-5481.4782082675165,null,null,null,null,null,null,null,null,null,null,null,null,null,null,"","",1.6798668658621059,null,"","",null,1.6798668658621059,1.6798668658621065,1.6798668658621059,1.6798668658621065,0,null,{"$f":"+H11","v":6633.81},{"$f":"+S25","v":0}]
[{"$f":"IF(A41<$E$10,+VLOOKUP($A41+1,Data!A:B,1,1),\"\")","v":6443.8969999999999},{"$f":"IF(A42<E$10+1,+VLOOKUP($A42,Data!A:B,2,1),\"\")","v":0.96966330262237799},null,0,0,null,-5435.7660819070088,null,null,null,null,null,null,null,null,null,null,null,null,null,null,"","",1.6799906418834072,null,"","",null,1.6799906418834072,1.6799906418834083,1.6799906418834072,1.6799906418834083,0,null,{"$f":"+AI41","v":6633.81},{"$f":"+VLOOKUP(AI41,$A$35:$B$1016,2,1)","v":1.0264729683859399}]
[{"$f":"IF(A42<$E$10,+VLOOKUP($A42+1,Data!A:B,1,1),\"\")","v":6444.8969999999999},{"$f":"IF(A43<E$10+1,+VLOOKUP($A43,Data!A:B,2,1),\"\")","v":0.954738360238228},null,0,0,null,-5390.053955546502,null,null,null,null,null,null,null,null,null,null,null,null,null,null,"","",1.6801144179047085,null,"","",null,1.6801144179047085,1.6801144179047103,1.6801144179047085,1.6801144179047101,0,null,{"$f":"+H8","v":6515.81},0]
[{"$f":"IF(A43<$E$10,+VLOOKUP($A43+1,Data!A:B,1,1),\"\")","v":6445.8969999999999},{"$f":"IF(A44<E$10+1,+VLOOKUP($A44,Data!A:B,2,1),\"\")","v":0.94628828177899704},null,0,0,null,-5344.3418291859944,null,null,null,null,null,null,null,null,null,null,null,null,null,null,"","",1.6802381939260098,null,"","",null,1.6802381939260098,1.6802381939260129,1.6802381939260098,1.6802381939260127,0,null,{"$f":"+AI43","v":6515.81},20]
[{"$f":"IF(A44<$E$10,+VLOOKUP($A44+1,Data!A:B,1,1),\"\")","v":6446.8969999999999},{"$f":"IF(A45<E$10+1,+VLOOKUP($A45,Data!A:B,2,1),\"\")","v":0.94718786040940695},null,0,0,null,-5298.6297028254876,null,null,null,null,null,null,null,null,null,null,null,null,null,null,"","",1.6803619699473111,null,"","",null,1.6803619699473111,1.6803619699473165,1.6803619699473111,1.6803619699473162,0,null,{"$f":"+H9","v":6614.81},0]
[{"$f":"IF(A45<$E$10,+VLOOKUP($A45+1,Data!A:B,1,1),\"\")","v":6447.8969999999999},{"$f":"IF(A46<E$10+1,+VLOOKUP($A46,Data!A:B,2,1),\"\")","v":0.95470566017581904},null,0,0,null,-5252.9175764649799,null,null,null,null,null,null,null,null,null,null,null,null,null,null,"","",1.6804857459686124,null,"","",null,1.6804857459686124,1.6804857459686215,1.6804857459686124,1.6804857459686215,0,null,{"$f":"+AI45","v":6614.81},20]
[{"$f":"IF(A46<$E$10,+VLOOKUP($A46+1,Data!A:B,1,1),\"\")","v":6448.8969999999999},{"$f":"IF(A47<E$10+1,+VLOOKUP($A47,Data!A:B,2,1),\"\")","v":0.96511100572604502},null,0,0,null,-5207.205450104474,null,null,null,null,null,null,null,null,null,null,null,null,null,null,"","",1.6806095219899138,null,"","",null,1.6806095219899138,1.6806095219899293,1.6806095219899138,1.6806095219899295,0]
[{"$f":"IF(A47<$E$10,+VLOOKUP($A47+1,Data!A:B,1,1),\"\")","v":6449.8969999999999},{"$f":"IF(A48<E$10+1,+VLOOKUP($A48,Data!A:B,2,1),\"\")","v":0.97467322170789406},null,0,0,null,-5161.4933237439664,null,null,null,null,null,null,null,null,null,null,null,null,null,null,"","",1.6807332980112151,null,"","",null,1.6807332980112151,1.6807332980112417,1.6807332980112151,1.6807332980112419,0]
[{"$f":"IF(A48<$E$10,+VLOOKUP($A48+1,Data!A:B,1,1),\"\")","v":6450.8969999999999},{"$f":"IF(A49<E$10+1,+VLOOKUP($A49,Data!A:B,2,1),\"\")","v":0.98023828842378302},null,0,0,null,-5115.7811973834596,null,null,null,null,null,null,null,null,null,null,null,null,null,null,"","",1.6808570740325164,null,"","",null,1.6808570740325164,1.6808570740325619,1.6808570740325164,1.6808570740325623,0]
[{"$f":"IF(A49<$E$10,+VLOOKUP($A49+1,Data!A:B,1,1),\"\")","v":6451.8969999999999},{"$f":"IF(A50<E$10+1,+VLOOKUP($A50,Data!A:B,2,1),\"\")","v":0.98247809366748295},null,0,0,null,-5070.0690710229519,null,null,null,null,null,null,null,null,null,null,null,null,null,null,"","",1.6809808500538177,null,"","",null,1.6809808500538177,1.6809808500538947,1.6809808500538177,1.6809808500538943,0]
[{"$f":"IF(A50<$E$10,+VLOOKUP($A50+1,Data!A:B,1,1),\"\")","v":6452.8969999999999},{"$f":"IF(A51<E$10+1,+VLOOKUP($A51,Data!A:B,2,1),\"\")","v":0.983622438616929},null,0,0,null,-5024.3569446624442,null,null,null,null,null,null,null,null,null,null,null,null,null,null,"","",1.6811046260751192,null,"","",null,1.6811046260751192,1.6811046260752489,1.6811046260751192,1.6811046260752489,0]
[{"$f":"IF(A51<$E$10,+VLOOKUP($A51+1,Data!A:B,1,1),\"\")","v":6453.8969999999999},{"$f":"IF(A52<E$10+1,+VLOOKUP($A52,Data!A:B,2,1),\"\")","v":0.98590567433044696},null,0,0,null,-4978.6448183019374,null,null,null,null,null,null,null,null,null,null,null,null,null,null,"","",1.6812284020964205,null,"","",null,1.6812284020964205,1.6812284020966382,1.6812284020964205,1.6812284020966386,0]
[{"$f":"IF(A52<$E$10,+VLOOKUP($A52+1,Data!A:B,1,1),\"\")","v":6454.8969999999999},{"$f":"IF(A53<E$10+1,+VLOOKUP($A53,Data!A:B,2,1),\"\")","v":0.99139893341664298},null,0,0,null,-4932.9326919414298,null,null,null,null,null,null,null,null,null,null,null,null,null,null,"","",1.6813521781177219,null,"","",null,1.6813521781177219,1.6813521781180853,1.6813521781177219,1.6813521781180851,0]
[{"$f":"IF(A53<$E$10,+VLOOKUP($A53+1,Data!A:B,1,1),\"\")","v":6455.8969999999999},{"$f":"IF(A54<E$10+1,+VLOOKUP($A54,Data!A:B,2,1),\"\")","v":0.99924843239365302},null,0,0,null,-4887.220565580923,null,null,null,null,null,null,null,null,null,null,null,null,null,null,"","",1.6814759541390232,null,"","",null,1.6814759541390232,1.6814759541396271,1.6814759541390232,1.6814759541396276,0]
[{"$f":"IF(A54<$E$10,+VLOOKUP($A54+1,Data!A:B,1,1),\"\")","v":6456.8969999999999},{"$f":"IF(A55<E$10+1,+VLOOKUP($A55,Data!A:B,2,1),\"\")","v":1.00607317231144},null,0,0,null,-4841.5084392204153,null,null,null,null,null,null,null,null,null,null,null,null,null,null,"","",1.6815997301603245,null,"","",null,1.6815997301603245,1.6815997301613237,1.6815997301603245,1.6815997301613237,0]
[{"$f":"IF(A55<$E$10,+VLOOKUP($A55+1,Data!A:B,1,1),\"\")","v":6457.8969999999999},{"$f":"IF(A56<E$10+1,+VLOOKUP($A56,Data!A:B,2,1),\"\")","v":1.00840900884496},null,0,0,null,-4795.7963128599085,null,null,null,null,null,null,null,null,null,null,null,null,null,null,"","",1.6817235061816258,null,"","",null,1.6817235061816258,1.6817235061832709,1.6817235061816258,1.6817235061832703,0]
[{"$f":"IF(A56<$E$10,+VLOOKUP($A56+1,Data!A:B,1,1),\"\")","v":6458.8969999999999},{"$f":"IF(A57<E$10+1,+VLOOKUP($A57,Data!A:B,2,1),\"\")","v":1.00282468104377},null,0,0,null,-4750.0841864994009,null,null,null,null,null,null,null,null,null,null,null,null,null,null,"","",1.6818472822029271,null,"","",null,1.6818472822029271,1.6818472822056232,1.6818472822029271,1.6818472822056236,0]
[{"$f":"IF(A57<$E$10,+VLOOKUP($A57+1,Data!A:B,1,1),\"\")","v":6459.8969999999999},{"$f":"IF(A58<E$10+1,+VLOOKUP($A58,Data!A:B,2,1),\"\")","v":0.98895286511132396},null,0,0,null,-4704.372060138895,null,null,null,null,null,null,null,null,null,null,null,null,null,null,"","",1.6819710582242284,null,"","",null,1.6819710582242284,1.6819710582286265,1.6819710582242284,1.6819710582286271,0]
[{"$f":"IF(A58<$E$10,+VLOOKUP($A58+1,Data!A:B,1,1),\"\")","v":6460.8969999999999},{"$f":"IF(A59<E$10+1,+VLOOKUP($A59,Data!A:B,2,1),\"\")","v":0.97193903333759801},null,0,0,null,-4658.6599337783873,null,null,null,null,null,null,null,null,null,null,null,null,null,null,"","",1.6820948342455297,null,"","",null,1.6820948342455297,1.6820948342526709,1.6820948342455297,1.6820948342526707,0]
[{"$f":"IF(A59<$E$10,+VLOOKUP($A59+1,Data!A:B,1,1),\"\")","v":6461.8969999999999},{"$f":"IF(A60<E$10+1,+VLOOKUP($A60,Data!A:B,2,1),\"\")","v":0.95750493474251297},null,0,0,null,-4612.9478074178805,null,null,null,null,null,null,null,null,null,null,null,null,null,null,"","",1.6822186102668313,null,"","",null,1.6822186102668313,1.6822186102783725,1.6822186102668313,1.6822186102783729,0]
[{"$f":"IF(A60<$E$10,+VLOOKUP($A60+1,Data!A:B,1,1),\"\")","v":6462.8969999999999},{"$f":"IF(A61<E$10+1,+VLOOKUP($A61,Data!A:B,2,1),\"\")","v":0.95137231834598701},null,0,0,null,-4567.2356810573729,null,null,null,null,null,null,null,null,null,null,null,null,null,null,"","",1.6823423862881326,null,"","",null,1.6823423862881326,1.682342386306698,1.6823423862881326,1.6823423863066975,0]
[{"$f":"IF(A61<$E$10,+VLOOKUP($A61+1,Data!A:B,1,1),\"\")","v":6463.8969999999999},{"$f":"IF(A62<E$10+1,+VLOOKUP($A62,Data!A:B,2,1),\"\")","v":0.95728125456904101},null,0,0,null,-4521.5235546968652,null,null,null,null,null,null,null,null,null,null,null,null,null,null,"","",1.6824661623094339,null,"","",null,1.6824661623094339,1.6824661623391601,1.6824661623094339,1.6824661623391601,0]
[{"$f":"IF(A62<$E$10,+VLOOKUP($A62+1,Data!A:B,1,1),\"\")","v":6464.8969999999999},{"$f":"IF(A63<E$10+1,+VLOOKUP($A63,Data!A:B,2,1),\"\")","v":0.97104444917213195},null,0,0,null,-4475.8114283363584,null,null,null,null,null,null,null,null,null,null,null,null,null,null,"","",1.6825899383307352,null,"","",null,1.6825899383307352,1.6825899383781104,1.6825899383307352,1.68258993837811,0]
[{"$f":"IF(A63<$E$10,+VLOOKUP($A63+1,Data!A:B,1,1),\"\")","v":6465.8969999999999},{"$f":"IF(A64<E$10+1,+VLOOKUP($A64,Data!A:B,2,1),\"\")","v":0.98649260417100404},null,0,0,null,-4430.0993019758516,null,null,null,null,null,null,null,null,null,null,null,null,null,null,"","",1.6827137143520365,null,"","",null,1.6827137143520365,1.6827137144271884,1.6827137143520365,1.6827137144271886,0]
[{"$f":"IF(A64<$E$10,+VLOOKUP($A64+1,Data!A:B,1,1),\"\")","v":6466.8969999999999},{"$f":"IF(A65<E$10+1,+VLOOKUP($A65,Data!A:B,2,1),\"\")","v":0.99745642158140002},null,0,0,null,-4384.3871756153439,null,null,null,null,null,null,null,null,null,null,null,null,null,null,"","",1.6828374903733379,null,"","",null,1.6828374903733379,1.6828374904919987,1.6828374903733379,1.6828374904919987,0]
[{"$f":"IF(A65<$E$10,+VLOOKUP($A65+1,Data!A:B,1,1),\"\")","v":6467.8969999999999},{"$f":"IF(A66<E$10+1,+VLOOKUP($A66,Data!A:B,2,1),\"\")","v":0.99843191438675605},null,0,0,null,-4338.6750492548372,null,null,null,null,null,null,null,null,null,null,null,null,null,null,"","",1.6829612663946392,null,"","",null,1.6829612663946392,1.6829612665811282,1.6829612663946392,1.682961266581128,0]
[{"$f":"IF(A66<$E$10,+VLOOKUP($A66+1,Data!A:B,1,1),\"\")","v":6468.8969999999999},{"$f":"IF(A67<E$10+1,+VLOOKUP($A67,Data!A:B,2,1),\"\")","v":0.99028080481545699},null,0,0,null,-4292.9629228943295,null,null,null,null,null,null,null,null,null,null,null,null,null,null,"","",1.6830850424159405,null,{"$f":"IF(AND($V67<>\"\",A67>$H$6,A67<$H$7),ABS($V67-$X67),\"\")","v":""},{"$f":"IF(AND($W67<>\"\",$A67>$H$10,$A67<$H$11),ABS($W67-$X67),\"\")","v":""},null,{"$f":"+$E$21/($D$21*SQRT(2*3.14159))*(EXP(-(($A67-$B$21)^2)/(2*$D$21^2)))+$X67","v":1.6830850424159405},{"$f":"+$E$22/($D$22*SQRT(2*3.14159))*(EXP(-(($A67-$B$22)^2)/(2*$D$22^2)))+$X67","v":1.6830850427076673},{"$f":"+$E$23/($D$23*SQRT(2*3.14159))*(EXP(-(($A67-$B$23)^2)/(2*$D$23^2)))+$X67","v":1.6830850424159405},1.6830850427076673,{"$f":"IF(D67<>0,+ABS(B67-AF67),0)","v":0}]
[{"$f":"IF(A67<$E$10,+VLOOKUP($A67+1,Data!A:B,1,1),\"\")","v":6469.8969999999999},{"$f":"IF(A68<E$10+1,+VLOOKUP($A68,Data!A:B,2,1),\"\")","v":0.97740331574616701},null,0,0,null,-4247.2507965338227,null,null,null,null,null,null,null,null,null,null,null,null,null,null,"","",1.6832088184372418,null,"","",null,1.6832088184372418,1.6832088188914733,1.6832088184372418,1.6832088188914738,0]
[{"$f":"IF(A68<$E$10,+VLOOKUP($A68+1,Data!A:B,1,1),\"\")","v":6470.8969999999999},{"$f":"IF(A69<E$10+1,+VLOOKUP($A69,Data!A:B,2,1),\"\")","v":0.96423766492780105},null,0,0,null,-4201.5386701733159,null,null,null,null,null,null,null,null,null,null,null,null,null,null,"","",1.6833325944585433,null,"","",null,1.6833325944585433,1.6833325951625167,1.6833325944585433,1.6833325951625167,0]
[{"$f":"IF(A69<$E$10,+VLOOKUP($A69+1,Data!A:B,1,1),\"\")","v":6471.8969999999999},{"$f":"IF(A70<E$10+1,+VLOOKUP($A70,Data!A:B,2,1),\"\")","v":0.95514268816161696},null,0,0,null,-4155.8265438128083,null,null,null,null,null,null,null,null,null,null,null,null,null,null,"","",1.6834563704798446,null,"","",null,1.6834563704798446,1.6834563715658022,1.6834563704798446,1.6834563715658017,0]
[{"$f":"IF(A70<$E$10,+VLOOKUP($A70+1,Data!A:B,1,1),\"\")","v":6472.8969999999999},{"$f":"IF(A71<E$10+1,+VLOOKUP($A71,Data!A:B,2,1),\"\")","v":0.95206369691965997},null,0,0,null,-4110.1144174523015,null,null,null,null,null,null,null,null,null,null,null,null,null,null,"","",1.683580146501146,null,"","",null,1.683580146501146,1.6835801481685746,1.683580146501146,1.6835801481685744,0]
[{"$f":"IF(A71<$E$10,+VLOOKUP($A71+1,Data!A:B,1,1),\"\")","v":6473.8969999999999},{"$f":"IF(A72<E$10+1,+VLOOKUP($A72,Data!A:B,2,1),\"\")","v":0.95415226935348196},null,0,0,null,-4064.4022910917943,null,null,null,null,null,null,null,null,null,null,null,null,null,null,"","",1.6837039225224473,null,"","",null,1.6837039225224473,1.6837039250708001,1.6837039225224473,1.6837039250707999,0]
[{"$f":"IF(A72<$E$10,+VLOOKUP($A72+1,Data!A:B,1,1),\"\")","v":6474.8969999999999},{"$f":"IF(A73<E$10+1,+VLOOKUP($A73,Data!A:B,2,1),\"\")","v":0.960404049360013},null,0,0,null,-4018.690164731287,null,null,null,null,null,null,null,null,null,null,null,null,null,null,"","",1.6838276985437486,null,"","",null,1.6838276985437486,1.683827702420337,1.6838276985437486,1.683827702420337,0]
[{"$f":"IF(A73<$E$10,+VLOOKUP($A73+1,Data!A:B,1,1),\"\")","v":6475.8969999999999},{"$f":"IF(A74<E$10+1,+VLOOKUP($A74,Data!A:B,2,1),\"\")","v":0.96981412324680305},null,0,0,null,-3972.9780383707798,null,null,null,null,null,null,null,null,null,null,null,null,null,null,"","",1.6839514745650499,null,"","",null,1.6839514745650499,1.6839514804347731,1.6839514745650499,1.6839514804347733,0]
[{"$f":"IF(A74<$E$10,+VLOOKUP($A74+1,Data!A:B,1,1),\"\")","v":6476.8969999999999},{"$f":"IF(A75<E$10+1,+VLOOKUP($A75,Data!A:B,2,1),\"\")","v":0.98118649071914898},null,0,0,null,-3927.2659120102726,null,null,null,null,null,null,null,null,null,null,null,null,null,null,"","",1.6840752505863512,null,"","",null,1.6840752505863512,1.684075259432686,1.6840752505863512,1.684075259432686,0]
[{"$f":"IF(A75<$E$10,+VLOOKUP($A75+1,Data!A:B,1,1),\"\")","v":6477.8969999999999},{"$f":"IF(A76<E$10+1,+VLOOKUP($A76,Data!A:B,2,1),\"\")","v":0.99285580997171097},null,0,0,null,-3881.5537856497658,null,null,null,null,null,null,null,null,null,null,null,null,null,null,"","",1.6841990266076525,null,"","",null,1.6841990266076525,1.6841990398781421,1.6841990266076525,1.6841990398781421,0]
[{"$f":"IF(A76<$E$10,+VLOOKUP($A76+1,Data!A:B,1,1),\"\")","v":6478.8969999999999},{"$f":"IF(A77<E$10+1,+VLOOKUP($A77,Data!A:B,2,1),\"\")","v":1.0030859860577099},null,0,0,null,-3835.8416592892586,null,null,null,null,null,null,null,null,null,null,null,null,null,null,"","",1.6843228026289538,null,"","",null,1.6843228026289538,1.6843228224436924,1.6843228026289538,1.6843228224436926,0]
[{"$f":"IF(A77<$E$10,+VLOOKUP($A77+1,Data!A:B,1,1),\"\")","v":6479.8969999999999},{"$f":"IF(A78<E$10+1,+VLOOKUP($A78,Data!A:B,2,1),\"\")","v":1.01014092403037},null,0,0,null,-3790.1295329287514,null,null,null,null,null,null,null,null,null,null,null,null,null,null,"","",1.6844465786502554,null,"","",null,1.6844465786502554,1.6844466080990528,1.6844465786502554,1.6844466080990528,0]
[{"$f":"IF(A78<$E$10,+VLOOKUP($A78+1,Data!A:B,1,1),\"\")","v":6480.8969999999999},{"$f":"IF(A79<E$10+1,+VLOOKUP($A79,Data!A:B,2,1),\"\")","v":1.0125682529973199},null,0,0,null,-3744.4174065682441,null,null,null,null,null,null,null,null,null,null,null,null,null,null,"","",1.6845703546715567,null,"","",null,1.6845703546715567,1.6845703982352414,1.6845703546715567,1.6845703982352416,0]
[{"$f":"IF(A79<$E$10,+VLOOKUP($A79+1,Data!A:B,1,1),\"\")","v":6481.8969999999999},{"$f":"IF(A80<E$10+1,+VLOOKUP($A80,Data!A:B,2,1),\"\")","v":1.0105077017161099},null,0,0,null,-3698.7052802077369,null,null,null,null,null,null,null,null,null,null,null,null,null,null,"","",1.684694130692858,null,"","",null,1.684694130692858,1.6846941948373648,1.684694130692858,1.6846941948373648,0]
[{"$f":"IF(A80<$E$10,+VLOOKUP($A80+1,Data!A:B,1,1),\"\")","v":6482.8969999999999},{"$f":"IF(A81<E$10+1,+VLOOKUP($A81,Data!A:B,2,1),\"\")","v":1.0046539619402699},null,0,0,null,-3652.9931538472301,null,null,null,null,null,null,null,null,null,null,null,null,null,null,"","",1.6848179067141593,null,"","",null,1.6848179067141593,1.6848180007237488,1.6848179067141593,1.6848180007237485,0]
[{"$f":"IF(A81<$E$10,+VLOOKUP($A81+1,Data!A:B,1,1),\"\")","v":6483.8969999999999},{"$f":"IF(A82<E$10+1,+VLOOKUP($A82,Data!A:B,2,1),\"\")","v":0.99570229515386699},null,0,0,null,-3607.2810274867229,null,null,null,null,null,null,null,null,null,null,null,null,null,null,"","",1.6849416827354606,null,"","",null,1.6849416827354606,1.684941819874993,1.6849416827354606,1.6849418198749926,0]
[{"$f":"IF(A82<$E$10,+VLOOKUP($A82+1,Data!A:B,1,1),\"\")","v":6484.8969999999999},{"$f":"IF(A83<E$10+1,+VLOOKUP($A83,Data!A:B,2,1),\"\")","v":0.98435681782605},null,0,0,null,-3561.5689011262157,null,null,null,null,null,null,null,null,null,null,null,null,null,null,"","",1.6850654587567619,null,"","",null,1.6850654587567619,1.6850656578841485,1.6850654587567619,1.6850656578841483,0]
[{"$f":"IF(A83<$E$10,+VLOOKUP($A83+1,Data!A:B,1,1),\"\")","v":6485.8969999999999},{"$f":"IF(A84<E$10+1,+VLOOKUP($A84,Data!A:B,2,1),\"\")","v":0.97144904816593902},null,0,0,null,-3515.8567747657085,null,null,null,null,null,null,null,null,null,null,null,null,null,null,"","",1.6851892347780633,null,"","",null,1.6851892347780633,1.6851895225690217,1.6851892347780633,1.6851895225690217,0]
[{"$f":"IF(A84<$E$10,+VLOOKUP($A84+1,Data!A:B,1,1),\"\")","v":6486.8969999999999},{"$f":"IF(A85<E$10+1,+VLOOKUP($A85,Data!A:B,2,1),\"\")","v":0.95790603624687298},null,0,0,null,-3470.1446484052012,null,null,null,null,null,null,null,null,null,null,null,null,null,null,"","",1.6853130107993646,null,"","",null,1.6853130107993646,1.6853134248001063,1.6853130107993646,1.6853134248001065,0]
[{"$f":"IF(A85<$E$10,+VLOOKUP($A85+1,Data!A:B,1,1),\"\")","v":6487.8969999999999},{"$f":"IF(A86<E$10+1,+VLOOKUP($A86,Data!A:B,2,1),\"\")","v":0.94465714709370197},null,0,0,null,-3424.4325220446935,null,null,null,null,null,null,null,null,null,null,null,null,null,null,"","",1.6854367868206659,null,"","",null,1.6854367868206659,1.6854373796134583,1.6854367868206659,1.6854373796134579,0]
[{"$f":"IF(A86<$E$10,+VLOOKUP($A86+1,Data!A:B,1,1),\"\")","v":6488.8969999999999},{"$f":"IF(A87<E$10+1,+VLOOKUP($A87,Data!A:B,2,1),\"\")","v":0.93263715306051898},null,0,0,null,-3378.7203956841868,null,null,null,null,null,null,null,null,null,null,null,null,null,null,"","",1.6855605628419674,null,"","",null,1.6855605628419674,1.6855614076976544,1.6855605628419674,1.6855614076976542,0]
[{"$f":"IF(A87<$E$10,+VLOOKUP($A87+1,Data!A:B,1,1),\"\")","v":6489.8969999999999},{"$f":"IF(A88<E$10+1,+VLOOKUP($A88,Data!A:B,2,1),\"\")","v":0.92310846760079301},null,0,0,null,-3333.0082693236795,null,null,null,null,null,null,null,null,null,null,null,null,null,null,"","",1.6856843388632687,null,"","",null,1.6856843388632687,1.6856855373686017,1.6856843388632687,1.6856855373686015,0]
[{"$f":"IF(A88<$E$10,+VLOOKUP($A88+1,Data!A:B,1,1),\"\")","v":6490.8969999999999},{"$f":"IF(A89<E$10+1,+VLOOKUP($A89,Data!A:B,2,1),\"\")","v":0.91784319724865204},null,0,0,null,-3287.2961429631723,null,null,null,null,null,null,null,null,null,null,null,null,null,null,"","",1.6858081148845701,null,"","",null,1.6858081148845701,1.685809807176299,1.6858081148845701,1.685809807176299,0]
[{"$f":"IF(A89<$E$10,+VLOOKUP($A89+1,Data!A:B,1,1),\"\")","v":6491.8969999999999},{"$f":"IF(A90<E$10+1,+VLOOKUP($A90,Data!A:B,2,1),\"\")","v":0.91865750996863305},null,0,0,null,-3241.5840166026651,null,null,null,null,null,null,null,null,null,null,null,null,null,null,"","",1.6859318909058714,null,"","",null,1.6859318909058714,1.6859342693245931,1.6859318909058714,1.6859342693245933,0]
[{"$f":"IF(A90<$E$10,+VLOOKUP($A90+1,Data!A:B,1,1),\"\")","v":6492.8969999999999},{"$f":"IF(A91<E$10+1,+VLOOKUP($A91,Data!A:B,2,1),\"\")","v":0.92736746594927799},null,0,0,null,-3195.8718902421579,null,null,null,null,null,null,null,null,null,null,null,null,null,null,"","",1.6860556669271727,null,"","",null,1.6860556669271727,1.6860589941295643,1.6860556669271727,1.6860589941295645,0]
[{"$f":"IF(A91<$E$10,+VLOOKUP($A91+1,Data!A:B,1,1),\"\")","v":6493.8969999999999},{"$f":"IF(A92<E$10+1,+VLOOKUP($A92,Data!A:B,2,1),\"\")","v":0.94498697582939195},null,0,0,null,-3150.1597638816511,null,null,null,null,null,null,null,null,null,null,null,null,null,null,"","",1.686179442948474,null,"","",null,1.686179442948474,1.6861840757953492,1.686179442948474,1.6861840757953486,0]
[{"$f":"IF(A92<$E$10,+VLOOKUP($A92+1,Data!A:B,1,1),\"\")","v":6494.8969999999999},{"$f":"IF(A93<E$10+1,+VLOOKUP($A93,Data!A:B,2,1),\"\")","v":0.96979965105505195},null,0,0,null,-3104.4476375211439,null,null,null,null,null,null,null,null,null,null,null,null,null,null,"","",1.6863032189697753,null,"","",null,1.6863032189697753,1.6863096398489061,1.6863032189697753,1.6863096398489059,0]
[{"$f":"IF(A93<$E$10,+VLOOKUP($A93+1,Data!A:B,1,1),\"\")","v":6495.8969999999999},{"$f":"IF(A94<E$10+1,+VLOOKUP($A94,Data!A:B,2,1),\"\")","v":0.99950872402792201},null,0,0,null,-3058.7355111606366,null,null,null,null,null,null,null,null,null,null,null,null,null,null,0.99950872402792201,"",1.6864269949910766,null,0.68691827096315461,"",null,1.6864269949910766,1.6864358526482031,1.6864269949910766,1.6864358526482031,0]
[{"$f":"IF(A94<$E$10,+VLOOKUP($A94+1,Data!A:B,1,1),\"\")","v":6496.8969999999999},{"$f":"IF(A95<E$10+1,+VLOOKUP($A95,Data!A:B,2,1),\"\")","v":1.0318174271496701},null,0,0,null,-3013.0233848001294,null,null,null,null,null,null,null,null,null,null,null,null,null,null,1.0318174271496701,"",1.6865507710123779,null,0.65473334386270787,"",null,1.6865507710123779,1.6865629334620815,1.6865507710123779,1.6865629334620813,0]
[{"$f":"IF(A95<$E$10,+VLOOKUP($A95+1,Data!A:B,1,1),\"\")","v":6497.8969999999999},{"$f":"IF(A96<E$10+1,+VLOOKUP($A96,Data!A:B,2,1),\"\")","v":1.06474980814753},null,0,0,null,-2967.3112584396222,null,null,null,null,null,null,null,null,null,null,null,null,null,null,1.06474980814753,"",1.6866745470336795,null,0.62192473888614952,"",null,1.6866745470336795,1.6866911697147131,1.6866745470336795,1.6866911697147136,0]
[{"$f":"IF(A96<$E$10,+VLOOKUP($A96+1,Data!A:B,1,1),\"\")","v":6498.8969999999999},{"$f":"IF(A97<E$10+1,+VLOOKUP($A97,Data!A:B,2,1),\"\")","v":1.09889278980843},null,0,0,null,-2921.5991320791154,null,null,null,null,null,null,null,null,null,null,null,null,null,null,1.09889278980843,"",1.6867983230549808,null,0.58790553324655082,"",null,1.6867983230549808,1.686820936092716,1.6867983230549808,1.6868209360927158,0]
[{"$f":"IF(A97<$E$10,+VLOOKUP($A97+1,Data!A:B,1,1),\"\")","v":6499.8969999999999},{"$f":"IF(A98<E$10+1,+VLOOKUP($A98,Data!A:B,2,1),\"\")","v":1.13606159884777},null,0,0,null,-2875.8870057186082,null,null,null,null,null,null,null,null,null,null,null,null,null,null,1.13606159884777,"",1.6869220990762821,null,0.55086050022851207,"",null,1.6869220990762821,1.6869527183274549,1.6869220990762821,1.6869527183274546,0]
[{"$f":"IF(A98<$E$10,+VLOOKUP($A98+1,Data!A:B,1,1),\"\")","v":6500.8969999999999},{"$f":"IF(A99<E$10+1,+VLOOKUP($A99,Data!A:B,2,1),\"\")","v":1.17807918201011},null,{"$f":"+IF(AND(A99<$H$9,A99>$H$8),B99-X99,0)","v":0},{"$f":"+D99/X99","v":0},null,-2830.174879358101,null,null,null,null,null,null,null,null,null,null,null,null,null,null,{"$f":"+IF(AND($A99>$H$6,$A99<$H$7),$B99,\"\")","v":1.17807918201011},{"$f":"+IF(AND($A99>$H$10,$A99<$H$11),$B99,\"\")","v":""},{"$f":"+$G$15+(A99-$G$14)*$H$16","v":1.6870458750975834},null,{"$f":"IF(AND($V99<>\"\",A99>$H$6,A99<$H$7),ABS($V99-$X99),\"\")","v":0.50896669308747344},{"$f":"IF(AND($W99<>\"\",$A99>$H$10,$A99<$H$11),ABS($W99-$X99),\"\")","v":""},null,{"$f":"+$E$21/($D$21*SQRT(2*3.14159))*(EXP(-(($A99-$B$21)^2)/(2*$D$21^2)))+$X99","v":1.6870458750975834},{"$f":"+$E$22/($D$22*SQRT(2*3.14159))*(EXP(-(($A99-$B$22)^2)/(2*$D$22^2)))+$X99","v":1.6870871425866703},{"$f":"+$E$23/($D$23*SQRT(2*3.14159))*(EXP(-(($A99-$B$23)^2)/(2*$D$23^2)))+$X99","v":1.6870458750975834},1.68708714258667,{"$f":"IF(D99<>0,+ABS(B99-AF99),0)","v":0}]
[{"$f":"IF(A99<$E$10,+VLOOKUP($A99+1,Data!A:B,1,1),\"\")","v":6501.8969999999999},{"$f":"IF(A100<E$10+1,+VLOOKUP($A100,Data!A:B,2,1),\"\")","v":1.22677078906765},null,0,0,null,{"$f":"+(A100-E$7)/E$7*300000","v":-2784.4627529975937},null,null,null,null,null,null,null,null,null,null,null,null,null,null,1.22677078906765,"",1.6871696511188847,null,0.4603988620512347,"",null,1.6871696511188847,1.6872250115351177,1.6871696511188847,{"$f":"+AC100+AD100+AE100-2*X100","v":1.6872250115351179},0]
[{"$f":"IF(A100<$E$10,+VLOOKUP($A100+1,Data!A:B,1,1),\"\")","v":6502.8969999999999},{"$f":"IF(A101<E$10+1,+VLOOKUP($A101,Data!A:B,2,1),\"\")","v":1.2840151471113499},null,0,0,null,-2738.7506266370865,null,null,null,null,null,null,null,null,null,null,null,null,null,null,1.2840151471113499,"",1.687293427140186,null,0.40327828002883614,"",null,1.687293427140186,1.6873673482485918,1.687293427140186,1.6873673482485914,0]
[{"$f":"IF(A101<$E$10,+VLOOKUP($A101+1,Data!A:B,1,1),\"\")","v":6503.8969999999999},{"$f":"IF(A102<E$10+1,+VLOOKUP($A102,Data!A:B,2,1),\"\")","v":1.3517447441271799},null,0,0,null,-2693.0385002765797,null,null,null,null,null,null,null,null,null,null,null,null,null,null,1.3517447441271799,"",1.6874172031614874,null,0.33567245903430742,"",null,1.6874172031614874,1.6875154492832316,1.6874172031614874,1.6875154492832318,0]
[{"$f":"IF(A102<$E$10,+VLOOKUP($A102+1,Data!A:B,1,1),\"\")","v":6504.8969999999999},{"$f":"IF(A103<E$10+1,+VLOOKUP($A103,Data!A:B,2,1),\"\")","v":1.43189442784451},null,0,0,null,-2647.3263739160725,null,null,null,null,null,null,null,null,null,null,null,null,null,null,1.43189442784451,"",1.6875409791827887,null,0.25564655133827863,"",null,1.6875409791827887,1.687670948304139,1.6875409791827887,1.6876709483041386,0]
[{"$f":"IF(A103<$E$10,+VLOOKUP($A103+1,Data!A:B,1,1),\"\")","v":6505.8969999999999},{"$f":"IF(A104<E$10+1,+VLOOKUP($A104,Data!A:B,2,1),\"\")","v":1.5263953448960601},null,0,0,null,-2601.6142475555653,null,null,null,null,null,null,null,null,null,null,null,null,null,null,1.5263953448960601,"",1.68766475520409,null,0.16126941030802988,"",null,1.68766475520409,1.6878358917538585,1.68766475520409,1.6878358917538585,0]
[{"$f":"IF(A104<$E$10,+VLOOKUP($A104+1,Data!A:B,1,1),\"\")","v":6506.8969999999999},{"$f":"IF(A105<E$10+1,+VLOOKUP($A105,Data!A:B,2,1),\"\")","v":1.63656208985466},null,0,0,null,-2555.902121195058,null,null,null,null,null,null,null,null,null,null,null,null,null,null,1.63656208985466,"",1.6877885312253915,null,5.1226441370731512E-2,"",null,1.6877885312253915,1.688012828079853,1.6877885312253915,1.6880128280798532,0]
[{"$f":"IF(A105<$E$10,+VLOOKUP($A105+1,Data!A:B,1,1),\"\")","v":6507.8969999999999},{"$f":"IF(A106<E$10+1,+VLOOKUP($A106,Data!A:B,2,1),\"\")","v":1.76240824265842},null,0,0,null,-2510.1899948345508,null,null,null,null,null,null,null,null,null,null,null,null,null,null,1.76240824265842,"",1.6879123072466928,null,7.4495935411727165E-2,"",null,1.6879123072466928,1.6882049120263425,1.6879123072466928,1.6882049120263423,0]
[{"$f":"IF(A106<$E$10,+VLOOKUP($A106+1,Data!A:B,1,1),\"\")","v":6508.8969999999999},{"$f":"IF(A107<E$10+1,+VLOOKUP($A107,Data!A:B,2,1),\"\")","v":1.9037823566993499},null,0,0,null,-2464.477868474044,null,null,null,null,null,null,null,null,null,null,null,null,null,null,1.9037823566993499,"",1.6880360832679941,null,0.21574627343135577,"",null,1.6880360832679941,1.6884160254134273,1.6880360832679941,1.6884160254134271,0]
[{"$f":"IF(A107<$E$10,+VLOOKUP($A107+1,Data!A:B,1,1),\"\")","v":6509.8969999999999},{"$f":"IF(A108<E$10+1,+VLOOKUP($A108,Data!A:B,2,1),\"\")","v":2.0605329853695},null,0,0,null,-2418.7657421135368,null,null,null,null,null,null,null,null,null,null,null,null,null,null,2.0605329853695,"",1.6881598592892955,null,0.37237312608020456,"",null,1.6881598592892955,1.6886509156573615,1.6881598592892955,1.6886509156573615,0]
[{"$f":"IF(A108<$E$10,+VLOOKUP($A108+1,Data!A:B,1,1),\"\")","v":6510.8969999999999},{"$f":"IF(A109<E$10+1,+VLOOKUP($A109,Data!A:B,2,1),\"\")","v":2.23203726365147},null,0,0,null,-2373.0536157530296,null,null,null,null,null,null,null,null,null,null,null,null,null,null,2.23203726365147,"",1.6882836353105968,null,0.54375362834087326,"",null,1.6882836353105968,1.6889153530111978,1.6882836353105968,1.6889153530111978,0]
[{"$f":"IF(A109<$E$10,+VLOOKUP($A109+1,Data!A:B,1,1),\"\")","v":6511.8969999999999},{"$f":"IF(A110<E$10+1,+VLOOKUP($A110,Data!A:B,2,1),\"\")","v":2.4154273255921899},null,0,0,null,-2327.3414893925224,null,null,null,null,null,null,null,null,null,null,null,null,null,null,2.4154273255921899,"",1.6884074113318981,null,0.72701991426029178,"",null,1.6884074113318981,1.6892163071055477,1.6884074113318981,1.6892163071055482,0]
[{"$f":"IF(A110<$E$10,+VLOOKUP($A110+1,Data!A:B,1,1),\"\")","v":6512.8969999999999},{"$f":"IF(A111<E$10+1,+VLOOKUP($A111,Data!A:B,2,1),\"\")","v":2.6071677370295001},null,0,0,null,-2281.6293630320151,null,null,null,null,null,null,null,null,null,null,null,null,null,null,2.6071677370295001,"",1.6885311873531994,null,0.91863654967630071,"",null,1.6885311873531994,1.6895621428263865,1.6885311873531994,1.6895621428263867,0]
[{"$f":"IF(A111<$E$10,+VLOOKUP($A111+1,Data!A:B,1,1),\"\")","v":6513.8969999999999},{"$f":"IF(A112<E$10+1,+VLOOKUP($A112,Data!A:B,2,1),\"\")","v":2.8037229535991899},null,0,0,null,-2235.9172366715079,null,null,null,null,null,null,null,null,null,null,null,null,null,null,2.8037229535991899,"",1.6886549633745007,null,1.1150679902246892,"",null,1.6886549633745007,1.6899628348642914,1.6886549633745007,1.689962834864291,0]
[{"$f":"IF(A112<$E$10,+VLOOKUP($A112+1,Data!A:B,1,1),\"\")","v":6514.8969999999999},{"$f":"IF(A113<E$10+1,+VLOOKUP($A113,Data!A:B,2,1),\"\")","v":3.00150879631228},null,0,0,null,-2190.2051103110007,null,null,null,null,null,null,null,null,null,null,null,null,null,null,3.00150879631228,"",1.688778739395802,null,1.3127300569164779,"",null,1.688778739395802,1.6904301993944058,1.688778739395802,1.6904301993944051,0]
[{"$f":"IF(A113<$E$10,+VLOOKUP($A113+1,Data!A:B,1,1),\"\")","v":6515.8969999999999},{"$f":"IF(A114<E$10+1,+VLOOKUP($A114,Data!A:B,2,1),\"\")","v":3.1963701452192601},null,1.5074676298021565,0.89257231606991916,null,-2144.4929839504935,null,null,null,null,null,null,null,null,null,null,null,null,null,null,"","",1.6889025154171036,null,"","",null,1.6889025154171036,1.6909781402914084,1.6889025154171036,1.6909781402914086,1.5053920049278515]
[{"$f":"IF(A114<$E$10,+VLOOKUP($A114+1,Data!A:B,1,1),\"\")","v":6516.8969999999999},{"$f":"IF(A115<E$10+1,+VLOOKUP($A115,Data!A:B,2,1),\"\")","v":3.3837808722978102},null,1.6947545808594053,1.0033914743956545,null,-2098.7808575899867,null,null,null,null,null,null,null,null,null,null,null,null,null,null,"","",1.6890262914384049,null,"","",null,1.6890262914384049,1.6916229060488115,1.6890262914384049,1.6916229060488113,1.6921579662489989]
[{"$f":"IF(A115<$E$10,+VLOOKUP($A115+1,Data!A:B,1,1),\"\")","v":6517.8969999999999},{"$f":"IF(A116<E$10+1,+VLOOKUP($A116,Data!A:B,2,1),\"\")","v":3.5592085454873299},null,1.8700584780276237,1.1071002595050561,null,-2053.0687312294795,null,null,null,null,null,null,null,null,null,null,null,null,null,null,"","",1.6891500674597062,null,"","",null,1.6891500674597062,1.6923833521663674,1.6891500674597062,1.6923833521663671,1.8668251933209628]
[{"$f":"IF(A116<$E$10,+VLOOKUP($A116+1,Data!A:B,1,1),\"\")","v":6518.8969999999999},{"$f":"IF(A117<E$10+1,+VLOOKUP($A117,Data!A:B,2,1),\"\")","v":3.7182104368048901},null,2.0289365933238823,1.2010702712018246,null,-2007.356604868972,null,null,null,null,null,null,null,null,null,null,null,null,null,null,"","",1.6892738434810075,null,"","",null,1.6892738434810075,1.6932812022140042,1.6892738434810075,1.693281202214004,2.024929234590886]
[{"$f":"IF(A117<$E$10,+VLOOKUP($A117+1,Data!A:B,1,1),\"\")","v":6519.8969999999999},{"$f":"IF(A118<E$10+1,+VLOOKUP($A118,Data!A:B,2,1),\"\")","v":3.8601384287076601},null,2.1707408092053511,1.2849200118115736,null,-1961.6444785084648,null,null,null,null,null,null,null,null,null,null,null,null,null,null,"","",1.6893976195023088,null,"","",null,1.6893976195023088,1.6943412991095412,1.6893976195023088,1.6943412991095408,2.1657971295981193]
[{"$f":"IF(A118<$E$10,+VLOOKUP($A118+1,Data!A:B,1,1),\"\")","v":6520.8969999999999},{"$f":"IF(A119<E$10+1,+VLOOKUP($A119,Data!A:B,2,1),\"\")","v":3.9894593114138401},null,2.2999379158902302,1.3612955254570434,null,-1915.9323521479578,null,null,null,null,null,null,null,null,null,null,null,null,null,null,"","",1.6895213955236101,null,"","",null,1.6895213955236101,1.6955918364090978,1.6895213955236101,1.6955918364090983,2.2938674750047419]
[{"$f":"IF(A119<$E$10,+VLOOKUP($A119+1,Data!A:B,1,1),\"\")","v":6521.8969999999999},{"$f":"IF(A120<E$10+1,+VLOOKUP($A120,Data!A:B,2,1),\"\")","v":4.1110010401805503},null,2.4213558686356391,1.433055832912951,null,-1870.2202257874505,null,null,null,null,null,null,null,null,null,null,null,null,null,null,"","",1.6896451715449115,null,"","",null,1.6896451715449115,1.697064557667981,1.6896451715449115,1.6970645576679808,2.4139364825125695]
[{"$f":"IF(A120<$E$10,+VLOOKUP($A120+1,Data!A:B,1,1),\"\")","v":6522.8969999999999},{"$f":"IF(A121<E$10+1,+VLOOKUP($A121,Data!A:B,2,1),\"\")","v":4.2295905450679898},null,2.5398215975017768,1.5030585105495644,null,-1824.5080994269435,null,null,null,null,null,null,null,null,null,null,null,null,null,null,"","",1.6897689475662128,null,"","",null,1.6897689475662128,1.6987949102660469,1.6897689475662128,1.6987949102660473,2.5307956348019425]
[{"$f":"IF(A121<$E$10,+VLOOKUP($A121+1,Data!A:B,1,1),\"\")","v":6523.8969999999999},{"$f":"IF(A122<E$10+1,+VLOOKUP($A122,Data!A:B,2,1),\"\")","v":4.3489510781011402},null,2.6590583545136264,1.5735071921421422,null,-1778.7959730664363,null,null,null,null,null,null,null,null,null,null,null,null,null,null,"","",1.6898927235875141,null,"","",null,1.6898927235875141,1.7008221386004276,1.6898927235875141,1.7008221386004272,2.648128939500713]
[{"$f":"IF(A122<$E$10,+VLOOKUP($A122+1,Data!A:B,1,1),\"\")","v":6524.8969999999999},{"$f":"IF(A123<E$10+1,+VLOOKUP($A123,Data!A:B,2,1),\"\")","v":4.46960197424466},null,2.7795854746358444,1.6447090754908185,null,-1733.0838467059291,null,null,null,null,null,null,null,null,null,null,null,null,null,null,"","",1.6900164996088156,null,"","",null,1.6900164996088156,1.7031893003386693,1.6900164996088156,1.7031893003386696,2.7664126739059904]
[{"$f":"IF(A123<$E$10,+VLOOKUP($A123+1,Data!A:B,1,1),\"\")","v":6525.8969999999999},{"$f":"IF(A124<E$10+1,+VLOOKUP($A124,Data!A:B,2,1),\"\")","v":4.59148447183986},null,2.901344196209743,1.7166292277888389,null,-1687.3717203454221,null,null,null,null,null,null,null,null,null,null,null,null,null,null,"","",1.6901402756301169,null,"","",null,1.6901402756301169,1.7059431886156016,1.6901402756301169,1.7059431886156018,2.8855412832242582]
[{"$f":"IF(A124<$E$10,+VLOOKUP($A124+1,Data!A:B,1,1),\"\")","v":6526.8969999999999},{"$f":"IF(A125<E$10+1,+VLOOKUP($A125,Data!A:B,2,1),\"\")","v":4.7145398092280901},null,3.0242757575766719,1.7892327264618213,null,-1641.6595939849149,null,null,null,null,null,null,null,null,null,null,null,null,null,null,"","",1.6902640516514182,null,"","",null,1.6902640516514182,1.7091341427723361,1.6902640516514182,1.7091341427723359,3.0054056664557542]
[{"$f":"IF(A125<$E$10,+VLOOKUP($A125+1,Data!A:B,1,1),\"\")","v":6527.8969999999999},{"$f":"IF(A126<E$10+1,+VLOOKUP($A126,Data!A:B,2,1),\"\")","v":4.8388190661549997},null,3.1484312384822801,1.8625496391659158,null,-1595.9474676244079,null,null,null,null,null,null,null,null,null,null,null,null,null,null,"","",1.6903878276727196,null,"","",null,1.6903878276727196,1.712815730600443,1.6903878276727196,1.7128157306004423,3.1260033355545573]
[{"$f":"IF(A126<$E$10,+VLOOKUP($A126+1,Data!A:B,1,1),\"\")","v":6528.8969999999999},{"$f":"IF(A127<E$10+1,+VLOOKUP($A127,Data!A:B,2,1),\"\")","v":4.9651113147087296},null,3.2745997110147087,1.9370465744566427,null,-1550.2353412639006,null,null,null,null,null,null,null,null,null,null,null,null,null,null,"","",1.6905116036940209,null,"","",null,1.6905116036940209,1.717044286186572,1.6905116036940209,1.7170442861865718,3.2480670285221578]
[{"$f":"IF(A127<$E$10,+VLOOKUP($A127+1,Data!A:B,1,1),\"\")","v":6529.8969999999999},{"$f":"IF(A128<E$10+1,+VLOOKUP($A128,Data!A:B,2,1),\"\")","v":5.0945095745778799},null,3.4038741948625577,2.0133697873019312,null,-1504.5232149033934,null,null,null,null,null,null,null,null,null,null,null,null,null,null,"","",1.6906353797153222,null,"","",null,1.6906353797153222,1.7218782894556324,1.6906353797153222,1.7218782894556321,3.3726312851222477]
[{"$f":"IF(A128<$E$10,+VLOOKUP($A128+1,Data!A:B,1,1),\"\")","v":6530.8969999999999},{"$f":"IF(A129<E$10+1,+VLOOKUP($A129,Data!A:B,2,1),\"\")","v":5.2281078097967901},null,3.5373486540601666,2.0921659019607839,null,-1458.8110885428862,null,null,null,null,null,null,null,null,null,null,null,null,null,null,"","",1.6907591557366235,null,"","",null,1.6907591557366235,1.727377576463655,1.6907591557366235,1.7273775764636552,3.5007302333331349]
[{"$f":"IF(A129<$E$10,+VLOOKUP($A129+1,Data!A:B,1,1),\"\")","v":6531.8969999999999},{"$f":"IF(A130<E$10+1,+VLOOKUP($A130,Data!A:B,2,1),\"\")","v":5.3671639979089196},null,3.6762810661509948,2.174178352092627,null,-1413.098962182379,null,null,null,null,null,null,null,null,null,null,null,null,null,null,"","",1.6908829317579248,null,"","",null,1.6908829317579248,1.7336023734415011,1.6908829317579248,1.7336023734415011,3.6335616244674185]
[{"$f":"IF(A130<$E$10,+VLOOKUP($A130+1,Data!A:B,1,1),\"\")","v":6532.8969999999999},{"$f":"IF(A131<E$10+1,+VLOOKUP($A131,Data!A:B,2,1),\"\")","v":5.5159257472764303},null,3.8249190394972041,2.2619183128613449,null,-1367.3868358218717,null,null,null,null,null,null,null,null,null,null,null,null,null,null,"","",1.6910067077792261,null,{"$f":"IF(AND($V131<>\"\",A131>$H$6,A131<$H$7),ABS($V131-$X131),\"\")","v":""},{"$f":"IF(AND($W131<>\"\",$A131>$H$10,$A131<$H$11),ABS($W131-$X131),\"\")","v":""},null,{"$f":"+$E$21/($D$21*SQRT(2*3.14159))*(EXP(-(($A131-$B$21)^2)/(2*$D$21^2)))+$X131","v":1.6910067077792261},{"$f":"+$E$22/($D$22*SQRT(2*3.14159))*(EXP(-(($A131-$B$22)^2)/(2*$D$22^2)))+$X131","v":1.7406121525430953},{"$f":"+$E$23/($D$23*SQRT(2*3.14159))*(EXP(-(($A131-$B$23)^2)/(2*$D$23^2)))+$X131","v":1.6910067077792261},1.7406121525430951,{"$f":"IF(D131<>0,+ABS(B131-AF131),0)","v":3.7753135947333352}]
[{"$f":"IF(A131<$E$10,+VLOOKUP($A131+1,Data!A:B,1,1),\"\")","v":6533.8969999999999},{"$f":"IF(A132<E$10+1,+VLOOKUP($A132,Data!A:B,2,1),\"\")","v":5.6812509614720801},null,3.9901204776715526,2.3594397451250697,null,-1321.6747094613647,null,null,null,null,null,null,null,null,null,null,null,null,null,null,"","",1.6911304838005274,null,"","",null,1.6911304838005274,1.7484643131628432,1.6911304838005274,1.7484643131628426,3.9327866483092375]
[{"$f":"IF(A132<$E$10,+VLOOKUP($A132+1,Data!A:B,1,1),\"\")","v":6534.8969999999999},{"$f":"IF(A133<E$10+1,+VLOOKUP($A133,Data!A:B,2,1),\"\")","v":5.8700852523274598},null,4.1788309925056311,2.4708472828596832,null,-1275.9625831008575,null,null,null,null,null,null,null,null,null,null,null,null,null,null,"","",1.691254259821829,null,"","",null,1.691254259821829,1.7572126994565667,1.691254259821829,1.7572126994565669,4.1128725528708934]
[{"$f":"IF(A133<$E$10,+VLOOKUP($A133+1,Data!A:B,1,1),\"\")","v":6535.8969999999999},{"$f":"IF(A134<E$10+1,+VLOOKUP($A134,Data!A:B,2,1),\"\")","v":6.0892829961160801},null,4.3979049602729496,2.6001904169700598,null,-1230.2504567403505,null,null,null,null,null,null,null,null,null,null,null,null,null,null,"","",1.6913780358431303,null,"","",null,1.6913780358431303,1.7669059721686824,1.6913780358431303,1.7669059721686824,4.3223770239473982]
[{"$f":"IF(A134<$E$10,+VLOOKUP($A134+1,Data!A:B,1,1),\"\")","v":6536.8969999999999},{"$f":"IF(A135<E$10+1,+VLOOKUP($A135,Data!A:B,2,1),\"\")","v":6.3368902705885102},null,4.6453884587240788,2.7463100696320102,null,-1184.5383303798433,null,null,null,null,null,null,null,null,null,null,null,null,null,null,"","",1.6915018118644316,null,"","",null,1.6915018118644323,1.7775858608142387,1.6915018118644316,1.7775858608142392,4.5593044097742705]
[{"$f":"IF(A135<$E$10,+VLOOKUP($A135+1,Data!A:B,1,1),\"\")","v":6537.8969999999999},{"$f":"IF(A136<E$10+1,+VLOOKUP($A136,Data!A:B,2,1),\"\")","v":6.5949314240012598},null,4.9033058361155266,2.8985762991702502,null,-1138.826204019336,null,null,null,null,null,null,null,null,null,null,null,null,null,null,"","",1.6916255878857329,null,"","",null,1.6916255878857467,1.7892853304071172,1.6916255878857329,1.789285330407131,4.8056460935941292]
[{"$f":"IF(A136<$E$10,+VLOOKUP($A136+1,Data!A:B,1,1),\"\")","v":6538.8969999999999},{"$f":"IF(A137<E$10,+VLOOKUP($A137,Data!A:B,2,1),\"\")","v":6.8437329464584602},null,5.1519835825514262,3.04535866391763,null,-1093.114077658829,null,null,null,null,null,null,null,null,null,null,null,null,null,null,"","",1.6917493639070342,null,"","",null,1.6917493639072529,1.8020267049313374,1.6917493639070342,1.8020267049315559,5.0417062415269047]
[{"$f":"IF(A137<$E$10,+VLOOKUP($A137+1,Data!A:B,1,1),\"\")","v":6539.8969999999999},{"$f":"IF(A138<E$10,+VLOOKUP($A138,Data!A:B,2,1),\"\")","v":7.0636213280642703},null,5.3717481881359346,3.1750301257004834,null,-1047.4019512983218,null,null,null,null,null,null,null,null,null,null,null,null,null,null,"","",1.6918731399283355,null,"","",null,1.6918731399314346,1.8158197972437915,1.6918731399283355,1.8158197972468906,5.2478015308173802]
[{"$f":"IF(A138<$E$10,+VLOOKUP($A138+1,Data!A:B,1,1),\"\")","v":6540.8969999999999},{"$f":"IF(A139<E$10,+VLOOKUP($A139,Data!A:B,2,1),\"\")","v":7.2418824963760198},null,5.5498855804263831,3.2800801987936827,null,-1001.6898249378146,null,null,null,null,null,null,null,null,null,null,null,null,null,null,"","",1.6919969159496369,null,"","",null,1.6919969159886976,1.8306601016676474,1.6919969159496369,1.8306601017067083,5.411222394669311]
[{"$f":"IF(A139<$E$10,+VLOOKUP($A139+1,Data!A:B,1,1),\"\")","v":6541.8969999999999},{"$f":"IF(A140<E$10,+VLOOKUP($A140,Data!A:B,2,1),\"\")","v":7.3939785085672902},null,5.7018578165963518,3.3696519661106303,null,-955.97769857730748,null,null,null,null,null,null,null,null,null,null,null,null,null,null,"","",1.6921206919709382,null,"","",null,1.6921206924089129,1.846527110768774,1.6921206919709382,1.8465271112067492,5.5474513973605415]
[{"$f":"IF(A140<$E$10,+VLOOKUP($A140+1,Data!A:B,1,1),\"\")","v":6542.8969999999999},{"$f":"IF(A141<E$10,+VLOOKUP($A141,Data!A:B,2,1),\"\")","v":7.5425010749167498},null,5.8502566069245105,3.4570989697874666,null,-910.26557221680036,null,null,null,null,null,null,null,null,null,null,null,null,null,null,"","",1.6922444679922395,null,"","",null,1.6922444723609404,1.8633828212954282,1.6922444679922395,1.8633828256641292,5.6791182492526211]
[{"$f":"IF(A141<$E$10,+VLOOKUP($A141+1,Data!A:B,1,1),\"\")","v":6543.8969999999999},{"$f":"IF(A142<E$10,+VLOOKUP($A142,Data!A:B,2,1),\"\")","v":7.7100419061632204},null,6.0176736621496794,3.5557708456396271,null,-864.55344585629314,null,null,null,null,null,null,null,null,null,null,null,null,null,null,"","",1.692368244013541,null,"","",null,1.6923682827795212,1.8811704956299486,1.692368244013541,1.8811705343959293,5.8288713717672911]
[{"$f":"IF(A142<$E$10,+VLOOKUP($A142+1,Data!A:B,1,1),\"\")","v":6544.8969999999999},{"$f":"IF(A143<E$10,+VLOOKUP($A143,Data!A:B,2,1),\"\")","v":7.9168190531016096},null,6.2243270330667677,3.6776108598365096,null,-818.84131949578602,null,null,null,null,null,null,null,null,null,null,null,null,null,null,"","",1.6924920200348423,null,"","",null,1.6924923260510505,1.8998137440338472,1.6924920200348423,1.8998140500500549,6.0170050030515547]
[{"$f":"IF(A143<$E$10,+VLOOKUP($A143+1,Data!A:B,1,1),\"\")","v":6545.8969999999999},{"$f":"IF(A144<E$10,+VLOOKUP($A144,Data!A:B,2,1),\"\")","v":8.1600257310656996},null,6.467409935009556,3.8209556770525577,null,-773.12919313527891,null,null,null,null,null,null,null,null,null,null,null,null,null,null,"","",1.6926157960561437,null,"","",null,1.6926179450406942,1.9192159892295007,1.6926157960561437,1.9192181382140507,6.2408075928516489]
[{"$f":"IF(A144<$E$10,+VLOOKUP($A144+1,Data!A:B,1,1),\"\")","v":6546.8969999999999},{"$f":"IF(A145<E$10,+VLOOKUP($A145,Data!A:B,2,1),\"\")","v":8.42391654782719},null,6.7311769757497455,3.9764988582908756,null,-727.41706677477168,null,null,null,null,null,null,null,null,null,null,null,null,null,null,"","",1.692739572077445,null,"","",null,1.6927529971722666,1.9392603683213969,1.692739572077445,1.939273793416219,6.484642754410971]
[{"$f":"IF(A145<$E$10,+VLOOKUP($A145+1,Data!A:B,1,1),\"\")","v":6547.8969999999999},{"$f":"IF(A146<E$10,+VLOOKUP($A146,Data!A:B,2,1),\"\")","v":8.6926022417557594},null,6.9997388936570131,4.1348517005335461,null,-681.70494041426446,null,null,null,null,null,null,null,null,null,null,null,null,null,null,"","",1.6928633480987463,null,"","",null,1.6929379580292077,1.9598101177083653,1.6928633480987463,1.9598847276388263,6.7327175141169331]
[{"$f":"IF(A146<$E$10,+VLOOKUP($A146+1,Data!A:B,1,1),\"\")","v":6548.8969999999999},{"$f":"IF(A147<E$10,+VLOOKUP($A147,Data!A:B,2,1),\"\")","v":8.9504125762489899},null,7.2574254521289419,4.2867576183729597,null,-635.99281405375734,null,null,null,null,null,null,null,null,null,null,null,null,null,null,"","",1.6929871241200476,null,"","",null,1.6933559922325754,1.9807094746017626,1.6929871241200476,1.98107834271429,6.9693342335346999]
[{"$f":"IF(A147<$E$10,+VLOOKUP($A147+1,Data!A:B,1,1),\"\")","v":6549.8969999999999},{"$f":"IF(A148<E$10,+VLOOKUP($A148,Data!A:B,2,1),\"\")","v":9.1884797682037007},null,7.4953688680623518,4.4269804579467316,null,-590.28068769325023,null,null,null,null,null,null,null,null,null,null,null,null,null,null,"","",1.6931109001413489,null,"","",null,1.6947332361085254,2.0017851143117453,1.6931109001413489,2.0034074502789219,7.1850723179247789]
[{"$f":"IF(A148<$E$10,+VLOOKUP($A148+1,Data!A:B,1,1),\"\")","v":6550.8969999999999},{"$f":"IF(A149<E$10,+VLOOKUP($A149,Data!A:B,2,1),\"\")","v":9.4058929333105805},null,7.7126582571479307,4.5549848262185373,null,-544.568561332743,null,null,null,null,null,null,null,null,null,null,null,null,null,null,"","",1.6932346761626502,null,"","",null,1.6995822196448103,2.0228481260047468,1.6932346761626502,2.0291956694869073,7.3766972638236732]
[{"$f":"IF(A149<$E$10,+VLOOKUP($A149+1,Data!A:B,1,1),\"\")","v":6551.8969999999999},{"$f":"IF(A150<E$10,+VLOOKUP($A150,Data!A:B,2,1),\"\")","v":9.6021928813226705},null,7.9088344291387189,4.6705022311953908,null,-498.85643497223589,null,null,null,null,null,null,null,null,null,null,null,null,null,null,"","",1.6933584521839515,null,"","",null,1.7154520160889424,2.0436965117127892,1.6933584521839515,2.0657900756177803,7.5364028057048902]
[{"$f":"IF(A150<$E$10,+VLOOKUP($A150+1,Data!A:B,1,1),\"\")","v":6552.8969999999999},{"$f":"IF(A151<E$10,+VLOOKUP($A151,Data!A:B,2,1),\"\")","v":9.7769172450925907},null,8.0834350168873375,4.7732623834229049,null,-453.14430861172877,null,null,null,null,null,null,null,null,null,null,null,null,null,null,"","",1.6934822282052531,null,"","",null,1.7618924620726557,2.0641181746472137,1.6934822282052531,2.1325284085146161,7.6443888365779742]
[{"$f":"IF(A151<$E$10,+VLOOKUP($A151+1,Data!A:B,1,1),\"\")","v":6553.8969999999999},{"$f":"IF(A152<E$10,+VLOOKUP($A152,Data!A:B,2,1),\"\")","v":9.92844345096238},null,8.2348374467358258,4.862310021448323,null,-407.43218225122155,null,null,null,null,null,null,null,null,null,null,null,null,null,null,"","",1.6936060042265544,null,"","",null,1.8820453456100517,2.0838943440832316,1.6936060042265544,2.2723336854667289,7.6561097654956516]
[{"$f":"IF(A152<$E$10,+VLOOKUP($A152+1,Data!A:B,1,1),\"\")","v":6554.8969999999999},{"$f":"IF(A153<E$10,+VLOOKUP($A153,Data!A:B,2,1),\"\")","v":10.0522666141063},null,8.3585368338584445,4.934988409210872,null,-361.72005589071443,null,null,null,null,null,null,null,null,null,null,null,null,null,null,"","",1.6937297802478557,null,"","",null,2.155490817611605,2.1028033660419552,1.6937297802478557,2.5645644034057047,7.4877022107005953]
[{"$f":"IF(A153<$E$10,+VLOOKUP($A153+1,Data!A:B,1,1),\"\")","v":6555.8969999999999},{"$f":"IF(A154<E$10,+VLOOKUP($A154,Data!A:B,2,1),\"\")","v":10.143441849315201},null,8.4495882930460429,4.9883818242569404,null,-316.00792953020726,null,null,null,null,null,null,null,null,null,null,null,null,null,null,"","",1.693853556269157,null,"","",null,2.7004565028311669,2.1206247725263707,1.693853556269157,3.1272277190883799,7.0162141302268211]
[{"$f":"IF(A154<$E$10,+VLOOKUP($A154+1,Data!A:B,1,1),\"\")","v":6556.8969999999999},{"$f":"IF(A155<E$10,+VLOOKUP($A155,Data!A:B,2,1),\"\")","v":10.197024271380201},null,8.5030469390897423,5.0195753963204535,null,-270.29580316970009,null,null,null,null,null,null,null,null,null,null,null,null,null,null,"","",1.6939773322904583,null,"","",null,3.6460425108844774,2.1371435279672095,1.6939773322904583,4.0892087065612284,6.1078155648189725]
[{"$f":"IF(A155<$E$10,+VLOOKUP($A155+1,Data!A:B,1,1),\"\")","v":6557.8969999999999},{"$f":"IF(A156<E$10,+VLOOKUP($A156,Data!A:B,2,1),\"\")","v":10.209680405344001},null,8.5155792970322413,{"$f":"+D156/X156","v":5.0266062959597262},null,-224.58367680919295,null,null,null,null,null,null,null,null,null,null,null,null,null,null,"","",1.6941011083117596,null,"","",null,5.0617409310512338,2.1521543405373884,1.6941011083117596,5.5197941632768632,4.6898862420671374]
[{"$f":"IF(A156<$E$10,+VLOOKUP($A156+1,Data!A:B,1,1),\"\")","v":6558.8969999999999},{"$f":"IF(A157<E$10,+VLOOKUP($A157,Data!A:B,2,1),\"\")","v":10.187230733504},null,8.4930058491709399,5.0129153028668023,null,-178.87155044868581,null,null,null,null,null,null,null,null,null,null,null,null,null,null,"","",1.694224884333061]
[{"$f":"IF(A157<$E$10,+VLOOKUP($A157+1,Data!A:B,1,1),\"\")","v":6559.8969999999999},{"$f":"IF(A158<E$10,+VLOOKUP($A158,Data!A:B,2,1),\"\")","v":10.138723917392999},null,8.4443752570386366,4.983847453966499,null,-133.15942408817864,null,null,null,null,null,null,null,null,null,null,null,null,null,null,"","",1.6943486603543623]
[{"$f":"IF(A158<$E$10,+VLOOKUP($A158+1,Data!A:B,1,1),\"\")","v":6560.8969999999999},{"$f":"IF(A159<E$10,+VLOOKUP($A159,Data!A:B,2,1),\"\")","v":10.073212262478901},null,8.3787398261032369,4.9447483749128835,null,-87.447297727671483,null,null,null,null,null,null,null,null,null,null,null,null,null,null,"","",1.6944724363756636]
[{"$f":"IF(A159<$E$10,+VLOOKUP($A159+1,Data!A:B,1,1),\"\")","v":6561.8969999999999},{"$f":"IF(A160<E$10,+VLOOKUP($A160,Data!A:B,2,1),\"\")","v":9.9997199576481997},null,8.305123745251235,4.9009455376415829,null,-41.735171367164327,null,null,null,null,null,null,null,null,null,null,null,null,null,null,"","",1.6945962123969651]
[{"$f":"IF(A160<$E$10,+VLOOKUP($A160+1,Data!A:B,1,1),\"\")","v":6562.8969999999999},{"$f":"IF(A161<E$10,+VLOOKUP($A161,Data!A:B,2,1),\"\")","v":9.9268602772067407},null,8.2321402887884751,4.8575223901570794,null,3.9769549933428361,null,null,null,null,null,null,null,null,null,null,null,null,null,null,"","",1.6947199884182664]
[{"$f":"IF(A161<$E$10,+VLOOKUP($A161+1,Data!A:B,1,1),\"\")","v":6563.8969999999999},{"$f":"IF(A162<E$10,+VLOOKUP($A162,Data!A:B,2,1),\"\")","v":9.8629351074674894},null,8.1680913430279212,4.8193771688028457,null,49.689081353849993,null,null,null,null,null,null,null,null,null,null,null,null,null,null,"","",1.6948437644395677]
[{"$f":"IF(A162<$E$10,+VLOOKUP($A162+1,Data!A:B,1,1),\"\")","v":6564.8969999999999},{"$f":"IF(A163<E$10,+VLOOKUP($A163,Data!A:B,2,1),\"\")","v":9.8162386046895502},null,{"$f":"+IF(AND(A163<$H$9,A163>$H$8),B163-X163,0)","v":8.1212710642286812},4.791402118544684,null,95.401207714357156,null,null,null,null,null,null,null,null,null,null,null,null,null,null,{"$f":"+IF(AND($A163>$H$6,$A163<$H$7),$B163,\"\")","v":""},{"$f":"+IF(AND($A163>$H$10,$A163<$H$11),$B163,\"\")","v":""},{"$f":"+$G$15+(A163-$G$14)*$H$16","v":1.6949675404608691}]
[{"$f":"IF(A163<$E$10,+VLOOKUP($A163+1,Data!A:B,1,1),\"\")","v":6565.8969999999999},{"$f":"IF(A164<E$10,+VLOOKUP($A164,Data!A:B,2,1),\"\")","v":9.7949032440085393},null,8.0998119275263694,4.7783926734613571,null,{"$f":"+(A164-E$7)/E$7*300000","v":141.11333407486433},null,null,null,null,null,null,null,null,null,null,null,null,null,null,"","",1.6950913164821704]
[{"$f":"IF(A164<$E$10,+VLOOKUP($A164+1,Data!A:B,1,1),\"\")","v":6566.8969999999999},{"$f":"IF(A165<E$10,+VLOOKUP($A165,Data!A:B,2,1),\"\")","v":9.7969754060654406},null,8.101760313561968,4.7791931238633518,null,186.82546043537147,null,null,null,null,null,null,null,null,null,null,null,null,null,null,"","",1.6952150925034717]
[{"$f":"IF(A165<$E$10,+VLOOKUP($A165+1,Data!A:B,1,1),\"\")","v":6567.8969999999999},{"$f":"IF(A166<E$10,+VLOOKUP($A166,Data!A:B,2,1),\"\")","v":9.8046424018868308},null,8.1093035333620573,4.7832935844964739,null,232.53758679587861,null,null,null,null,null,null,null,null,null,null,null,null,null,null,"","",1.695338868524773]
[{"$f":"IF(A166<$E$10,+VLOOKUP($A166+1,Data!A:B,1,1),\"\")","v":6568.8969999999999},{"$f":"IF(A167<E$10,+VLOOKUP($A167,Data!A:B,2,1),\"\")","v":9.7987006062057596},null,8.1032379616596852,4.7793668517121253,null,278.24971315638578,null,null,null,null,null,null,null,null,null,null,null,null,null,null,"","",1.6954626445460743]
[{"$f":"IF(A167<$E$10,+VLOOKUP($A167+1,Data!A:B,1,1),\"\")","v":6569.8969999999999},{"$f":"IF(A168<E$10,+VLOOKUP($A168,Data!A:B,2,1),\"\")","v":9.7599470224012599},null,8.0643606018338847,4.7560894001117298,null,323.96183951689295,null,null,null,null,null,null,null,null,null,null,null,null,null,null,"","",1.6955864205673756]
[{"$f":"IF(A168<$E$10,+VLOOKUP($A168+1,Data!A:B,1,1),\"\")","v":6570.8969999999999},{"$f":"IF(A169<E$10,+VLOOKUP($A169,Data!A:B,2,1),\"\")","v":9.6750071362665597},null,7.9792969396778828,4.7055782030031601,null,369.67396587740012,null,null,null,null,null,null,null,null,null,null,null,null,null,null,"","",1.6957101965886772]
[{"$f":"IF(A169<$E$10,+VLOOKUP($A169+1,Data!A:B,1,1),\"\")","v":6571.8969999999999},{"$f":"IF(A170<E$10,+VLOOKUP($A170,Data!A:B,2,1),\"\")","v":9.5505825526668495},null,7.8547485800568708,4.6317910284389434,null,415.38609223790723,null,null,null,null,null,null,null,null,null,null,null,null,null,null,"","",1.6958339726099785]
[{"$f":"IF(A170<$E$10,+VLOOKUP($A170+1,Data!A:B,1,1),\"\")","v":6572.8969999999999},{"$f":"IF(A171<E$10,+VLOOKUP($A171,Data!A:B,2,1),\"\")","v":9.3976942142316897},null,7.7017364656004101,4.5412313318631226,null,461.09821859841441,null,null,null,null,null,null,null,null,null,null,null,null,null,null,"","",1.6959577486312798]
[{"$f":"IF(A171<$E$10,+VLOOKUP($A171+1,Data!A:B,1,1),\"\")","v":6573.8969999999999},{"$f":"IF(A172<E$10,+VLOOKUP($A172,Data!A:B,2,1),\"\")","v":9.2273630635906603},null,7.5312815389380789,{"$f":"+D172/X172","v":4.4404006702925187},null,506.81034495892158,null,null,null,null,null,null,null,null,null,null,null,null,null,null,"","",1.6960815246525811]
[{"$f":"IF(A172<$E$10,+VLOOKUP($A172+1,Data!A:B,1,1),\"\")","v":6574.8969999999999},{"$f":"IF(A173<E$10,+VLOOKUP($A173,Data!A:B,2,1),\"\")","v":9.0498508312715007},null,7.3536455305976185,4.3353511085457059,null,552.52247131942875,null,null,null,null,null,null,null,null,null,null,null,null,null,null,"","",1.6962053006738824]
[{"$f":"IF(A173<$E$10,+VLOOKUP($A173+1,Data!A:B,1,1),\"\")","v":6575.8969999999999},{"$f":"IF(A174<E$10,+VLOOKUP($A174,Data!A:B,2,1),\"\")","v":8.8692742837718193},null,7.1729452070766353,4.2285104379930134,null,598.23459767993586,null,null,null,null,null,null,null,null,null,null,null,null,null,null,"","",1.6963290766951837]
[{"$f":"IF(A174<$E$10,+VLOOKUP($A174+1,Data!A:B,1,1),\"\")","v":6576.8969999999999},{"$f":"IF(A175<E$10,+VLOOKUP($A175,Data!A:B,2,1),\"\")","v":8.6867722565385908},null,6.9903194038221059,4.1205503545994171,null,643.94672404044309,null,null,null,null,null,null,null,null,null,null,null,null,null,null,"","",1.696452852716485]
[{"$f":"IF(A175<$E$10,+VLOOKUP($A175+1,Data!A:B,1,1),\"\")","v":6577.8969999999999},{"$f":"IF(A176<E$10,+VLOOKUP($A176,Data!A:B,2,1),\"\")","v":8.5034640182932097},null,6.8068873895554232,4.0121308252487182,null,689.6588504009502,null,null,null,null,null,null,null,null,null,null,null,null,null,null,"","",1.6965766287377864]
[{"$f":"IF(A176<$E$10,+VLOOKUP($A176+1,Data!A:B,1,1),\"\")","v":6578.8969999999999},{"$f":"IF(A177<E$10,+VLOOKUP($A177,Data!A:B,2,1),\"\")","v":8.3204651917705998},null,6.6237647870115124,3.9039094753749484,null,735.37097676145743,null,null,null,null,null,null,null,null,null,null,null,null,null,null,"","",1.6967004047590877]
[{"$f":"IF(A177<$E$10,+VLOOKUP($A177+1,Data!A:B,1,1),\"\")","v":6579.8969999999999},{"$f":"IF(A178<E$10,+VLOOKUP($A178,Data!A:B,2,1),\"\")","v":8.1388051200963094},null,6.4419809393159202,3.7964928908268964,null,781.08310312196454,null,null,null,null,null,null,null,null,null,null,null,null,null,null,"","",1.6968241807803892]
[{"$f":"IF(A178<$E$10,+VLOOKUP($A178+1,Data!A:B,1,1),\"\")","v":6580.8969999999999},{"$f":"IF(A179<E$10,+VLOOKUP($A179,Data!A:B,2,1),\"\")","v":7.9594254994326104},null,6.2624775426309203,3.6904358307099034,null,826.79522948247165,null,null,null,null,null,null,null,null,null,null,null,null,null,null,"","",1.6969479568016905]
[{"$f":"IF(A179<$E$10,+VLOOKUP($A179+1,Data!A:B,1,1),\"\")","v":6581.8969999999999},{"$f":"IF(A180<E$10,+VLOOKUP($A180,Data!A:B,2,1),\"\")","v":7.7832641064633101},null,6.0861923736403183,3.5862905827299647,null,872.50735584297877,null,null,null,null,null,null,null,null,null,null,null,null,null,null,"","",1.6970717328229918]
[{"$f":"IF(A180<$E$10,+VLOOKUP($A180+1,Data!A:B,1,1),\"\")","v":6582.8969999999999},{"$f":"IF(A181<E$10,+VLOOKUP($A181,Data!A:B,2,1),\"\")","v":7.6112531599609197},null,5.914057651116627,3.4846059987183269,null,918.21948220348611,null,null,null,null,null,null,null,null,null,null,null,null,null,null,"","",1.6971955088442932]
[{"$f":"IF(A181<$E$10,+VLOOKUP($A181+1,Data!A:B,1,1),\"\")","v":6583.8969999999999},{"$f":"IF(A182<E$10,+VLOOKUP($A182,Data!A:B,2,1),\"\")","v":7.44335516731193},null,5.7460358824463356,3.3853594510365483,null,963.93160856399322,null,null,null,null,null,null,null,null,null,null,null,null,null,null,"","",1.6973192848655945]
[{"$f":"IF(A182<$E$10,+VLOOKUP($A182+1,Data!A:B,1,1),\"\")","v":6584.8969999999999},{"$f":"IF(A183<E$10,+VLOOKUP($A183,Data!A:B,2,1),\"\")","v":7.2774635055390604},null,5.5800204446521651,3.2873093497090053,null,1009.6437349245003,null,null,null,null,null,null,null,null,null,null,null,null,null,null,"","",1.6974430608868958]
[{"$f":"IF(A183<$E$10,+VLOOKUP($A183+1,Data!A:B,1,1),\"\")","v":6585.8969999999999},{"$f":"IF(A184<E$10,+VLOOKUP($A184,Data!A:B,2,1),\"\")","v":7.1112056574234801},null,5.413638820515283,3.1890578343149194,null,1055.3558612850074,null,null,null,null,null,null,null,null,null,null,null,null,null,null,"","",1.6975668369081971]
[{"$f":"IF(A184<$E$10,+VLOOKUP($A184+1,Data!A:B,1,1),\"\")","v":6586.8969999999999},{"$f":"IF(A185<E$10,+VLOOKUP($A185,Data!A:B,2,1),\"\")","v":6.9422091057463797},null,5.2445184928168818,3.0892074520969715,null,1101.0679876455147,null,null,null,null,null,null,null,null,null,null,null,null,null,null,"","",1.6976906129294984]
[{"$f":"IF(A185<$E$10,+VLOOKUP($A185+1,Data!A:B,1,1),\"\")","v":6587.8969999999999},{"$f":"IF(A186<E$10,+VLOOKUP($A186,Data!A:B,2,1),\"\")","v":6.7697980914933096},null,5.0719837025425099,2.9873605357278481,null,1146.7801140060217,null,null,null,null,null,null,null,null,null,null,null,null,null,null,"","",1.6978143889507997]
[{"$f":"IF(A186<$E$10,+VLOOKUP($A186+1,Data!A:B,1,1),\"\")","v":6588.8969999999999},{"$f":"IF(A187<E$10,+VLOOKUP($A187,Data!A:B,2,1),\"\")","v":6.6014753616944297},null,4.9035371967223282,2.8879362616852999,null,1192.4922403665289,null,null,null,null,null,null,null,null,null,null,null,null,null,null,"","",1.6979381649721013]
[{"$f":"IF(A187<$E$10,+VLOOKUP($A187+1,Data!A:B,1,1),\"\")","v":6589.8969999999999},{"$f":"IF(A188<E$10,+VLOOKUP($A188,Data!A:B,2,1),\"\")","v":6.4472046558975498},null,4.7491427149041474,2.7968018128513012,null,1238.2043667270361,null,null,null,null,null,null,null,null,null,null,null,null,null,null,"","",1.6980619409934026]
[{"$f":"IF(A188<$E$10,+VLOOKUP($A188+1,Data!A:B,1,1),\"\")","v":6590.8969999999999},{"$f":"IF(A189<E$10,+VLOOKUP($A189,Data!A:B,2,1),\"\")","v":6.31695020433117},null,4.6187644873164659,2.7198229504814955,null,1283.9164930875431,null,null,null,null,null,null,null,null,null,null,null,null,null,null,"","",1.6981857170147039]
[{"$f":"IF(A189<$E$10,+VLOOKUP($A189+1,Data!A:B,1,1),\"\")","v":6591.8969999999999},{"$f":"IF(A190<E$10,+VLOOKUP($A190,Data!A:B,2,1),\"\")","v":6.2200376665247896},null,4.5217281734887846,2.6624877220732355,null,1329.6286194480504,null,null,null,null,null,null,null,null,null,null,null,null,null,null,"","",1.6983094930360052]
[{"$f":"IF(A190<$E$10,+VLOOKUP($A190+1,Data!A:B,1,1),\"\")","v":6592.8969999999999},{"$f":"IF(A191<E$10,+VLOOKUP($A191,Data!A:B,2,1),\"\")","v":6.15818604303578},null,4.4597527739784733,2.6258039425086164,null,1375.3407458085576,null,null,null,null,null,null,null,null,null,null,null,null,null,null,"","",1.6984332690573065]
[{"$f":"IF(A191<$E$10,+VLOOKUP($A191+1,Data!A:B,1,1),\"\")","v":6593.8969999999999},{"$f":"IF(A192<E$10,+VLOOKUP($A192,Data!A:B,2,1),\"\")","v":6.1281183611503698},null,4.4295613160717622,2.6078378285297834,null,1421.0528721690648,null,null,null,null,null,null,null,null,null,null,null,null,null,null,"","",1.6985570450786078]
[{"$f":"IF(A192<$E$10,+VLOOKUP($A192+1,Data!A:B,1,1),\"\")","v":6594.8969999999999},{"$f":"IF(A193<E$10,+VLOOKUP($A193,Data!A:B,2,1),\"\")","v":6.1264703162991596},null,4.4277894951992502,2.606604748932305,null,1466.764998529572,null,null,null,null,null,null,null,null,null,null,null,null,null,null,"","",1.6986808210999091]
[{"$f":"IF(A193<$E$10,+VLOOKUP($A193+1,Data!A:B,1,1),\"\")","v":6595.8969999999999},{"$f":"IF(A194<E$10,+VLOOKUP($A194,Data!A:B,2,1),\"\")","v":6.1498132286552201},null,4.4510086315340098,2.6200827564728026,null,1512.477124890079,null,null,null,null,null,null,null,null,null,null,null,null,null,null,"","",1.6988045971212105]
[{"$f":"IF(A194<$E$10,+VLOOKUP($A194+1,Data!A:B,1,1),\"\")","v":6596.8969999999999},{"$f":"IF(A195<E$10,+VLOOKUP($A195,Data!A:B,2,1),\"\")","v":6.1919271786023096},null,4.4929988054597976,2.6446075517292629,null,1558.1892512505863,null,null,null,null,null,null,null,null,null,null,null,null,null,null,"","",1.6989283731425118]
[{"$f":"IF(A195<$E$10,+VLOOKUP($A195+1,Data!A:B,1,1),\"\")","v":6597.8969999999999},{"$f":"IF(A196<E$10,+VLOOKUP($A196,Data!A:B,2,1),\"\")","v":6.2427898954784897},null,4.543737746314676,2.6742779781955908,null,1603.9013776110933,null,null,null,null,null,null,null,null,null,null,null,null,null,null,"","",1.6990521491638133]
[{"$f":"IF(A196<$E$10,+VLOOKUP($A196+1,Data!A:B,1,1),\"\")","v":6598.8969999999999},{"$f":"IF(A197<E$10,+VLOOKUP($A197,Data!A:B,2,1),\"\")","v":6.2921064336820596},null,4.592930508496945,2.7030341240248998,null,1649.6135039716005,null,null,null,null,null,null,null,null,null,null,null,null,null,null,"","",1.6991759251851146]
[{"$f":"IF(A197<$E$10,+VLOOKUP($A197+1,Data!A:B,1,1),\"\")","v":6599.8969999999999},{"$f":"IF(A198<E$10,+VLOOKUP($A198,Data!A:B,2,1),\"\")","v":6.3295838279197998},null,4.6302841267133843,2.7248190083397996,null,1695.3256303321077,null,null,null,null,null,null,null,null,null,null,null,null,null,null,"","",1.6992997012064159]
[{"$f":"IF(A198<$E$10,+VLOOKUP($A198+1,Data!A:B,1,1),\"\")","v":6600.8969999999999},{"$f":"IF(A199<E$10,+VLOOKUP($A199,Data!A:B,2,1),\"\")","v":6.3472917484964304},null,4.6478682712687132,2.7349676720076959,null,1741.0377566926147,null,null,null,null,null,null,null,null,null,null,null,null,null,null,"","",1.6994234772277172]
[{"$f":"IF(A199<$E$10,+VLOOKUP($A199+1,Data!A:B,1,1),\"\")","v":6601.8969999999999},{"$f":"IF(A200<E$10,+VLOOKUP($A200,Data!A:B,2,1),\"\")","v":6.3442390333582299},null,4.6446917801092109,2.7328994655664736,null,1786.7498830531219,null,null,null,null,null,null,null,null,null,null,null,null,null,null,"","",1.6995472532490186]
[{"$f":"IF(A200<$E$10,+VLOOKUP($A200+1,Data!A:B,1,1),\"\")","v":6602.8969999999999},{"$f":"IF(A201<E$10,+VLOOKUP($A201,Data!A:B,2,1),\"\")","v":6.3207019948932501},null,4.6210309656229303,2.7187796262002357,null,1832.4620094136289,null,null,null,null,null,null,null,null,null,null,null,null,null,null,"","",1.6996710292703199]
[{"$f":"IF(A201<$E$10,+VLOOKUP($A201+1,Data!A:B,1,1),\"\")","v":6603.8969999999999},{"$f":"IF(A202<E$10,+VLOOKUP($A202,Data!A:B,2,1),\"\")","v":6.2769569454895402},null,4.5771621401979186,2.6927733429639753,null,1878.1741357741362,null,null,null,null,null,null,null,null,null,null,null,null,null,null,"","",1.6997948052916212]
[{"$f":"IF(A202<$E$10,+VLOOKUP($A202+1,Data!A:B,1,1),\"\")","v":6604.8969999999999},{"$f":"IF(A203<E$10,+VLOOKUP($A203,Data!A:B,2,1),\"\")","v":6.2119255442847399},null,4.5120069629718174,2.6542488637820489,null,1923.8862621346436,null,null,null,null,null,null,null,null,null,null,null,null,null,null,"","",1.6999185813129225]
[{"$f":"IF(A203<$E$10,+VLOOKUP($A203+1,Data!A:B,1,1),\"\")","v":6605.8969999999999},{"$f":"IF(A204<E$10,+VLOOKUP($A204,Data!A:B,2,1),\"\")","v":6.1153123484909901},null,4.4152699911567659,2.5971529309894339,null,1969.5983884951506,null,null,null,null,null,null,null,null,null,null,null,null,null,null,"","",1.7000423573342238]
[{"$f":"IF(A204<$E$10,+VLOOKUP($A204+1,Data!A:B,1,1),\"\")","v":6606.8969999999999},{"$f":"IF(A205<E$10,+VLOOKUP($A205,Data!A:B,2,1),\"\")","v":5.9729824513231202},null,4.2728163179675951,2.5131757621442388,null,2015.3105148556579,null,null,null,null,null,null,null,null,null,null,null,null,null,null,"","",1.7001661333555251]
[{"$f":"IF(A205<$E$10,+VLOOKUP($A205+1,Data!A:B,1,1),\"\")","v":6607.8969999999999},{"$f":"IF(A206<E$10,+VLOOKUP($A206,Data!A:B,2,1),\"\")","v":5.7707882757919897},null,4.0704983664151628,2.394002542723459,null,2061.0226412161651,null,null,null,null,null,null,null,null,null,null,null,null,null,null,"","",1.7002899093768267]
[{"$f":"IF(A206<$E$10,+VLOOKUP($A206+1,Data!A:B,1,1),\"\")","v":6608.8969999999999},{"$f":"IF(A207<E$10,+VLOOKUP($A207,Data!A:B,2,1),\"\")","v":5.4956257561684296},null,3.7952120707703019,2.2319345600195555,null,2106.7347675766723,null,null,null,null,null,null,null,null,null,null,null,null,null,null,"","",1.700413685398128]
[{"$f":"IF(A207<$E$10,+VLOOKUP($A207+1,Data!A:B,1,1),\"\")","v":6609.8969999999999},{"$f":"IF(A208<E$10,+VLOOKUP($A208,Data!A:B,2,1),\"\")","v":5.1537407362024803},null,3.4532032747830508,2.0306540450456652,null,2152.4468939371791,null,null,null,null,null,null,null,null,null,null,null,null,null,null,"","",1.7005374614194293]
[{"$f":"IF(A208<$E$10,+VLOOKUP($A208+1,Data!A:B,1,1),\"\")","v":6610.8969999999999},{"$f":"IF(A209<E$10,+VLOOKUP($A209,Data!A:B,2,1),\"\")","v":4.7684513810030902},null,3.0677901435623598,1.8038807941427399,null,2198.1590202976863,null,null,null,null,null,null,null,null,null,null,null,null,null,null,"","",1.7006612374407306]
[{"$f":"IF(A209<$E$10,+VLOOKUP($A209+1,Data!A:B,1,1),\"\")","v":6611.8969999999999},{"$f":"IF(A210<E$10,+VLOOKUP($A210,Data!A:B,2,1),\"\")","v":4.3636616087799602},null,2.6628765953179281,1.5656750113863664,null,2243.8711466581935,null,null,null,null,null,null,null,null,null,null,null,null,null,null,"","",1.7007850134620319]
[{"$f":"IF(A210<$E$10,+VLOOKUP($A210+1,Data!A:B,1,1),\"\")","v":6612.8969999999999},{"$f":"IF(A211<E$10,+VLOOKUP($A211,Data!A:B,2,1),\"\")","v":3.9632112614317099},null,2.2623024719483764,1.3300551363695239,null,2289.5832730187008,null,null,null,null,null,null,null,null,null,null,null,null,null,null,"","",1.7009087894833332]
[{"$f":"IF(A211<$E$10,+VLOOKUP($A211+1,Data!A:B,1,1),\"\")","v":6613.8969999999999},{"$f":"IF(A212<E$10,+VLOOKUP($A212,Data!A:B,2,1),\"\")","v":3.5845265561448199},null,1.8834939906401853,1.1072650981737209,null,2335.295399379208,null,null,null,null,null,null,null,null,null,null,null,null,null,null,"","",1.7010325655046346]
[{"$f":"IF(A212<$E$10,+VLOOKUP($A212+1,Data!A:B,1,1),\"\")","v":6614.8969999999999},{"$f":"IF(A213<E$10,+VLOOKUP($A213,Data!A:B,2,1),\"\")","v":3.2332399309281201},null,0,0,null,2381.0075257397152,null,null,null,null,null,null,null,null,null,null,null,null,null,null,"",3.2332399309281201,1.7011563415259359]
[{"$f":"IF(A213<$E$10,+VLOOKUP($A213+1,Data!A:B,1,1),\"\")","v":6615.8969999999999},{"$f":"IF(A214<E$10,+VLOOKUP($A214,Data!A:B,2,1),\"\")","v":2.91371688525996},null,0,0,null,2426.7196521002224,null,null,null,null,null,null,null,null,null,null,null,null,null,null,"",2.91371688525996,1.7012801175472372]
[{"$f":"IF(A214<$E$10,+VLOOKUP($A214+1,Data!A:B,1,1),\"\")","v":6616.8969999999999},{"$f":"IF(A215<E$10,+VLOOKUP($A215,Data!A:B,2,1),\"\")","v":2.6303229186186901},null,0,0,null,2472.4317784607297,null,null,null,null,null,null,null,null,null,null,null,null,null,null,"",2.6303229186186901,1.7014038935685387]
[{"$f":"IF(A215<$E$10,+VLOOKUP($A215+1,Data!A:B,1,1),\"\")","v":6617.8969999999999},{"$f":"IF(A216<E$10,+VLOOKUP($A216,Data!A:B,2,1),\"\")","v":2.3857183793399401},null,0,0,null,2518.1439048212364,null,null,null,null,null,null,null,null,null,null,null,null,null,null,"",2.3857183793399401,1.70152766958984]
[{"$f":"IF(A216<$E$10,+VLOOKUP($A216+1,Data!A:B,1,1),\"\")","v":6618.8969999999999},{"$f":"IF(A217<E$10,+VLOOKUP($A217,Data!A:B,2,1),\"\")","v":2.1755767571043299},null,0,0,null,2563.8560311817437,null,null,null,null,null,null,null,null,null,null,null,null,null,null,"",2.1755767571043299,1.7016514456111413]
[{"$f":"IF(A217<$E$10,+VLOOKUP($A217+1,Data!A:B,1,1),\"\")","v":6619.8969999999999},{"$f":"IF(A218<E$10,+VLOOKUP($A218,Data!A:B,2,1),\"\")","v":1.9937822552829301},null,0,0,null,2609.5681575422509,null,null,null,null,null,null,null,null,null,null,null,null,null,null,"",1.9937822552829301,1.7017752216324427]
[{"$f":"IF(A218<$E$10,+VLOOKUP($A218+1,Data!A:B,1,1),\"\")","v":6620.8969999999999},{"$f":"IF(A219<E$10,+VLOOKUP($A219,Data!A:B,2,1),\"\")","v":1.83421907634319},null,0,0,null,2655.2802839027581,null,null,null,null,null,null,null,null,null,null,null,null,null,null,"",1.83421907634319,1.701898997653744]
[{"$f":"IF(A219<$E$10,+VLOOKUP($A219+1,Data!A:B,1,1),\"\")","v":6621.8969999999999},{"$f":"IF(A220<E$10,+VLOOKUP($A220,Data!A:B,2,1),\"\")","v":1.69121347820908},null,0,0,null,2700.9924102632654,null,null,null,null,null,null,null,null,null,null,null,null,null,null,"",1.69121347820908,1.7020227736750453]
[{"$f":"IF(A220<$E$10,+VLOOKUP($A220+1,Data!A:B,1,1),\"\")","v":6622.8969999999999},{"$f":"IF(A221<E$10,+VLOOKUP($A221,Data!A:B,2,1),\"\")","v":1.5634391619337999},null,0,0,null,2746.7045366237721,null,null,null,null,null,null,null,null,null,null,null,null,null,null,"",1.5634391619337999,1.7021465496963466]
[{"$f":"IF(A221<$E$10,+VLOOKUP($A221+1,Data!A:B,1,1),\"\")","v":6623.8969999999999},{"$f":"IF(A222<E$10,+VLOOKUP($A222,Data!A:B,2,1),\"\")","v":1.4520394868466699},null,0,0,null,2792.4166629842794,null,null,null,null,null,null,null,null,null,null,null,null,null,null,"",1.4520394868466699,1.7022703257176479]
[{"$f":"IF(A222<$E$10,+VLOOKUP($A222+1,Data!A:B,1,1),\"\")","v":6624.8969999999999},{"$f":"IF(A223<E$10,+VLOOKUP($A223,Data!A:B,2,1),\"\")","v":1.35818623427973},null,0,0,null,2838.1287893447866,null,null,null,null,null,null,null,null,null,null,null,null,null,null,"",1.35818623427973,1.7023941017389492]
[{"$f":"IF(A223<$E$10,+VLOOKUP($A223+1,Data!A:B,1,1),\"\")","v":6625.8969999999999},{"$f":"IF(A224<E$10,+VLOOKUP($A224,Data!A:B,2,1),\"\")","v":1.2829757976613601},null,0,0,null,2883.8409157052938,null,null,null,null,null,null,null,null,null,null,null,null,null,null,"",1.2829757976613601,1.7025178777602508]
[{"$f":"IF(A224<$E$10,+VLOOKUP($A224+1,Data!A:B,1,1),\"\")","v":6626.8969999999999},{"$f":"IF(A225<E$10,+VLOOKUP($A225,Data!A:B,2,1),\"\")","v":1.22511234018552},null,0,0,null,2929.553042065801,null,null,null,null,null,null,null,null,null,null,null,null,null,null,"",1.22511234018552,1.7026416537815521]
[{"$f":"IF(A225<$E$10,+VLOOKUP($A225+1,Data!A:B,1,1),\"\")","v":6627.8969999999999},{"$f":"IF(A226<E$10,+VLOOKUP($A226,Data!A:B,2,1),\"\")","v":1.18047235913741},null,0,0,null,2975.2651684263078,null,null,null,null,null,null,null,null,null,null,null,null,null,null,"",1.18047235913741,1.7027654298028534]
[{"$f":"IF(A226<$E$10,+VLOOKUP($A226+1,Data!A:B,1,1),\"\")","v":6628.8969999999999},{"$f":"IF(A227<E$10,+VLOOKUP($A227,Data!A:B,2,1),\"\")","v":1.14476911262827},null,{"$f":"+IF(AND(A227<$H$9,A227>$H$8),B227-X227,0)","v":0},{"$f":"+D227/X227","v":0},null,3020.977294786815,null,null,null,null,null,null,null,null,null,null,null,null,null,null,{"$f":"+IF(AND($A227>$H$6,$A227<$H$7),$B227,\"\")","v":""},{"$f":"+IF(AND($A227>$H$10,$A227<$H$11),$B227,\"\")","v":1.14476911262827},{"$f":"+$G$15+(A227-$G$14)*$H$16","v":1.7028892058241547}]
[{"$f":"IF(A227<$E$10,+VLOOKUP($A227+1,Data!A:B,1,1),\"\")","v":6629.8969999999999},{"$f":"IF(A228<E$10,+VLOOKUP($A228,Data!A:B,2,1),\"\")","v":1.1137184729843701},null,0,0,null,{"$f":"+(A228-E$7)/E$7*300000","v":3066.6894211473223},null,null,null,null,null,null,null,null,null,null,null,null,null,null,"",1.1137184729843701,1.703012981845456]
[{"$f":"IF(A228<$E$10,+VLOOKUP($A228+1,Data!A:B,1,1),\"\")","v":6630.8969999999999},{"$f":"IF(A229<E$10,+VLOOKUP($A229,Data!A:B,2,1),\"\")","v":1.08405550763309},null,0,0,null,3112.4015475078295,null,null,null,null,null,null,null,null,null,null,null,null,null,null,"",1.08405550763309,1.7031367578667573]
[{"$f":"IF(A229<$E$10,+VLOOKUP($A229+1,Data!A:B,1,1),\"\")","v":6631.8969999999999},{"$f":"IF(A230<E$10,+VLOOKUP($A230,Data!A:B,2,1),\"\")","v":1.0550763363120601},null,0,0,null,3158.1136738683367,null,null,null,null,null,null,null,null,null,null,null,null,null,null,"",1.0550763363120601,1.7032605338880586]
[{"$f":"IF(A230<$E$10,+VLOOKUP($A230+1,Data!A:B,1,1),\"\")","v":6632.8969999999999},{"$f":"IF(A231<E$10,+VLOOKUP($A231,Data!A:B,2,1),\"\")","v":1.0264729683859399},null,0,0,null,3203.8258002288435,null,null,null,null,null,null,null,null,null,null,null,null,null,null,"",1.0264729683859399,1.70338430990936]
[{"$f":"IF(A231<$E$10,+VLOOKUP($A231+1,Data!A:B,1,1),\"\")","v":6633.8969999999999},{"$f":"IF(A232<E$10,+VLOOKUP($A232,Data!A:B,2,1),\"\")","v":0.99793741321940099},null,0,0,null,3249.5379265893507,null,null,null,null,null,null,null,null,null,null,null,null,null,null,"","",1.7035080859306613]
[{"$f":"IF(A232<$E$10,+VLOOKUP($A232+1,Data!A:B,1,1),\"\")","v":6634.8969999999999},{"$f":"IF(A233<E$10,+VLOOKUP($A233,Data!A:B,2,1),\"\")","v":0.96957735990979899},null,0,0,null,3295.2500529498579,null,null,null,null,null,null,null,null,null,null,null,null,null,null,"","",1.7036318619519628]
[{"$f":"IF(A233<$E$10,+VLOOKUP($A233+1,Data!A:B,1,1),\"\")","v":6635.8969999999999},{"$f":"IF(A234<E$10,+VLOOKUP($A234,Data!A:B,2,1),\"\")","v":0.94389105218461},null,0,0,null,3340.9621793103656,null,null,null,null,null,null,null,null,null,null,null,null,null,null,"","",1.7037556379732641]
[{"$f":"IF(A234<$E$10,+VLOOKUP($A234+1,Data!A:B,1,1),\"\")","v":6636.8969999999999},{"$f":"IF(A235<E$10,+VLOOKUP($A235,Data!A:B,2,1),\"\")","v":0.92422962560747401},null,0,0,null,3386.6743056708729,null,null,null,null,null,null,null,null,null,null,null,null,null,null,"","",1.7038794139945654]
[{"$f":"IF(A235<$E$10,+VLOOKUP($A235+1,Data!A:B,1,1),\"\")","v":6637.8969999999999},{"$f":"IF(A236<E$10,+VLOOKUP($A236,Data!A:B,2,1),\"\")","v":0.91394527059493402},null,0,0,null,3432.3864320313801,null,null,null,null,null,null,null,null,null,null,null,null,null,null,"","",1.7040031900158668]
[{"$f":"IF(A236<$E$10,+VLOOKUP($A236+1,Data!A:B,1,1),\"\")","v":6638.8969999999999},{"$f":"IF(A237<E$10,+VLOOKUP($A237,Data!A:B,2,1),\"\")","v":0.91605020991445496},null,0,0,null,3478.0985583918869,null,null,null,null,null,null,null,null,null,null,null,null,null,null,"","",1.7041269660371681]
[{"$f":"IF(A237<$E$10,+VLOOKUP($A237+1,Data!A:B,1,1),\"\")","v":6639.8969999999999},{"$f":"IF(A238<E$10,+VLOOKUP($A238,Data!A:B,2,1),\"\")","v":0.92850927327442101},null,0,0,null,3523.8106847523941,null,null,null,null,null,null,null,null,null,null,null,null,null,null,"","",1.7042507420584694]
[{"$f":"IF(A238<$E$10,+VLOOKUP($A238+1,Data!A:B,1,1),\"\")","v":6640.8969999999999},{"$f":"IF(A239<E$10,+VLOOKUP($A239,Data!A:B,2,1),\"\")","v":0.945421916171305},null,0,0,null,3569.5228111129013,null,null,null,null,null,null,null,null,null,null,null,null,null,null,"","",1.7043745180797707]
[{"$f":"IF(A239<$E$10,+VLOOKUP($A239+1,Data!A:B,1,1),\"\")","v":6641.8969999999999},{"$f":"IF(A240<E$10,+VLOOKUP($A240,Data!A:B,2,1),\"\")","v":0.96078931842926096},null,0,0,null,3615.2349374734085,null,null,null,null,null,null,null,null,null,null,null,null,null,null,"","",1.704498294101072]
[{"$f":"IF(A240<$E$10,+VLOOKUP($A240+1,Data!A:B,1,1),\"\")","v":6642.8969999999999},{"$f":"IF(A241<E$10,+VLOOKUP($A241,Data!A:B,2,1),\"\")","v":0.968665304609864},null,0,0,null,3660.9470638339158,null,null,null,null,null,null,null,null,null,null,null,null,null,null,"","",1.7046220701223733]
[{"$f":"IF(A241<$E$10,+VLOOKUP($A241+1,Data!A:B,1,1),\"\")","v":6643.8969999999999},{"$f":"IF(A242<E$10,+VLOOKUP($A242,Data!A:B,2,1),\"\")","v":0.96648620077438696},null,0,0,null,3706.6591901944225,null,null,null,null,null,null,null,null,null,null,null,null,null,null,"","",1.7047458461436749]
[{"$f":"IF(A242<$E$10,+VLOOKUP($A242+1,Data!A:B,1,1),\"\")","v":6644.8969999999999},{"$f":"IF(A243<E$10,+VLOOKUP($A243,Data!A:B,2,1),\"\")","v":0.95706412273263997},null,0,0,null,3752.3713165549298,null,null,null,null,null,null,null,null,null,null,null,null,null,null,"","",1.7048696221649762]
[{"$f":"IF(A243<$E$10,+VLOOKUP($A243+1,Data!A:B,1,1),\"\")","v":6645.8969999999999},{"$f":"IF(A244<E$10,+VLOOKUP($A244,Data!A:B,2,1),\"\")","v":0.94368951085516395},null,0,0,null,3798.083442915437,null,null,null,null,null,null,null,null,null,null,null,null,null,null,"","",1.7049933981862775]
[{"$f":"IF(A244<$E$10,+VLOOKUP($A244+1,Data!A:B,1,1),\"\")","v":6646.8969999999999},{"$f":"IF(A245<E$10,+VLOOKUP($A245,Data!A:B,2,1),\"\")","v":0.92965277464303298},null,0,0,null,3843.7955692759442,null,null,null,null,null,null,null,null,null,null,null,null,null,null,"","",1.7051171742075788]
[{"$f":"IF(A245<$E$10,+VLOOKUP($A245+1,Data!A:B,1,1),\"\")","v":6647.8969999999999},{"$f":"IF(A246<E$10,+VLOOKUP($A246,Data!A:B,2,1),\"\")","v":0.91788087433391496},null,0,0,null,3889.5076956364514,null,null,null,null,null,null,null,null,null,null,null,null,null,null,"","",1.7052409502288801]
[{"$f":"IF(A246<$E$10,+VLOOKUP($A246+1,Data!A:B,1,1),\"\")","v":6648.8969999999999},{"$f":"IF(A247<E$10,+VLOOKUP($A247,Data!A:B,2,1),\"\")","v":0.91003386805440001},null,0,0,null,3935.2198219969582,null,null,null,null,null,null,null,null,null,null,null,null,null,null,"","",1.7053647262501814]
[{"$f":"IF(A247<$E$10,+VLOOKUP($A247+1,Data!A:B,1,1),\"\")","v":6649.8969999999999},{"$f":"IF(A248<E$10,+VLOOKUP($A248,Data!A:B,2,1),\"\")","v":0.90749593865063405},null,0,0,null,3980.9319483574654,null,null,null,null,null,null,null,null,null,null,null,null,null,null,"","",1.7054885022714827]
[{"$f":"IF(A248<$E$10,+VLOOKUP($A248+1,Data!A:B,1,1),\"\")","v":6650.8969999999999},{"$f":"IF(A249<E$10,+VLOOKUP($A249,Data!A:B,2,1),\"\")","v":0.91165126896876303},null,0,0,null,4026.6440747179727,null,null,null,null,null,null,null,null,null,null,null,null,null,null,"","",1.7056122782927841]
[{"$f":"IF(A249<$E$10,+VLOOKUP($A249+1,Data!A:B,1,1),\"\")","v":6651.8969999999999},{"$f":"IF(A250<E$10,+VLOOKUP($A250,Data!A:B,2,1),\"\")","v":0.92345146116572596},null,0,0,null,4072.3562010784799,null,null,null,null,null,null,null,null,null,null,null,null,null,null,"","",1.7057360543140854]
[{"$f":"IF(A250<$E$10,+VLOOKUP($A250+1,Data!A:B,1,1),\"\")","v":6652.8969999999999},{"$f":"IF(A251<E$10,+VLOOKUP($A251,Data!A:B,2,1),\"\")","v":0.94030059689904},null,0,0,null,4118.0683274389867,null,null,null,null,null,null,null,null,null,null,null,null,null,null,"","",1.7058598303353869]
[{"$f":"IF(A251<$E$10,+VLOOKUP($A251+1,Data!A:B,1,1),\"\")","v":6653.8969999999999},{"$f":"IF(A252<E$10,+VLOOKUP($A252,Data!A:B,2,1),\"\")","v":0.95786443975559699},null,0,0,null,4163.7804537994944,null,null,null,null,null,null,null,null,null,null,null,null,null,null,"","",1.7059836063566882]
[{"$f":"IF(A252<$E$10,+VLOOKUP($A252+1,Data!A:B,1,1),\"\")","v":6654.8969999999999},{"$f":"IF(A253<E$10,+VLOOKUP($A253,Data!A:B,2,1),\"\")","v":0.97179682313226301},null,0,0,null,4209.4925801600011,null,null,null,null,null,null,null,null,null,null,null,null,null,null,"","",1.7061073823779895]
[{"$f":"IF(A253<$E$10,+VLOOKUP($A253+1,Data!A:B,1,1),\"\")","v":6655.8969999999999},{"$f":"IF(A254<E$10,+VLOOKUP($A254,Data!A:B,2,1),\"\")","v":0.97791606579843604},null,0,0,null,4255.2047065205079,null,null,null,null,null,null,null,null,null,null,null,null,null,null,"","",1.7062311583992908]
[{"$f":"IF(A254<$E$10,+VLOOKUP($A254+1,Data!A:B,1,1),\"\")","v":6656.8969999999999},{"$f":"IF(A255<E$10,+VLOOKUP($A255,Data!A:B,2,1),\"\")","v":0.97600791680303101},null,0,0,null,4300.9168328810156,null,null,null,null,null,null,null,null,null,null,null,null,null,null,"","",1.7063549344205922]
[{"$f":"IF(A255<$E$10,+VLOOKUP($A255+1,Data!A:B,1,1),\"\")","v":6657.8969999999999},{"$f":"IF(A256<E$10,+VLOOKUP($A256,Data!A:B,2,1),\"\")","v":0.96993070903481304},null,0,0,null,4346.6289592415224,null,null,null,null,null,null,null,null,null,null,null,null,null,null,"","",1.7064787104418935]
[{"$f":"IF(A256<$E$10,+VLOOKUP($A256+1,Data!A:B,1,1),\"\")","v":6658.8969999999999},{"$f":"IF(A257<E$10,+VLOOKUP($A257,Data!A:B,2,1),\"\")","v":0.96372829597862997},null,0,0,null,4392.34108560203,null,null,null,null,null,null,null,null,null,null,null,null,null,null,"","",1.7066024864631948]
[{"$f":"IF(A257<$E$10,+VLOOKUP($A257+1,Data!A:B,1,1),\"\")","v":6659.8969999999999},{"$f":"IF(A258<E$10,+VLOOKUP($A258,Data!A:B,2,1),\"\")","v":0.96143392593106303},null,0,0,null,4438.0532119625377,null,null,null,null,null,null,null,null,null,null,null,null,null,null,"","",1.7067262624844961]
[{"$f":"IF(A258<$E$10,+VLOOKUP($A258+1,Data!A:B,1,1),\"\")","v":6660.8969999999999},{"$f":"IF(A259<E$10,+VLOOKUP($A259,Data!A:B,2,1),\"\")","v":0.96514102298443905},null,0,0,null,4483.7653383230445,null,null,null,null,null,null,null,null,null,null,null,null,null,null,"","",1.7068500385057974]
[{"$f":"IF(A259<$E$10,+VLOOKUP($A259+1,Data!A:B,1,1),\"\")","v":6661.8969999999999},{"$f":"IF(A260<E$10,+VLOOKUP($A260,Data!A:B,2,1),\"\")","v":0.97275749777317599},null,0,0,null,4529.4774646835513,null,null,null,null,null,null,null,null,null,null,null,null,null,null,"","",1.706973814527099]
[{"$f":"IF(A260<$E$10,+VLOOKUP($A260+1,Data!A:B,1,1),\"\")","v":6662.8969999999999},{"$f":"IF(A261<E$10,+VLOOKUP($A261,Data!A:B,2,1),\"\")","v":0.98164637860882098},null,0,0,null,4575.1895910440589,null,null,null,null,null,null,null,null,null,null,null,null,null,null,"","",1.7070975905484003]
[{"$f":"IF(A261<$E$10,+VLOOKUP($A261+1,Data!A:B,1,1),\"\")","v":6663.8969999999999},{"$f":"IF(A262<E$10,+VLOOKUP($A262,Data!A:B,2,1),\"\")","v":0.989170693802923},null,0,0,null,4620.9017174045657,null,null,null,null,null,null,null,null,null,null,null,null,null,null,"","",1.7072213665697016]
[{"$f":"IF(A262<$E$10,+VLOOKUP($A262+1,Data!A:B,1,1),\"\")","v":6664.8969999999999},{"$f":"IF(A263<E$10,+VLOOKUP($A263,Data!A:B,2,1),\"\")","v":0.99318174278959903},null,0,0,null,4666.6138437650734,null,null,null,null,null,null,null,null,null,null,null,null,null,null,"","",1.7073451425910029]
[{"$f":"IF(A263<$E$10,+VLOOKUP($A263+1,Data!A:B,1,1),\"\")","v":6665.8969999999999},{"$f":"IF(A264<E$10,+VLOOKUP($A264,Data!A:B,2,1),\"\")","v":0.99391294455855295},null,0,0,null,4712.3259701255802,null,null,null,null,null,null,null,null,null,null,null,null,null,null,"","",1.7074689186123042]
[{"$f":"IF(A264<$E$10,+VLOOKUP($A264+1,Data!A:B,1,1),\"\")","v":6666.8969999999999},{"$f":"IF(A265<E$10,+VLOOKUP($A265,Data!A:B,2,1),\"\")","v":0.99232307311744095},null,0,0,null,4758.0380964860869,null,null,null,null,null,null,null,null,null,null,null,null,null,null,"","",1.7075926946336055]
[{"$f":"IF(A265<$E$10,+VLOOKUP($A265+1,Data!A:B,1,1),\"\")","v":6667.8969999999999},{"$f":"IF(A266<E$10,+VLOOKUP($A266,Data!A:B,2,1),\"\")","v":0.98937107499017796},null,0,0,null,4803.7502228465937,null,null,null,null,null,null,null,null,null,null,null,null,null,null,"","",1.7077164706549068]
[{"$f":"IF(A266<$E$10,+VLOOKUP($A266+1,Data!A:B,1,1),\"\")","v":6668.8969999999999},{"$f":"IF(A267<E$10,+VLOOKUP($A267,Data!A:B,2,1),\"\")","v":0.98597390998237799},null,0,0,null,4849.4623492071014,null,null,null,null,null,null,null,null,null,null,null,null,null,null,"","",1.7078402466762082]
[{"$f":"IF(A267<$E$10,+VLOOKUP($A267+1,Data!A:B,1,1),\"\")","v":6669.8969999999999},{"$f":"IF(A268<E$10,+VLOOKUP($A268,Data!A:B,2,1),\"\")","v":0.98254100211134299},null,0,0,null,4895.1744755676082,null,null,null,null,null,null,null,null,null,null,null,null,null,null,"","",1.7079640226975095]
[{"$f":"IF(A268<$E$10,+VLOOKUP($A268+1,Data!A:B,1,1),\"\")","v":6670.8969999999999},{"$f":"IF(A269<E$10,+VLOOKUP($A269,Data!A:B,2,1),\"\")","v":0.97914485919586303},null,0,0,null,4940.8866019281159,null,null,null,null,null,null,null,null,null,null,null,null,null,null,"","",1.708087798718811]
[{"$f":"IF(A269<$E$10,+VLOOKUP($A269+1,Data!A:B,1,1),\"\")","v":6671.8969999999999},{"$f":"IF(A270<E$10,+VLOOKUP($A270,Data!A:B,2,1),\"\")","v":0.97585193238894996},null,0,0,null,4986.5987282886235,null,null,null,null,null,null,null,null,null,null,null,null,null,null,"","",1.7082115747401123]
[{"$f":"IF(A270<$E$10,+VLOOKUP($A270+1,Data!A:B,1,1),\"\")","v":6672.8969999999999},{"$f":"IF(A271<E$10,+VLOOKUP($A271,Data!A:B,2,1),\"\")","v":0.97273142719281003},null,0,0,null,5032.3108546491303,null,null,null,null,null,null,null,null,null,null,null,null,null,null,"","",1.7083353507614136]
[{"$f":"IF(A271<$E$10,+VLOOKUP($A271+1,Data!A:B,1,1),\"\")","v":6673.8969999999999},{"$f":"IF(A272<E$10,+VLOOKUP($A272,Data!A:B,2,1),\"\")","v":0.96997499433391299},null,0,0,null,5078.022981009638,null,null,null,null,null,null,null,null,null,null,null,null,null,null,"","",1.7084591267827149]
[{"$f":"IF(A272<$E$10,+VLOOKUP($A272+1,Data!A:B,1,1),\"\")","v":6674.8969999999999},{"$f":"IF(A273<E$10,+VLOOKUP($A273,Data!A:B,2,1),\"\")","v":0.96794285638594202},null,0,0,null,5123.7351073701448,null,null,null,null,null,null,null,null,null,null,null,null,null,null,"","",1.7085829028040163]
[{"$f":"IF(A273<$E$10,+VLOOKUP($A273+1,Data!A:B,1,1),\"\")","v":6675.8969999999999},{"$f":"IF(A274<E$10,+VLOOKUP($A274,Data!A:B,2,1),\"\")","v":0.96700751218827596},null,0,0,null,5169.4472337306524,null,null,null,null,null,null,null,null,null,null,null,null,null,null,"","",1.7087066788253176]
[{"$f":"IF(A274<$E$10,+VLOOKUP($A274+1,Data!A:B,1,1),\"\")","v":6676.8969999999999},{"$f":"IF(A275<E$10,+VLOOKUP($A275,Data!A:B,2,1),\"\")","v":0.96754127071445295},null,0,0,null,5215.1593600911583,null,null,null,null,null,null,null,null,null,null,null,null,null,null,"","",1.7088304548466189]
[{"$f":"IF(A275<$E$10,+VLOOKUP($A275+1,Data!A:B,1,1),\"\")","v":6677.8969999999999},{"$f":"IF(A276<E$10,+VLOOKUP($A276,Data!A:B,2,1),\"\")","v":0.96966430041683105},null,0,0,null,5260.871486451666,null,null,null,null,null,null,null,null,null,null,null,null,null,null,"","",1.7089542308679202]
[{"$f":"IF(A276<$E$10,+VLOOKUP($A276+1,Data!A:B,1,1),\"\")","v":6678.8969999999999},{"$f":"IF(A277<E$10,+VLOOKUP($A277,Data!A:B,2,1),\"\")","v":0.97274750852903202},null,0,0,null,5306.5836128121728,null,null,null,null,null,null,null,null,null,null,null,null,null,null,"","",1.7090780068892215]
[{"$f":"IF(A277<$E$10,+VLOOKUP($A277+1,Data!A:B,1,1),\"\")","v":6679.8969999999999},{"$f":"IF(A278<E$10,+VLOOKUP($A278,Data!A:B,2,1),\"\")","v":0.97602326385948301},null,0,0,null,5352.2957391726804,null,null,null,null,null,null,null,null,null,null,null,null,null,null,"","",1.709201782910523]
[{"$f":"IF(A278<$E$10,+VLOOKUP($A278+1,Data!A:B,1,1),\"\")","v":6680.8969999999999},{"$f":"IF(A279<E$10,+VLOOKUP($A279,Data!A:B,2,1),\"\")","v":0.97872393521661305},null,0,0,null,5398.0078655331872,null,null,null,null,null,null,null,null,null,null,null,null,null,null,"","",1.7093255589318244]
[{"$f":"IF(A279<$E$10,+VLOOKUP($A279+1,Data!A:B,1,1),\"\")","v":6681.8969999999999},{"$f":"IF(A280<E$10,+VLOOKUP($A280,Data!A:B,2,1),\"\")","v":0.98021989767830198},null,0,0,null,5443.7199918936949,null,null,null,null,null,null,null,null,null,null,null,null,null,null,"","",1.7094493349531257]
[{"$f":"IF(A280<$E$10,+VLOOKUP($A280+1,Data!A:B,1,1),\"\")","v":6682.8969999999999},{"$f":"IF(A281<E$10,+VLOOKUP($A281,Data!A:B,2,1),\"\")","v":0.98083247801872897},null,0,0,null,5489.4321182542017,null,null,null,null,null,null,null,null,null,null,null,null,null,null,"","",1.709573110974427]
[{"$f":"IF(A281<$E$10,+VLOOKUP($A281+1,Data!A:B,1,1),\"\")","v":6683.8969999999999},{"$f":"IF(A282<E$10,+VLOOKUP($A282,Data!A:B,2,1),\"\")","v":0.98128364399082402},null,0,0,null,5535.1442446147094,null,null,null,null,null,null,null,null,null,null,null,null,null,null,"","",1.7096968869957283]
[{"$f":"IF(A282<$E$10,+VLOOKUP($A282+1,Data!A:B,1,1),\"\")","v":6684.8969999999999},{"$f":"IF(A283<E$10,+VLOOKUP($A283,Data!A:B,2,1),\"\")","v":0.98229676547286304},null,0,0,null,5580.8563709752161,null,null,null,null,null,null,null,null,null,null,null,null,null,null,"","",1.7098206630170296]
[{"$f":"IF(A283<$E$10,+VLOOKUP($A283+1,Data!A:B,1,1),\"\")","v":6685.8969999999999},{"$f":"IF(A284<E$10,+VLOOKUP($A284,Data!A:B,2,1),\"\")","v":0.98455111478229196},null,0,0,null,5626.5684973357238,null,null,null,null,null,null,null,null,null,null,null,null,null,null,"","",1.7099444390383309]
[{"$f":"IF(A284<$E$10,+VLOOKUP($A284+1,Data!A:B,1,1),\"\")","v":6686.8969999999999},{"$f":"IF(A285<E$10,+VLOOKUP($A285,Data!A:B,2,1),\"\")","v":0.98789402567663398},null,0,0,null,5672.2806236962297,null,null,null,null,null,null,null,null,null,null,null,null,null,null,"","",1.7100682150596322]
[{"$f":"IF(A285<$E$10,+VLOOKUP($A285+1,Data!A:B,1,1),\"\")","v":6687.8969999999999},{"$f":"IF(A286<E$10,+VLOOKUP($A286,Data!A:B,2,1),\"\")","v":""},null,0,0,null,5717.9927500567373,null,null,null,null,null,null,null,null,null,null,null,null,null,null,"","",1.7101919910809336]
[{"$f":"IF(A286<$E$10,+VLOOKUP($A286+1,Data!A:B,1,1),\"\")","v":""},{"$f":"IF(A287<E$10,+VLOOKUP($A287,Data!A:B,2,1),\"\")","v":""},null,0,{"$error":"#VALUE!"},null,null,null,null,null,null,null,null,null,null,null,null,null,null,null,null,"","",{"$error":"#VALUE!"}]
[{"$f":"IF(A287<$E$10,+VLOOKUP($A287+1,Data!A:B,1,1),\"\")","v":""},{"$f":"IF(A288<E$10,+VLOOKUP($A288,Data!A:B,2,1),\"\")","v":""},null,0,{"$error":"#VALUE!"},null,null,null,null,null,null,null,null,null,null,null,null,null,null,null,null,"","",{"$error":"#VALUE!"}]
[{"$f":"IF(A288<$E$10,+VLOOKUP($A288+1,Data!A:B,1,1),\"\")","v":""},{"$f":"IF(A289<E$10,+VLOOKUP($A289,Data!A:B,2,1),\"\")","v":""},null,0,{"$error":"#VALUE!"},null,null,null,null,null,null,null,null,null,null,null,null,null,null,null,null,"","",{"$error":"#VALUE!"}]
[{"$f":"IF(A289<$E$10,+VLOOKUP($A289+1,Data!A:B,1,1),\"\")","v":""},{"$f":"IF(A290<E$10,+VLOOKUP($A290,Data!A:B,2,1),\"\")","v":""},null,0,{"$error":"#VALUE!"},null,null,null,null,null,null,null,null,null,null,null,null,null,null,null,null,"","",{"$error":"#VALUE!"}]
[{"$f":"IF(A290<$E$10,+VLOOKUP($A290+1,Data!A:B,1,1),\"\")","v":""},{"$f":"IF(A291<E$10,+VLOOKUP($A291,Data!A:B,2,1),\"\")","v":""},null,{"$f":"+IF(AND(A291<$H$9,A291>$H$8),B291-X291,0)","v":0},{"$f":"+D291/X291","v":{"$error":"#VALUE!"}},null,null,null,null,null,null,null,null,null,null,null,null,null,null,null,null,{"$f":"+IF(AND($A291>$H$6,$A291<$H$7),$B291,\"\")","v":""},{"$f":"+IF(AND($A291>$H$10,$A291<$H$11),$B291,\"\")","v":""},{"$f":"+$G$15+(A291-$G$14)*$H$16","v":{"$error":"#VALUE!"}}]
[{"$f":"IF(A291<$E$10,+VLOOKUP($A291+1,Data!A:B,1,1),\"\")","v":""},{"$f":"IF(A292<E$10,+VLOOKUP($A292,Data!A:B,2,1),\"\")","v":""},null,0,{"$error":"#VALUE!"},null,null,null,null,null,null,null,null,null,null,null,null,null,null,null,null,"","",{"$error":"#VALUE!"}]
[{"$f":"IF(A292<$E$10,+VLOOKUP($A292+1,Data!A:B,1,1),\"\")","v":""},{"$f":"IF(A293<E$10,+VLOOKUP($A293,Data!A:B,2,1),\"\")","v":""},null,0,{"$error":"#VALUE!"},null,null,null,null,null,null,null,null,null,null,null,null,null,null,null,null,"","",{"$error":"#VALUE!"}]
[{"$f":"IF(A293<$E$10,+VLOOKUP($A293+1,Data!A:B,1,1),\"\")","v":""},{"$f":"IF(A294<E$10,+VLOOKUP($A294,Data!A:B,2,1),\"\")","v":""},null,0,{"$error":"#VALUE!"},null,null,null,null,null,null,null,null,null,null,null,null,null,null,null,null,"","",{"$error":"#VALUE!"}]
[{"$f":"IF(A294<$E$10,+VLOOKUP($A294+1,Data!A:B,1,1),\"\")","v":""},{"$f":"IF(A295<E$10,+VLOOKUP($A295,Data!A:B,2,1),\"\")","v":""},null,0,{"$error":"#VALUE!"},null,null,null,null,null,null,null,null,null,null,null,null,null,null,null,null,"","",{"$error":"#VALUE!"}]
[{"$f":"IF(A295<$E$10,+VLOOKUP($A295+1,Data!A:B,1,1),\"\")","v":""},{"$f":"IF(A296<E$10,+VLOOKUP($A296,Data!A:B,2,1),\"\")","v":""},null,0,{"$error":"#VALUE!"},null,null,null,null,null,null,null,null,null,null,null,null,null,null,null,null,"","",{"$error":"#VALUE!"}]
[{"$f":"IF(A296<$E$10,+VLOOKUP($A296+1,Data!A:B,1,1),\"\")","v":""},{"$f":"IF(A297<E$10,+VLOOKUP($A297,Data!A:B,2,1),\"\")","v":""},null,0,{"$error":"#VALUE!"},null,null,null,null,null,null,null,null,null,null,null,null,null,null,null,null,"","",{"$error":"#VALUE!"}]
[{"$f":"IF(A297<$E$10,+VLOOKUP($A297+1,Data!A:B,1,1),\"\")","v":""},{"$f":"IF(A298<E$10,+VLOOKUP($A298,Data!A:B,2,1),\"\")","v":""},null,0,{"$error":"#VALUE!"},null,null,null,null,null,null,null,null,null,null,null,null,null,null,null,null,"","",{"$error":"#VALUE!"}]
[{"$f":"IF(A298<$E$10,+VLOOKUP($A298+1,Data!A:B,1,1),\"\")","v":""},{"$f":"IF(A299<E$10,+VLOOKUP($A299,Data!A:B,2,1),\"\")","v":""},null,0,{"$error":"#VALUE!"},null,null,null,null,null,null,null,null,null,null,null,null,null,null,null,null,"","",{"$error":"#VALUE!"}]
[{"$f":"IF(A299<$E$10,+VLOOKUP($A299+1,Data!A:B,1,1),\"\")","v":""},{"$f":"IF(A300<E$10,+VLOOKUP($A300,Data!A:B,2,1),\"\")","v":""},null,0,{"$error":"#VALUE!"},null,null,null,null,null,null,null,null,null,null,null,null,null,null,null,null,"","",{"$error":"#VALUE!"}]
[{"$f":"IF(A300<$E$10,+VLOOKUP($A300+1,Data!A:B,1,1),\"\")","v":""},{"$f":"IF(A301<E$10,+VLOOKUP($A301,Data!A:B,2,1),\"\")","v":""},null,0,{"$error":"#VALUE!"},null,null,null,null,null,null,null,null,null,null,null,null,null,null,null,null,"","",{"$error":"#VALUE!"}]
[{"$f":"IF(A301<$E$10,+VLOOKUP($A301+1,Data!A:B,1,1),\"\")","v":""},{"$f":"IF(A302<E$10,+VLOOKUP($A302,Data!A:B,2,1),\"\")","v":""},null,0,{"$error":"#VALUE!"},null,null,null,null,null,null,null,null,null,null,null,null,null,null,null,null,"","",{"$error":"#VALUE!"}]
[{"$f":"IF(A302<$E$10,+VLOOKUP($A302+1,Data!A:B,1,1),\"\")","v":""},{"$f":"IF(A303<E$10,+VLOOKUP($A303,Data!A:B,2,1),\"\")","v":""},null,0,{"$error":"#VALUE!"},null,null,null,null,null,null,null,null,null,null,null,null,null,null,null,null,"","",{"$error":"#VALUE!"}]
[{"$f":"IF(A303<$E$10,+VLOOKUP($A303+1,Data!A:B,1,1),\"\")","v":""},{"$f":"IF(A304<E$10,+VLOOKUP($A304,Data!A:B,2,1),\"\")","v":""},null,0,{"$error":"#VALUE!"},null,null,null,null,null,null,null,null,null,null,null,null,null,null,null,null,"","",{"$error":"#VALUE!"}]
[{"$f":"IF(A304<$E$10,+VLOOKUP($A304+1,Data!A:B,1,1),\"\")","v":""},{"$f":"IF(A305<E$10,+VLOOKUP($A305,Data!A:B,2,1),\"\")","v":""},null,0,{"$error":"#VALUE!"},null,null,null,null,null,null,null,null,null,null,null,null,null,null,null,null,"","",{"$error":"#VALUE!"}]
[{"$f":"IF(A305<$E$10,+VLOOKUP($A305+1,Data!A:B,1,1),\"\")","v":""},{"$f":"IF(A306<E$10,+VLOOKUP($A306,Data!A:B,2,1),\"\")","v":""},null,0,{"$error":"#VALUE!"},null,null,null,null,null,null,null,null,null,null,null,null,null,null,null,null,"","",{"$error":"#VALUE!"}]
[{"$f":"IF(A306<$E$10,+VLOOKUP($A306+1,Data!A:B,1,1),\"\")","v":""},{"$f":"IF(A307<E$10,+VLOOKUP($A307,Data!A:B,2,1),\"\")","v":""},null,0,{"$error":"#VALUE!"},null,null,null,null,null,null,null,null,null,null,null,null,null,null,null,null,"","",{"$error":"#VALUE!"}]
[{"$f":"IF(A307<$E$10,+VLOOKUP($A307+1,Data!A:B,1,1),\"\")","v":""},{"$f":"IF(A308<E$10,+VLOOKUP($A308,Data!A:B,2,1),\"\")","v":""},null,0,{"$error":"#VALUE!"},null,null,null,null,null,null,null,null,null,null,null,null,null,null,null,null,"","",{"$error":"#VALUE!"}]
[{"$f":"IF(A308<$E$10,+VLOOKUP($A308+1,Data!A:B,1,1),\"\")","v":""},{"$f":"IF(A309<E$10,+VLOOKUP($A309,Data!A:B,2,1),\"\")","v":""},null,0,{"$error":"#VALUE!"},null,null,null,null,null,null,null,null,null,null,null,null,null,null,null,null,"","",{"$error":"#VALUE!"}]
[{"$f":"IF(A309<$E$10,+VLOOKUP($A309+1,Data!A:B,1,1),\"\")","v":""},{"$f":"IF(A310<E$10,+VLOOKUP($A310,Data!A:B,2,1),\"\")","v":""},null,0,{"$error":"#VALUE!"},null,null,null,null,null,null,null,null,null,null,null,null,null,null,null,null,"","",{"$error":"#VALUE!"}]
[{"$f":"IF(A310<$E$10,+VLOOKUP($A310+1,Data!A:B,1,1),\"\")","v":""},{"$f":"IF(A311<E$10,+VLOOKUP($A311,Data!A:B,2,1),\"\")","v":""},null,0,{"$error":"#VALUE!"},null,null,null,null,null,null,null,null,null,null,null,null,null,null,null,null,"","",{"$error":"#VALUE!"}]
[{"$f":"IF(A311<$E$10,+VLOOKUP($A311+1,Data!A:B,1,1),\"\")","v":""},{"$f":"IF(A312<E$10,+VLOOKUP($A312,Data!A:B,2,1),\"\")","v":""},null,0,{"$error":"#VALUE!"},null,null,null,null,null,null,null,null,null,null,null,null,null,null,null,null,"","",{"$error":"#VALUE!"}]
[{"$f":"IF(A312<$E$10,+VLOOKUP($A312+1,Data!A:B,1,1),\"\")","v":""},{"$f":"IF(A313<E$10,+VLOOKUP($A313,Data!A:B,2,1),\"\")","v":""},null,0,{"$error":"#VALUE!"},null,null,null,null,null,null,null,null,null,null,null,null,null,null,null,null,"","",{"$error":"#VALUE!"}]
[{"$f":"IF(A313<$E$10,+VLOOKUP($A313+1,Data!A:B,1,1),\"\")","v":""},{"$f":"IF(A314<E$10,+VLOOKUP($A314,Data!A:B,2,1),\"\")","v":""},null,0,{"$error":"#VALUE!"},null,null,null,null,null,null,null,null,null,null,null,null,null,null,null,null,"","",{"$error":"#VALUE!"}]
[{"$f":"IF(A314<$E$10,+VLOOKUP($A314+1,Data!A:B,1,1),\"\")","v":""},{"$f":"IF(A315<E$10,+VLOOKUP($A315,Data!A:B,2,1),\"\")","v":""},null,0,{"$error":"#VALUE!"},null,null,null,null,null,null,null,null,null,null,null,null,null,null,null,null,"","",{"$error":"#VALUE!"}]
[{"$f":"IF(A315<$E$10,+VLOOKUP($A315+1,Data!A:B,1,1),\"\")","v":""},{"$f":"IF(A316<E$10,+VLOOKUP($A316,Data!A:B,2,1),\"\")","v":""},null,0,{"$error":"#VALUE!"},null,null,null,null,null,null,null,null,null,null,null,null,null,null,null,null,"","",{"$error":"#VALUE!"}]
[{"$f":"IF(A316<$E$10,+VLOOKUP($A316+1,Data!A:B,1,1),\"\")","v":""},{"$f":"IF(A317<E$10,+VLOOKUP($A317,Data!A:B,2,1),\"\")","v":""},null,0,{"$error":"#VALUE!"},null,null,null,null,null,null,null,null,null,null,null,null,null,null,null,null,"","",{"$error":"#VALUE!"}]
[{"$f":"IF(A317<$E$10,+VLOOKUP($A317+1,Data!A:B,1,1),\"\")","v":""},{"$f":"IF(A318<E$10,+VLOOKUP($A318,Data!A:B,2,1),\"\")","v":""},null,0,{"$error":"#VALUE!"},null,null,null,null,null,null,null,null,null,null,null,null,null,null,null,null,"","",{"$error":"#VALUE!"}]
[{"$f":"IF(A318<$E$10,+VLOOKUP($A318+1,Data!A:B,1,1),\"\")","v":""},{"$f":"IF(A319<E$10,+VLOOKUP($A319,Data!A:B,2,1),\"\")","v":""},null,0,{"$error":"#VALUE!"},null,null,null,null,null,null,null,null,null,null,null,null,null,null,null,null,"","",{"$error":"#VALUE!"}]
[{"$f":"IF(A319<$E$10,+VLOOKUP($A319+1,Data!A:B,1,1),\"\")","v":""},{"$f":"IF(A320<E$10,+VLOOKUP($A320,Data!A:B,2,1),\"\")","v":""},null,0,{"$error":"#VALUE!"},null,null,null,null,null,null,null,null,null,null,null,null,null,null,null,null,"","",{"$error":"#VALUE!"}]
[{"$f":"IF(A320<$E$10,+VLOOKUP($A320+1,Data!A:B,1,1),\"\")","v":""},{"$f":"IF(A321<E$10,+VLOOKUP($A321,Data!A:B,2,1),\"\")","v":""},null,0,{"$error":"#VALUE!"},null,null,null,null,null,null,null,null,null,null,null,null,null,null,null,null,"","",{"$error":"#VALUE!"}]
[{"$f":"IF(A321<$E$10,+VLOOKUP($A321+1,Data!A:B,1,1),\"\")","v":""},{"$f":"IF(A322<E$10,+VLOOKUP($A322,Data!A:B,2,1),\"\")","v":""},null,0,{"$error":"#VALUE!"},null,null,null,null,null,null,null,null,null,null,null,null,null,null,null,null,"","",{"$error":"#VALUE!"}]
[{"$f":"IF(A322<$E$10,+VLOOKUP($A322+1,Data!A:B,1,1),\"\")","v":""},{"$f":"IF(A323<E$10,+VLOOKUP($A323,Data!A:B,2,1),\"\")","v":""},null,0,{"$error":"#VALUE!"},null,null,null,null,null,null,null,null,null,null,null,null,null,null,null,null,"","",{"$error":"#VALUE!"}]
[{"$f":"IF(A323<$E$10,+VLOOKUP($A323+1,Data!A:B,1,1),\"\")","v":""},{"$f":"IF(A324<E$10,+VLOOKUP($A324,Data!A:B,2,1),\"\")","v":""},null,0,{"$error":"#VALUE!"},null,null,null,null,null,null,null,null,null,null,null,null,null,null,null,null,"","",{"$error":"#VALUE!"}]
[{"$f":"IF(A324<$E$10,+VLOOKUP($A324+1,Data!A:B,1,1),\"\")","v":""},{"$f":"IF(A325<E$10,+VLOOKUP($A325,Data!A:B,2,1),\"\")","v":""},null,0,{"$error":"#VALUE!"},null,null,null,null,null,null,null,null,null,null,null,null,null,null,null,null,"","",{"$error":"#VALUE!"}]
[{"$f":"IF(A325<$E$10,+VLOOKUP($A325+1,Data!A:B,1,1),\"\")","v":""},{"$f":"IF(A326<E$10,+VLOOKUP($A326,Data!A:B,2,1),\"\")","v":""},null,0,{"$error":"#VALUE!"},null,null,null,null,null,null,null,null,null,null,null,null,null,null,null,null,"","",{"$error":"#VALUE!"}]
[{"$f":"IF(A326<$E$10,+VLOOKUP($A326+1,Data!A:B,1,1),\"\")","v":""},{"$f":"IF(A327<E$10,+VLOOKUP($A327,Data!A:B,2,1),\"\")","v":""},null,0,{"$error":"#VALUE!"},null,null,null,null,null,null,null,null,null,null,null,null,null,null,null,null,"","",{"$error":"#VALUE!"}]
[{"$f":"IF(A327<$E$10,+VLOOKUP($A327+1,Data!A:B,1,1),\"\")","v":""},{"$f":"IF(A328<E$10,+VLOOKUP($A328,Data!A:B,2,1),\"\")","v":""},null,0,{"$error":"#VALUE!"},null,null,null,null,null,null,null,null,null,null,null,null,null,null,null,null,"","",{"$error":"#VALUE!"}]
[{"$f":"IF(A328<$E$10,+VLOOKUP($A328+1,Data!A:B,1,1),\"\")","v":""},{"$f":"IF(A329<E$10,+VLOOKUP($A329,Data!A:B,2,1),\"\")","v":""},null,0,{"$error":"#VALUE!"},null,null,null,null,null,null,null,null,null,null,null,null,null,null,null,null,"","",{"$error":"#VALUE!"}]
[{"$f":"IF(A329<$E$10,+VLOOKUP($A329+1,Data!A:B,1,1),\"\")","v":""},{"$f":"IF(A330<E$10,+VLOOKUP($A330,Data!A:B,2,1),\"\")","v":""},null,0,{"$error":"#VALUE!"},null,null,null,null,null,null,null,null,null,null,null,null,null,null,null,null,"","",{"$error":"#VALUE!"}]
[{"$f":"IF(A330<$E$10,+VLOOKUP($A330+1,Data!A:B,1,1),\"\")","v":""},{"$f":"IF(A331<E$10,+VLOOKUP($A331,Data!A:B,2,1),\"\")","v":""},null,0,{"$error":"#VALUE!"},null,null,null,null,null,null,null,null,null,null,null,null,null,null,null,null,"","",{"$error":"#VALUE!"}]
[{"$f":"IF(A331<$E$10,+VLOOKUP($A331+1,Data!A:B,1,1),\"\")","v":""},{"$f":"IF(A332<E$10,+VLOOKUP($A332,Data!A:B,2,1),\"\")","v":""},null,0,{"$error":"#VALUE!"},null,null,null,null,null,null,null,null,null,null,null,null,null,null,null,null,"","",{"$error":"#VALUE!"}]
[{"$f":"IF(A332<$E$10,+VLOOKUP($A332+1,Data!A:B,1,1),\"\")","v":""},{"$f":"IF(A333<E$10,+VLOOKUP($A333,Data!A:B,2,1),\"\")","v":""},null,0,{"$error":"#VALUE!"},null,null,null,null,null,null,null,null,null,null,null,null,null,null,null,null,"","",{"$error":"#VALUE!"}]
[{"$f":"IF(A333<$E$10,+VLOOKUP($A333+1,Data!A:B,1,1),\"\")","v":""},{"$f":"IF(A334<E$10,+VLOOKUP($A334,Data!A:B,2,1),\"\")","v":""},null,0,{"$error":"#VALUE!"},null,null,null,null,null,null,null,null,null,null,null,null,null,null,null,null,"","",{"$error":"#VALUE!"}]
[{"$f":"IF(A334<$E$10,+VLOOKUP($A334+1,Data!A:B,1,1),\"\")","v":""},{"$f":"IF(A335<E$10,+VLOOKUP($A335,Data!A:B,2,1),\"\")","v":""},null,0,{"$error":"#VALUE!"},null,null,null,null,null,null,null,null,null,null,null,null,null,null,null,null,"","",{"$error":"#VALUE!"}]
[{"$f":"IF(A335<$E$10,+VLOOKUP($A335+1,Data!A:B,1,1),\"\")","v":""},{"$f":"IF(A336<E$10,+VLOOKUP($A336,Data!A:B,2,1),\"\")","v":""},null,0,{"$error":"#VALUE!"},null,null,null,null,null,null,null,null,null,null,null,null,null,null,null,null,"","",{"$error":"#VALUE!"}]
[{"$f":"IF(A336<$E$10,+VLOOKUP($A336+1,Data!A:B,1,1),\"\")","v":""},{"$f":"IF(A337<E$10,+VLOOKUP($A337,Data!A:B,2,1),\"\")","v":""},null,0,{"$error":"#VALUE!"},null,null,null,null,null,null,null,null,null,null,null,null,null,null,null,null,"","",{"$error":"#VALUE!"}]
[{"$f":"IF(A337<$E$10,+VLOOKUP($A337+1,Data!A:B,1,1),\"\")","v":""},{"$f":"IF(A338<E$10,+VLOOKUP($A338,Data!A:B,2,1),\"\")","v":""},null,0,{"$error":"#VALUE!"},null,null,null,null,null,null,null,null,null,null,null,null,null,null,null,null,"","",{"$error":"#VALUE!"}]
[{"$f":"IF(A338<$E$10,+VLOOKUP($A338+1,Data!A:B,1,1),\"\")","v":""},{"$f":"IF(A339<E$10,+VLOOKUP($A339,Data!A:B,2,1),\"\")","v":""},null,0,{"$error":"#VALUE!"},null,null,null,null,null,null,null,null,null,null,null,null,null,null,null,null,"","",{"$error":"#VALUE!"}]
[{"$f":"IF(A339<$E$10,+VLOOKUP($A339+1,Data!A:B,1,1),\"\")","v":""},{"$f":"IF(A340<E$10,+VLOOKUP($A340,Data!A:B,2,1),\"\")","v":""},null,0,{"$error":"#VALUE!"},null,null,null,null,null,null,null,null,null,null,null,null,null,null,null,null,"","",{"$error":"#VALUE!"}]
[{"$f":"IF(A340<$E$10,+VLOOKUP($A340+1,Data!A:B,1,1),\"\")","v":""},{"$f":"IF(A341<E$10,+VLOOKUP($A341,Data!A:B,2,1),\"\")","v":""},null,0,{"$error":"#VALUE!"},null,null,null,null,null,null,null,null,null,null,null,null,null,null,null,null,"","",{"$error":"#VALUE!"}]
[{"$f":"IF(A341<$E$10,+VLOOKUP($A341+1,Data!A:B,1,1),\"\")","v":""},{"$f":"IF(A342<E$10,+VLOOKUP($A342,Data!A:B,2,1),\"\")","v":""},null,0,{"$error":"#VALUE!"},null,null,null,null,null,null,null,null,null,null,null,null,null,null,null,null,"","",{"$error":"#VALUE!"}]
[{"$f":"IF(A342<$E$10,+VLOOKUP($A342+1,Data!A:B,1,1),\"\")","v":""},{"$f":"IF(A343<E$10,+VLOOKUP($A343,Data!A:B,2,1),\"\")","v":""},null,0,{"$error":"#VALUE!"},null,null,null,null,null,null,null,null,null,null,null,null,null,null,null,null,"","",{"$error":"#VALUE!"}]
[{"$f":"IF(A343<$E$10,+VLOOKUP($A343+1,Data!A:B,1,1),\"\")","v":""},{"$f":"IF(A344<E$10,+VLOOKUP($A344,Data!A:B,2,1),\"\")","v":""},null,0,{"$error":"#VALUE!"},null,null,null,null,null,null,null,null,null,null,null,null,null,null,null,null,"","",{"$error":"#VALUE!"}]
[{"$f":"IF(A344<$E$10,+VLOOKUP($A344+1,Data!A:B,1,1),\"\")","v":""},{"$f":"IF(A345<E$10,+VLOOKUP($A345,Data!A:B,2,1),\"\")","v":""},null,0,{"$error":"#VALUE!"},null,null,null,null,null,null,null,null,null,null,null,null,null,null,null,null,"","",{"$error":"#VALUE!"}]
[{"$f":"IF(A345<$E$10,+VLOOKUP($A345+1,Data!A:B,1,1),\"\")","v":""},{"$f":"IF(A346<E$10,+VLOOKUP($A346,Data!A:B,2,1),\"\")","v":""},null,0,{"$error":"#VALUE!"},null,null,null,null,null,null,null,null,null,null,null,null,null,null,null,null,"","",{"$error":"#VALUE!"}]
[{"$f":"IF(A346<$E$10,+VLOOKUP($A346+1,Data!A:B,1,1),\"\")","v":""},{"$f":"IF(A347<E$10,+VLOOKUP($A347,Data!A:B,2,1),\"\")","v":""},null,0,{"$error":"#VALUE!"},null,null,null,null,null,null,null,null,null,null,null,null,null,null,null,null,"","",{"$error":"#VALUE!"}]
[{"$f":"IF(A347<$E$10,+VLOOKUP($A347+1,Data!A:B,1,1),\"\")","v":""},{"$f":"IF(A348<E$10,+VLOOKUP($A348,Data!A:B,2,1),\"\")","v":""},null,0,{"$error":"#VALUE!"},null,null,null,null,null,null,null,null,null,null,null,null,null,null,null,null,"","",{"$error":"#VALUE!"}]
[{"$f":"IF(A348<$E$10,+VLOOKUP($A348+1,Data!A:B,1,1),\"\")","v":""},{"$f":"IF(A349<E$10,+VLOOKUP($A349,Data!A:B,2,1),\"\")","v":""},null,0,{"$error":"#VALUE!"},null,null,null,null,null,null,null,null,null,null,null,null,null,null,null,null,"","",{"$error":"#VALUE!"}]
[{"$f":"IF(A349<$E$10,+VLOOKUP($A349+1,Data!A:B,1,1),\"\")","v":""},{"$f":"IF(A350<E$10,+VLOOKUP($A350,Data!A:B,2,1),\"\")","v":""},null,0,{"$error":"#VALUE!"},null,null,null,null,null,null,null,null,null,null,null,null,null,null,null,null,"","",{"$error":"#VALUE!"}]
[{"$f":"IF(A350<$E$10,+VLOOKUP($A350+1,Data!A:B,1,1),\"\")","v":""},{"$f":"IF(A351<E$10,+VLOOKUP($A351,Data!A:B,2,1),\"\")","v":""},null,0,{"$error":"#VALUE!"},null,null,null,null,null,null,null,null,null,null,null,null,null,null,null,null,"","",{"$error":"#VALUE!"}]
[{"$f":"IF(A351<$E$10,+VLOOKUP($A351+1,Data!A:B,1,1),\"\")","v":""},{"$f":"IF(A352<E$10,+VLOOKUP($A352,Data!A:B,2,1),\"\")","v":""},null,0,{"$error":"#VALUE!"},null,null,null,null,null,null,null,null,null,null,null,null,null,null,null,null,"","",{"$error":"#VALUE!"}]
[{"$f":"IF(A352<$E$10,+VLOOKUP($A352+1,Data!A:B,1,1),\"\")","v":""},{"$f":"IF(A353<E$10,+VLOOKUP($A353,Data!A:B,2,1),\"\")","v":""},null,0,{"$error":"#VALUE!"},null,null,null,null,null,null,null,null,null,null,null,null,null,null,null,null,"","",{"$error":"#VALUE!"}]
[{"$f":"IF(A353<$E$10,+VLOOKUP($A353+1,Data!A:B,1,1),\"\")","v":""},{"$f":"IF(A354<E$10,+VLOOKUP($A354,Data!A:B,2,1),\"\")","v":""},null,0,{"$error":"#VALUE!"},null,null,null,null,null,null,null,null,null,null,null,null,null,null,null,null,"","",{"$error":"#VALUE!"}]
[{"$f":"IF(A354<$E$10,+VLOOKUP($A354+1,Data!A:B,1,1),\"\")","v":""},{"$f":"IF(A355<E$10,+VLOOKUP($A355,Data!A:B,2,1),\"\")","v":""},null,{"$f":"+IF(AND(A355<$H$9,A355>$H$8),B355-X355,0)","v":0},{"$f":"+D355/X355","v":{"$error":"#VALUE!"}},null,null,null,null,null,null,null,null,null,null,null,null,null,null,null,null,{"$f":"+IF(AND($A355>$H$6,$A355<$H$7),$B355,\"\")","v":""},{"$f":"+IF(AND($A355>$H$10,$A355<$H$11),$B355,\"\")","v":""},{"$f":"+$G$15+(A355-$G$14)*$H$16","v":{"$error":"#VALUE!"}}]
[{"$f":"IF(A355<$E$10,+VLOOKUP($A355+1,Data!A:B,1,1),\"\")","v":""},{"$f":"IF(A356<E$10,+VLOOKUP($A356,Data!A:B,2,1),\"\")","v":""},null,0,{"$error":"#VALUE!"},null,null,null,null,null,null,null,null,null,null,null,null,null,null,null,null,"","",{"$error":"#VALUE!"}]
[{"$f":"IF(A356<$E$10,+VLOOKUP($A356+1,Data!A:B,1,1),\"\")","v":""},{"$f":"IF(A357<E$10,+VLOOKUP($A357,Data!A:B,2,1),\"\")","v":""},null,0,{"$error":"#VALUE!"},null,null,null,null,null,null,null,null,null,null,null,null,null,null,null,null,"","",{"$error":"#VALUE!"}]
[{"$f":"IF(A357<$E$10,+VLOOKUP($A357+1,Data!A:B,1,1),\"\")","v":""},{"$f":"IF(A358<E$10,+VLOOKUP($A358,Data!A:B,2,1),\"\")","v":""},null,0,{"$error":"#VALUE!"},null,null,null,null,null,null,null,null,null,null,null,null,null,null,null,null,"","",{"$error":"#VALUE!"}]
[{"$f":"IF(A358<$E$10,+VLOOKUP($A358+1,Data!A:B,1,1),\"\")","v":""},{"$f":"IF(A359<E$10,+VLOOKUP($A359,Data!A:B,2,1),\"\")","v":""},null,0,{"$error":"#VALUE!"},null,null,null,null,null,null,null,null,null,null,null,null,null,null,null,null,"","",{"$error":"#VALUE!"}]
[{"$f":"IF(A359<$E$10,+VLOOKUP($A359+1,Data!A:B,1,1),\"\")","v":""},{"$f":"IF(A360<E$10,+VLOOKUP($A360,Data!A:B,2,1),\"\")","v":""},null,0,{"$error":"#VALUE!"},null,null,null,null,null,null,null,null,null,null,null,null,null,null,null,null,"","",{"$error":"#VALUE!"}]
[{"$f":"IF(A360<$E$10,+VLOOKUP($A360+1,Data!A:B,1,1),\"\")","v":""},{"$f":"IF(A361<E$10,+VLOOKUP($A361,Data!A:B,2,1),\"\")","v":""},null,0,{"$error":"#VALUE!"},null,null,null,null,null,null,null,null,null,null,null,null,null,null,null,null,"","",{"$error":"#VALUE!"}]
[{"$f":"IF(A361<$E$10,+VLOOKUP($A361+1,Data!A:B,1,1),\"\")","v":""},{"$f":"IF(A362<E$10,+VLOOKUP($A362,Data!A:B,2,1),\"\")","v":""},null,0,{"$error":"#VALUE!"},null,null,null,null,null,null,null,null,null,null,null,null,null,null,null,null,"","",{"$error":"#VALUE!"}]
[{"$f":"IF(A362<$E$10,+VLOOKUP($A362+1,Data!A:B,1,1),\"\")","v":""},{"$f":"IF(A363<E$10,+VLOOKUP($A363,Data!A:B,2,1),\"\")","v":""},null,0,{"$error":"#VALUE!"},null,null,null,null,null,null,null,null,null,null,null,null,null,null,null,null,"","",{"$error":"#VALUE!"}]
[{"$f":"IF(A363<$E$10,+VLOOKUP($A363+1,Data!A:B,1,1),\"\")","v":""},{"$f":"IF(A364<E$10,+VLOOKUP($A364,Data!A:B,2,1),\"\")","v":""},null,0,{"$error":"#VALUE!"},null,null,null,null,null,null,null,null,null,null,null,null,null,null,null,null,"","",{"$error":"#VALUE!"}]
[{"$f":"IF(A364<$E$10,+VLOOKUP($A364+1,Data!A:B,1,1),\"\")","v":""},{"$f":"IF(A365<E$10,+VLOOKUP($A365,Data!A:B,2,1),\"\")","v":""},null,0,{"$error":"#VALUE!"},null,null,null,null,null,null,null,null,null,null,null,null,null,null,null,null,"","",{"$error":"#VALUE!"}]
[{"$f":"IF(A365<$E$10,+VLOOKUP($A365+1,Data!A:B,1,1),\"\")","v":""},{"$f":"IF(A366<E$10,+VLOOKUP($A366,Data!A:B,2,1),\"\")","v":""},null,0,{"$error":"#VALUE!"},null,null,null,null,null,null,null,null,null,null,null,null,null,null,null,null,"","",{"$error":"#VALUE!"}]
[{"$f":"IF(A366<$E$10,+VLOOKUP($A366+1,Data!A:B,1,1),\"\")","v":""},{"$f":"IF(A367<E$10,+VLOOKUP($A367,Data!A:B,2,1),\"\")","v":""},null,0,{"$error":"#VALUE!"},null,null,null,null,null,null,null,null,null,null,null,null,null,null,null,null,"","",{"$error":"#VALUE!"}]
[{"$f":"IF(A367<$E$10,+VLOOKUP($A367+1,Data!A:B,1,1),\"\")","v":""},{"$f":"IF(A368<E$10,+VLOOKUP($A368,Data!A:B,2,1),\"\")","v":""},null,0,{"$error":"#VALUE!"},null,null,null,null,null,null,null,null,null,null,null,null,null,null,null,null,"","",{"$error":"#VALUE!"}]
[{"$f":"IF(A368<$E$10,+VLOOKUP($A368+1,Data!A:B,1,1),\"\")","v":""},{"$f":"IF(A369<E$10,+VLOOKUP($A369,Data!A:B,2,1),\"\")","v":""},null,0,{"$error":"#VALUE!"},null,null,null,null,null,null,null,null,null,null,null,null,null,null,null,null,"","",{"$error":"#VALUE!"}]
[{"$f":"IF(A369<$E$10,+VLOOKUP($A369+1,Data!A:B,1,1),\"\")","v":""},{"$f":"IF(A370<E$10,+VLOOKUP($A370,Data!A:B,2,1),\"\")","v":""},null,0,{"$error":"#VALUE!"},null,null,null,null,null,null,null,null,null,null,null,null,null,null,null,null,"","",{"$error":"#VALUE!"}]
[{"$f":"IF(A370<$E$10,+VLOOKUP($A370+1,Data!A:B,1,1),\"\")","v":""},{"$f":"IF(A371<E$10,+VLOOKUP($A371,Data!A:B,2,1),\"\")","v":""},null,0,{"$error":"#VALUE!"},null,null,null,null,null,null,null,null,null,null,null,null,null,null,null,null,"","",{"$error":"#VALUE!"}]
[{"$f":"IF(A371<$E$10,+VLOOKUP($A371+1,Data!A:B,1,1),\"\")","v":""},{"$f":"IF(A372<E$10,+VLOOKUP($A372,Data!A:B,2,1),\"\")","v":""},null,0,{"$error":"#VALUE!"},null,null,null,null,null,null,null,null,null,null,null,null,null,null,null,null,"","",{"$error":"#VALUE!"}]
[{"$f":"IF(A372<$E$10,+VLOOKUP($A372+1,Data!A:B,1,1),\"\")","v":""},{"$f":"IF(A373<E$10,+VLOOKUP($A373,Data!A:B,2,1),\"\")","v":""},null,0,{"$error":"#VALUE!"},null,null,null,null,null,null,null,null,null,null,null,null,null,null,null,null,"","",{"$error":"#VALUE!"}]
[{"$f":"IF(A373<$E$10,+VLOOKUP($A373+1,Data!A:B,1,1),\"\")","v":""},{"$f":"IF(A374<E$10,+VLOOKUP($A374,Data!A:B,2,1),\"\")","v":""},null,0,{"$error":"#VALUE!"},null,null,null,null,null,null,null,null,null,null,null,null,null,null,null,null,"","",{"$error":"#VALUE!"}]
[{"$f":"IF(A374<$E$10,+VLOOKUP($A374+1,Data!A:B,1,1),\"\")","v":""},{"$f":"IF(A375<E$10,+VLOOKUP($A375,Data!A:B,2,1),\"\")","v":""},null,0,{"$error":"#VALUE!"},null,null,null,null,null,null,null,null,null,null,null,null,null,null,null,null,"","",{"$error":"#VALUE!"}]
[{"$f":"IF(A375<$E$10,+VLOOKUP($A375+1,Data!A:B,1,1),\"\")","v":""},{"$f":"IF(A376<E$10,+VLOOKUP($A376,Data!A:B,2,1),\"\")","v":""},null,0,{"$error":"#VALUE!"},null,null,null,null,null,null,null,null,null,null,null,null,null,null,null,null,"","",{"$error":"#VALUE!"}]
[{"$f":"IF(A376<$E$10,+VLOOKUP($A376+1,Data!A:B,1,1),\"\")","v":""},{"$f":"IF(A377<E$10,+VLOOKUP($A377,Data!A:B,2,1),\"\")","v":""},null,0,{"$error":"#VALUE!"},null,null,null,null,null,null,null,null,null,null,null,null,null,null,null,null,"","",{"$error":"#VALUE!"}]
[{"$f":"IF(A377<$E$10,+VLOOKUP($A377+1,Data!A:B,1,1),\"\")","v":""},{"$f":"IF(A378<E$10,+VLOOKUP($A378,Data!A:B,2,1),\"\")","v":""},null,0,{"$error":"#VALUE!"},null,null,null,null,null,null,null,null,null,null,null,null,null,null,null,null,"","",{"$error":"#VALUE!"}]
[{"$f":"IF(A378<$E$10,+VLOOKUP($A378+1,Data!A:B,1,1),\"\")","v":""},{"$f":"IF(A379<E$10,+VLOOKUP($A379,Data!A:B,2,1),\"\")","v":""},null,0,{"$error":"#VALUE!"},null,null,null,null,null,null,null,null,null,null,null,null,null,null,null,null,"","",{"$error":"#VALUE!"}]
[{"$f":"IF(A379<$E$10,+VLOOKUP($A379+1,Data!A:B,1,1),\"\")","v":""},{"$f":"IF(A380<E$10,+VLOOKUP($A380,Data!A:B,2,1),\"\")","v":""},null,0,{"$error":"#VALUE!"},null,null,null,null,null,null,null,null,null,null,null,null,null,null,null,null,"","",{"$error":"#VALUE!"}]
[{"$f":"IF(A380<$E$10,+VLOOKUP($A380+1,Data!A:B,1,1),\"\")","v":""},{"$f":"IF(A381<E$10,+VLOOKUP($A381,Data!A:B,2,1),\"\")","v":""},null,0,{"$error":"#VALUE!"},null,null,null,null,null,null,null,null,null,null,null,null,null,null,null,null,"","",{"$error":"#VALUE!"}]
[{"$f":"IF(A381<$E$10,+VLOOKUP($A381+1,Data!A:B,1,1),\"\")","v":""},{"$f":"IF(A382<E$10,+VLOOKUP($A382,Data!A:B,2,1),\"\")","v":""},null,0,{"$error":"#VALUE!"},null,null,null,null,null,null,null,null,null,null,null,null,null,null,null,null,"","",{"$error":"#VALUE!"}]
[{"$f":"IF(A382<$E$10,+VLOOKUP($A382+1,Data!A:B,1,1),\"\")","v":""},{"$f":"IF(A383<E$10,+VLOOKUP($A383,Data!A:B,2,1),\"\")","v":""},null,0,{"$error":"#VALUE!"},null,null,null,null,null,null,null,null,null,null,null,null,null,null,null,null,"","",{"$error":"#VALUE!"}]
[{"$f":"IF(A383<$E$10,+VLOOKUP($A383+1,Data!A:B,1,1),\"\")","v":""},{"$f":"IF(A384<E$10,+VLOOKUP($A384,Data!A:B,2,1),\"\")","v":""},null,0,{"$error":"#VALUE!"},null,null,null,null,null,null,null,null,null,null,null,null,null,null,null,null,"","",{"$error":"#VALUE!"}]
[{"$f":"IF(A384<$E$10,+VLOOKUP($A384+1,Data!A:B,1,1),\"\")","v":""},{"$f":"IF(A385<E$10,+VLOOKUP($A385,Data!A:B,2,1),\"\")","v":""},null,0,{"$error":"#VALUE!"},null,null,null,null,null,null,null,null,null,null,null,null,null,null,null,null,"","",{"$error":"#VALUE!"}]
[{"$f":"IF(A385<$E$10,+VLOOKUP($A385+1,Data!A:B,1,1),\"\")","v":""},{"$f":"IF(A386<E$10,+VLOOKUP($A386,Data!A:B,2,1),\"\")","v":""},null,0,{"$error":"#VALUE!"},null,null,null,null,null,null,null,null,null,null,null,null,null,null,null,null,"","",{"$error":"#VALUE!"}]
[{"$f":"IF(A386<$E$10,+VLOOKUP($A386+1,Data!A:B,1,1),\"\")","v":""},{"$f":"IF(A387<E$10,+VLOOKUP($A387,Data!A:B,2,1),\"\")","v":""},null,0,{"$error":"#VALUE!"},null,null,null,null,null,null,null,null,null,null,null,null,null,null,null,null,"","",{"$error":"#VALUE!"}]
[{"$f":"IF(A387<$E$10,+VLOOKUP($A387+1,Data!A:B,1,1),\"\")","v":""},{"$f":"IF(A388<E$10,+VLOOKUP($A388,Data!A:B,2,1),\"\")","v":""},null,0,{"$error":"#VALUE!"},null,null,null,null,null,null,null,null,null,null,null,null,null,null,null,null,"","",{"$error":"#VALUE!"}]
[{"$f":"IF(A388<$E$10,+VLOOKUP($A388+1,Data!A:B,1,1),\"\")","v":""},{"$f":"IF(A389<E$10,+VLOOKUP($A389,Data!A:B,2,1),\"\")","v":""},null,0,{"$error":"#VALUE!"},null,null,null,null,null,null,null,null,null,null,null,null,null,null,null,null,"","",{"$error":"#VALUE!"}]
[{"$f":"IF(A389<$E$10,+VLOOKUP($A389+1,Data!A:B,1,1),\"\")","v":""},{"$f":"IF(A390<E$10,+VLOOKUP($A390,Data!A:B,2,1),\"\")","v":""},null,0,{"$error":"#VALUE!"},null,null,null,null,null,null,null,null,null,null,null,null,null,null,null,null,"","",{"$error":"#VALUE!"}]
[{"$f":"IF(A390<$E$10,+VLOOKUP($A390+1,Data!A:B,1,1),\"\")","v":""},{"$f":"IF(A391<E$10,+VLOOKUP($A391,Data!A:B,2,1),\"\")","v":""},null,0,{"$error":"#VALUE!"},null,null,null,null,null,null,null,null,null,null,null,null,null,null,null,null,"","",{"$error":"#VALUE!"}]
[{"$f":"IF(A391<$E$10,+VLOOKUP($A391+1,Data!A:B,1,1),\"\")","v":""},{"$f":"IF(A392<E$10,+VLOOKUP($A392,Data!A:B,2,1),\"\")","v":""},null,0,{"$error":"#VALUE!"},null,null,null,null,null,null,null,null,null,null,null,null,null,null,null,null,"","",{"$error":"#VALUE!"}]
[{"$f":"IF(A392<$E$10,+VLOOKUP($A392+1,Data!A:B,1,1),\"\")","v":""},{"$f":"IF(A393<E$10,+VLOOKUP($A393,Data!A:B,2,1),\"\")","v":""},null,0,{"$error":"#VALUE!"},null,null,null,null,null,null,null,null,null,null,null,null,null,null,null,null,"","",{"$error":"#VALUE!"}]
[{"$f":"IF(A393<$E$10,+VLOOKUP($A393+1,Data!A:B,1,1),\"\")","v":""},{"$f":"IF(A394<E$10,+VLOOKUP($A394,Data!A:B,2,1),\"\")","v":""},null,0,{"$error":"#VALUE!"},null,null,null,null,null,null,null,null,null,null,null,null,null,null,null,null,"","",{"$error":"#VALUE!"}]
[{"$f":"IF(A394<$E$10,+VLOOKUP($A394+1,Data!A:B,1,1),\"\")","v":""},{"$f":"IF(A395<E$10,+VLOOKUP($A395,Data!A:B,2,1),\"\")","v":""},null,0,{"$error":"#VALUE!"},null,null,null,null,null,null,null,null,null,null,null,null,null,null,null,null,"","",{"$error":"#VALUE!"}]
[{"$f":"IF(A395<$E$10,+VLOOKUP($A395+1,Data!A:B,1,1),\"\")","v":""},{"$f":"IF(A396<E$10,+VLOOKUP($A396,Data!A:B,2,1),\"\")","v":""},null,0,{"$error":"#VALUE!"},null,null,null,null,null,null,null,null,null,null,null,null,null,null,null,null,"","",{"$error":"#VALUE!"}]
[{"$f":"IF(A396<$E$10,+VLOOKUP($A396+1,Data!A:B,1,1),\"\")","v":""},{"$f":"IF(A397<E$10,+VLOOKUP($A397,Data!A:B,2,1),\"\")","v":""},null,0,{"$error":"#VALUE!"},null,null,null,null,null,null,null,null,null,null,null,null,null,null,null,null,"","",{"$error":"#VALUE!"}]
[{"$f":"IF(A397<$E$10,+VLOOKUP($A397+1,Data!A:B,1,1),\"\")","v":""},{"$f":"IF(A398<E$10,+VLOOKUP($A398,Data!A:B,2,1),\"\")","v":""},null,0,{"$error":"#VALUE!"},null,null,null,null,null,null,null,null,null,null,null,null,null,null,null,null,"","",{"$error":"#VALUE!"}]
[{"$f":"IF(A398<$E$10,+VLOOKUP($A398+1,Data!A:B,1,1),\"\")","v":""},{"$f":"IF(A399<E$10,+VLOOKUP($A399,Data!A:B,2,1),\"\")","v":""},null,0,{"$error":"#VALUE!"},null,null,null,null,null,null,null,null,null,null,null,null,null,null,null,null,"","",{"$error":"#VALUE!"}]
[{"$f":"IF(A399<$E$10,+VLOOKUP($A399+1,Data!A:B,1,1),\"\")","v":""},{"$f":"IF(A400<E$10,+VLOOKUP($A400,Data!A:B,2,1),\"\")","v":""},null,0,{"$error":"#VALUE!"},null,null,null,null,null,null,null,null,null,null,null,null,null,null,null,null,"","",{"$error":"#VALUE!"}]
[{"$f":"IF(A400<$E$10,+VLOOKUP($A400+1,Data!A:B,1,1),\"\")","v":""},{"$f":"IF(A401<E$10,+VLOOKUP($A401,Data!A:B,2,1),\"\")","v":""},null,0,{"$error":"#VALUE!"},null,null,null,null,null,null,null,null,null,null,null,null,null,null,null,null,"","",{"$error":"#VALUE!"}]
[{"$f":"IF(A401<$E$10,+VLOOKUP($A401+1,Data!A:B,1,1),\"\")","v":""},{"$f":"IF(A402<E$10,+VLOOKUP($A402,Data!A:B,2,1),\"\")","v":""},null,0,{"$error":"#VALUE!"},null,null,null,null,null,null,null,null,null,null,null,null,null,null,null,null,"","",{"$error":"#VALUE!"}]
[{"$f":"IF(A402<$E$10,+VLOOKUP($A402+1,Data!A:B,1,1),\"\")","v":""},{"$f":"IF(A403<E$10,+VLOOKUP($A403,Data!A:B,2,1),\"\")","v":""},null,0,{"$error":"#VALUE!"},null,null,null,null,null,null,null,null,null,null,null,null,null,null,null,null,"","",{"$error":"#VALUE!"}]
[{"$f":"IF(A403<$E$10,+VLOOKUP($A403+1,Data!A:B,1,1),\"\")","v":""},{"$f":"IF(A404<E$10,+VLOOKUP($A404,Data!A:B,2,1),\"\")","v":""},null,0,{"$error":"#VALUE!"},null,null,null,null,null,null,null,null,null,null,null,null,null,null,null,null,"","",{"$error":"#VALUE!"}]
[{"$f":"IF(A404<$E$10,+VLOOKUP($A404+1,Data!A:B,1,1),\"\")","v":""},{"$f":"IF(A405<E$10,+VLOOKUP($A405,Data!A:B,2,1),\"\")","v":""},null,0,{"$error":"#VALUE!"},null,null,null,null,null,null,null,null,null,null,null,null,null,null,null,null,"","",{"$error":"#VALUE!"}]
[{"$f":"IF(A405<$E$10,+VLOOKUP($A405+1,Data!A:B,1,1),\"\")","v":""},{"$f":"IF(A406<E$10,+VLOOKUP($A406,Data!A:B,2,1),\"\")","v":""},null,0,{"$error":"#VALUE!"},null,null,null,null,null,null,null,null,null,null,null,null,null,null,null,null,"","",{"$error":"#VALUE!"}]
[{"$f":"IF(A406<$E$10,+VLOOKUP($A406+1,Data!A:B,1,1),\"\")","v":""},{"$f":"IF(A407<E$10,+VLOOKUP($A407,Data!A:B,2,1),\"\")","v":""},null,0,{"$error":"#VALUE!"},null,null,null,null,null,null,null,null,null,null,null,null,null,null,null,null,"","",{"$error":"#VALUE!"}]
[{"$f":"IF(A407<$E$10,+VLOOKUP($A407+1,Data!A:B,1,1),\"\")","v":""},{"$f":"IF(A408<E$10,+VLOOKUP($A408,Data!A:B,2,1),\"\")","v":""},null,0,{"$error":"#VALUE!"},null,null,null,null,null,null,null,null,null,null,null,null,null,null,null,null,"","",{"$error":"#VALUE!"}]
[{"$f":"IF(A408<$E$10,+VLOOKUP($A408+1,Data!A:B,1,1),\"\")","v":""},{"$f":"IF(A409<E$10,+VLOOKUP($A409,Data!A:B,2,1),\"\")","v":""},null,0,{"$error":"#VALUE!"},null,null,null,null,null,null,null,null,null,null,null,null,null,null,null,null,"","",{"$error":"#VALUE!"}]
[{"$f":"IF(A409<$E$10,+VLOOKUP($A409+1,Data!A:B,1,1),\"\")","v":""},{"$f":"IF(A410<E$10,+VLOOKUP($A410,Data!A:B,2,1),\"\")","v":""},null,0,{"$error":"#VALUE!"},null,null,null,null,null,null,null,null,null,null,null,null,null,null,null,null,"","",{"$error":"#VALUE!"}]
[{"$f":"IF(A410<$E$10,+VLOOKUP($A410+1,Data!A:B,1,1),\"\")","v":""},{"$f":"IF(A411<E$10,+VLOOKUP($A411,Data!A:B,2,1),\"\")","v":""},null,0,{"$error":"#VALUE!"},null,null,null,null,null,null,null,null,null,null,null,null,null,null,null,null,"","",{"$error":"#VALUE!"}]
[{"$f":"IF(A411<$E$10,+VLOOKUP($A411+1,Data!A:B,1,1),\"\")","v":""},{"$f":"IF(A412<E$10,+VLOOKUP($A412,Data!A:B,2,1),\"\")","v":""},null,0,{"$error":"#VALUE!"},null,null,null,null,null,null,null,null,null,null,null,null,null,null,null,null,"","",{"$error":"#VALUE!"}]
[{"$f":"IF(A412<$E$10,+VLOOKUP($A412+1,Data!A:B,1,1),\"\")","v":""},{"$f":"IF(A413<E$10,+VLOOKUP($A413,Data!A:B,2,1),\"\")","v":""},null,0,{"$error":"#VALUE!"},null,null,null,null,null,null,null,null,null,null,null,null,null,null,null,null,"","",{"$error":"#VALUE!"}]
[{"$f":"IF(A413<$E$10,+VLOOKUP($A413+1,Data!A:B,1,1),\"\")","v":""},{"$f":"IF(A414<E$10,+VLOOKUP($A414,Data!A:B,2,1),\"\")","v":""},null,0,{"$error":"#VALUE!"},null,null,null,null,null,null,null,null,null,null,null,null,null,null,null,null,"","",{"$error":"#VALUE!"}]
[{"$f":"IF(A414<$E$10,+VLOOKUP($A414+1,Data!A:B,1,1),\"\")","v":""},{"$f":"IF(A415<E$10,+VLOOKUP($A415,Data!A:B,2,1),\"\")","v":""},null,0,{"$error":"#VALUE!"},null,null,null,null,null,null,null,null,null,null,null,null,null,null,null,null,"","",{"$error":"#VALUE!"}]
[{"$f":"IF(A415<$E$10,+VLOOKUP($A415+1,Data!A:B,1,1),\"\")","v":""},{"$f":"IF(A416<E$10,+VLOOKUP($A416,Data!A:B,2,1),\"\")","v":""},null,0,{"$error":"#VALUE!"},null,null,null,null,null,null,null,null,null,null,null,null,null,null,null,null,"","",{"$error":"#VALUE!"}]
[{"$f":"IF(A416<$E$10,+VLOOKUP($A416+1,Data!A:B,1,1),\"\")","v":""},{"$f":"IF(A417<E$10,+VLOOKUP($A417,Data!A:B,2,1),\"\")","v":""},null,0,{"$error":"#VALUE!"},null,null,null,null,null,null,null,null,null,null,null,null,null,null,null,null,"","",{"$error":"#VALUE!"}]
[{"$f":"IF(A417<$E$10,+VLOOKUP($A417+1,Data!A:B,1,1),\"\")","v":""},{"$f":"IF(A418<E$10,+VLOOKUP($A418,Data!A:B,2,1),\"\")","v":""},null,0,{"$error":"#VALUE!"},null,null,null,null,null,null,null,null,null,null,null,null,null,null,null,null,"","",{"$error":"#VALUE!"}]
[{"$f":"IF(A418<$E$10,+VLOOKUP($A418+1,Data!A:B,1,1),\"\")","v":""},{"$f":"IF(A419<E$10,+VLOOKUP($A419,Data!A:B,2,1),\"\")","v":""},null,{"$f":"+IF(AND(A419<$H$9,A419>$H$8),B419-X419,0)","v":0},{"$f":"+D419/X419","v":{"$error":"#VALUE!"}},null,null,null,null,null,null,null,null,null,null,null,null,null,null,null,null,{"$f":"+IF(AND($A419>$H$6,$A419<$H$7),$B419,\"\")","v":""},{"$f":"+IF(AND($A419>$H$10,$A419<$H$11),$B419,\"\")","v":""},{"$f":"+$G$15+(A419-$G$14)*$H$16","v":{"$error":"#VALUE!"}}]
[{"$f":"IF(A419<$E$10,+VLOOKUP($A419+1,Data!A:B,1,1),\"\")","v":""},{"$f":"IF(A420<E$10,+VLOOKUP($A420,Data!A:B,2,1),\"\")","v":""},null,0,{"$error":"#VALUE!"},null,null,null,null,null,null,null,null,null,null,null,null,null,null,null,null,"","",{"$error":"#VALUE!"}]
[{"$f":"IF(A420<$E$10,+VLOOKUP($A420+1,Data!A:B,1,1),\"\")","v":""},{"$f":"IF(A421<E$10,+VLOOKUP($A421,Data!A:B,2,1),\"\")","v":""},null,0,{"$error":"#VALUE!"},null,null,null,null,null,null,null,null,null,null,null,null,null,null,null,null,"","",{"$error":"#VALUE!"}]
[{"$f":"IF(A421<$E$10,+VLOOKUP($A421+1,Data!A:B,1,1),\"\")","v":""},{"$f":"IF(A422<E$10,+VLOOKUP($A422,Data!A:B,2,1),\"\")","v":""},null,0,{"$error":"#VALUE!"},null,null,null,null,null,null,null,null,null,null,null,null,null,null,null,null,"","",{"$error":"#VALUE!"}]
[{"$f":"IF(A422<$E$10,+VLOOKUP($A422+1,Data!A:B,1,1),\"\")","v":""},{"$f":"IF(A423<E$10,+VLOOKUP($A423,Data!A:B,2,1),\"\")","v":""},null,0,{"$error":"#VALUE!"},null,null,null,null,null,null,null,null,null,null,null,null,null,null,null,null,"","",{"$error":"#VALUE!"}]
[{"$f":"IF(A423<$E$10,+VLOOKUP($A423+1,Data!A:B,1,1),\"\")","v":""},{"$f":"IF(A424<E$10,+VLOOKUP($A424,Data!A:B,2,1),\"\")","v":""},null,0,{"$error":"#VALUE!"},null,null,null,null,null,null,null,null,null,null,null,null,null,null,null,null,"","",{"$error":"#VALUE!"}]
[{"$f":"IF(A424<$E$10,+VLOOKUP($A424+1,Data!A:B,1,1),\"\")","v":""},{"$f":"IF(A425<E$10,+VLOOKUP($A425,Data!A:B,2,1),\"\")","v":""},null,0,{"$error":"#VALUE!"},null,null,null,null,null,null,null,null,null,null,null,null,null,null,null,null,"","",{"$error":"#VALUE!"}]
[{"$f":"IF(A425<$E$10,+VLOOKUP($A425+1,Data!A:B,1,1),\"\")","v":""},{"$f":"IF(A426<E$10,+VLOOKUP($A426,Data!A:B,2,1),\"\")","v":""},null,0,{"$error":"#VALUE!"},null,null,null,null,null,null,null,null,null,null,null,null,null,null,null,null,"","",{"$error":"#VALUE!"}]
[{"$f":"IF(A426<$E$10,+VLOOKUP($A426+1,Data!A:B,1,1),\"\")","v":""},{"$f":"IF(A427<E$10,+VLOOKUP($A427,Data!A:B,2,1),\"\")","v":""},null,0,{"$error":"#VALUE!"},null,null,null,null,null,null,null,null,null,null,null,null,null,null,null,null,"","",{"$error":"#VALUE!"}]
[{"$f":"IF(A427<$E$10,+VLOOKUP($A427+1,Data!A:B,1,1),\"\")","v":""},{"$f":"IF(A428<E$10,+VLOOKUP($A428,Data!A:B,2,1),\"\")","v":""},null,0,{"$error":"#VALUE!"},null,null,null,null,null,null,null,null,null,null,null,null,null,null,null,null,"","",{"$error":"#VALUE!"}]
[{"$f":"IF(A428<$E$10,+VLOOKUP($A428+1,Data!A:B,1,1),\"\")","v":""},{"$f":"IF(A429<E$10,+VLOOKUP($A429,Data!A:B,2,1),\"\")","v":""},null,0,{"$error":"#VALUE!"},null,null,null,null,null,null,null,null,null,null,null,null,null,null,null,null,"","",{"$error":"#VALUE!"}]
[{"$f":"IF(A429<$E$10,+VLOOKUP($A429+1,Data!A:B,1,1),\"\")","v":""},{"$f":"IF(A430<E$10,+VLOOKUP($A430,Data!A:B,2,1),\"\")","v":""},null,0,{"$error":"#VALUE!"},null,null,null,null,null,null,null,null,null,null,null,null,null,null,null,null,"","",{"$error":"#VALUE!"}]
[{"$f":"IF(A430<$E$10,+VLOOKUP($A430+1,Data!A:B,1,1),\"\")","v":""},{"$f":"IF(A431<E$10,+VLOOKUP($A431,Data!A:B,2,1),\"\")","v":""},null,0,{"$error":"#VALUE!"},null,null,null,null,null,null,null,null,null,null,null,null,null,null,null,null,"","",{"$error":"#VALUE!"}]
[{"$f":"IF(A431<$E$10,+VLOOKUP($A431+1,Data!A:B,1,1),\"\")","v":""},{"$f":"IF(A432<E$10,+VLOOKUP($A432,Data!A:B,2,1),\"\")","v":""},null,0,{"$error":"#VALUE!"},null,null,null,null,null,null,null,null,null,null,null,null,null,null,null,null,"","",{"$error":"#VALUE!"}]
[{"$f":"IF(A432<$E$10,+VLOOKUP($A432+1,Data!A:B,1,1),\"\")","v":""},{"$f":"IF(A433<E$10,+VLOOKUP($A433,Data!A:B,2,1),\"\")","v":""},null,0,{"$error":"#VALUE!"},null,null,null,null,null,null,null,null,null,null,null,null,null,null,null,null,"","",{"$error":"#VALUE!"}]
[{"$f":"IF(A433<$E$10,+VLOOKUP($A433+1,Data!A:B,1,1),\"\")","v":""},{"$f":"IF(A434<E$10,+VLOOKUP($A434,Data!A:B,2,1),\"\")","v":""},null,0,{"$error":"#VALUE!"},null,null,null,null,null,null,null,null,null,null,null,null,null,null,null,null,"","",{"$error":"#VALUE!"}]
[{"$f":"IF(A434<$E$10,+VLOOKUP($A434+1,Data!A:B,1,1),\"\")","v":""},{"$f":"IF(A435<E$10,+VLOOKUP($A435,Data!A:B,2,1),\"\")","v":""},null,0,{"$error":"#VALUE!"},null,null,null,null,null,null,null,null,null,null,null,null,null,null,null,null,"","",{"$error":"#VALUE!"}]
[{"$f":"IF(A435<$E$10,+VLOOKUP($A435+1,Data!A:B,1,1),\"\")","v":""},{"$f":"IF(A436<E$10,+VLOOKUP($A436,Data!A:B,2,1),\"\")","v":""},null,0,{"$error":"#VALUE!"},null,null,null,null,null,null,null,null,null,null,null,null,null,null,null,null,"","",{"$error":"#VALUE!"}]
[{"$f":"IF(A436<$E$10,+VLOOKUP($A436+1,Data!A:B,1,1),\"\")","v":""},{"$f":"IF(A437<E$10,+VLOOKUP($A437,Data!A:B,2,1),\"\")","v":""},null,0,{"$error":"#VALUE!"},null,null,null,null,null,null,null,null,null,null,null,null,null,null,null,null,"","",{"$error":"#VALUE!"}]
[{"$f":"IF(A437<$E$10,+VLOOKUP($A437+1,Data!A:B,1,1),\"\")","v":""},{"$f":"IF(A438<E$10,+VLOOKUP($A438,Data!A:B,2,1),\"\")","v":""},null,0,{"$error":"#VALUE!"},null,null,null,null,null,null,null,null,null,null,null,null,null,null,null,null,"","",{"$error":"#VALUE!"}]
[{"$f":"IF(A438<$E$10,+VLOOKUP($A438+1,Data!A:B,1,1),\"\")","v":""},{"$f":"IF(A439<E$10,+VLOOKUP($A439,Data!A:B,2,1),\"\")","v":""},null,0,{"$error":"#VALUE!"},null,null,null,null,null,null,null,null,null,null,null,null,null,null,null,null,"","",{"$error":"#VALUE!"}]
[{"$f":"IF(A439<$E$10,+VLOOKUP($A439+1,Data!A:B,1,1),\"\")","v":""},{"$f":"IF(A440<E$10,+VLOOKUP($A440,Data!A:B,2,1),\"\")","v":""},null,0,{"$error":"#VALUE!"},null,null,null,null,null,null,null,null,null,null,null,null,null,null,null,null,"","",{"$error":"#VALUE!"}]
[{"$f":"IF(A440<$E$10,+VLOOKUP($A440+1,Data!A:B,1,1),\"\")","v":""},{"$f":"IF(A441<E$10,+VLOOKUP($A441,Data!A:B,2,1),\"\")","v":""},null,0,{"$error":"#VALUE!"},null,null,null,null,null,null,null,null,null,null,null,null,null,null,null,null,"","",{"$error":"#VALUE!"}]
[{"$f":"IF(A441<$E$10,+VLOOKUP($A441+1,Data!A:B,1,1),\"\")","v":""},{"$f":"IF(A442<E$10,+VLOOKUP($A442,Data!A:B,2,1),\"\")","v":""},null,0,{"$error":"#VALUE!"},null,null,null,null,null,null,null,null,null,null,null,null,null,null,null,null,"","",{"$error":"#VALUE!"}]
[{"$f":"IF(A442<$E$10,+VLOOKUP($A442+1,Data!A:B,1,1),\"\")","v":""},{"$f":"IF(A443<E$10,+VLOOKUP($A443,Data!A:B,2,1),\"\")","v":""},null,0,{"$error":"#VALUE!"},null,null,null,null,null,null,null,null,null,null,null,null,null,null,null,null,"","",{"$error":"#VALUE!"}]
[{"$f":"IF(A443<$E$10,+VLOOKUP($A443+1,Data!A:B,1,1),\"\")","v":""},{"$f":"IF(A444<E$10,+VLOOKUP($A444,Data!A:B,2,1),\"\")","v":""},null,0,{"$error":"#VALUE!"},null,null,null,null,null,null,null,null,null,null,null,null,null,null,null,null,"","",{"$error":"#VALUE!"}]
[{"$f":"IF(A444<$E$10,+VLOOKUP($A444+1,Data!A:B,1,1),\"\")","v":""},{"$f":"IF(A445<E$10,+VLOOKUP($A445,Data!A:B,2,1),\"\")","v":""},null,0,{"$error":"#VALUE!"},null,null,null,null,null,null,null,null,null,null,null,null,null,null,null,null,"","",{"$error":"#VALUE!"}]
[{"$f":"IF(A445<$E$10,+VLOOKUP($A445+1,Data!A:B,1,1),\"\")","v":""},{"$f":"IF(A446<E$10,+VLOOKUP($A446,Data!A:B,2,1),\"\")","v":""},null,0,{"$error":"#VALUE!"},null,null,null,null,null,null,null,null,null,null,null,null,null,null,null,null,"","",{"$error":"#VALUE!"}]
[{"$f":"IF(A446<$E$10,+VLOOKUP($A446+1,Data!A:B,1,1),\"\")","v":""},{"$f":"IF(A447<E$10,+VLOOKUP($A447,Data!A:B,2,1),\"\")","v":""},null,0,{"$error":"#VALUE!"},null,null,null,null,null,null,null,null,null,null,null,null,null,null,null,null,"","",{"$error":"#VALUE!"}]
[{"$f":"IF(A447<$E$10,+VLOOKUP($A447+1,Data!A:B,1,1),\"\")","v":""},{"$f":"IF(A448<E$10,+VLOOKUP($A448,Data!A:B,2,1),\"\")","v":""},null,0,{"$error":"#VALUE!"},null,null,null,null,null,null,null,null,null,null,null,null,null,null,null,null,"","",{"$error":"#VALUE!"}]
[{"$f":"IF(A448<$E$10,+VLOOKUP($A448+1,Data!A:B,1,1),\"\")","v":""},{"$f":"IF(A449<E$10,+VLOOKUP($A449,Data!A:B,2,1),\"\")","v":""},null,0,{"$error":"#VALUE!"},null,null,null,null,null,null,null,null,null,null,null,null,null,null,null,null,"","",{"$error":"#VALUE!"}]
[{"$f":"IF(A449<$E$10,+VLOOKUP($A449+1,Data!A:B,1,1),\"\")","v":""},{"$f":"IF(A450<E$10,+VLOOKUP($A450,Data!A:B,2,1),\"\")","v":""},null,0,{"$error":"#VALUE!"},null,null,null,null,null,null,null,null,null,null,null,null,null,null,null,null,"","",{"$error":"#VALUE!"}]
[{"$f":"IF(A450<$E$10,+VLOOKUP($A450+1,Data!A:B,1,1),\"\")","v":""},{"$f":"IF(A451<E$10,+VLOOKUP($A451,Data!A:B,2,1),\"\")","v":""},null,0,{"$error":"#VALUE!"},null,null,null,null,null,null,null,null,null,null,null,null,null,null,null,null,"","",{"$error":"#VALUE!"}]
[{"$f":"IF(A451<$E$10,+VLOOKUP($A451+1,Data!A:B,1,1),\"\")","v":""},{"$f":"IF(A452<E$10,+VLOOKUP($A452,Data!A:B,2,1),\"\")","v":""},null,0,{"$error":"#VALUE!"},null,null,null,null,null,null,null,null,null,null,null,null,null,null,null,null,"","",{"$error":"#VALUE!"}]
[{"$f":"IF(A452<$E$10,+VLOOKUP($A452+1,Data!A:B,1,1),\"\")","v":""},{"$f":"IF(A453<E$10,+VLOOKUP($A453,Data!A:B,2,1),\"\")","v":""},null,0,{"$error":"#VALUE!"},null,null,null,null,null,null,null,null,null,null,null,null,null,null,null,null,"","",{"$error":"#VALUE!"}]
[{"$f":"IF(A453<$E$10,+VLOOKUP($A453+1,Data!A:B,1,1),\"\")","v":""},{"$f":"IF(A454<E$10,+VLOOKUP($A454,Data!A:B,2,1),\"\")","v":""},null,0,{"$error":"#VALUE!"},null,null,null,null,null,null,null,null,null,null,null,null,null,null,null,null,"","",{"$error":"#VALUE!"}]
[{"$f":"IF(A454<$E$10,+VLOOKUP($A454+1,Data!A:B,1,1),\"\")","v":""},{"$f":"IF(A455<E$10,+VLOOKUP($A455,Data!A:B,2,1),\"\")","v":""},null,0,{"$error":"#VALUE!"},null,null,null,null,null,null,null,null,null,null,null,null,null,null,null,null,"","",{"$error":"#VALUE!"}]
[{"$f":"IF(A455<$E$10,+VLOOKUP($A455+1,Data!A:B,1,1),\"\")","v":""},{"$f":"IF(A456<E$10,+VLOOKUP($A456,Data!A:B,2,1),\"\")","v":""},null,0,{"$error":"#VALUE!"},null,null,null,null,null,null,null,null,null,null,null,null,null,null,null,null,"","",{"$error":"#VALUE!"}]
[{"$f":"IF(A456<$E$10,+VLOOKUP($A456+1,Data!A:B,1,1),\"\")","v":""},{"$f":"IF(A457<E$10,+VLOOKUP($A457,Data!A:B,2,1),\"\")","v":""},null,0,{"$error":"#VALUE!"},null,null,null,null,null,null,null,null,null,null,null,null,null,null,null,null,"","",{"$error":"#VALUE!"}]
[{"$f":"IF(A457<$E$10,+VLOOKUP($A457+1,Data!A:B,1,1),\"\")","v":""},{"$f":"IF(A458<E$10,+VLOOKUP($A458,Data!A:B,2,1),\"\")","v":""},null,0,{"$error":"#VALUE!"},null,null,null,null,null,null,null,null,null,null,null,null,null,null,null,null,"","",{"$error":"#VALUE!"}]
[{"$f":"IF(A458<$E$10,+VLOOKUP($A458+1,Data!A:B,1,1),\"\")","v":""},{"$f":"IF(A459<E$10,+VLOOKUP($A459,Data!A:B,2,1),\"\")","v":""},null,0,{"$error":"#VALUE!"},null,null,null,null,null,null,null,null,null,null,null,null,null,null,null,null,"","",{"$error":"#VALUE!"}]
[{"$f":"IF(A459<$E$10,+VLOOKUP($A459+1,Data!A:B,1,1),\"\")","v":""},{"$f":"IF(A460<E$10,+VLOOKUP($A460,Data!A:B,2,1),\"\")","v":""},null,0,{"$error":"#VALUE!"},null,null,null,null,null,null,null,null,null,null,null,null,null,null,null,null,"","",{"$error":"#VALUE!"}]
[{"$f":"IF(A460<$E$10,+VLOOKUP($A460+1,Data!A:B,1,1),\"\")","v":""},{"$f":"IF(A461<E$10,+VLOOKUP($A461,Data!A:B,2,1),\"\")","v":""},null,0,{"$error":"#VALUE!"},null,null,null,null,null,null,null,null,null,null,null,null,null,null,null,null,"","",{"$error":"#VALUE!"}]
[{"$f":"IF(A461<$E$10,+VLOOKUP($A461+1,Data!A:B,1,1),\"\")","v":""},{"$f":"IF(A462<E$10,+VLOOKUP($A462,Data!A:B,2,1),\"\")","v":""},null,0,{"$error":"#VALUE!"},null,null,null,null,null,null,null,null,null,null,null,null,null,null,null,null,"","",{"$error":"#VALUE!"}]
[{"$f":"IF(A462<$E$10,+VLOOKUP($A462+1,Data!A:B,1,1),\"\")","v":""},{"$f":"IF(A463<E$10,+VLOOKUP($A463,Data!A:B,2,1),\"\")","v":""},null,0,{"$error":"#VALUE!"},null,null,null,null,null,null,null,null,null,null,null,null,null,null,null,null,"","",{"$error":"#VALUE!"}]
[{"$f":"IF(A463<$E$10,+VLOOKUP($A463+1,Data!A:B,1,1),\"\")","v":""},{"$f":"IF(A464<E$10,+VLOOKUP($A464,Data!A:B,2,1),\"\")","v":""},null,0,{"$error":"#VALUE!"},null,null,null,null,null,null,null,null,null,null,null,null,null,null,null,null,"","",{"$error":"#VALUE!"}]
[{"$f":"IF(A464<$E$10,+VLOOKUP($A464+1,Data!A:B,1,1),\"\")","v":""},{"$f":"IF(A465<E$10,+VLOOKUP($A465,Data!A:B,2,1),\"\")","v":""},null,0,{"$error":"#VALUE!"},null,null,null,null,null,null,null,null,null,null,null,null,null,null,null,null,"","",{"$error":"#VALUE!"}]
[{"$f":"IF(A465<$E$10,+VLOOKUP($A465+1,Data!A:B,1,1),\"\")","v":""},{"$f":"IF(A466<E$10,+VLOOKUP($A466,Data!A:B,2,1),\"\")","v":""},null,0,{"$error":"#VALUE!"},null,null,null,null,null,null,null,null,null,null,null,null,null,null,null,null,"","",{"$error":"#VALUE!"}]
[{"$f":"IF(A466<$E$10,+VLOOKUP($A466+1,Data!A:B,1,1),\"\")","v":""},{"$f":"IF(A467<E$10,+VLOOKUP($A467,Data!A:B,2,1),\"\")","v":""},null,0,{"$error":"#VALUE!"},null,null,null,null,null,null,null,null,null,null,null,null,null,null,null,null,"","",{"$error":"#VALUE!"}]
[{"$f":"IF(A467<$E$10,+VLOOKUP($A467+1,Data!A:B,1,1),\"\")","v":""},{"$f":"IF(A468<E$10,+VLOOKUP($A468,Data!A:B,2,1),\"\")","v":""},null,0,{"$error":"#VALUE!"},null,null,null,null,null,null,null,null,null,null,null,null,null,null,null,null,"","",{"$error":"#VALUE!"}]
[{"$f":"IF(A468<$E$10,+VLOOKUP($A468+1,Data!A:B,1,1),\"\")","v":""},{"$f":"IF(A469<E$10,+VLOOKUP($A469,Data!A:B,2,1),\"\")","v":""},null,0,{"$error":"#VALUE!"},null,null,null,null,null,null,null,null,null,null,null,null,null,null,null,null,"","",{"$error":"#VALUE!"}]
[{"$f":"IF(A469<$E$10,+VLOOKUP($A469+1,Data!A:B,1,1),\"\")","v":""},{"$f":"IF(A470<E$10,+VLOOKUP($A470,Data!A:B,2,1),\"\")","v":""},null,0,{"$error":"#VALUE!"},null,null,null,null,null,null,null,null,null,null,null,null,null,null,null,null,"","",{"$error":"#VALUE!"}]
[{"$f":"IF(A470<$E$10,+VLOOKUP($A470+1,Data!A:B,1,1),\"\")","v":""},{"$f":"IF(A471<E$10,+VLOOKUP($A471,Data!A:B,2,1),\"\")","v":""},null,0,{"$error":"#VALUE!"},null,null,null,null,null,null,null,null,null,null,null,null,null,null,null,null,"","",{"$error":"#VALUE!"}]
[{"$f":"IF(A471<$E$10,+VLOOKUP($A471+1,Data!A:B,1,1),\"\")","v":""},{"$f":"IF(A472<E$10,+VLOOKUP($A472,Data!A:B,2,1),\"\")","v":""},null,0,{"$error":"#VALUE!"},null,null,null,null,null,null,null,null,null,null,null,null,null,null,null,null,"","",{"$error":"#VALUE!"}]
[{"$f":"IF(A472<$E$10,+VLOOKUP($A472+1,Data!A:B,1,1),\"\")","v":""},{"$f":"IF(A473<E$10,+VLOOKUP($A473,Data!A:B,2,1),\"\")","v":""},null,0,{"$error":"#VALUE!"},null,null,null,null,null,null,null,null,null,null,null,null,null,null,null,null,"","",{"$error":"#VALUE!"}]
[{"$f":"IF(A473<$E$10,+VLOOKUP($A473+1,Data!A:B,1,1),\"\")","v":""},{"$f":"IF(A474<E$10,+VLOOKUP($A474,Data!A:B,2,1),\"\")","v":""},null,0,{"$error":"#VALUE!"},null,null,null,null,null,null,null,null,null,null,null,null,null,null,null,null,"","",{"$error":"#VALUE!"}]
[{"$f":"IF(A474<$E$10,+VLOOKUP($A474+1,Data!A:B,1,1),\"\")","v":""},{"$f":"IF(A475<E$10,+VLOOKUP($A475,Data!A:B,2,1),\"\")","v":""},null,0,{"$error":"#VALUE!"},null,null,null,null,null,null,null,null,null,null,null,null,null,null,null,null,"","",{"$error":"#VALUE!"}]
[{"$f":"IF(A475<$E$10,+VLOOKUP($A475+1,Data!A:B,1,1),\"\")","v":""},{"$f":"IF(A476<E$10,+VLOOKUP($A476,Data!A:B,2,1),\"\")","v":""},null,0,{"$error":"#VALUE!"},null,null,null,null,null,null,null,null,null,null,null,null,null,null,null,null,"","",{"$error":"#VALUE!"}]
[{"$f":"IF(A476<$E$10,+VLOOKUP($A476+1,Data!A:B,1,1),\"\")","v":""},{"$f":"IF(A477<E$10,+VLOOKUP($A477,Data!A:B,2,1),\"\")","v":""},null,0,{"$error":"#VALUE!"},null,null,null,null,null,null,null,null,null,null,null,null,null,null,null,null,"","",{"$error":"#VALUE!"}]
[{"$f":"IF(A477<$E$10,+VLOOKUP($A477+1,Data!A:B,1,1),\"\")","v":""},{"$f":"IF(A478<E$10,+VLOOKUP($A478,Data!A:B,2,1),\"\")","v":""},null,0,{"$error":"#VALUE!"},null,null,null,null,null,null,null,null,null,null,null,null,null,null,null,null,"","",{"$error":"#VALUE!"}]
[{"$f":"IF(A478<$E$10,+VLOOKUP($A478+1,Data!A:B,1,1),\"\")","v":""},{"$f":"IF(A479<E$10,+VLOOKUP($A479,Data!A:B,2,1),\"\")","v":""},null,0,{"$error":"#VALUE!"},null,null,null,null,null,null,null,null,null,null,null,null,null,null,null,null,"","",{"$error":"#VALUE!"}]
[{"$f":"IF(A479<$E$10,+VLOOKUP($A479+1,Data!A:B,1,1),\"\")","v":""},{"$f":"IF(A480<E$10,+VLOOKUP($A480,Data!A:B,2,1),\"\")","v":""},null,0,{"$error":"#VALUE!"},null,null,null,null,null,null,null,null,null,null,null,null,null,null,null,null,"","",{"$error":"#VALUE!"}]
[{"$f":"IF(A480<$E$10,+VLOOKUP($A480+1,Data!A:B,1,1),\"\")","v":""},{"$f":"IF(A481<E$10,+VLOOKUP($A481,Data!A:B,2,1),\"\")","v":""},null,0,{"$error":"#VALUE!"},null,null,null,null,null,null,null,null,null,null,null,null,null,null,null,null,"","",{"$error":"#VALUE!"}]
[{"$f":"IF(A481<$E$10,+VLOOKUP($A481+1,Data!A:B,1,1),\"\")","v":""},{"$f":"IF(A482<E$10,+VLOOKUP($A482,Data!A:B,2,1),\"\")","v":""},null,0,{"$error":"#VALUE!"},null,null,null,null,null,null,null,null,null,null,null,null,null,null,null,null,"","",{"$error":"#VALUE!"}]
[{"$f":"IF(A482<$E$10,+VLOOKUP($A482+1,Data!A:B,1,1),\"\")","v":""},{"$f":"IF(A483<E$10,+VLOOKUP($A483,Data!A:B,2,1),\"\")","v":""},null,{"$f":"+IF(AND(A483<$H$9,A483>$H$8),B483-X483,0)","v":0},{"$f":"+D483/X483","v":{"$error":"#VALUE!"}},null,null,null,null,null,null,null,null,null,null,null,null,null,null,null,null,{"$f":"+IF(AND($A483>$H$6,$A483<$H$7),$B483,\"\")","v":""},{"$f":"+IF(AND($A483>$H$10,$A483<$H$11),$B483,\"\")","v":""},{"$f":"+$G$15+(A483-$G$14)*$H$16","v":{"$error":"#VALUE!"}}]
[{"$f":"IF(A483<$E$10,+VLOOKUP($A483+1,Data!A:B,1,1),\"\")","v":""},{"$f":"IF(A484<E$10,+VLOOKUP($A484,Data!A:B,2,1),\"\")","v":""},null,0,{"$error":"#VALUE!"},null,null,null,null,null,null,null,null,null,null,null,null,null,null,null,null,"","",{"$error":"#VALUE!"}]
[{"$f":"IF(A484<$E$10,+VLOOKUP($A484+1,Data!A:B,1,1),\"\")","v":""},{"$f":"IF(A485<E$10,+VLOOKUP($A485,Data!A:B,2,1),\"\")","v":""},null,0,{"$error":"#VALUE!"},null,null,null,null,null,null,null,null,null,null,null,null,null,null,null,null,"","",{"$error":"#VALUE!"}]
[{"$f":"IF(A485<$E$10,+VLOOKUP($A485+1,Data!A:B,1,1),\"\")","v":""},{"$f":"IF(A486<E$10,+VLOOKUP($A486,Data!A:B,2,1),\"\")","v":""},null,0,{"$error":"#VALUE!"},null,null,null,null,null,null,null,null,null,null,null,null,null,null,null,null,"","",{"$error":"#VALUE!"}]
[{"$f":"IF(A486<$E$10,+VLOOKUP($A486+1,Data!A:B,1,1),\"\")","v":""},{"$f":"IF(A487<E$10,+VLOOKUP($A487,Data!A:B,2,1),\"\")","v":""},null,0,{"$error":"#VALUE!"},null,null,null,null,null,null,null,null,null,null,null,null,null,null,null,null,"","",{"$error":"#VALUE!"}]
[{"$f":"IF(A487<$E$10,+VLOOKUP($A487+1,Data!A:B,1,1),\"\")","v":""},{"$f":"IF(A488<E$10,+VLOOKUP($A488,Data!A:B,2,1),\"\")","v":""},null,0,{"$error":"#VALUE!"},null,null,null,null,null,null,null,null,null,null,null,null,null,null,null,null,"","",{"$error":"#VALUE!"}]
[{"$f":"IF(A488<$E$10,+VLOOKUP($A488+1,Data!A:B,1,1),\"\")","v":""},{"$f":"IF(A489<E$10,+VLOOKUP($A489,Data!A:B,2,1),\"\")","v":""},null,0,{"$error":"#VALUE!"},null,null,null,null,null,null,null,null,null,null,null,null,null,null,null,null,"","",{"$error":"#VALUE!"}]
[{"$f":"IF(A489<$E$10,+VLOOKUP($A489+1,Data!A:B,1,1),\"\")","v":""},{"$f":"IF(A490<E$10,+VLOOKUP($A490,Data!A:B,2,1),\"\")","v":""},null,0,{"$error":"#VALUE!"},null,null,null,null,null,null,null,null,null,null,null,null,null,null,null,null,"","",{"$error":"#VALUE!"}]
[{"$f":"IF(A490<$E$10,+VLOOKUP($A490+1,Data!A:B,1,1),\"\")","v":""},{"$f":"IF(A491<E$10,+VLOOKUP($A491,Data!A:B,2,1),\"\")","v":""},null,0,{"$error":"#VALUE!"},null,null,null,null,null,null,null,null,null,null,null,null,null,null,null,null,"","",{"$error":"#VALUE!"}]
[{"$f":"IF(A491<$E$10,+VLOOKUP($A491+1,Data!A:B,1,1),\"\")","v":""},{"$f":"IF(A492<E$10,+VLOOKUP($A492,Data!A:B,2,1),\"\")","v":""},null,0,{"$error":"#VALUE!"},null,null,null,null,null,null,null,null,null,null,null,null,null,null,null,null,"","",{"$error":"#VALUE!"}]
[{"$f":"IF(A492<$E$10,+VLOOKUP($A492+1,Data!A:B,1,1),\"\")","v":""},{"$f":"IF(A493<E$10,+VLOOKUP($A493,Data!A:B,2,1),\"\")","v":""},null,0,{"$error":"#VALUE!"},null,null,null,null,null,null,null,null,null,null,null,null,null,null,null,null,"","",{"$error":"#VALUE!"}]
[{"$f":"IF(A493<$E$10,+VLOOKUP($A493+1,Data!A:B,1,1),\"\")","v":""},{"$f":"IF(A494<E$10,+VLOOKUP($A494,Data!A:B,2,1),\"\")","v":""},null,0,{"$error":"#VALUE!"},null,null,null,null,null,null,null,null,null,null,null,null,null,null,null,null,"","",{"$error":"#VALUE!"}]
[{"$f":"IF(A494<$E$10,+VLOOKUP($A494+1,Data!A:B,1,1),\"\")","v":""},{"$f":"IF(A495<E$10,+VLOOKUP($A495,Data!A:B,2,1),\"\")","v":""},null,0,{"$error":"#VALUE!"},null,null,null,null,null,null,null,null,null,null,null,null,null,null,null,null,"","",{"$error":"#VALUE!"}]
[{"$f":"IF(A495<$E$10,+VLOOKUP($A495+1,Data!A:B,1,1),\"\")","v":""},{"$f":"IF(A496<E$10,+VLOOKUP($A496,Data!A:B,2,1),\"\")","v":""},null,0,{"$error":"#VALUE!"},null,null,null,null,null,null,null,null,null,null,null,null,null,null,null,null,"","",{"$error":"#VALUE!"}]
[{"$f":"IF(A496<$E$10,+VLOOKUP($A496+1,Data!A:B,1,1),\"\")","v":""},{"$f":"IF(A497<E$10,+VLOOKUP($A497,Data!A:B,2,1),\"\")","v":""},null,0,{"$error":"#VALUE!"},null,null,null,null,null,null,null,null,null,null,null,null,null,null,null,null,"","",{"$error":"#VALUE!"}]
[{"$f":"IF(A497<$E$10,+VLOOKUP($A497+1,Data!A:B,1,1),\"\")","v":""},{"$f":"IF(A498<E$10,+VLOOKUP($A498,Data!A:B,2,1),\"\")","v":""},null,0,{"$error":"#VALUE!"},null,null,null,null,null,null,null,null,null,null,null,null,null,null,null,null,"","",{"$error":"#VALUE!"}]
[{"$f":"IF(A498<$E$10,+VLOOKUP($A498+1,Data!A:B,1,1),\"\")","v":""},{"$f":"IF(A499<E$10,+VLOOKUP($A499,Data!A:B,2,1),\"\")","v":""},null,0,{"$error":"#VALUE!"},null,null,null,null,null,null,null,null,null,null,null,null,null,null,null,null,"","",{"$error":"#VALUE!"}]
[{"$f":"IF(A499<$E$10,+VLOOKUP($A499+1,Data!A:B,1,1),\"\")","v":""},{"$f":"IF(A500<E$10,+VLOOKUP($A500,Data!A:B,2,1),\"\")","v":""},null,0,{"$error":"#VALUE!"},null,null,null,null,null,null,null,null,null,null,null,null,null,null,null,null,"","",{"$error":"#VALUE!"}]
[{"$f":"IF(A500<$E$10,+VLOOKUP($A500+1,Data!A:B,1,1),\"\")","v":""},{"$f":"IF(A501<E$10,+VLOOKUP($A501,Data!A:B,2,1),\"\")","v":""},null,0,{"$error":"#VALUE!"},null,null,null,null,null,null,null,null,null,null,null,null,null,null,null,null,"","",{"$error":"#VALUE!"}]
[{"$f":"IF(A501<$E$10,+VLOOKUP($A501+1,Data!A:B,1,1),\"\")","v":""},{"$f":"IF(A502<E$10,+VLOOKUP($A502,Data!A:B,2,1),\"\")","v":""},null,0,{"$error":"#VALUE!"},null,null,null,null,null,null,null,null,null,null,null,null,null,null,null,null,"","",{"$error":"#VALUE!"}]
[{"$f":"IF(A502<$E$10,+VLOOKUP($A502+1,Data!A:B,1,1),\"\")","v":""},{"$f":"IF(A503<E$10,+VLOOKUP($A503,Data!A:B,2,1),\"\")","v":""},null,0,{"$error":"#VALUE!"},null,null,null,null,null,null,null,null,null,null,null,null,null,null,null,null,"","",{"$error":"#VALUE!"}]
[{"$f":"IF(A503<$E$10,+VLOOKUP($A503+1,Data!A:B,1,1),\"\")","v":""},{"$f":"IF(A504<E$10,+VLOOKUP($A504,Data!A:B,2,1),\"\")","v":""},null,0,{"$error":"#VALUE!"},null,null,null,null,null,null,null,null,null,null,null,null,null,null,null,null,"","",{"$error":"#VALUE!"}]
[{"$f":"IF(A504<$E$10,+VLOOKUP($A504+1,Data!A:B,1,1),\"\")","v":""},{"$f":"IF(A505<E$10,+VLOOKUP($A505,Data!A:B,2,1),\"\")","v":""},null,0,{"$error":"#VALUE!"},null,null,null,null,null,null,null,null,null,null,null,null,null,null,null,null,"","",{"$error":"#VALUE!"}]
[{"$f":"IF(A505<$E$10,+VLOOKUP($A505+1,Data!A:B,1,1),\"\")","v":""},{"$f":"IF(A506<E$10,+VLOOKUP($A506,Data!A:B,2,1),\"\")","v":""},null,0,{"$error":"#VALUE!"},null,null,null,null,null,null,null,null,null,null,null,null,null,null,null,null,"","",{"$error":"#VALUE!"}]
[{"$f":"IF(A506<$E$10,+VLOOKUP($A506+1,Data!A:B,1,1),\"\")","v":""},{"$f":"IF(A507<E$10,+VLOOKUP($A507,Data!A:B,2,1),\"\")","v":""},null,0,{"$error":"#VALUE!"},null,null,null,null,null,null,null,null,null,null,null,null,null,null,null,null,"","",{"$error":"#VALUE!"}]
[{"$f":"IF(A507<$E$10,+VLOOKUP($A507+1,Data!A:B,1,1),\"\")","v":""},{"$f":"IF(A508<E$10,+VLOOKUP($A508,Data!A:B,2,1),\"\")","v":""},null,0,{"$error":"#VALUE!"},null,null,null,null,null,null,null,null,null,null,null,null,null,null,null,null,"","",{"$error":"#VALUE!"}]
[{"$f":"IF(A508<$E$10,+VLOOKUP($A508+1,Data!A:B,1,1),\"\")","v":""},{"$f":"IF(A509<E$10,+VLOOKUP($A509,Data!A:B,2,1),\"\")","v":""},null,0,{"$error":"#VALUE!"},null,null,null,null,null,null,null,null,null,null,null,null,null,null,null,null,"","",{"$error":"#VALUE!"}]
[{"$f":"IF(A509<$E$10,+VLOOKUP($A509+1,Data!A:B,1,1),\"\")","v":""},{"$f":"IF(A510<E$10,+VLOOKUP($A510,Data!A:B,2,1),\"\")","v":""},null,0,{"$error":"#VALUE!"},null,null,null,null,null,null,null,null,null,null,null,null,null,null,null,null,"","",{"$error":"#VALUE!"}]
[{"$f":"IF(A510<$E$10,+VLOOKUP($A510+1,Data!A:B,1,1),\"\")","v":""},{"$f":"IF(A511<E$10,+VLOOKUP($A511,Data!A:B,2,1),\"\")","v":""},null,0,{"$error":"#VALUE!"},null,null,null,null,null,null,null,null,null,null,null,null,null,null,null,null,"","",{"$error":"#VALUE!"}]
[{"$f":"IF(A511<$E$10,+VLOOKUP($A511+1,Data!A:B,1,1),\"\")","v":""},{"$f":"IF(A512<E$10,+VLOOKUP($A512,Data!A:B,2,1),\"\")","v":""},null,0,{"$error":"#VALUE!"},null,null,null,null,null,null,null,null,null,null,null,null,null,null,null,null,"","",{"$error":"#VALUE!"}]
[{"$f":"IF(A512<$E$10,+VLOOKUP($A512+1,Data!A:B,1,1),\"\")","v":""},{"$f":"IF(A513<E$10,+VLOOKUP($A513,Data!A:B,2,1),\"\")","v":""},null,0,{"$error":"#VALUE!"},null,null,null,null,null,null,null,null,null,null,null,null,null,null,null,null,"","",{"$error":"#VALUE!"}]
[{"$f":"IF(A513<$E$10,+VLOOKUP($A513+1,Data!A:B,1,1),\"\")","v":""},{"$f":"IF(A514<E$10,+VLOOKUP($A514,Data!A:B,2,1),\"\")","v":""},null,0,{"$error":"#VALUE!"},null,null,null,null,null,null,null,null,null,null,null,null,null,null,null,null,"","",{"$error":"#VALUE!"}]
[{"$f":"IF(A514<$E$10,+VLOOKUP($A514+1,Data!A:B,1,1),\"\")","v":""},{"$f":"IF(A515<E$10,+VLOOKUP($A515,Data!A:B,2,1),\"\")","v":""},null,0,{"$error":"#VALUE!"},null,null,null,null,null,null,null,null,null,null,null,null,null,null,null,null,"","",{"$error":"#VALUE!"}]
[{"$f":"IF(A515<$E$10,+VLOOKUP($A515+1,Data!A:B,1,1),\"\")","v":""},{"$f":"IF(A516<E$10,+VLOOKUP($A516,Data!A:B,2,1),\"\")","v":""},null,0,{"$error":"#VALUE!"},null,null,null,null,null,null,null,null,null,null,null,null,null,null,null,null,"","",{"$error":"#VALUE!"}]
[{"$f":"IF(A516<$E$10,+VLOOKUP($A516+1,Data!A:B,1,1),\"\")","v":""},{"$f":"IF(A517<E$10,+VLOOKUP($A517,Data!A:B,2,1),\"\")","v":""},null,0,{"$error":"#VALUE!"},null,null,null,null,null,null,null,null,null,null,null,null,null,null,null,null,"","",{"$error":"#VALUE!"}]
[{"$f":"IF(A517<$E$10,+VLOOKUP($A517+1,Data!A:B,1,1),\"\")","v":""},{"$f":"IF(A518<E$10,+VLOOKUP($A518,Data!A:B,2,1),\"\")","v":""},null,0,{"$error":"#VALUE!"},null,null,null,null,null,null,null,null,null,null,null,null,null,null,null,null,"","",{"$error":"#VALUE!"}]
[{"$f":"IF(A518<$E$10,+VLOOKUP($A518+1,Data!A:B,1,1),\"\")","v":""},{"$f":"IF(A519<E$10,+VLOOKUP($A519,Data!A:B,2,1),\"\")","v":""},null,0,{"$error":"#VALUE!"},null,null,null,null,null,null,null,null,null,null,null,null,null,null,null,null,"","",{"$error":"#VALUE!"}]
[{"$f":"IF(A519<$E$10,+VLOOKUP($A519+1,Data!A:B,1,1),\"\")","v":""},{"$f":"IF(A520<E$10,+VLOOKUP($A520,Data!A:B,2,1),\"\")","v":""},null,0,{"$error":"#VALUE!"},null,null,null,null,null,null,null,null,null,null,null,null,null,null,null,null,"","",{"$error":"#VALUE!"}]
[{"$f":"IF(A520<$E$10,+VLOOKUP($A520+1,Data!A:B,1,1),\"\")","v":""},{"$f":"IF(A521<E$10,+VLOOKUP($A521,Data!A:B,2,1),\"\")","v":""},null,0,{"$error":"#VALUE!"},null,null,null,null,null,null,null,null,null,null,null,null,null,null,null,null,"","",{"$error":"#VALUE!"}]
[{"$f":"IF(A521<$E$10,+VLOOKUP($A521+1,Data!A:B,1,1),\"\")","v":""},{"$f":"IF(A522<E$10,+VLOOKUP($A522,Data!A:B,2,1),\"\")","v":""},null,0,{"$error":"#VALUE!"},null,null,null,null,null,null,null,null,null,null,null,null,null,null,null,null,"","",{"$error":"#VALUE!"}]
[{"$f":"IF(A522<$E$10,+VLOOKUP($A522+1,Data!A:B,1,1),\"\")","v":""},{"$f":"IF(A523<E$10,+VLOOKUP($A523,Data!A:B,2,1),\"\")","v":""},null,0,{"$error":"#VALUE!"},null,null,null,null,null,null,null,null,null,null,null,null,null,null,null,null,"","",{"$error":"#VALUE!"}]
[{"$f":"IF(A523<$E$10,+VLOOKUP($A523+1,Data!A:B,1,1),\"\")","v":""},{"$f":"IF(A524<E$10,+VLOOKUP($A524,Data!A:B,2,1),\"\")","v":""},null,0,{"$error":"#VALUE!"},null,null,null,null,null,null,null,null,null,null,null,null,null,null,null,null,"","",{"$error":"#VALUE!"}]
[{"$f":"IF(A524<$E$10,+VLOOKUP($A524+1,Data!A:B,1,1),\"\")","v":""},{"$f":"IF(A525<E$10,+VLOOKUP($A525,Data!A:B,2,1),\"\")","v":""},null,0,{"$error":"#VALUE!"},null,null,null,null,null,null,null,null,null,null,null,null,null,null,null,null,"","",{"$error":"#VALUE!"}]
[{"$f":"IF(A525<$E$10,+VLOOKUP($A525+1,Data!A:B,1,1),\"\")","v":""},{"$f":"IF(A526<E$10,+VLOOKUP($A526,Data!A:B,2,1),\"\")","v":""},null,0,{"$error":"#VALUE!"},null,null,null,null,null,null,null,null,null,null,null,null,null,null,null,null,"","",{"$error":"#VALUE!"}]
[{"$f":"IF(A526<$E$10,+VLOOKUP($A526+1,Data!A:B,1,1),\"\")","v":""},{"$f":"IF(A527<E$10,+VLOOKUP($A527,Data!A:B,2,1),\"\")","v":""},null,0,{"$error":"#VALUE!"},null,null,null,null,null,null,null,null,null,null,null,null,null,null,null,null,"","",{"$error":"#VALUE!"}]
[{"$f":"IF(A527<$E$10,+VLOOKUP($A527+1,Data!A:B,1,1),\"\")","v":""},{"$f":"IF(A528<E$10,+VLOOKUP($A528,Data!A:B,2,1),\"\")","v":""},null,0,{"$error":"#VALUE!"},null,null,null,null,null,null,null,null,null,null,null,null,null,null,null,null,"","",{"$error":"#VALUE!"}]
[{"$f":"IF(A528<$E$10,+VLOOKUP($A528+1,Data!A:B,1,1),\"\")","v":""},{"$f":"IF(A529<E$10,+VLOOKUP($A529,Data!A:B,2,1),\"\")","v":""},null,0,{"$error":"#VALUE!"},null,null,null,null,null,null,null,null,null,null,null,null,null,null,null,null,"","",{"$error":"#VALUE!"}]
[{"$f":"IF(A529<$E$10,+VLOOKUP($A529+1,Data!A:B,1,1),\"\")","v":""},{"$f":"IF(A530<E$10,+VLOOKUP($A530,Data!A:B,2,1),\"\")","v":""},null,0,{"$error":"#VALUE!"},null,null,null,null,null,null,null,null,null,null,null,null,null,null,null,null,"","",{"$error":"#VALUE!"}]
[{"$f":"IF(A530<$E$10,+VLOOKUP($A530+1,Data!A:B,1,1),\"\")","v":""},{"$f":"IF(A531<E$10,+VLOOKUP($A531,Data!A:B,2,1),\"\")","v":""},null,0,{"$error":"#VALUE!"},null,null,null,null,null,null,null,null,null,null,null,null,null,null,null,null,"","",{"$error":"#VALUE!"}]
[{"$f":"IF(A531<$E$10,+VLOOKUP($A531+1,Data!A:B,1,1),\"\")","v":""},{"$f":"IF(A532<E$10,+VLOOKUP($A532,Data!A:B,2,1),\"\")","v":""},null,0,{"$error":"#VALUE!"},null,null,null,null,null,null,null,null,null,null,null,null,null,null,null,null,"","",{"$error":"#VALUE!"}]
[{"$f":"IF(A532<$E$10,+VLOOKUP($A532+1,Data!A:B,1,1),\"\")","v":""},{"$f":"IF(A533<E$10,+VLOOKUP($A533,Data!A:B,2,1),\"\")","v":""},null,0,{"$error":"#VALUE!"},null,null,null,null,null,null,null,null,null,null,null,null,null,null,null,null,"","",{"$error":"#VALUE!"}]
[{"$f":"IF(A533<$E$10,+VLOOKUP($A533+1,Data!A:B,1,1),\"\")","v":""},{"$f":"IF(A534<E$10,+VLOOKUP($A534,Data!A:B,2,1),\"\")","v":""},null,0,{"$error":"#VALUE!"},null,null,null,null,null,null,null,null,null,null,null,null,null,null,null,null,"","",{"$error":"#VALUE!"}]
[{"$f":"IF(A534<$E$10,+VLOOKUP($A534+1,Data!A:B,1,1),\"\")","v":""},{"$f":"IF(A535<E$10,+VLOOKUP($A535,Data!A:B,2,1),\"\")","v":""},null,0,{"$error":"#VALUE!"},null,null,null,null,null,null,null,null,null,null,null,null,null,null,null,null,"","",{"$error":"#VALUE!"}]
[{"$f":"IF(A535<$E$10,+VLOOKUP($A535+1,Data!A:B,1,1),\"\")","v":""},{"$f":"IF(A536<E$10,+VLOOKUP($A536,Data!A:B,2,1),\"\")","v":""},null,0,{"$error":"#VALUE!"},null,null,null,null,null,null,null,null,null,null,null,null,null,null,null,null,"","",{"$error":"#VALUE!"}]
[{"$f":"IF(A536<$E$10,+VLOOKUP($A536+1,Data!A:B,1,1),\"\")","v":""},{"$f":"IF(A537<E$10,+VLOOKUP($A537,Data!A:B,2,1),\"\")","v":""},null,0,{"$error":"#VALUE!"},null,null,null,null,null,null,null,null,null,null,null,null,null,null,null,null,"","",{"$error":"#VALUE!"}]
[{"$f":"IF(A537<$E$10,+VLOOKUP($A537+1,Data!A:B,1,1),\"\")","v":""},{"$f":"IF(A538<E$10,+VLOOKUP($A538,Data!A:B,2,1),\"\")","v":""},null,0,{"$error":"#VALUE!"},null,null,null,null,null,null,null,null,null,null,null,null,null,null,null,null,"","",{"$error":"#VALUE!"}]
[{"$f":"IF(A538<$E$10,+VLOOKUP($A538+1,Data!A:B,1,1),\"\")","v":""},{"$f":"IF(A539<E$10,+VLOOKUP($A539,Data!A:B,2,1),\"\")","v":""},null,0,{"$error":"#VALUE!"},null,null,null,null,null,null,null,null,null,null,null,null,null,null,null,null,"","",{"$error":"#VALUE!"}]
[{"$f":"IF(A539<$E$10,+VLOOKUP($A539+1,Data!A:B,1,1),\"\")","v":""},{"$f":"IF(A540<E$10,+VLOOKUP($A540,Data!A:B,2,1),\"\")","v":""},null,0,{"$error":"#VALUE!"},null,null,null,null,null,null,null,null,null,null,null,null,null,null,null,null,"","",{"$error":"#VALUE!"}]
[{"$f":"IF(A540<$E$10,+VLOOKUP($A540+1,Data!A:B,1,1),\"\")","v":""},{"$f":"IF(A541<E$10,+VLOOKUP($A541,Data!A:B,2,1),\"\")","v":""},null,0,{"$error":"#VALUE!"},null,null,null,null,null,null,null,null,null,null,null,null,null,null,null,null,"","",{"$error":"#VALUE!"}]
[{"$f":"IF(A541<$E$10,+VLOOKUP($A541+1,Data!A:B,1,1),\"\")","v":""},{"$f":"IF(A542<E$10,+VLOOKUP($A542,Data!A:B,2,1),\"\")","v":""},null,0,{"$error":"#VALUE!"},null,null,null,null,null,null,null,null,null,null,null,null,null,null,null,null,"","",{"$error":"#VALUE!"}]
[{"$f":"IF(A542<$E$10,+VLOOKUP($A542+1,Data!A:B,1,1),\"\")","v":""},{"$f":"IF(A543<E$10,+VLOOKUP($A543,Data!A:B,2,1),\"\")","v":""},null,0,{"$error":"#VALUE!"},null,null,null,null,null,null,null,null,null,null,null,null,null,null,null,null,"","",{"$error":"#VALUE!"}]
[{"$f":"IF(A543<$E$10,+VLOOKUP($A543+1,Data!A:B,1,1),\"\")","v":""},{"$f":"IF(A544<E$10,+VLOOKUP($A544,Data!A:B,2,1),\"\")","v":""},null,0,{"$error":"#VALUE!"},null,null,null,null,null,null,null,null,null,null,null,null,null,null,null,null,"","",{"$error":"#VALUE!"}]
[{"$f":"IF(A544<$E$10,+VLOOKUP($A544+1,Data!A:B,1,1),\"\")","v":""},{"$f":"IF(A545<E$10,+VLOOKUP($A545,Data!A:B,2,1),\"\")","v":""},null,0,{"$error":"#VALUE!"},null,null,null,null,null,null,null,null,null,null,null,null,null,null,null,null,"","",{"$error":"#VALUE!"}]
[{"$f":"IF(A545<$E$10,+VLOOKUP($A545+1,Data!A:B,1,1),\"\")","v":""},{"$f":"IF(A546<E$10,+VLOOKUP($A546,Data!A:B,2,1),\"\")","v":""},null,0,{"$error":"#VALUE!"},null,null,null,null,null,null,null,null,null,null,null,null,null,null,null,null,"","",{"$error":"#VALUE!"}]
[{"$f":"IF(A546<$E$10,+VLOOKUP($A546+1,Data!A:B,1,1),\"\")","v":""},{"$f":"IF(A547<E$10,+VLOOKUP($A547,Data!A:B,2,1),\"\")","v":""},null,{"$f":"+IF(AND(A547<$H$9,A547>$H$8),B547-X547,0)","v":0},{"$f":"+D547/X547","v":{"$error":"#VALUE!"}},null,null,null,null,null,null,null,null,null,null,null,null,null,null,null,null,{"$f":"+IF(AND($A547>$H$6,$A547<$H$7),$B547,\"\")","v":""},{"$f":"+IF(AND($A547>$H$10,$A547<$H$11),$B547,\"\")","v":""},{"$f":"+$G$15+(A547-$G$14)*$H$16","v":{"$error":"#VALUE!"}}]
[{"$f":"IF(A547<$E$10,+VLOOKUP($A547+1,Data!A:B,1,1),\"\")","v":""},{"$f":"IF(A548<E$10,+VLOOKUP($A548,Data!A:B,2,1),\"\")","v":""},null,0,{"$error":"#VALUE!"},null,null,null,null,null,null,null,null,null,null,null,null,null,null,null,null,"","",{"$error":"#VALUE!"}]
[{"$f":"IF(A548<$E$10,+VLOOKUP($A548+1,Data!A:B,1,1),\"\")","v":""},{"$f":"IF(A549<E$10,+VLOOKUP($A549,Data!A:B,2,1),\"\")","v":""},null,0,{"$error":"#VALUE!"},null,null,null,null,null,null,null,null,null,null,null,null,null,null,null,null,"","",{"$error":"#VALUE!"}]
[{"$f":"IF(A549<$E$10,+VLOOKUP($A549+1,Data!A:B,1,1),\"\")","v":""},{"$f":"IF(A550<E$10,+VLOOKUP($A550,Data!A:B,2,1),\"\")","v":""},null,0,{"$error":"#VALUE!"},null,null,null,null,null,null,null,null,null,null,null,null,null,null,null,null,"","",{"$error":"#VALUE!"}]
[{"$f":"IF(A550<$E$10,+VLOOKUP($A550+1,Data!A:B,1,1),\"\")","v":""},{"$f":"IF(A551<E$10,+VLOOKUP($A551,Data!A:B,2,1),\"\")","v":""},null,0,{"$error":"#VALUE!"},null,null,null,null,null,null,null,null,null,null,null,null,null,null,null,null,"","",{"$error":"#VALUE!"}]
[{"$f":"IF(A551<$E$10,+VLOOKUP($A551+1,Data!A:B,1,1),\"\")","v":""},{"$f":"IF(A552<E$10,+VLOOKUP($A552,Data!A:B,2,1),\"\")","v":""},null,0,{"$error":"#VALUE!"},null,null,null,null,null,null,null,null,null,null,null,null,null,null,null,null,"","",{"$error":"#VALUE!"}]
[{"$f":"IF(A552<$E$10,+VLOOKUP($A552+1,Data!A:B,1,1),\"\")","v":""},{"$f":"IF(A553<E$10,+VLOOKUP($A553,Data!A:B,2,1),\"\")","v":""},null,0,{"$error":"#VALUE!"},null,null,null,null,null,null,null,null,null,null,null,null,null,null,null,null,"","",{"$error":"#VALUE!"}]
[{"$f":"IF(A553<$E$10,+VLOOKUP($A553+1,Data!A:B,1,1),\"\")","v":""},{"$f":"IF(A554<E$10,+VLOOKUP($A554,Data!A:B,2,1),\"\")","v":""},null,0,{"$error":"#VALUE!"},null,null,null,null,null,null,null,null,null,null,null,null,null,null,null,null,"","",{"$error":"#VALUE!"}]
[{"$f":"IF(A554<$E$10,+VLOOKUP($A554+1,Data!A:B,1,1),\"\")","v":""},{"$f":"IF(A555<E$10,+VLOOKUP($A555,Data!A:B,2,1),\"\")","v":""},null,0,{"$error":"#VALUE!"},null,null,null,null,null,null,null,null,null,null,null,null,null,null,null,null,"","",{"$error":"#VALUE!"}]
[{"$f":"IF(A555<$E$10,+VLOOKUP($A555+1,Data!A:B,1,1),\"\")","v":""},{"$f":"IF(A556<E$10,+VLOOKUP($A556,Data!A:B,2,1),\"\")","v":""},null,0,{"$error":"#VALUE!"},null,null,null,null,null,null,null,null,null,null,null,null,null,null,null,null,"","",{"$error":"#VALUE!"}]
[{"$f":"IF(A556<$E$10,+VLOOKUP($A556+1,Data!A:B,1,1),\"\")","v":""},{"$f":"IF(A557<E$10,+VLOOKUP($A557,Data!A:B,2,1),\"\")","v":""},null,0,{"$error":"#VALUE!"},null,null,null,null,null,null,null,null,null,null,null,null,null,null,null,null,"","",{"$error":"#VALUE!"}]
[{"$f":"IF(A557<$E$10,+VLOOKUP($A557+1,Data!A:B,1,1),\"\")","v":""},{"$f":"IF(A558<E$10,+VLOOKUP($A558,Data!A:B,2,1),\"\")","v":""},null,0,{"$error":"#VALUE!"},null,null,null,null,null,null,null,null,null,null,null,null,null,null,null,null,"","",{"$error":"#VALUE!"}]
[{"$f":"IF(A558<$E$10,+VLOOKUP($A558+1,Data!A:B,1,1),\"\")","v":""},{"$f":"IF(A559<E$10,+VLOOKUP($A559,Data!A:B,2,1),\"\")","v":""},null,0,{"$error":"#VALUE!"},null,null,null,null,null,null,null,null,null,null,null,null,null,null,null,null,"","",{"$error":"#VALUE!"}]
[{"$f":"IF(A559<$E$10,+VLOOKUP($A559+1,Data!A:B,1,1),\"\")","v":""},{"$f":"IF(A560<E$10,+VLOOKUP($A560,Data!A:B,2,1),\"\")","v":""},null,0,{"$error":"#VALUE!"},null,null,null,null,null,null,null,null,null,null,null,null,null,null,null,null,"","",{"$error":"#VALUE!"}]
[{"$f":"IF(A560<$E$10,+VLOOKUP($A560+1,Data!A:B,1,1),\"\")","v":""},{"$f":"IF(A561<E$10,+VLOOKUP($A561,Data!A:B,2,1),\"\")","v":""},null,0,{"$error":"#VALUE!"},null,null,null,null,null,null,null,null,null,null,null,null,null,null,null,null,"","",{"$error":"#VALUE!"}]
[{"$f":"IF(A561<$E$10,+VLOOKUP($A561+1,Data!A:B,1,1),\"\")","v":""},{"$f":"IF(A562<E$10,+VLOOKUP($A562,Data!A:B,2,1),\"\")","v":""},null,0,{"$error":"#VALUE!"},null,null,null,null,null,null,null,null,null,null,null,null,null,null,null,null,"","",{"$error":"#VALUE!"}]
[{"$f":"IF(A562<$E$10,+VLOOKUP($A562+1,Data!A:B,1,1),\"\")","v":""},{"$f":"IF(A563<E$10,+VLOOKUP($A563,Data!A:B,2,1),\"\")","v":""},null,0,{"$error":"#VALUE!"},null,null,null,null,null,null,null,null,null,null,null,null,null,null,null,null,"","",{"$error":"#VALUE!"}]
[{"$f":"IF(A563<$E$10,+VLOOKUP($A563+1,Data!A:B,1,1),\"\")","v":""},{"$f":"IF(A564<E$10,+VLOOKUP($A564,Data!A:B,2,1),\"\")","v":""},null,0,{"$error":"#VALUE!"},null,null,null,null,null,null,null,null,null,null,null,null,null,null,null,null,"","",{"$error":"#VALUE!"}]
[{"$f":"IF(A564<$E$10,+VLOOKUP($A564+1,Data!A:B,1,1),\"\")","v":""},{"$f":"IF(A565<E$10,+VLOOKUP($A565,Data!A:B,2,1),\"\")","v":""},null,0,{"$error":"#VALUE!"},null,null,null,null,null,null,null,null,null,null,null,null,null,null,null,null,"","",{"$error":"#VALUE!"}]
[{"$f":"IF(A565<$E$10,+VLOOKUP($A565+1,Data!A:B,1,1),\"\")","v":""},{"$f":"IF(A566<E$10,+VLOOKUP($A566,Data!A:B,2,1),\"\")","v":""},null,0,{"$error":"#VALUE!"},null,null,null,null,null,null,null,null,null,null,null,null,null,null,null,null,"","",{"$error":"#VALUE!"}]
[{"$f":"IF(A566<$E$10,+VLOOKUP($A566+1,Data!A:B,1,1),\"\")","v":""},{"$f":"IF(A567<E$10,+VLOOKUP($A567,Data!A:B,2,1),\"\")","v":""},null,0,{"$error":"#VALUE!"},null,null,null,null,null,null,null,null,null,null,null,null,null,null,null,null,"","",{"$error":"#VALUE!"}]
[{"$f":"IF(A567<$E$10,+VLOOKUP($A567+1,Data!A:B,1,1),\"\")","v":""},{"$f":"IF(A568<E$10,+VLOOKUP($A568,Data!A:B,2,1),\"\")","v":""},null,0,{"$error":"#VALUE!"},null,null,null,null,null,null,null,null,null,null,null,null,null,null,null,null,"","",{"$error":"#VALUE!"}]
[{"$f":"IF(A568<$E$10,+VLOOKUP($A568+1,Data!A:B,1,1),\"\")","v":""},{"$f":"IF(A569<E$10,+VLOOKUP($A569,Data!A:B,2,1),\"\")","v":""},null,0,{"$error":"#VALUE!"},null,null,null,null,null,null,null,null,null,null,null,null,null,null,null,null,"","",{"$error":"#VALUE!"}]
[{"$f":"IF(A569<$E$10,+VLOOKUP($A569+1,Data!A:B,1,1),\"\")","v":""},{"$f":"IF(A570<E$10,+VLOOKUP($A570,Data!A:B,2,1),\"\")","v":""},null,0,{"$error":"#VALUE!"},null,null,null,null,null,null,null,null,null,null,null,null,null,null,null,null,"","",{"$error":"#VALUE!"}]
[{"$f":"IF(A570<$E$10,+VLOOKUP($A570+1,Data!A:B,1,1),\"\")","v":""},{"$f":"IF(A571<E$10,+VLOOKUP($A571,Data!A:B,2,1),\"\")","v":""},null,0,{"$error":"#VALUE!"},null,null,null,null,null,null,null,null,null,null,null,null,null,null,null,null,"","",{"$error":"#VALUE!"}]
[{"$f":"IF(A571<$E$10,+VLOOKUP($A571+1,Data!A:B,1,1),\"\")","v":""},{"$f":"IF(A572<E$10,+VLOOKUP($A572,Data!A:B,2,1),\"\")","v":""},null,0,{"$error":"#VALUE!"},null,null,null,null,null,null,null,null,null,null,null,null,null,null,null,null,"","",{"$error":"#VALUE!"}]
[{"$f":"IF(A572<$E$10,+VLOOKUP($A572+1,Data!A:B,1,1),\"\")","v":""},{"$f":"IF(A573<E$10,+VLOOKUP($A573,Data!A:B,2,1),\"\")","v":""},null,0,{"$error":"#VALUE!"},null,null,null,null,null,null,null,null,null,null,null,null,null,null,null,null,"","",{"$error":"#VALUE!"}]
[{"$f":"IF(A573<$E$10,+VLOOKUP($A573+1,Data!A:B,1,1),\"\")","v":""},{"$f":"IF(A574<E$10,+VLOOKUP($A574,Data!A:B,2,1),\"\")","v":""},null,0,{"$error":"#VALUE!"},null,null,null,null,null,null,null,null,null,null,null,null,null,null,null,null,"","",{"$error":"#VALUE!"}]
[{"$f":"IF(A574<$E$10,+VLOOKUP($A574+1,Data!A:B,1,1),\"\")","v":""},{"$f":"IF(A575<E$10,+VLOOKUP($A575,Data!A:B,2,1),\"\")","v":""},null,0,{"$error":"#VALUE!"},null,null,null,null,null,null,null,null,null,null,null,null,null,null,null,null,"","",{"$error":"#VALUE!"}]
[{"$f":"IF(A575<$E$10,+VLOOKUP($A575+1,Data!A:B,1,1),\"\")","v":""},{"$f":"IF(A576<E$10,+VLOOKUP($A576,Data!A:B,2,1),\"\")","v":""},null,0,{"$error":"#VALUE!"},null,null,null,null,null,null,null,null,null,null,null,null,null,null,null,null,"","",{"$error":"#VALUE!"}]
[{"$f":"IF(A576<$E$10,+VLOOKUP($A576+1,Data!A:B,1,1),\"\")","v":""},{"$f":"IF(A577<E$10,+VLOOKUP($A577,Data!A:B,2,1),\"\")","v":""},null,0,{"$error":"#VALUE!"},null,null,null,null,null,null,null,null,null,null,null,null,null,null,null,null,"","",{"$error":"#VALUE!"}]
[{"$f":"IF(A577<$E$10,+VLOOKUP($A577+1,Data!A:B,1,1),\"\")","v":""},{"$f":"IF(A578<E$10,+VLOOKUP($A578,Data!A:B,2,1),\"\")","v":""},null,0,{"$error":"#VALUE!"},null,null,null,null,null,null,null,null,null,null,null,null,null,null,null,null,"","",{"$error":"#VALUE!"}]
[{"$f":"IF(A578<$E$10,+VLOOKUP($A578+1,Data!A:B,1,1),\"\")","v":""},{"$f":"IF(A579<E$10,+VLOOKUP($A579,Data!A:B,2,1),\"\")","v":""},null,0,{"$error":"#VALUE!"},null,null,null,null,null,null,null,null,null,null,null,null,null,null,null,null,"","",{"$error":"#VALUE!"}]
[{"$f":"IF(A579<$E$10,+VLOOKUP($A579+1,Data!A:B,1,1),\"\")","v":""},{"$f":"IF(A580<E$10,+VLOOKUP($A580,Data!A:B,2,1),\"\")","v":""},null,0,{"$error":"#VALUE!"},null,null,null,null,null,null,null,null,null,null,null,null,null,null,null,null,"","",{"$error":"#VALUE!"}]
[{"$f":"IF(A580<$E$10,+VLOOKUP($A580+1,Data!A:B,1,1),\"\")","v":""},{"$f":"IF(A581<E$10,+VLOOKUP($A581,Data!A:B,2,1),\"\")","v":""},null,0,{"$error":"#VALUE!"},null,null,null,null,null,null,null,null,null,null,null,null,null,null,null,null,"","",{"$error":"#VALUE!"}]
[{"$f":"IF(A581<$E$10,+VLOOKUP($A581+1,Data!A:B,1,1),\"\")","v":""},{"$f":"IF(A582<E$10,+VLOOKUP($A582,Data!A:B,2,1),\"\")","v":""},null,0,{"$error":"#VALUE!"},null,null,null,null,null,null,null,null,null,null,null,null,null,null,null,null,"","",{"$error":"#VALUE!"}]
[{"$f":"IF(A582<$E$10,+VLOOKUP($A582+1,Data!A:B,1,1),\"\")","v":""},{"$f":"IF(A583<E$10,+VLOOKUP($A583,Data!A:B,2,1),\"\")","v":""},null,0,{"$error":"#VALUE!"},null,null,null,null,null,null,null,null,null,null,null,null,null,null,null,null,"","",{"$error":"#VALUE!"}]
[{"$f":"IF(A583<$E$10,+VLOOKUP($A583+1,Data!A:B,1,1),\"\")","v":""},{"$f":"IF(A584<E$10,+VLOOKUP($A584,Data!A:B,2,1),\"\")","v":""},null,0,{"$error":"#VALUE!"},null,null,null,null,null,null,null,null,null,null,null,null,null,null,null,null,"","",{"$error":"#VALUE!"}]
[{"$f":"IF(A584<$E$10,+VLOOKUP($A584+1,Data!A:B,1,1),\"\")","v":""},{"$f":"IF(A585<E$10,+VLOOKUP($A585,Data!A:B,2,1),\"\")","v":""},null,0,{"$error":"#VALUE!"},null,null,null,null,null,null,null,null,null,null,null,null,null,null,null,null,"","",{"$error":"#VALUE!"}]
[{"$f":"IF(A585<$E$10,+VLOOKUP($A585+1,Data!A:B,1,1),\"\")","v":""},{"$f":"IF(A586<E$10,+VLOOKUP($A586,Data!A:B,2,1),\"\")","v":""},null,0,{"$error":"#VALUE!"},null,null,null,null,null,null,null,null,null,null,null,null,null,null,null,null,"","",{"$error":"#VALUE!"}]
[{"$f":"IF(A586<$E$10,+VLOOKUP($A586+1,Data!A:B,1,1),\"\")","v":""},{"$f":"IF(A587<E$10,+VLOOKUP($A587,Data!A:B,2,1),\"\")","v":""},null,0,{"$error":"#VALUE!"},null,null,null,null,null,null,null,null,null,null,null,null,null,null,null,null,"","",{"$error":"#VALUE!"}]
[{"$f":"IF(A587<$E$10,+VLOOKUP($A587+1,Data!A:B,1,1),\"\")","v":""},{"$f":"IF(A588<E$10,+VLOOKUP($A588,Data!A:B,2,1),\"\")","v":""},null,0,{"$error":"#VALUE!"},null,null,null,null,null,null,null,null,null,null,null,null,null,null,null,null,"","",{"$error":"#VALUE!"}]
[{"$f":"IF(A588<$E$10,+VLOOKUP($A588+1,Data!A:B,1,1),\"\")","v":""},{"$f":"IF(A589<E$10,+VLOOKUP($A589,Data!A:B,2,1),\"\")","v":""},null,0,{"$error":"#VALUE!"},null,null,null,null,null,null,null,null,null,null,null,null,null,null,null,null,"","",{"$error":"#VALUE!"}]
[{"$f":"IF(A589<$E$10,+VLOOKUP($A589+1,Data!A:B,1,1),\"\")","v":""},{"$f":"IF(A590<E$10,+VLOOKUP($A590,Data!A:B,2,1),\"\")","v":""},null,0,{"$error":"#VALUE!"},null,null,null,null,null,null,null,null,null,null,null,null,null,null,null,null,"","",{"$error":"#VALUE!"}]
[{"$f":"IF(A590<$E$10,+VLOOKUP($A590+1,Data!A:B,1,1),\"\")","v":""},{"$f":"IF(A591<E$10,+VLOOKUP($A591,Data!A:B,2,1),\"\")","v":""},null,0,{"$error":"#VALUE!"},null,null,null,null,null,null,null,null,null,null,null,null,null,null,null,null,"","",{"$error":"#VALUE!"}]
[{"$f":"IF(A591<$E$10,+VLOOKUP($A591+1,Data!A:B,1,1),\"\")","v":""},{"$f":"IF(A592<E$10,+VLOOKUP($A592,Data!A:B,2,1),\"\")","v":""},null,0,{"$error":"#VALUE!"},null,null,null,null,null,null,null,null,null,null,null,null,null,null,null,null,"","",{"$error":"#VALUE!"}]
[{"$f":"IF(A592<$E$10,+VLOOKUP($A592+1,Data!A:B,1,1),\"\")","v":""},{"$f":"IF(A593<E$10,+VLOOKUP($A593,Data!A:B,2,1),\"\")","v":""},null,0,{"$error":"#VALUE!"},null,null,null,null,null,null,null,null,null,null,null,null,null,null,null,null,"","",{"$error":"#VALUE!"}]
[{"$f":"IF(A593<$E$10,+VLOOKUP($A593+1,Data!A:B,1,1),\"\")","v":""},{"$f":"IF(A594<E$10,+VLOOKUP($A594,Data!A:B,2,1),\"\")","v":""},null,0,{"$error":"#VALUE!"},null,null,null,null,null,null,null,null,null,null,null,null,null,null,null,null,"","",{"$error":"#VALUE!"}]
[{"$f":"IF(A594<$E$10,+VLOOKUP($A594+1,Data!A:B,1,1),\"\")","v":""},{"$f":"IF(A595<E$10,+VLOOKUP($A595,Data!A:B,2,1),\"\")","v":""},null,0,{"$error":"#VALUE!"},null,null,null,null,null,null,null,null,null,null,null,null,null,null,null,null,"","",{"$error":"#VALUE!"}]
[{"$f":"IF(A595<$E$10,+VLOOKUP($A595+1,Data!A:B,1,1),\"\")","v":""},{"$f":"IF(A596<E$10,+VLOOKUP($A596,Data!A:B,2,1),\"\")","v":""},null,0,{"$error":"#VALUE!"},null,null,null,null,null,null,null,null,null,null,null,null,null,null,null,null,"","",{"$error":"#VALUE!"}]
[{"$f":"IF(A596<$E$10,+VLOOKUP($A596+1,Data!A:B,1,1),\"\")","v":""},{"$f":"IF(A597<E$10,+VLOOKUP($A597,Data!A:B,2,1),\"\")","v":""},null,0,{"$error":"#VALUE!"},null,null,null,null,null,null,null,null,null,null,null,null,null,null,null,null,"","",{"$error":"#VALUE!"}]
[{"$f":"IF(A597<$E$10,+VLOOKUP($A597+1,Data!A:B,1,1),\"\")","v":""},{"$f":"IF(A598<E$10,+VLOOKUP($A598,Data!A:B,2,1),\"\")","v":""},null,0,{"$error":"#VALUE!"},null,null,null,null,null,null,null,null,null,null,null,null,null,null,null,null,"","",{"$error":"#VALUE!"}]
[{"$f":"IF(A598<$E$10,+VLOOKUP($A598+1,Data!A:B,1,1),\"\")","v":""},{"$f":"IF(A599<E$10,+VLOOKUP($A599,Data!A:B,2,1),\"\")","v":""},null,0,{"$error":"#VALUE!"},null,null,null,null,null,null,null,null,null,null,null,null,null,null,null,null,"","",{"$error":"#VALUE!"}]
[{"$f":"IF(A599<$E$10,+VLOOKUP($A599+1,Data!A:B,1,1),\"\")","v":""},{"$f":"IF(A600<E$10,+VLOOKUP($A600,Data!A:B,2,1),\"\")","v":""},null,0,{"$error":"#VALUE!"},null,null,null,null,null,null,null,null,null,null,null,null,null,null,null,null,"","",{"$error":"#VALUE!"}]
[{"$f":"IF(A600<$E$10,+VLOOKUP($A600+1,Data!A:B,1,1),\"\")","v":""},{"$f":"IF(A601<E$10,+VLOOKUP($A601,Data!A:B,2,1),\"\")","v":""},null,0,{"$error":"#VALUE!"},null,null,null,null,null,null,null,null,null,null,null,null,null,null,null,null,"","",{"$error":"#VALUE!"}]
[{"$f":"IF(A601<$E$10,+VLOOKUP($A601+1,Data!A:B,1,1),\"\")","v":""},{"$f":"IF(A602<E$10,+VLOOKUP($A602,Data!A:B,2,1),\"\")","v":""},null,0,{"$error":"#VALUE!"},null,null,null,null,null,null,null,null,null,null,null,null,null,null,null,null,"","",{"$error":"#VALUE!"}]
[{"$f":"IF(A602<$E$10,+VLOOKUP($A602+1,Data!A:B,1,1),\"\")","v":""},{"$f":"IF(A603<E$10,+VLOOKUP($A603,Data!A:B,2,1),\"\")","v":""},null,0,{"$error":"#VALUE!"},null,null,null,null,null,null,null,null,null,null,null,null,null,null,null,null,"","",{"$error":"#VALUE!"}]
[{"$f":"IF(A603<$E$10,+VLOOKUP($A603+1,Data!A:B,1,1),\"\")","v":""},{"$f":"IF(A604<E$10,+VLOOKUP($A604,Data!A:B,2,1),\"\")","v":""},null,0,{"$error":"#VALUE!"},null,null,null,null,null,null,null,null,null,null,null,null,null,null,null,null,"","",{"$error":"#VALUE!"}]
[{"$f":"IF(A604<$E$10,+VLOOKUP($A604+1,Data!A:B,1,1),\"\")","v":""},{"$f":"IF(A605<E$10,+VLOOKUP($A605,Data!A:B,2,1),\"\")","v":""},null,0,{"$error":"#VALUE!"},null,null,null,null,null,null,null,null,null,null,null,null,null,null,null,null,"","",{"$error":"#VALUE!"}]
[{"$f":"IF(A605<$E$10,+VLOOKUP($A605+1,Data!A:B,1,1),\"\")","v":""},{"$f":"IF(A606<E$10,+VLOOKUP($A606,Data!A:B,2,1),\"\")","v":""},null,0,{"$error":"#VALUE!"},null,null,null,null,null,null,null,null,null,null,null,null,null,null,null,null,"","",{"$error":"#VALUE!"}]
[{"$f":"IF(A606<$E$10,+VLOOKUP($A606+1,Data!A:B,1,1),\"\")","v":""},{"$f":"IF(A607<E$10,+VLOOKUP($A607,Data!A:B,2,1),\"\")","v":""},null,0,{"$error":"#VALUE!"},null,null,null,null,null,null,null,null,null,null,null,null,null,null,null,null,"","",{"$error":"#VALUE!"}]
[{"$f":"IF(A607<$E$10,+VLOOKUP($A607+1,Data!A:B,1,1),\"\")","v":""},{"$f":"IF(A608<E$10,+VLOOKUP($A608,Data!A:B,2,1),\"\")","v":""},null,0,{"$error":"#VALUE!"},null,null,null,null,null,null,null,null,null,null,null,null,null,null,null,null,"","",{"$error":"#VALUE!"}]
[{"$f":"IF(A608<$E$10,+VLOOKUP($A608+1,Data!A:B,1,1),\"\")","v":""},{"$f":"IF(A609<E$10,+VLOOKUP($A609,Data!A:B,2,1),\"\")","v":""},null,0,{"$error":"#VALUE!"},null,null,null,null,null,null,null,null,null,null,null,null,null,null,null,null,"","",{"$error":"#VALUE!"}]
[{"$f":"IF(A609<$E$10,+VLOOKUP($A609+1,Data!A:B,1,1),\"\")","v":""},{"$f":"IF(A610<E$10,+VLOOKUP($A610,Data!A:B,2,1),\"\")","v":""},null,0,{"$error":"#VALUE!"},null,null,null,null,null,null,null,null,null,null,null,null,null,null,null,null,"","",{"$error":"#VALUE!"}]
[{"$f":"IF(A610<$E$10,+VLOOKUP($A610+1,Data!A:B,1,1),\"\")","v":""},{"$f":"IF(A611<E$10,+VLOOKUP($A611,Data!A:B,2,1),\"\")","v":""},null,{"$f":"+IF(AND(A611<$H$9,A611>$H$8),B611-X611,0)","v":0},{"$f":"+D611/X611","v":{"$error":"#VALUE!"}},null,null,null,null,null,null,null,null,null,null,null,null,null,null,null,null,{"$f":"+IF(AND($A611>$H$6,$A611<$H$7),$B611,\"\")","v":""},{"$f":"+IF(AND($A611>$H$10,$A611<$H$11),$B611,\"\")","v":""},{"$f":"+$G$15+(A611-$G$14)*$H$16","v":{"$error":"#VALUE!"}}]
[{"$f":"IF(A611<$E$10,+VLOOKUP($A611+1,Data!A:B,1,1),\"\")","v":""},{"$f":"IF(A612<E$10,+VLOOKUP($A612,Data!A:B,2,1),\"\")","v":""},null,0,{"$error":"#VALUE!"},null,null,null,null,null,null,null,null,null,null,null,null,null,null,null,null,"","",{"$error":"#VALUE!"}]
[{"$f":"IF(A612<$E$10,+VLOOKUP($A612+1,Data!A:B,1,1),\"\")","v":""},{"$f":"IF(A613<E$10,+VLOOKUP($A613,Data!A:B,2,1),\"\")","v":""},null,0,{"$error":"#VALUE!"},null,null,null,null,null,null,null,null,null,null,null,null,null,null,null,null,"","",{"$error":"#VALUE!"}]
[{"$f":"IF(A613<$E$10,+VLOOKUP($A613+1,Data!A:B,1,1),\"\")","v":""},{"$f":"IF(A614<E$10,+VLOOKUP($A614,Data!A:B,2,1),\"\")","v":""},null,0,{"$error":"#VALUE!"},null,null,null,null,null,null,null,null,null,null,null,null,null,null,null,null,"","",{"$error":"#VALUE!"}]
[{"$f":"IF(A614<$E$10,+VLOOKUP($A614+1,Data!A:B,1,1),\"\")","v":""},{"$f":"IF(A615<E$10,+VLOOKUP($A615,Data!A:B,2,1),\"\")","v":""},null,0,{"$error":"#VALUE!"},null,null,null,null,null,null,null,null,null,null,null,null,null,null,null,null,"","",{"$error":"#VALUE!"}]
[{"$f":"IF(A615<$E$10,+VLOOKUP($A615+1,Data!A:B,1,1),\"\")","v":""},{"$f":"IF(A616<E$10,+VLOOKUP($A616,Data!A:B,2,1),\"\")","v":""},null,0,{"$error":"#VALUE!"},null,null,null,null,null,null,null,null,null,null,null,null,null,null,null,null,"","",{"$error":"#VALUE!"}]
[{"$f":"IF(A616<$E$10,+VLOOKUP($A616+1,Data!A:B,1,1),\"\")","v":""},{"$f":"IF(A617<E$10,+VLOOKUP($A617,Data!A:B,2,1),\"\")","v":""},null,0,{"$error":"#VALUE!"},null,null,null,null,null,null,null,null,null,null,null,null,null,null,null,null,"","",{"$error":"#VALUE!"}]
[{"$f":"IF(A617<$E$10,+VLOOKUP($A617+1,Data!A:B,1,1),\"\")","v":""},{"$f":"IF(A618<E$10,+VLOOKUP($A618,Data!A:B,2,1),\"\")","v":""},null,0,{"$error":"#VALUE!"},null,null,null,null,null,null,null,null,null,null,null,null,null,null,null,null,"","",{"$error":"#VALUE!"}]
[{"$f":"IF(A618<$E$10,+VLOOKUP($A618+1,Data!A:B,1,1),\"\")","v":""},{"$f":"IF(A619<E$10,+VLOOKUP($A619,Data!A:B,2,1),\"\")","v":""},null,0,{"$error":"#VALUE!"},null,null,null,null,null,null,null,null,null,null,null,null,null,null,null,null,"","",{"$error":"#VALUE!"}]
[{"$f":"IF(A619<$E$10,+VLOOKUP($A619+1,Data!A:B,1,1),\"\")","v":""},{"$f":"IF(A620<E$10,+VLOOKUP($A620,Data!A:B,2,1),\"\")","v":""},null,0,{"$error":"#VALUE!"},null,null,null,null,null,null,null,null,null,null,null,null,null,null,null,null,"","",{"$error":"#VALUE!"}]
[{"$f":"IF(A620<$E$10,+VLOOKUP($A620+1,Data!A:B,1,1),\"\")","v":""},{"$f":"IF(A621<E$10,+VLOOKUP($A621,Data!A:B,2,1),\"\")","v":""},null,0,{"$error":"#VALUE!"},null,null,null,null,null,null,null,null,null,null,null,null,null,null,null,null,"","",{"$error":"#VALUE!"}]
[{"$f":"IF(A621<$E$10,+VLOOKUP($A621+1,Data!A:B,1,1),\"\")","v":""},{"$f":"IF(A622<E$10,+VLOOKUP($A622,Data!A:B,2,1),\"\")","v":""},null,0,{"$error":"#VALUE!"},null,null,null,null,null,null,null,null,null,null,null,null,null,null,null,null,"","",{"$error":"#VALUE!"}]
[{"$f":"IF(A622<$E$10,+VLOOKUP($A622+1,Data!A:B,1,1),\"\")","v":""},{"$f":"IF(A623<E$10,+VLOOKUP($A623,Data!A:B,2,1),\"\")","v":""},null,0,{"$error":"#VALUE!"},null,null,null,null,null,null,null,null,null,null,null,null,null,null,null,null,"","",{"$error":"#VALUE!"}]
[{"$f":"IF(A623<$E$10,+VLOOKUP($A623+1,Data!A:B,1,1),\"\")","v":""},{"$f":"IF(A624<E$10,+VLOOKUP($A624,Data!A:B,2,1),\"\")","v":""},null,0,{"$error":"#VALUE!"},null,null,null,null,null,null,null,null,null,null,null,null,null,null,null,null,"","",{"$error":"#VALUE!"}]
[{"$f":"IF(A624<$E$10,+VLOOKUP($A624+1,Data!A:B,1,1),\"\")","v":""},{"$f":"IF(A625<E$10,+VLOOKUP($A625,Data!A:B,2,1),\"\")","v":""},null,0,{"$error":"#VALUE!"},null,null,null,null,null,null,null,null,null,null,null,null,null,null,null,null,"","",{"$error":"#VALUE!"}]
[{"$f":"IF(A625<$E$10,+VLOOKUP($A625+1,Data!A:B,1,1),\"\")","v":""},{"$f":"IF(A626<E$10,+VLOOKUP($A626,Data!A:B,2,1),\"\")","v":""},null,0,{"$error":"#VALUE!"},null,null,null,null,null,null,null,null,null,null,null,null,null,null,null,null,"","",{"$error":"#VALUE!"}]
[{"$f":"IF(A626<$E$10,+VLOOKUP($A626+1,Data!A:B,1,1),\"\")","v":""},{"$f":"IF(A627<E$10,+VLOOKUP($A627,Data!A:B,2,1),\"\")","v":""},null,0,{"$error":"#VALUE!"},null,null,null,null,null,null,null,null,null,null,null,null,null,null,null,null,"","",{"$error":"#VALUE!"}]
[{"$f":"IF(A627<$E$10,+VLOOKUP($A627+1,Data!A:B,1,1),\"\")","v":""},{"$f":"IF(A628<E$10,+VLOOKUP($A628,Data!A:B,2,1),\"\")","v":""},null,0,{"$error":"#VALUE!"},null,null,null,null,null,null,null,null,null,null,null,null,null,null,null,null,"","",{"$error":"#VALUE!"}]
[{"$f":"IF(A628<$E$10,+VLOOKUP($A628+1,Data!A:B,1,1),\"\")","v":""},{"$f":"IF(A629<E$10,+VLOOKUP($A629,Data!A:B,2,1),\"\")","v":""},null,0,{"$error":"#VALUE!"},null,null,null,null,null,null,null,null,null,null,null,null,null,null,null,null,"","",{"$error":"#VALUE!"}]
[{"$f":"IF(A629<$E$10,+VLOOKUP($A629+1,Data!A:B,1,1),\"\")","v":""},{"$f":"IF(A630<E$10,+VLOOKUP($A630,Data!A:B,2,1),\"\")","v":""},null,0,{"$error":"#VALUE!"},null,null,null,null,null,null,null,null,null,null,null,null,null,null,null,null,"","",{"$error":"#VALUE!"}]
[{"$f":"IF(A630<$E$10,+VLOOKUP($A630+1,Data!A:B,1,1),\"\")","v":""},{"$f":"IF(A631<E$10,+VLOOKUP($A631,Data!A:B,2,1),\"\")","v":""},null,0,{"$error":"#VALUE!"},null,null,null,null,null,null,null,null,null,null,null,null,null,null,null,null,"","",{"$error":"#VALUE!"}]
[{"$f":"IF(A631<$E$10,+VLOOKUP($A631+1,Data!A:B,1,1),\"\")","v":""},{"$f":"IF(A632<E$10,+VLOOKUP($A632,Data!A:B,2,1),\"\")","v":""},null,0,{"$error":"#VALUE!"},null,null,null,null,null,null,null,null,null,null,null,null,null,null,null,null,"","",{"$error":"#VALUE!"}]
[{"$f":"IF(A632<$E$10,+VLOOKUP($A632+1,Data!A:B,1,1),\"\")","v":""},{"$f":"IF(A633<E$10,+VLOOKUP($A633,Data!A:B,2,1),\"\")","v":""},null,0,{"$error":"#VALUE!"},null,null,null,null,null,null,null,null,null,null,null,null,null,null,null,null,"","",{"$error":"#VALUE!"}]
[{"$f":"IF(A633<$E$10,+VLOOKUP($A633+1,Data!A:B,1,1),\"\")","v":""},{"$f":"IF(A634<E$10,+VLOOKUP($A634,Data!A:B,2,1),\"\")","v":""},null,0,{"$error":"#VALUE!"},null,null,null,null,null,null,null,null,null,null,null,null,null,null,null,null,"","",{"$error":"#VALUE!"}]
[{"$f":"IF(A634<$E$10,+VLOOKUP($A634+1,Data!A:B,1,1),\"\")","v":""},{"$f":"IF(A635<E$10,+VLOOKUP($A635,Data!A:B,2,1),\"\")","v":""},null,0,{"$error":"#VALUE!"},null,null,null,null,null,null,null,null,null,null,null,null,null,null,null,null,"","",{"$error":"#VALUE!"}]
[{"$f":"IF(A635<$E$10,+VLOOKUP($A635+1,Data!A:B,1,1),\"\")","v":""},{"$f":"IF(A636<E$10,+VLOOKUP($A636,Data!A:B,2,1),\"\")","v":""},null,0,{"$error":"#VALUE!"},null,null,null,null,null,null,null,null,null,null,null,null,null,null,null,null,"","",{"$error":"#VALUE!"}]
[{"$f":"IF(A636<$E$10,+VLOOKUP($A636+1,Data!A:B,1,1),\"\")","v":""},{"$f":"IF(A637<E$10,+VLOOKUP($A637,Data!A:B,2,1),\"\")","v":""},null,0,{"$error":"#VALUE!"},null,null,null,null,null,null,null,null,null,null,null,null,null,null,null,null,"","",{"$error":"#VALUE!"}]
[{"$f":"IF(A637<$E$10,+VLOOKUP($A637+1,Data!A:B,1,1),\"\")","v":""},{"$f":"IF(A638<E$10,+VLOOKUP($A638,Data!A:B,2,1),\"\")","v":""},null,0,{"$error":"#VALUE!"},null,null,null,null,null,null,null,null,null,null,null,null,null,null,null,null,"","",{"$error":"#VALUE!"}]
[{"$f":"IF(A638<$E$10,+VLOOKUP($A638+1,Data!A:B,1,1),\"\")","v":""},{"$f":"IF(A639<E$10,+VLOOKUP($A639,Data!A:B,2,1),\"\")","v":""},null,0,{"$error":"#VALUE!"},null,null,null,null,null,null,null,null,null,null,null,null,null,null,null,null,"","",{"$error":"#VALUE!"}]
[{"$f":"IF(A639<$E$10,+VLOOKUP($A639+1,Data!A:B,1,1),\"\")","v":""},{"$f":"IF(A640<E$10,+VLOOKUP($A640,Data!A:B,2,1),\"\")","v":""},null,0,{"$error":"#VALUE!"},null,null,null,null,null,null,null,null,null,null,null,null,null,null,null,null,"","",{"$error":"#VALUE!"}]
[{"$f":"IF(A640<$E$10,+VLOOKUP($A640+1,Data!A:B,1,1),\"\")","v":""},{"$f":"IF(A641<E$10,+VLOOKUP($A641,Data!A:B,2,1),\"\")","v":""},null,0,{"$error":"#VALUE!"},null,null,null,null,null,null,null,null,null,null,null,null,null,null,null,null,"","",{"$error":"#VALUE!"}]
[{"$f":"IF(A641<$E$10,+VLOOKUP($A641+1,Data!A:B,1,1),\"\")","v":""},{"$f":"IF(A642<E$10,+VLOOKUP($A642,Data!A:B,2,1),\"\")","v":""},null,0,{"$error":"#VALUE!"},null,null,null,null,null,null,null,null,null,null,null,null,null,null,null,null,"","",{"$error":"#VALUE!"}]
[{"$f":"IF(A642<$E$10,+VLOOKUP($A642+1,Data!A:B,1,1),\"\")","v":""},{"$f":"IF(A643<E$10,+VLOOKUP($A643,Data!A:B,2,1),\"\")","v":""},null,0,{"$error":"#VALUE!"},null,null,null,null,null,null,null,null,null,null,null,null,null,null,null,null,"","",{"$error":"#VALUE!"}]
[{"$f":"IF(A643<$E$10,+VLOOKUP($A643+1,Data!A:B,1,1),\"\")","v":""},{"$f":"IF(A644<E$10,+VLOOKUP($A644,Data!A:B,2,1),\"\")","v":""},null,0,{"$error":"#VALUE!"},null,null,null,null,null,null,null,null,null,null,null,null,null,null,null,null,"","",{"$error":"#VALUE!"}]
[{"$f":"IF(A644<$E$10,+VLOOKUP($A644+1,Data!A:B,1,1),\"\")","v":""},{"$f":"IF(A645<E$10,+VLOOKUP($A645,Data!A:B,2,1),\"\")","v":""},null,0,{"$error":"#VALUE!"},null,null,null,null,null,null,null,null,null,null,null,null,null,null,null,null,"","",{"$error":"#VALUE!"}]
[{"$f":"IF(A645<$E$10,+VLOOKUP($A645+1,Data!A:B,1,1),\"\")","v":""},{"$f":"IF(A646<E$10,+VLOOKUP($A646,Data!A:B,2,1),\"\")","v":""},null,0,{"$error":"#VALUE!"},null,null,null,null,null,null,null,null,null,null,null,null,null,null,null,null,"","",{"$error":"#VALUE!"}]
[{"$f":"IF(A646<$E$10,+VLOOKUP($A646+1,Data!A:B,1,1),\"\")","v":""},{"$f":"IF(A647<E$10,+VLOOKUP($A647,Data!A:B,2,1),\"\")","v":""},null,0,{"$error":"#VALUE!"},null,null,null,null,null,null,null,null,null,null,null,null,null,null,null,null,"","",{"$error":"#VALUE!"}]
[{"$f":"IF(A647<$E$10,+VLOOKUP($A647+1,Data!A:B,1,1),\"\")","v":""},{"$f":"IF(A648<E$10,+VLOOKUP($A648,Data!A:B,2,1),\"\")","v":""},null,0,{"$error":"#VALUE!"},null,null,null,null,null,null,null,null,null,null,null,null,null,null,null,null,"","",{"$error":"#VALUE!"}]
[{"$f":"IF(A648<$E$10,+VLOOKUP($A648+1,Data!A:B,1,1),\"\")","v":""},{"$f":"IF(A649<E$10,+VLOOKUP($A649,Data!A:B,2,1),\"\")","v":""},null,0,{"$error":"#VALUE!"},null,null,null,null,null,null,null,null,null,null,null,null,null,null,null,null,"","",{"$error":"#VALUE!"}]
[{"$f":"IF(A649<$E$10,+VLOOKUP($A649+1,Data!A:B,1,1),\"\")","v":""},{"$f":"IF(A650<E$10,+VLOOKUP($A650,Data!A:B,2,1),\"\")","v":""},null,0,{"$error":"#VALUE!"},null,null,null,null,null,null,null,null,null,null,null,null,null,null,null,null,"","",{"$error":"#VALUE!"}]
[{"$f":"IF(A650<$E$10,+VLOOKUP($A650+1,Data!A:B,1,1),\"\")","v":""},{"$f":"IF(A651<E$10,+VLOOKUP($A651,Data!A:B,2,1),\"\")","v":""},null,0,{"$error":"#VALUE!"},null,null,null,null,null,null,null,null,null,null,null,null,null,null,null,null,"","",{"$error":"#VALUE!"}]
[{"$f":"IF(A651<$E$10,+VLOOKUP($A651+1,Data!A:B,1,1),\"\")","v":""},{"$f":"IF(A652<E$10,+VLOOKUP($A652,Data!A:B,2,1),\"\")","v":""},null,0,{"$error":"#VALUE!"},null,null,null,null,null,null,null,null,null,null,null,null,null,null,null,null,"","",{"$error":"#VALUE!"}]
[{"$f":"IF(A652<$E$10,+VLOOKUP($A652+1,Data!A:B,1,1),\"\")","v":""},{"$f":"IF(A653<E$10,+VLOOKUP($A653,Data!A:B,2,1),\"\")","v":""},null,0,{"$error":"#VALUE!"},null,null,null,null,null,null,null,null,null,null,null,null,null,null,null,null,"","",{"$error":"#VALUE!"}]
[{"$f":"IF(A653<$E$10,+VLOOKUP($A653+1,Data!A:B,1,1),\"\")","v":""},{"$f":"IF(A654<E$10,+VLOOKUP($A654,Data!A:B,2,1),\"\")","v":""},null,0,{"$error":"#VALUE!"},null,null,null,null,null,null,null,null,null,null,null,null,null,null,null,null,"","",{"$error":"#VALUE!"}]
[{"$f":"IF(A654<$E$10,+VLOOKUP($A654+1,Data!A:B,1,1),\"\")","v":""},{"$f":"IF(A655<E$10,+VLOOKUP($A655,Data!A:B,2,1),\"\")","v":""},null,0,{"$error":"#VALUE!"},null,null,null,null,null,null,null,null,null,null,null,null,null,null,null,null,"","",{"$error":"#VALUE!"}]
[{"$f":"IF(A655<$E$10,+VLOOKUP($A655+1,Data!A:B,1,1),\"\")","v":""},{"$f":"IF(A656<E$10,+VLOOKUP($A656,Data!A:B,2,1),\"\")","v":""},null,0,{"$error":"#VALUE!"},null,null,null,null,null,null,null,null,null,null,null,null,null,null,null,null,"","",{"$error":"#VALUE!"}]
[{"$f":"IF(A656<$E$10,+VLOOKUP($A656+1,Data!A:B,1,1),\"\")","v":""},{"$f":"IF(A657<E$10,+VLOOKUP($A657,Data!A:B,2,1),\"\")","v":""},null,0,{"$error":"#VALUE!"},null,null,null,null,null,null,null,null,null,null,null,null,null,null,null,null,"","",{"$error":"#VALUE!"}]
[{"$f":"IF(A657<$E$10,+VLOOKUP($A657+1,Data!A:B,1,1),\"\")","v":""},{"$f":"IF(A658<E$10,+VLOOKUP($A658,Data!A:B,2,1),\"\")","v":""},null,0,{"$error":"#VALUE!"},null,null,null,null,null,null,null,null,null,null,null,null,null,null,null,null,"","",{"$error":"#VALUE!"}]
[{"$f":"IF(A658<$E$10,+VLOOKUP($A658+1,Data!A:B,1,1),\"\")","v":""},{"$f":"IF(A659<E$10,+VLOOKUP($A659,Data!A:B,2,1),\"\")","v":""},null,0,{"$error":"#VALUE!"},null,null,null,null,null,null,null,null,null,null,null,null,null,null,null,null,"","",{"$error":"#VALUE!"}]
[{"$f":"IF(A659<$E$10,+VLOOKUP($A659+1,Data!A:B,1,1),\"\")","v":""},{"$f":"IF(A660<E$10,+VLOOKUP($A660,Data!A:B,2,1),\"\")","v":""},null,0,{"$error":"#VALUE!"},null,null,null,null,null,null,null,null,null,null,null,null,null,null,null,null,"","",{"$error":"#VALUE!"}]
[{"$f":"IF(A660<$E$10,+VLOOKUP($A660+1,Data!A:B,1,1),\"\")","v":""},{"$f":"IF(A661<E$10,+VLOOKUP($A661,Data!A:B,2,1),\"\")","v":""},null,0,{"$error":"#VALUE!"},null,null,null,null,null,null,null,null,null,null,null,null,null,null,null,null,"","",{"$error":"#VALUE!"}]
[{"$f":"IF(A661<$E$10,+VLOOKUP($A661+1,Data!A:B,1,1),\"\")","v":""},{"$f":"IF(A662<E$10,+VLOOKUP($A662,Data!A:B,2,1),\"\")","v":""},null,0,{"$error":"#VALUE!"},null,null,null,null,null,null,null,null,null,null,null,null,null,null,null,null,"","",{"$error":"#VALUE!"}]
[{"$f":"IF(A662<$E$10,+VLOOKUP($A662+1,Data!A:B,1,1),\"\")","v":""},{"$f":"IF(A663<E$10,+VLOOKUP($A663,Data!A:B,2,1),\"\")","v":""},null,0,{"$error":"#VALUE!"},null,null,null,null,null,null,null,null,null,null,null,null,null,null,null,null,"","",{"$error":"#VALUE!"}]
[{"$f":"IF(A663<$E$10,+VLOOKUP($A663+1,Data!A:B,1,1),\"\")","v":""},{"$f":"IF(A664<E$10,+VLOOKUP($A664,Data!A:B,2,1),\"\")","v":""},null,0,{"$error":"#VALUE!"},null,null,null,null,null,null,null,null,null,null,null,null,null,null,null,null,"","",{"$error":"#VALUE!"}]
[{"$f":"IF(A664<$E$10,+VLOOKUP($A664+1,Data!A:B,1,1),\"\")","v":""},{"$f":"IF(A665<E$10,+VLOOKUP($A665,Data!A:B,2,1),\"\")","v":""},null,0,{"$error":"#VALUE!"},null,null,null,null,null,null,null,null,null,null,null,null,null,null,null,null,"","",{"$error":"#VALUE!"}]
[{"$f":"IF(A665<$E$10,+VLOOKUP($A665+1,Data!A:B,1,1),\"\")","v":""},{"$f":"IF(A666<E$10,+VLOOKUP($A666,Data!A:B,2,1),\"\")","v":""},null,0,{"$error":"#VALUE!"},null,null,null,null,null,null,null,null,null,null,null,null,null,null,null,null,"","",{"$error":"#VALUE!"}]
[{"$f":"IF(A666<$E$10,+VLOOKUP($A666+1,Data!A:B,1,1),\"\")","v":""},{"$f":"IF(A667<E$10,+VLOOKUP($A667,Data!A:B,2,1),\"\")","v":""},null,0,{"$error":"#VALUE!"},null,null,null,null,null,null,null,null,null,null,null,null,null,null,null,null,"","",{"$error":"#VALUE!"}]
[{"$f":"IF(A667<$E$10,+VLOOKUP($A667+1,Data!A:B,1,1),\"\")","v":""},{"$f":"IF(A668<E$10,+VLOOKUP($A668,Data!A:B,2,1),\"\")","v":""},null,0,{"$error":"#VALUE!"},null,null,null,null,null,null,null,null,null,null,null,null,null,null,null,null,"","",{"$error":"#VALUE!"}]
[{"$f":"IF(A668<$E$10,+VLOOKUP($A668+1,Data!A:B,1,1),\"\")","v":""},{"$f":"IF(A669<E$10,+VLOOKUP($A669,Data!A:B,2,1),\"\")","v":""},null,0,{"$error":"#VALUE!"},null,null,null,null,null,null,null,null,null,null,null,null,null,null,null,null,"","",{"$error":"#VALUE!"}]
[{"$f":"IF(A669<$E$10,+VLOOKUP($A669+1,Data!A:B,1,1),\"\")","v":""},{"$f":"IF(A670<E$10,+VLOOKUP($A670,Data!A:B,2,1),\"\")","v":""},null,0,{"$error":"#VALUE!"},null,null,null,null,null,null,null,null,null,null,null,null,null,null,null,null,"","",{"$error":"#VALUE!"}]
[{"$f":"IF(A670<$E$10,+VLOOKUP($A670+1,Data!A:B,1,1),\"\")","v":""},{"$f":"IF(A671<E$10,+VLOOKUP($A671,Data!A:B,2,1),\"\")","v":""},null,0,{"$error":"#VALUE!"},null,null,null,null,null,null,null,null,null,null,null,null,null,null,null,null,"","",{"$error":"#VALUE!"}]
[{"$f":"IF(A671<$E$10,+VLOOKUP($A671+1,Data!A:B,1,1),\"\")","v":""},{"$f":"IF(A672<E$10,+VLOOKUP($A672,Data!A:B,2,1),\"\")","v":""},null,0,{"$error":"#VALUE!"},null,null,null,null,null,null,null,null,null,null,null,null,null,null,null,null,"","",{"$error":"#VALUE!"}]
[{"$f":"IF(A672<$E$10,+VLOOKUP($A672+1,Data!A:B,1,1),\"\")","v":""},{"$f":"IF(A673<E$10,+VLOOKUP($A673,Data!A:B,2,1),\"\")","v":""},null,0,{"$error":"#VALUE!"},null,null,null,null,null,null,null,null,null,null,null,null,null,null,null,null,"","",{"$error":"#VALUE!"}]
[{"$f":"IF(A673<$E$10,+VLOOKUP($A673+1,Data!A:B,1,1),\"\")","v":""},{"$f":"IF(A674<E$10,+VLOOKUP($A674,Data!A:B,2,1),\"\")","v":""},null,0,{"$error":"#VALUE!"},null,null,null,null,null,null,null,null,null,null,null,null,null,null,null,null,"","",{"$error":"#VALUE!"}]
[{"$f":"IF(A674<$E$10,+VLOOKUP($A674+1,Data!A:B,1,1),\"\")","v":""},{"$f":"IF(A675<E$10,+VLOOKUP($A675,Data!A:B,2,1),\"\")","v":""},null,{"$f":"+IF(AND(A675<$H$9,A675>$H$8),B675-X675,0)","v":0},{"$f":"+D675/X675","v":{"$error":"#VALUE!"}},null,null,null,null,null,null,null,null,null,null,null,null,null,null,null,null,{"$f":"+IF(AND($A675>$H$6,$A675<$H$7),$B675,\"\")","v":""},{"$f":"+IF(AND($A675>$H$10,$A675<$H$11),$B675,\"\")","v":""},{"$f":"+$G$15+(A675-$G$14)*$H$16","v":{"$error":"#VALUE!"}}]
[{"$f":"IF(A675<$E$10,+VLOOKUP($A675+1,Data!A:B,1,1),\"\")","v":""},{"$f":"IF(A676<E$10,+VLOOKUP($A676,Data!A:B,2,1),\"\")","v":""},null,0,{"$error":"#VALUE!"},null,null,null,null,null,null,null,null,null,null,null,null,null,null,null,null,"","",{"$error":"#VALUE!"}]
[{"$f":"IF(A676<$E$10,+VLOOKUP($A676+1,Data!A:B,1,1),\"\")","v":""},{"$f":"IF(A677<E$10,+VLOOKUP($A677,Data!A:B,2,1),\"\")","v":""},null,0,{"$error":"#VALUE!"},null,null,null,null,null,null,null,null,null,null,null,null,null,null,null,null,"","",{"$error":"#VALUE!"}]
[{"$f":"IF(A677<$E$10,+VLOOKUP($A677+1,Data!A:B,1,1),\"\")","v":""},{"$f":"IF(A678<E$10,+VLOOKUP($A678,Data!A:B,2,1),\"\")","v":""},null,0,{"$error":"#VALUE!"},null,null,null,null,null,null,null,null,null,null,null,null,null,null,null,null,"","",{"$error":"#VALUE!"}]
[{"$f":"IF(A678<$E$10,+VLOOKUP($A678+1,Data!A:B,1,1),\"\")","v":""},{"$f":"IF(A679<E$10,+VLOOKUP($A679,Data!A:B,2,1),\"\")","v":""},null,0,{"$error":"#VALUE!"},null,null,null,null,null,null,null,null,null,null,null,null,null,null,null,null,"","",{"$error":"#VALUE!"}]
[{"$f":"IF(A679<$E$10,+VLOOKUP($A679+1,Data!A:B,1,1),\"\")","v":""},{"$f":"IF(A680<E$10,+VLOOKUP($A680,Data!A:B,2,1),\"\")","v":""},null,0,{"$error":"#VALUE!"},null,null,null,null,null,null,null,null,null,null,null,null,null,null,null,null,"","",{"$error":"#VALUE!"}]
[{"$f":"IF(A680<$E$10,+VLOOKUP($A680+1,Data!A:B,1,1),\"\")","v":""},{"$f":"IF(A681<E$10,+VLOOKUP($A681,Data!A:B,2,1),\"\")","v":""},null,0,{"$error":"#VALUE!"},null,null,null,null,null,null,null,null,null,null,null,null,null,null,null,null,"","",{"$error":"#VALUE!"}]
[{"$f":"IF(A681<$E$10,+VLOOKUP($A681+1,Data!A:B,1,1),\"\")","v":""},{"$f":"IF(A682<E$10,+VLOOKUP($A682,Data!A:B,2,1),\"\")","v":""},null,0,{"$error":"#VALUE!"},null,null,null,null,null,null,null,null,null,null,null,null,null,null,null,null,"","",{"$error":"#VALUE!"}]
[{"$f":"IF(A682<$E$10,+VLOOKUP($A682+1,Data!A:B,1,1),\"\")","v":""},{"$f":"IF(A683<E$10,+VLOOKUP($A683,Data!A:B,2,1),\"\")","v":""},null,0,{"$error":"#VALUE!"},null,null,null,null,null,null,null,null,null,null,null,null,null,null,null,null,"","",{"$error":"#VALUE!"}]
[{"$f":"IF(A683<$E$10,+VLOOKUP($A683+1,Data!A:B,1,1),\"\")","v":""},{"$f":"IF(A684<E$10,+VLOOKUP($A684,Data!A:B,2,1),\"\")","v":""},null,0,{"$error":"#VALUE!"},null,null,null,null,null,null,null,null,null,null,null,null,null,null,null,null,"","",{"$error":"#VALUE!"}]
[{"$f":"IF(A684<$E$10,+VLOOKUP($A684+1,Data!A:B,1,1),\"\")","v":""},{"$f":"IF(A685<E$10,+VLOOKUP($A685,Data!A:B,2,1),\"\")","v":""},null,0,{"$error":"#VALUE!"},null,null,null,null,null,null,null,null,null,null,null,null,null,null,null,null,"","",{"$error":"#VALUE!"}]
[{"$f":"IF(A685<$E$10,+VLOOKUP($A685+1,Data!A:B,1,1),\"\")","v":""},{"$f":"IF(A686<E$10,+VLOOKUP($A686,Data!A:B,2,1),\"\")","v":""},null,0,{"$error":"#VALUE!"},null,null,null,null,null,null,null,null,null,null,null,null,null,null,null,null,"","",{"$error":"#VALUE!"}]
[{"$f":"IF(A686<$E$10,+VLOOKUP($A686+1,Data!A:B,1,1),\"\")","v":""},{"$f":"IF(A687<E$10,+VLOOKUP($A687,Data!A:B,2,1),\"\")","v":""},null,0,{"$error":"#VALUE!"},null,null,null,null,null,null,null,null,null,null,null,null,null,null,null,null,"","",{"$error":"#VALUE!"}]
[{"$f":"IF(A687<$E$10,+VLOOKUP($A687+1,Data!A:B,1,1),\"\")","v":""},{"$f":"IF(A688<E$10,+VLOOKUP($A688,Data!A:B,2,1),\"\")","v":""},null,0,{"$error":"#VALUE!"},null,null,null,null,null,null,null,null,null,null,null,null,null,null,null,null,"","",{"$error":"#VALUE!"}]
[{"$f":"IF(A688<$E$10,+VLOOKUP($A688+1,Data!A:B,1,1),\"\")","v":""},{"$f":"IF(A689<E$10,+VLOOKUP($A689,Data!A:B,2,1),\"\")","v":""},null,0,{"$error":"#VALUE!"},null,null,null,null,null,null,null,null,null,null,null,null,null,null,null,null,"","",{"$error":"#VALUE!"}]
[{"$f":"IF(A689<$E$10,+VLOOKUP($A689+1,Data!A:B,1,1),\"\")","v":""},{"$f":"IF(A690<E$10,+VLOOKUP($A690,Data!A:B,2,1),\"\")","v":""},null,0,{"$error":"#VALUE!"},null,null,null,null,null,null,null,null,null,null,null,null,null,null,null,null,"","",{"$error":"#VALUE!"}]
[{"$f":"IF(A690<$E$10,+VLOOKUP($A690+1,Data!A:B,1,1),\"\")","v":""},{"$f":"IF(A691<E$10,+VLOOKUP($A691,Data!A:B,2,1),\"\")","v":""},null,0,{"$error":"#VALUE!"},null,null,null,null,null,null,null,null,null,null,null,null,null,null,null,null,"","",{"$error":"#VALUE!"}]
[{"$f":"IF(A691<$E$10,+VLOOKUP($A691+1,Data!A:B,1,1),\"\")","v":""},{"$f":"IF(A692<E$10,+VLOOKUP($A692,Data!A:B,2,1),\"\")","v":""},null,0,{"$error":"#VALUE!"},null,null,null,null,null,null,null,null,null,null,null,null,null,null,null,null,"","",{"$error":"#VALUE!"}]
[{"$f":"IF(A692<$E$10,+VLOOKUP($A692+1,Data!A:B,1,1),\"\")","v":""},{"$f":"IF(A693<E$10,+VLOOKUP($A693,Data!A:B,2,1),\"\")","v":""},null,0,{"$error":"#VALUE!"},null,null,null,null,null,null,null,null,null,null,null,null,null,null,null,null,"","",{"$error":"#VALUE!"}]
[{"$f":"IF(A693<$E$10,+VLOOKUP($A693+1,Data!A:B,1,1),\"\")","v":""},{"$f":"IF(A694<E$10,+VLOOKUP($A694,Data!A:B,2,1),\"\")","v":""},null,0,{"$error":"#VALUE!"},null,null,null,null,null,null,null,null,null,null,null,null,null,null,null,null,"","",{"$error":"#VALUE!"}]
[{"$f":"IF(A694<$E$10,+VLOOKUP($A694+1,Data!A:B,1,1),\"\")","v":""},{"$f":"IF(A695<E$10,+VLOOKUP($A695,Data!A:B,2,1),\"\")","v":""},null,0,{"$error":"#VALUE!"},null,null,null,null,null,null,null,null,null,null,null,null,null,null,null,null,"","",{"$error":"#VALUE!"}]
[{"$f":"IF(A695<$E$10,+VLOOKUP($A695+1,Data!A:B,1,1),\"\")","v":""},{"$f":"IF(A696<E$10,+VLOOKUP($A696,Data!A:B,2,1),\"\")","v":""},null,0,{"$error":"#VALUE!"},null,null,null,null,null,null,null,null,null,null,null,null,null,null,null,null,"","",{"$error":"#VALUE!"}]
[{"$f":"IF(A696<$E$10,+VLOOKUP($A696+1,Data!A:B,1,1),\"\")","v":""},{"$f":"IF(A697<E$10,+VLOOKUP($A697,Data!A:B,2,1),\"\")","v":""},null,0,{"$error":"#VALUE!"},null,null,null,null,null,null,null,null,null,null,null,null,null,null,null,null,"","",{"$error":"#VALUE!"}]
[{"$f":"IF(A697<$E$10,+VLOOKUP($A697+1,Data!A:B,1,1),\"\")","v":""},{"$f":"IF(A698<E$10,+VLOOKUP($A698,Data!A:B,2,1),\"\")","v":""},null,0,{"$error":"#VALUE!"},null,null,null,null,null,null,null,null,null,null,null,null,null,null,null,null,"","",{"$error":"#VALUE!"}]
[{"$f":"IF(A698<$E$10,+VLOOKUP($A698+1,Data!A:B,1,1),\"\")","v":""},{"$f":"IF(A699<E$10,+VLOOKUP($A699,Data!A:B,2,1),\"\")","v":""},null,0,{"$error":"#VALUE!"},null,null,null,null,null,null,null,null,null,null,null,null,null,null,null,null,"","",{"$error":"#VALUE!"}]
[{"$f":"IF(A699<$E$10,+VLOOKUP($A699+1,Data!A:B,1,1),\"\")","v":""},{"$f":"IF(A700<E$10,+VLOOKUP($A700,Data!A:B,2,1),\"\")","v":""},null,0,{"$error":"#VALUE!"},null,null,null,null,null,null,null,null,null,null,null,null,null,null,null,null,"","",{"$error":"#VALUE!"}]
[{"$f":"IF(A700<$E$10,+VLOOKUP($A700+1,Data!A:B,1,1),\"\")","v":""},{"$f":"IF(A701<E$10,+VLOOKUP($A701,Data!A:B,2,1),\"\")","v":""},null,0,{"$error":"#VALUE!"},null,null,null,null,null,null,null,null,null,null,null,null,null,null,null,null,"","",{"$error":"#VALUE!"}]
[{"$f":"IF(A701<$E$10,+VLOOKUP($A701+1,Data!A:B,1,1),\"\")","v":""},{"$f":"IF(A702<E$10,+VLOOKUP($A702,Data!A:B,2,1),\"\")","v":""},null,0,{"$error":"#VALUE!"},null,null,null,null,null,null,null,null,null,null,null,null,null,null,null,null,"","",{"$error":"#VALUE!"}]
[{"$f":"IF(A702<$E$10,+VLOOKUP($A702+1,Data!A:B,1,1),\"\")","v":""},{"$f":"IF(A703<E$10,+VLOOKUP($A703,Data!A:B,2,1),\"\")","v":""},null,0,{"$error":"#VALUE!"},null,null,null,null,null,null,null,null,null,null,null,null,null,null,null,null,"","",{"$error":"#VALUE!"}]
[{"$f":"IF(A703<$E$10,+VLOOKUP($A703+1,Data!A:B,1,1),\"\")","v":""},{"$f":"IF(A704<E$10,+VLOOKUP($A704,Data!A:B,2,1),\"\")","v":""},null,0,{"$error":"#VALUE!"},null,null,null,null,null,null,null,null,null,null,null,null,null,null,null,null,"","",{"$error":"#VALUE!"}]
[{"$f":"IF(A704<$E$10,+VLOOKUP($A704+1,Data!A:B,1,1),\"\")","v":""},{"$f":"IF(A705<E$10,+VLOOKUP($A705,Data!A:B,2,1),\"\")","v":""},null,0,{"$error":"#VALUE!"},null,null,null,null,null,null,null,null,null,null,null,null,null,null,null,null,"","",{"$error":"#VALUE!"}]
[{"$f":"IF(A705<$E$10,+VLOOKUP($A705+1,Data!A:B,1,1),\"\")","v":""},{"$f":"IF(A706<E$10,+VLOOKUP($A706,Data!A:B,2,1),\"\")","v":""},null,0,{"$error":"#VALUE!"},null,null,null,null,null,null,null,null,null,null,null,null,null,null,null,null,"","",{"$error":"#VALUE!"}]
[{"$f":"IF(A706<$E$10,+VLOOKUP($A706+1,Data!A:B,1,1),\"\")","v":""},{"$f":"IF(A707<E$10,+VLOOKUP($A707,Data!A:B,2,1),\"\")","v":""},null,0,{"$error":"#VALUE!"},null,null,null,null,null,null,null,null,null,null,null,null,null,null,null,null,"","",{"$error":"#VALUE!"}]
[{"$f":"IF(A707<$E$10,+VLOOKUP($A707+1,Data!A:B,1,1),\"\")","v":""},{"$f":"IF(A708<E$10,+VLOOKUP($A708,Data!A:B,2,1),\"\")","v":""},null,0,{"$error":"#VALUE!"},null,null,null,null,null,null,null,null,null,null,null,null,null,null,null,null,"","",{"$error":"#VALUE!"}]
[{"$f":"IF(A708<$E$10,+VLOOKUP($A708+1,Data!A:B,1,1),\"\")","v":""},{"$f":"IF(A709<E$10,+VLOOKUP($A709,Data!A:B,2,1),\"\")","v":""},null,0,{"$error":"#VALUE!"},null,null,null,null,null,null,null,null,null,null,null,null,null,null,null,null,"","",{"$error":"#VALUE!"}]
[{"$f":"IF(A709<$E$10,+VLOOKUP($A709+1,Data!A:B,1,1),\"\")","v":""},{"$f":"IF(A710<E$10,+VLOOKUP($A710,Data!A:B,2,1),\"\")","v":""},null,0,{"$error":"#VALUE!"},null,null,null,null,null,null,null,null,null,null,null,null,null,null,null,null,"","",{"$error":"#VALUE!"}]
[{"$f":"IF(A710<$E$10,+VLOOKUP($A710+1,Data!A:B,1,1),\"\")","v":""},{"$f":"IF(A711<E$10,+VLOOKUP($A711,Data!A:B,2,1),\"\")","v":""},null,0,{"$error":"#VALUE!"},null,null,null,null,null,null,null,null,null,null,null,null,null,null,null,null,"","",{"$error":"#VALUE!"}]
[{"$f":"IF(A711<$E$10,+VLOOKUP($A711+1,Data!A:B,1,1),\"\")","v":""},{"$f":"IF(A712<E$10,+VLOOKUP($A712,Data!A:B,2,1),\"\")","v":""},null,0,{"$error":"#VALUE!"},null,null,null,null,null,null,null,null,null,null,null,null,null,null,null,null,"","",{"$error":"#VALUE!"}]
[{"$f":"IF(A712<$E$10,+VLOOKUP($A712+1,Data!A:B,1,1),\"\")","v":""},{"$f":"IF(A713<E$10,+VLOOKUP($A713,Data!A:B,2,1),\"\")","v":""},null,0,{"$error":"#VALUE!"},null,null,null,null,null,null,null,null,null,null,null,null,null,null,null,null,"","",{"$error":"#VALUE!"}]
[{"$f":"IF(A713<$E$10,+VLOOKUP($A713+1,Data!A:B,1,1),\"\")","v":""},{"$f":"IF(A714<E$10,+VLOOKUP($A714,Data!A:B,2,1),\"\")","v":""},null,0,{"$error":"#VALUE!"},null,null,null,null,null,null,null,null,null,null,null,null,null,null,null,null,"","",{"$error":"#VALUE!"}]
[{"$f":"IF(A714<$E$10,+VLOOKUP($A714+1,Data!A:B,1,1),\"\")","v":""},{"$f":"IF(A715<E$10,+VLOOKUP($A715,Data!A:B,2,1),\"\")","v":""},null,0,{"$error":"#VALUE!"},null,null,null,null,null,null,null,null,null,null,null,null,null,null,null,null,"","",{"$error":"#VALUE!"}]
[{"$f":"IF(A715<$E$10,+VLOOKUP($A715+1,Data!A:B,1,1),\"\")","v":""},{"$f":"IF(A716<E$10,+VLOOKUP($A716,Data!A:B,2,1),\"\")","v":""},null,0,{"$error":"#VALUE!"},null,null,null,null,null,null,null,null,null,null,null,null,null,null,null,null,"","",{"$error":"#VALUE!"}]
[{"$f":"IF(A716<$E$10,+VLOOKUP($A716+1,Data!A:B,1,1),\"\")","v":""},{"$f":"IF(A717<E$10,+VLOOKUP($A717,Data!A:B,2,1),\"\")","v":""},null,0,{"$error":"#VALUE!"},null,null,null,null,null,null,null,null,null,null,null,null,null,null,null,null,"","",{"$error":"#VALUE!"}]
[{"$f":"IF(A717<$E$10,+VLOOKUP($A717+1,Data!A:B,1,1),\"\")","v":""},{"$f":"IF(A718<E$10,+VLOOKUP($A718,Data!A:B,2,1),\"\")","v":""},null,0,{"$error":"#VALUE!"},null,null,null,null,null,null,null,null,null,null,null,null,null,null,null,null,"","",{"$error":"#VALUE!"}]
[{"$f":"IF(A718<$E$10,+VLOOKUP($A718+1,Data!A:B,1,1),\"\")","v":""},{"$f":"IF(A719<E$10,+VLOOKUP($A719,Data!A:B,2,1),\"\")","v":""},null,0,{"$error":"#VALUE!"},null,null,null,null,null,null,null,null,null,null,null,null,null,null,null,null,"","",{"$error":"#VALUE!"}]
[{"$f":"IF(A719<$E$10,+VLOOKUP($A719+1,Data!A:B,1,1),\"\")","v":""},{"$f":"IF(A720<E$10,+VLOOKUP($A720,Data!A:B,2,1),\"\")","v":""},null,0,{"$error":"#VALUE!"},null,null,null,null,null,null,null,null,null,null,null,null,null,null,null,null,"","",{"$error":"#VALUE!"}]
[{"$f":"IF(A720<$E$10,+VLOOKUP($A720+1,Data!A:B,1,1),\"\")","v":""},{"$f":"IF(A721<E$10,+VLOOKUP($A721,Data!A:B,2,1),\"\")","v":""},null,0,{"$error":"#VALUE!"},null,null,null,null,null,null,null,null,null,null,null,null,null,null,null,null,"","",{"$error":"#VALUE!"}]
[{"$f":"IF(A721<$E$10,+VLOOKUP($A721+1,Data!A:B,1,1),\"\")","v":""},{"$f":"IF(A722<E$10,+VLOOKUP($A722,Data!A:B,2,1),\"\")","v":""},null,0,{"$error":"#VALUE!"},null,null,null,null,null,null,null,null,null,null,null,null,null,null,null,null,"","",{"$error":"#VALUE!"}]
[{"$f":"IF(A722<$E$10,+VLOOKUP($A722+1,Data!A:B,1,1),\"\")","v":""},{"$f":"IF(A723<E$10,+VLOOKUP($A723,Data!A:B,2,1),\"\")","v":""},null,0,{"$error":"#VALUE!"},null,null,null,null,null,null,null,null,null,null,null,null,null,null,null,null,"","",{"$error":"#VALUE!"}]
[{"$f":"IF(A723<$E$10,+VLOOKUP($A723+1,Data!A:B,1,1),\"\")","v":""},{"$f":"IF(A724<E$10,+VLOOKUP($A724,Data!A:B,2,1),\"\")","v":""},null,0,{"$error":"#VALUE!"},null,null,null,null,null,null,null,null,null,null,null,null,null,null,null,null,"","",{"$error":"#VALUE!"}]
[{"$f":"IF(A724<$E$10,+VLOOKUP($A724+1,Data!A:B,1,1),\"\")","v":""},{"$f":"IF(A725<E$10,+VLOOKUP($A725,Data!A:B,2,1),\"\")","v":""},null,0,{"$error":"#VALUE!"},null,null,null,null,null,null,null,null,null,null,null,null,null,null,null,null,"","",{"$error":"#VALUE!"}]
[{"$f":"IF(A725<$E$10,+VLOOKUP($A725+1,Data!A:B,1,1),\"\")","v":""},{"$f":"IF(A726<E$10,+VLOOKUP($A726,Data!A:B,2,1),\"\")","v":""},null,0,{"$error":"#VALUE!"},null,null,null,null,null,null,null,null,null,null,null,null,null,null,null,null,"","",{"$error":"#VALUE!"}]
[{"$f":"IF(A726<$E$10,+VLOOKUP($A726+1,Data!A:B,1,1),\"\")","v":""},{"$f":"IF(A727<E$10,+VLOOKUP($A727,Data!A:B,2,1),\"\")","v":""},null,0,{"$error":"#VALUE!"},null,null,null,null,null,null,null,null,null,null,null,null,null,null,null,null,"","",{"$error":"#VALUE!"}]
[{"$f":"IF(A727<$E$10,+VLOOKUP($A727+1,Data!A:B,1,1),\"\")","v":""},{"$f":"IF(A728<E$10,+VLOOKUP($A728,Data!A:B,2,1),\"\")","v":""},null,0,{"$error":"#VALUE!"},null,null,null,null,null,null,null,null,null,null,null,null,null,null,null,null,"","",{"$error":"#VALUE!"}]
[{"$f":"IF(A728<$E$10,+VLOOKUP($A728+1,Data!A:B,1,1),\"\")","v":""},{"$f":"IF(A729<E$10,+VLOOKUP($A729,Data!A:B,2,1),\"\")","v":""},null,0,{"$error":"#VALUE!"},null,null,null,null,null,null,null,null,null,null,null,null,null,null,null,null,"","",{"$error":"#VALUE!"}]
[{"$f":"IF(A729<$E$10,+VLOOKUP($A729+1,Data!A:B,1,1),\"\")","v":""},{"$f":"IF(A730<E$10,+VLOOKUP($A730,Data!A:B,2,1),\"\")","v":""},null,0,{"$error":"#VALUE!"},null,null,null,null,null,null,null,null,null,null,null,null,null,null,null,null,"","",{"$error":"#VALUE!"}]
[{"$f":"IF(A730<$E$10,+VLOOKUP($A730+1,Data!A:B,1,1),\"\")","v":""},{"$f":"IF(A731<E$10,+VLOOKUP($A731,Data!A:B,2,1),\"\")","v":""},null,0,{"$error":"#VALUE!"},null,null,null,null,null,null,null,null,null,null,null,null,null,null,null,null,"","",{"$error":"#VALUE!"}]
[{"$f":"IF(A731<$E$10,+VLOOKUP($A731+1,Data!A:B,1,1),\"\")","v":""},{"$f":"IF(A732<E$10,+VLOOKUP($A732,Data!A:B,2,1),\"\")","v":""},null,0,{"$error":"#VALUE!"},null,null,null,null,null,null,null,null,null,null,null,null,null,null,null,null,"","",{"$error":"#VALUE!"}]
[{"$f":"IF(A732<$E$10,+VLOOKUP($A732+1,Data!A:B,1,1),\"\")","v":""},{"$f":"IF(A733<E$10,+VLOOKUP($A733,Data!A:B,2,1),\"\")","v":""},null,0,{"$error":"#VALUE!"},null,null,null,null,null,null,null,null,null,null,null,null,null,null,null,null,"","",{"$error":"#VALUE!"}]
[{"$f":"IF(A733<$E$10,+VLOOKUP($A733+1,Data!A:B,1,1),\"\")","v":""},{"$f":"IF(A734<E$10,+VLOOKUP($A734,Data!A:B,2,1),\"\")","v":""},null,0,{"$error":"#VALUE!"},null,null,null,null,null,null,null,null,null,null,null,null,null,null,null,null,"","",{"$error":"#VALUE!"}]
[{"$f":"IF(A734<$E$10,+VLOOKUP($A734+1,Data!A:B,1,1),\"\")","v":""},{"$f":"IF(A735<E$10,+VLOOKUP($A735,Data!A:B,2,1),\"\")","v":""},null,0,{"$error":"#VALUE!"},null,null,null,null,null,null,null,null,null,null,null,null,null,null,null,null,"","",{"$error":"#VALUE!"}]
[{"$f":"IF(A735<$E$10,+VLOOKUP($A735+1,Data!A:B,1,1),\"\")","v":""},{"$f":"IF(A736<E$10,+VLOOKUP($A736,Data!A:B,2,1),\"\")","v":""},null,0,{"$error":"#VALUE!"},null,null,null,null,null,null,null,null,null,null,null,null,null,null,null,null,"","",{"$error":"#VALUE!"}]
[{"$f":"IF(A736<$E$10,+VLOOKUP($A736+1,Data!A:B,1,1),\"\")","v":""},{"$f":"IF(A737<E$10,+VLOOKUP($A737,Data!A:B,2,1),\"\")","v":""},null,0,{"$error":"#VALUE!"},null,null,null,null,null,null,null,null,null,null,null,null,null,null,null,null,"","",{"$error":"#VALUE!"}]
[{"$f":"IF(A737<$E$10,+VLOOKUP($A737+1,Data!A:B,1,1),\"\")","v":""},{"$f":"IF(A738<E$10,+VLOOKUP($A738,Data!A:B,2,1),\"\")","v":""},null,0,{"$error":"#VALUE!"},null,null,null,null,null,null,null,null,null,null,null,null,null,null,null,null,"","",{"$error":"#VALUE!"}]
[{"$f":"IF(A738<$E$10,+VLOOKUP($A738+1,Data!A:B,1,1),\"\")","v":""},{"$f":"IF(A739<E$10,+VLOOKUP($A739,Data!A:B,2,1),\"\")","v":""},null,{"$f":"+IF(AND(A739<$H$9,A739>$H$8),B739-X739,0)","v":0},{"$f":"+D739/X739","v":{"$error":"#VALUE!"}},null,null,null,null,null,null,null,null,null,null,null,null,null,null,null,null,{"$f":"+IF(AND($A739>$H$6,$A739<$H$7),$B739,\"\")","v":""},{"$f":"+IF(AND($A739>$H$10,$A739<$H$11),$B739,\"\")","v":""},{"$f":"+$G$15+(A739-$G$14)*$H$16","v":{"$error":"#VALUE!"}}]
[{"$f":"IF(A739<$E$10,+VLOOKUP($A739+1,Data!A:B,1,1),\"\")","v":""},{"$f":"IF(A740<E$10,+VLOOKUP($A740,Data!A:B,2,1),\"\")","v":""},null,0,{"$error":"#VALUE!"},null,null,null,null,null,null,null,null,null,null,null,null,null,null,null,null,"","",{"$error":"#VALUE!"}]
[{"$f":"IF(A740<$E$10,+VLOOKUP($A740+1,Data!A:B,1,1),\"\")","v":""},{"$f":"IF(A741<E$10,+VLOOKUP($A741,Data!A:B,2,1),\"\")","v":""},null,0,{"$error":"#VALUE!"},null,null,null,null,null,null,null,null,null,null,null,null,null,null,null,null,"","",{"$error":"#VALUE!"}]
[{"$f":"IF(A741<$E$10,+VLOOKUP($A741+1,Data!A:B,1,1),\"\")","v":""},{"$f":"IF(A742<E$10,+VLOOKUP($A742,Data!A:B,2,1),\"\")","v":""},null,0,{"$error":"#VALUE!"},null,null,null,null,null,null,null,null,null,null,null,null,null,null,null,null,"","",{"$error":"#VALUE!"}]
[{"$f":"IF(A742<$E$10,+VLOOKUP($A742+1,Data!A:B,1,1),\"\")","v":""},{"$f":"IF(A743<E$10,+VLOOKUP($A743,Data!A:B,2,1),\"\")","v":""},null,0,{"$error":"#VALUE!"},null,null,null,null,null,null,null,null,null,null,null,null,null,null,null,null,"","",{"$error":"#VALUE!"}]
[{"$f":"IF(A743<$E$10,+VLOOKUP($A743+1,Data!A:B,1,1),\"\")","v":""},{"$f":"IF(A744<E$10,+VLOOKUP($A744,Data!A:B,2,1),\"\")","v":""},null,0,{"$error":"#VALUE!"},null,null,null,null,null,null,null,null,null,null,null,null,null,null,null,null,"","",{"$error":"#VALUE!"}]
[{"$f":"IF(A744<$E$10,+VLOOKUP($A744+1,Data!A:B,1,1),\"\")","v":""},{"$f":"IF(A745<E$10,+VLOOKUP($A745,Data!A:B,2,1),\"\")","v":""},null,0,{"$error":"#VALUE!"},null,null,null,null,null,null,null,null,null,null,null,null,null,null,null,null,"","",{"$error":"#VALUE!"}]
[{"$f":"IF(A745<$E$10,+VLOOKUP($A745+1,Data!A:B,1,1),\"\")","v":""},{"$f":"IF(A746<E$10,+VLOOKUP($A746,Data!A:B,2,1),\"\")","v":""},null,0,{"$error":"#VALUE!"},null,null,null,null,null,null,null,null,null,null,null,null,null,null,null,null,"","",{"$error":"#VALUE!"}]
[{"$f":"IF(A746<$E$10,+VLOOKUP($A746+1,Data!A:B,1,1),\"\")","v":""},{"$f":"IF(A747<E$10,+VLOOKUP($A747,Data!A:B,2,1),\"\")","v":""},null,0,{"$error":"#VALUE!"},null,null,null,null,null,null,null,null,null,null,null,null,null,null,null,null,"","",{"$error":"#VALUE!"}]
[{"$f":"IF(A747<$E$10,+VLOOKUP($A747+1,Data!A:B,1,1),\"\")","v":""},{"$f":"IF(A748<E$10,+VLOOKUP($A748,Data!A:B,2,1),\"\")","v":""},null,0,{"$error":"#VALUE!"},null,null,null,null,null,null,null,null,null,null,null,null,null,null,null,null,"","",{"$error":"#VALUE!"}]
[{"$f":"IF(A748<$E$10,+VLOOKUP($A748+1,Data!A:B,1,1),\"\")","v":""},{"$f":"IF(A749<E$10,+VLOOKUP($A749,Data!A:B,2,1),\"\")","v":""},null,0,{"$error":"#VALUE!"},null,null,null,null,null,null,null,null,null,null,null,null,null,null,null,null,"","",{"$error":"#VALUE!"}]
[{"$f":"IF(A749<$E$10,+VLOOKUP($A749+1,Data!A:B,1,1),\"\")","v":""},{"$f":"IF(A750<E$10,+VLOOKUP($A750,Data!A:B,2,1),\"\")","v":""},null,0,{"$error":"#VALUE!"},null,null,null,null,null,null,null,null,null,null,null,null,null,null,null,null,"","",{"$error":"#VALUE!"}]
[{"$f":"IF(A750<$E$10,+VLOOKUP($A750+1,Data!A:B,1,1),\"\")","v":""},{"$f":"IF(A751<E$10,+VLOOKUP($A751,Data!A:B,2,1),\"\")","v":""},null,0,{"$error":"#VALUE!"},null,null,null,null,null,null,null,null,null,null,null,null,null,null,null,null,"","",{"$error":"#VALUE!"}]
[{"$f":"IF(A751<$E$10,+VLOOKUP($A751+1,Data!A:B,1,1),\"\")","v":""},{"$f":"IF(A752<E$10,+VLOOKUP($A752,Data!A:B,2,1),\"\")","v":""},null,0,{"$error":"#VALUE!"},null,null,null,null,null,null,null,null,null,null,null,null,null,null,null,null,"","",{"$error":"#VALUE!"}]
[{"$f":"IF(A752<$E$10,+VLOOKUP($A752+1,Data!A:B,1,1),\"\")","v":""},{"$f":"IF(A753<E$10,+VLOOKUP($A753,Data!A:B,2,1),\"\")","v":""},null,0,{"$error":"#VALUE!"},null,null,null,null,null,null,null,null,null,null,null,null,null,null,null,null,"","",{"$error":"#VALUE!"}]
[{"$f":"IF(A753<$E$10,+VLOOKUP($A753+1,Data!A:B,1,1),\"\")","v":""},{"$f":"IF(A754<E$10,+VLOOKUP($A754,Data!A:B,2,1),\"\")","v":""},null,0,{"$error":"#VALUE!"},null,null,null,null,null,null,null,null,null,null,null,null,null,null,null,null,"","",{"$error":"#VALUE!"}]
[{"$f":"IF(A754<$E$10,+VLOOKUP($A754+1,Data!A:B,1,1),\"\")","v":""},{"$f":"IF(A755<E$10,+VLOOKUP($A755,Data!A:B,2,1),\"\")","v":""},null,0,{"$error":"#VALUE!"},null,null,null,null,null,null,null,null,null,null,null,null,null,null,null,null,"","",{"$error":"#VALUE!"}]
[{"$f":"IF(A755<$E$10,+VLOOKUP($A755+1,Data!A:B,1,1),\"\")","v":""},{"$f":"IF(A756<E$10,+VLOOKUP($A756,Data!A:B,2,1),\"\")","v":""},null,0,{"$error":"#VALUE!"},null,null,null,null,null,null,null,null,null,null,null,null,null,null,null,null,"","",{"$error":"#VALUE!"}]
[{"$f":"IF(A756<$E$10,+VLOOKUP($A756+1,Data!A:B,1,1),\"\")","v":""},{"$f":"IF(A757<E$10,+VLOOKUP($A757,Data!A:B,2,1),\"\")","v":""},null,0,{"$error":"#VALUE!"},null,null,null,null,null,null,null,null,null,null,null,null,null,null,null,null,"","",{"$error":"#VALUE!"}]
[{"$f":"IF(A757<$E$10,+VLOOKUP($A757+1,Data!A:B,1,1),\"\")","v":""},{"$f":"IF(A758<E$10,+VLOOKUP($A758,Data!A:B,2,1),\"\")","v":""},null,0,{"$error":"#VALUE!"},null,null,null,null,null,null,null,null,null,null,null,null,null,null,null,null,"","",{"$error":"#VALUE!"}]
[{"$f":"IF(A758<$E$10,+VLOOKUP($A758+1,Data!A:B,1,1),\"\")","v":""},{"$f":"IF(A759<E$10,+VLOOKUP($A759,Data!A:B,2,1),\"\")","v":""},null,0,{"$error":"#VALUE!"},null,null,null,null,null,null,null,null,null,null,null,null,null,null,null,null,"","",{"$error":"#VALUE!"}]
[{"$f":"IF(A759<$E$10,+VLOOKUP($A759+1,Data!A:B,1,1),\"\")","v":""},{"$f":"IF(A760<E$10,+VLOOKUP($A760,Data!A:B,2,1),\"\")","v":""},null,0,{"$error":"#VALUE!"},null,null,null,null,null,null,null,null,null,null,null,null,null,null,null,null,"","",{"$error":"#VALUE!"}]
[{"$f":"IF(A760<$E$10,+VLOOKUP($A760+1,Data!A:B,1,1),\"\")","v":""},{"$f":"IF(A761<E$10,+VLOOKUP($A761,Data!A:B,2,1),\"\")","v":""},null,0,{"$error":"#VALUE!"},null,null,null,null,null,null,null,null,null,null,null,null,null,null,null,null,"","",{"$error":"#VALUE!"}]
[{"$f":"IF(A761<$E$10,+VLOOKUP($A761+1,Data!A:B,1,1),\"\")","v":""},{"$f":"IF(A762<E$10,+VLOOKUP($A762,Data!A:B,2,1),\"\")","v":""},null,0,{"$error":"#VALUE!"},null,null,null,null,null,null,null,null,null,null,null,null,null,null,null,null,"","",{"$error":"#VALUE!"}]
[{"$f":"IF(A762<$E$10,+VLOOKUP($A762+1,Data!A:B,1,1),\"\")","v":""},{"$f":"IF(A763<E$10,+VLOOKUP($A763,Data!A:B,2,1),\"\")","v":""},null,0,{"$error":"#VALUE!"},null,null,null,null,null,null,null,null,null,null,null,null,null,null,null,null,"","",{"$error":"#VALUE!"}]
[{"$f":"IF(A763<$E$10,+VLOOKUP($A763+1,Data!A:B,1,1),\"\")","v":""},{"$f":"IF(A764<E$10,+VLOOKUP($A764,Data!A:B,2,1),\"\")","v":""},null,0,{"$error":"#VALUE!"},null,null,null,null,null,null,null,null,null,null,null,null,null,null,null,null,"","",{"$error":"#VALUE!"}]
[{"$f":"IF(A764<$E$10,+VLOOKUP($A764+1,Data!A:B,1,1),\"\")","v":""},{"$f":"IF(A765<E$10,+VLOOKUP($A765,Data!A:B,2,1),\"\")","v":""},null,0,{"$error":"#VALUE!"},null,null,null,null,null,null,null,null,null,null,null,null,null,null,null,null,"","",{"$error":"#VALUE!"}]
[{"$f":"IF(A765<$E$10,+VLOOKUP($A765+1,Data!A:B,1,1),\"\")","v":""},{"$f":"IF(A766<E$10,+VLOOKUP($A766,Data!A:B,2,1),\"\")","v":""},null,0,{"$error":"#VALUE!"},null,null,null,null,null,null,null,null,null,null,null,null,null,null,null,null,"","",{"$error":"#VALUE!"}]
[{"$f":"IF(A766<$E$10,+VLOOKUP($A766+1,Data!A:B,1,1),\"\")","v":""},{"$f":"IF(A767<E$10,+VLOOKUP($A767,Data!A:B,2,1),\"\")","v":""},null,0,{"$error":"#VALUE!"},null,null,null,null,null,null,null,null,null,null,null,null,null,null,null,null,"","",{"$error":"#VALUE!"}]
[{"$f":"IF(A767<$E$10,+VLOOKUP($A767+1,Data!A:B,1,1),\"\")","v":""},{"$f":"IF(A768<E$10,+VLOOKUP($A768,Data!A:B,2,1),\"\")","v":""},null,0,{"$error":"#VALUE!"},null,null,null,null,null,null,null,null,null,null,null,null,null,null,null,null,"","",{"$error":"#VALUE!"}]
[{"$f":"IF(A768<$E$10,+VLOOKUP($A768+1,Data!A:B,1,1),\"\")","v":""},{"$f":"IF(A769<E$10,+VLOOKUP($A769,Data!A:B,2,1),\"\")","v":""},null,0,{"$error":"#VALUE!"},null,null,null,null,null,null,null,null,null,null,null,null,null,null,null,null,"","",{"$error":"#VALUE!"}]
[{"$f":"IF(A769<$E$10,+VLOOKUP($A769+1,Data!A:B,1,1),\"\")","v":""},{"$f":"IF(A770<E$10,+VLOOKUP($A770,Data!A:B,2,1),\"\")","v":""},null,0,{"$error":"#VALUE!"},null,null,null,null,null,null,null,null,null,null,null,null,null,null,null,null,"","",{"$error":"#VALUE!"}]
[{"$f":"IF(A770<$E$10,+VLOOKUP($A770+1,Data!A:B,1,1),\"\")","v":""},{"$f":"IF(A771<E$10,+VLOOKUP($A771,Data!A:B,2,1),\"\")","v":""},null,0,{"$error":"#VALUE!"},null,null,null,null,null,null,null,null,null,null,null,null,null,null,null,null,"","",{"$error":"#VALUE!"}]
[{"$f":"IF(A771<$E$10,+VLOOKUP($A771+1,Data!A:B,1,1),\"\")","v":""},{"$f":"IF(A772<E$10,+VLOOKUP($A772,Data!A:B,2,1),\"\")","v":""},null,0,{"$error":"#VALUE!"},null,null,null,null,null,null,null,null,null,null,null,null,null,null,null,null,"","",{"$error":"#VALUE!"}]
[{"$f":"IF(A772<$E$10,+VLOOKUP($A772+1,Data!A:B,1,1),\"\")","v":""},{"$f":"IF(A773<E$10,+VLOOKUP($A773,Data!A:B,2,1),\"\")","v":""},null,0,{"$error":"#VALUE!"},null,null,null,null,null,null,null,null,null,null,null,null,null,null,null,null,"","",{"$error":"#VALUE!"}]
[{"$f":"IF(A773<$E$10,+VLOOKUP($A773+1,Data!A:B,1,1),\"\")","v":""},{"$f":"IF(A774<E$10,+VLOOKUP($A774,Data!A:B,2,1),\"\")","v":""},null,0,{"$error":"#VALUE!"},null,null,null,null,null,null,null,null,null,null,null,null,null,null,null,null,"","",{"$error":"#VALUE!"}]
[{"$f":"IF(A774<$E$10,+VLOOKUP($A774+1,Data!A:B,1,1),\"\")","v":""},{"$f":"IF(A775<E$10,+VLOOKUP($A775,Data!A:B,2,1),\"\")","v":""},null,0,{"$error":"#VALUE!"},null,null,null,null,null,null,null,null,null,null,null,null,null,null,null,null,"","",{"$error":"#VALUE!"}]
[{"$f":"IF(A775<$E$10,+VLOOKUP($A775+1,Data!A:B,1,1),\"\")","v":""},{"$f":"IF(A776<E$10,+VLOOKUP($A776,Data!A:B,2,1),\"\")","v":""},null,0,{"$error":"#VALUE!"},null,null,null,null,null,null,null,null,null,null,null,null,null,null,null,null,"","",{"$error":"#VALUE!"}]
[{"$f":"IF(A776<$E$10,+VLOOKUP($A776+1,Data!A:B,1,1),\"\")","v":""},{"$f":"IF(A777<E$10,+VLOOKUP($A777,Data!A:B,2,1),\"\")","v":""},null,0,{"$error":"#VALUE!"},null,null,null,null,null,null,null,null,null,null,null,null,null,null,null,null,"","",{"$error":"#VALUE!"}]
[{"$f":"IF(A777<$E$10,+VLOOKUP($A777+1,Data!A:B,1,1),\"\")","v":""},{"$f":"IF(A778<E$10,+VLOOKUP($A778,Data!A:B,2,1),\"\")","v":""},null,0,{"$error":"#VALUE!"},null,null,null,null,null,null,null,null,null,null,null,null,null,null,null,null,"","",{"$error":"#VALUE!"}]
[{"$f":"IF(A778<$E$10,+VLOOKUP($A778+1,Data!A:B,1,1),\"\")","v":""},{"$f":"IF(A779<E$10,+VLOOKUP($A779,Data!A:B,2,1),\"\")","v":""},null,0,{"$error":"#VALUE!"},null,null,null,null,null,null,null,null,null,null,null,null,null,null,null,null,"","",{"$error":"#VALUE!"}]
[{"$f":"IF(A779<$E$10,+VLOOKUP($A779+1,Data!A:B,1,1),\"\")","v":""},{"$f":"IF(A780<E$10,+VLOOKUP($A780,Data!A:B,2,1),\"\")","v":""},null,0,{"$error":"#VALUE!"},null,null,null,null,null,null,null,null,null,null,null,null,null,null,null,null,"","",{"$error":"#VALUE!"}]
[{"$f":"IF(A780<$E$10,+VLOOKUP($A780+1,Data!A:B,1,1),\"\")","v":""},{"$f":"IF(A781<E$10,+VLOOKUP($A781,Data!A:B,2,1),\"\")","v":""},null,0,{"$error":"#VALUE!"},null,null,null,null,null,null,null,null,null,null,null,null,null,null,null,null,"","",{"$error":"#VALUE!"}]
[{"$f":"IF(A781<$E$10,+VLOOKUP($A781+1,Data!A:B,1,1),\"\")","v":""},{"$f":"IF(A782<E$10,+VLOOKUP($A782,Data!A:B,2,1),\"\")","v":""},null,0,{"$error":"#VALUE!"},null,null,null,null,null,null,null,null,null,null,null,null,null,null,null,null,"","",{"$error":"#VALUE!"}]
[{"$f":"IF(A782<$E$10,+VLOOKUP($A782+1,Data!A:B,1,1),\"\")","v":""},{"$f":"IF(A783<E$10,+VLOOKUP($A783,Data!A:B,2,1),\"\")","v":""},null,0,{"$error":"#VALUE!"},null,null,null,null,null,null,null,null,null,null,null,null,null,null,null,null,"","",{"$error":"#VALUE!"}]
[{"$f":"IF(A783<$E$10,+VLOOKUP($A783+1,Data!A:B,1,1),\"\")","v":""},{"$f":"IF(A784<E$10,+VLOOKUP($A784,Data!A:B,2,1),\"\")","v":""},null,0,{"$error":"#VALUE!"},null,null,null,null,null,null,null,null,null,null,null,null,null,null,null,null,"","",{"$error":"#VALUE!"}]
[{"$f":"IF(A784<$E$10,+VLOOKUP($A784+1,Data!A:B,1,1),\"\")","v":""},{"$f":"IF(A785<E$10,+VLOOKUP($A785,Data!A:B,2,1),\"\")","v":""},null,0,{"$error":"#VALUE!"},null,null,null,null,null,null,null,null,null,null,null,null,null,null,null,null,"","",{"$error":"#VALUE!"}]
[{"$f":"IF(A785<$E$10,+VLOOKUP($A785+1,Data!A:B,1,1),\"\")","v":""},{"$f":"IF(A786<E$10,+VLOOKUP($A786,Data!A:B,2,1),\"\")","v":""},null,0,{"$error":"#VALUE!"},null,null,null,null,null,null,null,null,null,null,null,null,null,null,null,null,"","",{"$error":"#VALUE!"}]
[{"$f":"IF(A786<$E$10,+VLOOKUP($A786+1,Data!A:B,1,1),\"\")","v":""},{"$f":"IF(A787<E$10,+VLOOKUP($A787,Data!A:B,2,1),\"\")","v":""},null,0,{"$error":"#VALUE!"},null,null,null,null,null,null,null,null,null,null,null,null,null,null,null,null,"","",{"$error":"#VALUE!"}]
[{"$f":"IF(A787<$E$10,+VLOOKUP($A787+1,Data!A:B,1,1),\"\")","v":""},{"$f":"IF(A788<E$10,+VLOOKUP($A788,Data!A:B,2,1),\"\")","v":""},null,0,{"$error":"#VALUE!"},null,null,null,null,null,null,null,null,null,null,null,null,null,null,null,null,"","",{"$error":"#VALUE!"}]
[{"$f":"IF(A788<$E$10,+VLOOKUP($A788+1,Data!A:B,1,1),\"\")","v":""},{"$f":"IF(A789<E$10,+VLOOKUP($A789,Data!A:B,2,1),\"\")","v":""},null,0,{"$error":"#VALUE!"},null,null,null,null,null,null,null,null,null,null,null,null,null,null,null,null,"","",{"$error":"#VALUE!"}]
[{"$f":"IF(A789<$E$10,+VLOOKUP($A789+1,Data!A:B,1,1),\"\")","v":""},{"$f":"IF(A790<E$10,+VLOOKUP($A790,Data!A:B,2,1),\"\")","v":""},null,0,{"$error":"#VALUE!"},null,null,null,null,null,null,null,null,null,null,null,null,null,null,null,null,"","",{"$error":"#VALUE!"}]
[{"$f":"IF(A790<$E$10,+VLOOKUP($A790+1,Data!A:B,1,1),\"\")","v":""},{"$f":"IF(A791<E$10,+VLOOKUP($A791,Data!A:B,2,1),\"\")","v":""},null,0,{"$error":"#VALUE!"},null,null,null,null,null,null,null,null,null,null,null,null,null,null,null,null,"","",{"$error":"#VALUE!"}]
[{"$f":"IF(A791<$E$10,+VLOOKUP($A791+1,Data!A:B,1,1),\"\")","v":""},{"$f":"IF(A792<E$10,+VLOOKUP($A792,Data!A:B,2,1),\"\")","v":""},null,0,{"$error":"#VALUE!"},null,null,null,null,null,null,null,null,null,null,null,null,null,null,null,null,"","",{"$error":"#VALUE!"}]
[{"$f":"IF(A792<$E$10,+VLOOKUP($A792+1,Data!A:B,1,1),\"\")","v":""},{"$f":"IF(A793<E$10,+VLOOKUP($A793,Data!A:B,2,1),\"\")","v":""},null,0,{"$error":"#VALUE!"},null,null,null,null,null,null,null,null,null,null,null,null,null,null,null,null,"","",{"$error":"#VALUE!"}]
[{"$f":"IF(A793<$E$10,+VLOOKUP($A793+1,Data!A:B,1,1),\"\")","v":""},{"$f":"IF(A794<E$10,+VLOOKUP($A794,Data!A:B,2,1),\"\")","v":""},null,0,{"$error":"#VALUE!"},null,null,null,null,null,null,null,null,null,null,null,null,null,null,null,null,"","",{"$error":"#VALUE!"}]
[{"$f":"IF(A794<$E$10,+VLOOKUP($A794+1,Data!A:B,1,1),\"\")","v":""},{"$f":"IF(A795<E$10,+VLOOKUP($A795,Data!A:B,2,1),\"\")","v":""},null,0,{"$error":"#VALUE!"},null,null,null,null,null,null,null,null,null,null,null,null,null,null,null,null,"","",{"$error":"#VALUE!"}]
[{"$f":"IF(A795<$E$10,+VLOOKUP($A795+1,Data!A:B,1,1),\"\")","v":""},{"$f":"IF(A796<E$10,+VLOOKUP($A796,Data!A:B,2,1),\"\")","v":""},null,0,{"$error":"#VALUE!"},null,null,null,null,null,null,null,null,null,null,null,null,null,null,null,null,"","",{"$error":"#VALUE!"}]
[{"$f":"IF(A796<$E$10,+VLOOKUP($A796+1,Data!A:B,1,1),\"\")","v":""},{"$f":"IF(A797<E$10,+VLOOKUP($A797,Data!A:B,2,1),\"\")","v":""},null,0,{"$error":"#VALUE!"},null,null,null,null,null,null,null,null,null,null,null,null,null,null,null,null,"","",{"$error":"#VALUE!"}]
[{"$f":"IF(A797<$E$10,+VLOOKUP($A797+1,Data!A:B,1,1),\"\")","v":""},{"$f":"IF(A798<E$10,+VLOOKUP($A798,Data!A:B,2,1),\"\")","v":""},null,0,{"$error":"#VALUE!"},null,null,null,null,null,null,null,null,null,null,null,null,null,null,null,null,"","",{"$error":"#VALUE!"}]
[{"$f":"IF(A798<$E$10,+VLOOKUP($A798+1,Data!A:B,1,1),\"\")","v":""},{"$f":"IF(A799<E$10,+VLOOKUP($A799,Data!A:B,2,1),\"\")","v":""},null,0,{"$error":"#VALUE!"},null,null,null,null,null,null,null,null,null,null,null,null,null,null,null,null,"","",{"$error":"#VALUE!"}]
[{"$f":"IF(A799<$E$10,+VLOOKUP($A799+1,Data!A:B,1,1),\"\")","v":""},{"$f":"IF(A800<E$10,+VLOOKUP($A800,Data!A:B,2,1),\"\")","v":""},null,0,{"$error":"#VALUE!"},null,null,null,null,null,null,null,null,null,null,null,null,null,null,null,null,"","",{"$error":"#VALUE!"}]
[{"$f":"IF(A800<$E$10,+VLOOKUP($A800+1,Data!A:B,1,1),\"\")","v":""},{"$f":"IF(A801<E$10,+VLOOKUP($A801,Data!A:B,2,1),\"\")","v":""},null,0,{"$error":"#VALUE!"},null,null,null,null,null,null,null,null,null,null,null,null,null,null,null,null,"","",{"$error":"#VALUE!"}]
[{"$f":"IF(A801<$E$10,+VLOOKUP($A801+1,Data!A:B,1,1),\"\")","v":""},{"$f":"IF(A802<E$10,+VLOOKUP($A802,Data!A:B,2,1),\"\")","v":""},null,0,{"$error":"#VALUE!"},null,null,null,null,null,null,null,null,null,null,null,null,null,null,null,null,"","",{"$error":"#VALUE!"}]
[{"$f":"IF(A802<$E$10,+VLOOKUP($A802+1,Data!A:B,1,1),\"\")","v":""},{"$f":"IF(A803<E$10,+VLOOKUP($A803,Data!A:B,2,1),\"\")","v":""},null,{"$f":"+IF(AND(A803<$H$9,A803>$H$8),B803-X803,0)","v":0},{"$f":"+D803/X803","v":{"$error":"#VALUE!"}},null,null,null,null,null,null,null,null,null,null,null,null,null,null,null,null,{"$f":"+IF(AND($A803>$H$6,$A803<$H$7),$B803,\"\")","v":""},{"$f":"+IF(AND($A803>$H$10,$A803<$H$11),$B803,\"\")","v":""},{"$f":"+$G$15+(A803-$G$14)*$H$16","v":{"$error":"#VALUE!"}}]
[{"$f":"IF(A803<$E$10,+VLOOKUP($A803+1,Data!A:B,1,1),\"\")","v":""},{"$f":"IF(A804<E$10,+VLOOKUP($A804,Data!A:B,2,1),\"\")","v":""},null,0,{"$error":"#VALUE!"},null,null,null,null,null,null,null,null,null,null,null,null,null,null,null,null,"","",{"$error":"#VALUE!"}]
[{"$f":"IF(A804<$E$10,+VLOOKUP($A804+1,Data!A:B,1,1),\"\")","v":""},{"$f":"IF(A805<E$10,+VLOOKUP($A805,Data!A:B,2,1),\"\")","v":""},null,0,{"$error":"#VALUE!"},null,null,null,null,null,null,null,null,null,null,null,null,null,null,null,null,"","",{"$error":"#VALUE!"}]
[{"$f":"IF(A805<$E$10,+VLOOKUP($A805+1,Data!A:B,1,1),\"\")","v":""},{"$f":"IF(A806<E$10,+VLOOKUP($A806,Data!A:B,2,1),\"\")","v":""},null,0,{"$error":"#VALUE!"},null,null,null,null,null,null,null,null,null,null,null,null,null,null,null,null,"","",{"$error":"#VALUE!"}]
[{"$f":"IF(A806<$E$10,+VLOOKUP($A806+1,Data!A:B,1,1),\"\")","v":""},{"$f":"IF(A807<E$10,+VLOOKUP($A807,Data!A:B,2,1),\"\")","v":""},null,0,{"$error":"#VALUE!"},null,null,null,null,null,null,null,null,null,null,null,null,null,null,null,null,"","",{"$error":"#VALUE!"}]
[{"$f":"IF(A807<$E$10,+VLOOKUP($A807+1,Data!A:B,1,1),\"\")","v":""},{"$f":"IF(A808<E$10,+VLOOKUP($A808,Data!A:B,2,1),\"\")","v":""},null,0,{"$error":"#VALUE!"},null,null,null,null,null,null,null,null,null,null,null,null,null,null,null,null,"","",{"$error":"#VALUE!"}]
[{"$f":"IF(A808<$E$10,+VLOOKUP($A808+1,Data!A:B,1,1),\"\")","v":""},{"$f":"IF(A809<E$10,+VLOOKUP($A809,Data!A:B,2,1),\"\")","v":""},null,0,{"$error":"#VALUE!"},null,null,null,null,null,null,null,null,null,null,null,null,null,null,null,null,"","",{"$error":"#VALUE!"}]
[{"$f":"IF(A809<$E$10,+VLOOKUP($A809+1,Data!A:B,1,1),\"\")","v":""},{"$f":"IF(A810<E$10,+VLOOKUP($A810,Data!A:B,2,1),\"\")","v":""},null,0,{"$error":"#VALUE!"},null,null,null,null,null,null,null,null,null,null,null,null,null,null,null,null,"","",{"$error":"#VALUE!"}]
[{"$f":"IF(A810<$E$10,+VLOOKUP($A810+1,Data!A:B,1,1),\"\")","v":""},{"$f":"IF(A811<E$10,+VLOOKUP($A811,Data!A:B,2,1),\"\")","v":""},null,0,{"$error":"#VALUE!"},null,null,null,null,null,null,null,null,null,null,null,null,null,null,null,null,"","",{"$error":"#VALUE!"}]
[{"$f":"IF(A811<$E$10,+VLOOKUP($A811+1,Data!A:B,1,1),\"\")","v":""},{"$f":"IF(A812<E$10,+VLOOKUP($A812,Data!A:B,2,1),\"\")","v":""},null,0,{"$error":"#VALUE!"},null,null,null,null,null,null,null,null,null,null,null,null,null,null,null,null,"","",{"$error":"#VALUE!"}]
[{"$f":"IF(A812<$E$10,+VLOOKUP($A812+1,Data!A:B,1,1),\"\")","v":""},{"$f":"IF(A813<E$10,+VLOOKUP($A813,Data!A:B,2,1),\"\")","v":""},null,0,{"$error":"#VALUE!"},null,null,null,null,null,null,null,null,null,null,null,null,null,null,null,null,"","",{"$error":"#VALUE!"}]
[{"$f":"IF(A813<$E$10,+VLOOKUP($A813+1,Data!A:B,1,1),\"\")","v":""},{"$f":"IF(A814<E$10,+VLOOKUP($A814,Data!A:B,2,1),\"\")","v":""},null,0,{"$error":"#VALUE!"},null,null,null,null,null,null,null,null,null,null,null,null,null,null,null,null,"","",{"$error":"#VALUE!"}]
[{"$f":"IF(A814<$E$10,+VLOOKUP($A814+1,Data!A:B,1,1),\"\")","v":""},{"$f":"IF(A815<E$10,+VLOOKUP($A815,Data!A:B,2,1),\"\")","v":""},null,0,{"$error":"#VALUE!"},null,null,null,null,null,null,null,null,null,null,null,null,null,null,null,null,"","",{"$error":"#VALUE!"}]
[{"$f":"IF(A815<$E$10,+VLOOKUP($A815+1,Data!A:B,1,1),\"\")","v":""},{"$f":"IF(A816<E$10,+VLOOKUP($A816,Data!A:B,2,1),\"\")","v":""},null,0,{"$error":"#VALUE!"},null,null,null,null,null,null,null,null,null,null,null,null,null,null,null,null,"","",{"$error":"#VALUE!"}]
[{"$f":"IF(A816<$E$10,+VLOOKUP($A816+1,Data!A:B,1,1),\"\")","v":""},{"$f":"IF(A817<E$10,+VLOOKUP($A817,Data!A:B,2,1),\"\")","v":""},null,0,{"$error":"#VALUE!"},null,null,null,null,null,null,null,null,null,null,null,null,null,null,null,null,"","",{"$error":"#VALUE!"}]
[{"$f":"IF(A817<$E$10,+VLOOKUP($A817+1,Data!A:B,1,1),\"\")","v":""},{"$f":"IF(A818<E$10,+VLOOKUP($A818,Data!A:B,2,1),\"\")","v":""},null,0,{"$error":"#VALUE!"},null,null,null,null,null,null,null,null,null,null,null,null,null,null,null,null,"","",{"$error":"#VALUE!"}]
[{"$f":"IF(A818<$E$10,+VLOOKUP($A818+1,Data!A:B,1,1),\"\")","v":""},{"$f":"IF(A819<E$10,+VLOOKUP($A819,Data!A:B,2,1),\"\")","v":""},null,0,{"$error":"#VALUE!"},null,null,null,null,null,null,null,null,null,null,null,null,null,null,null,null,"","",{"$error":"#VALUE!"}]
[{"$f":"IF(A819<$E$10,+VLOOKUP($A819+1,Data!A:B,1,1),\"\")","v":""},{"$f":"IF(A820<E$10,+VLOOKUP($A820,Data!A:B,2,1),\"\")","v":""},null,0,{"$error":"#VALUE!"},null,null,null,null,null,null,null,null,null,null,null,null,null,null,null,null,"","",{"$error":"#VALUE!"}]
[{"$f":"IF(A820<$E$10,+VLOOKUP($A820+1,Data!A:B,1,1),\"\")","v":""},{"$f":"IF(A821<E$10,+VLOOKUP($A821,Data!A:B,2,1),\"\")","v":""},null,0,{"$error":"#VALUE!"},null,null,null,null,null,null,null,null,null,null,null,null,null,null,null,null,"","",{"$error":"#VALUE!"}]
[{"$f":"IF(A821<$E$10,+VLOOKUP($A821+1,Data!A:B,1,1),\"\")","v":""},{"$f":"IF(A822<E$10,+VLOOKUP($A822,Data!A:B,2,1),\"\")","v":""},null,0,{"$error":"#VALUE!"},null,null,null,null,null,null,null,null,null,null,null,null,null,null,null,null,"","",{"$error":"#VALUE!"}]
[{"$f":"IF(A822<$E$10,+VLOOKUP($A822+1,Data!A:B,1,1),\"\")","v":""},{"$f":"IF(A823<E$10,+VLOOKUP($A823,Data!A:B,2,1),\"\")","v":""},null,0,{"$error":"#VALUE!"},null,null,null,null,null,null,null,null,null,null,null,null,null,null,null,null,"","",{"$error":"#VALUE!"}]
[{"$f":"IF(A823<$E$10,+VLOOKUP($A823+1,Data!A:B,1,1),\"\")","v":""},{"$f":"IF(A824<E$10,+VLOOKUP($A824,Data!A:B,2,1),\"\")","v":""},null,0,{"$error":"#VALUE!"},null,null,null,null,null,null,null,null,null,null,null,null,null,null,null,null,"","",{"$error":"#VALUE!"}]
[{"$f":"IF(A824<$E$10,+VLOOKUP($A824+1,Data!A:B,1,1),\"\")","v":""},{"$f":"IF(A825<E$10,+VLOOKUP($A825,Data!A:B,2,1),\"\")","v":""},null,0,{"$error":"#VALUE!"},null,null,null,null,null,null,null,null,null,null,null,null,null,null,null,null,"","",{"$error":"#VALUE!"}]
[{"$f":"IF(A825<$E$10,+VLOOKUP($A825+1,Data!A:B,1,1),\"\")","v":""},{"$f":"IF(A826<E$10,+VLOOKUP($A826,Data!A:B,2,1),\"\")","v":""},null,0,{"$error":"#VALUE!"},null,null,null,null,null,null,null,null,null,null,null,null,null,null,null,null,"","",{"$error":"#VALUE!"}]
[{"$f":"IF(A826<$E$10,+VLOOKUP($A826+1,Data!A:B,1,1),\"\")","v":""},{"$f":"IF(A827<E$10,+VLOOKUP($A827,Data!A:B,2,1),\"\")","v":""},null,0,{"$error":"#VALUE!"},null,null,null,null,null,null,null,null,null,null,null,null,null,null,null,null,"","",{"$error":"#VALUE!"}]
[{"$f":"IF(A827<$E$10,+VLOOKUP($A827+1,Data!A:B,1,1),\"\")","v":""},{"$f":"IF(A828<E$10,+VLOOKUP($A828,Data!A:B,2,1),\"\")","v":""},null,0,{"$error":"#VALUE!"},null,null,null,null,null,null,null,null,null,null,null,null,null,null,null,null,"","",{"$error":"#VALUE!"}]
[{"$f":"IF(A828<$E$10,+VLOOKUP($A828+1,Data!A:B,1,1),\"\")","v":""},{"$f":"IF(A829<E$10,+VLOOKUP($A829,Data!A:B,2,1),\"\")","v":""},null,0,{"$error":"#VALUE!"},null,null,null,null,null,null,null,null,null,null,null,null,null,null,null,null,"","",{"$error":"#VALUE!"}]
[{"$f":"IF(A829<$E$10,+VLOOKUP($A829+1,Data!A:B,1,1),\"\")","v":""},{"$f":"IF(A830<E$10,+VLOOKUP($A830,Data!A:B,2,1),\"\")","v":""},null,0,{"$error":"#VALUE!"},null,null,null,null,null,null,null,null,null,null,null,null,null,null,null,null,"","",{"$error":"#VALUE!"}]
[{"$f":"IF(A830<$E$10,+VLOOKUP($A830+1,Data!A:B,1,1),\"\")","v":""},{"$f":"IF(A831<E$10,+VLOOKUP($A831,Data!A:B,2,1),\"\")","v":""},null,0,{"$error":"#VALUE!"},null,null,null,null,null,null,null,null,null,null,null,null,null,null,null,null,"","",{"$error":"#VALUE!"}]
[{"$f":"IF(A831<$E$10,+VLOOKUP($A831+1,Data!A:B,1,1),\"\")","v":""},{"$f":"IF(A832<E$10,+VLOOKUP($A832,Data!A:B,2,1),\"\")","v":""},null,0,{"$error":"#VALUE!"},null,null,null,null,null,null,null,null,null,null,null,null,null,null,null,null,"","",{"$error":"#VALUE!"}]
[{"$f":"IF(A832<$E$10,+VLOOKUP($A832+1,Data!A:B,1,1),\"\")","v":""},{"$f":"IF(A833<E$10,+VLOOKUP($A833,Data!A:B,2,1),\"\")","v":""},null,0,{"$error":"#VALUE!"},null,null,null,null,null,null,null,null,null,null,null,null,null,null,null,null,"","",{"$error":"#VALUE!"}]
[{"$f":"IF(A833<$E$10,+VLOOKUP($A833+1,Data!A:B,1,1),\"\")","v":""},{"$f":"IF(A834<E$10,+VLOOKUP($A834,Data!A:B,2,1),\"\")","v":""},null,0,{"$error":"#VALUE!"},null,null,null,null,null,null,null,null,null,null,null,null,null,null,null,null,"","",{"$error":"#VALUE!"}]
[{"$f":"IF(A834<$E$10,+VLOOKUP($A834+1,Data!A:B,1,1),\"\")","v":""},{"$f":"IF(A835<E$10,+VLOOKUP($A835,Data!A:B,2,1),\"\")","v":""},null,0,{"$error":"#VALUE!"},null,null,null,null,null,null,null,null,null,null,null,null,null,null,null,null,"","",{"$error":"#VALUE!"}]
[{"$f":"IF(A835<$E$10,+VLOOKUP($A835+1,Data!A:B,1,1),\"\")","v":""},{"$f":"IF(A836<E$10,+VLOOKUP($A836,Data!A:B,2,1),\"\")","v":""},null,0,{"$error":"#VALUE!"},null,null,null,null,null,null,null,null,null,null,null,null,null,null,null,null,"","",{"$error":"#VALUE!"}]
[{"$f":"IF(A836<$E$10,+VLOOKUP($A836+1,Data!A:B,1,1),\"\")","v":""},{"$f":"IF(A837<E$10,+VLOOKUP($A837,Data!A:B,2,1),\"\")","v":""},null,0,{"$error":"#VALUE!"},null,null,null,null,null,null,null,null,null,null,null,null,null,null,null,null,"","",{"$error":"#VALUE!"}]
[{"$f":"IF(A837<$E$10,+VLOOKUP($A837+1,Data!A:B,1,1),\"\")","v":""},{"$f":"IF(A838<E$10,+VLOOKUP($A838,Data!A:B,2,1),\"\")","v":""},null,0,{"$error":"#VALUE!"},null,null,null,null,null,null,null,null,null,null,null,null,null,null,null,null,"","",{"$error":"#VALUE!"}]
[{"$f":"IF(A838<$E$10,+VLOOKUP($A838+1,Data!A:B,1,1),\"\")","v":""},{"$f":"IF(A839<E$10,+VLOOKUP($A839,Data!A:B,2,1),\"\")","v":""},null,0,{"$error":"#VALUE!"},null,null,null,null,null,null,null,null,null,null,null,null,null,null,null,null,"","",{"$error":"#VALUE!"}]
[{"$f":"IF(A839<$E$10,+VLOOKUP($A839+1,Data!A:B,1,1),\"\")","v":""},{"$f":"IF(A840<E$10,+VLOOKUP($A840,Data!A:B,2,1),\"\")","v":""},null,0,{"$error":"#VALUE!"},null,null,null,null,null,null,null,null,null,null,null,null,null,null,null,null,"","",{"$error":"#VALUE!"}]
[{"$f":"IF(A840<$E$10,+VLOOKUP($A840+1,Data!A:B,1,1),\"\")","v":""},{"$f":"IF(A841<E$10,+VLOOKUP($A841,Data!A:B,2,1),\"\")","v":""},null,0,{"$error":"#VALUE!"},null,null,null,null,null,null,null,null,null,null,null,null,null,null,null,null,"","",{"$error":"#VALUE!"}]
[{"$f":"IF(A841<$E$10,+VLOOKUP($A841+1,Data!A:B,1,1),\"\")","v":""},{"$f":"IF(A842<E$10,+VLOOKUP($A842,Data!A:B,2,1),\"\")","v":""},null,0,{"$error":"#VALUE!"},null,null,null,null,null,null,null,null,null,null,null,null,null,null,null,null,"","",{"$error":"#VALUE!"}]
[{"$f":"IF(A842<$E$10,+VLOOKUP($A842+1,Data!A:B,1,1),\"\")","v":""},{"$f":"IF(A843<E$10,+VLOOKUP($A843,Data!A:B,2,1),\"\")","v":""},null,0,{"$error":"#VALUE!"},null,null,null,null,null,null,null,null,null,null,null,null,null,null,null,null,"","",{"$error":"#VALUE!"}]
[{"$f":"IF(A843<$E$10,+VLOOKUP($A843+1,Data!A:B,1,1),\"\")","v":""},{"$f":"IF(A844<E$10,+VLOOKUP($A844,Data!A:B,2,1),\"\")","v":""},null,0,{"$error":"#VALUE!"},null,null,null,null,null,null,null,null,null,null,null,null,null,null,null,null,"","",{"$error":"#VALUE!"}]
[{"$f":"IF(A844<$E$10,+VLOOKUP($A844+1,Data!A:B,1,1),\"\")","v":""},{"$f":"IF(A845<E$10,+VLOOKUP($A845,Data!A:B,2,1),\"\")","v":""},null,0,{"$error":"#VALUE!"},null,null,null,null,null,null,null,null,null,null,null,null,null,null,null,null,"","",{"$error":"#VALUE!"}]
[{"$f":"IF(A845<$E$10,+VLOOKUP($A845+1,Data!A:B,1,1),\"\")","v":""},{"$f":"IF(A846<E$10,+VLOOKUP($A846,Data!A:B,2,1),\"\")","v":""},null,0,{"$error":"#VALUE!"},null,null,null,null,null,null,null,null,null,null,null,null,null,null,null,null,"","",{"$error":"#VALUE!"}]
[{"$f":"IF(A846<$E$10,+VLOOKUP($A846+1,Data!A:B,1,1),\"\")","v":""},{"$f":"IF(A847<E$10,+VLOOKUP($A847,Data!A:B,2,1),\"\")","v":""},null,0,{"$error":"#VALUE!"},null,null,null,null,null,null,null,null,null,null,null,null,null,null,null,null,"","",{"$error":"#VALUE!"}]
[{"$f":"IF(A847<$E$10,+VLOOKUP($A847+1,Data!A:B,1,1),\"\")","v":""},{"$f":"IF(A848<E$10,+VLOOKUP($A848,Data!A:B,2,1),\"\")","v":""},null,0,{"$error":"#VALUE!"},null,null,null,null,null,null,null,null,null,null,null,null,null,null,null,null,"","",{"$error":"#VALUE!"}]
[{"$f":"IF(A848<$E$10,+VLOOKUP($A848+1,Data!A:B,1,1),\"\")","v":""},{"$f":"IF(A849<E$10,+VLOOKUP($A849,Data!A:B,2,1),\"\")","v":""},null,0,{"$error":"#VALUE!"},null,null,null,null,null,null,null,null,null,null,null,null,null,null,null,null,"","",{"$error":"#VALUE!"}]
[{"$f":"IF(A849<$E$10,+VLOOKUP($A849+1,Data!A:B,1,1),\"\")","v":""},{"$f":"IF(A850<E$10,+VLOOKUP($A850,Data!A:B,2,1),\"\")","v":""},null,0,{"$error":"#VALUE!"},null,null,null,null,null,null,null,null,null,null,null,null,null,null,null,null,"","",{"$error":"#VALUE!"}]
[{"$f":"IF(A850<$E$10,+VLOOKUP($A850+1,Data!A:B,1,1),\"\")","v":""},{"$f":"IF(A851<E$10,+VLOOKUP($A851,Data!A:B,2,1),\"\")","v":""},null,0,{"$error":"#VALUE!"},null,null,null,null,null,null,null,null,null,null,null,null,null,null,null,null,"","",{"$error":"#VALUE!"}]
[{"$f":"IF(A851<$E$10,+VLOOKUP($A851+1,Data!A:B,1,1),\"\")","v":""},{"$f":"IF(A852<E$10,+VLOOKUP($A852,Data!A:B,2,1),\"\")","v":""},null,0,{"$error":"#VALUE!"},null,null,null,null,null,null,null,null,null,null,null,null,null,null,null,null,"","",{"$error":"#VALUE!"}]
[{"$f":"IF(A852<$E$10,+VLOOKUP($A852+1,Data!A:B,1,1),\"\")","v":""},{"$f":"IF(A853<E$10,+VLOOKUP($A853,Data!A:B,2,1),\"\")","v":""},null,0,{"$error":"#VALUE!"},null,null,null,null,null,null,null,null,null,null,null,null,null,null,null,null,"","",{"$error":"#VALUE!"}]
[{"$f":"IF(A853<$E$10,+VLOOKUP($A853+1,Data!A:B,1,1),\"\")","v":""},{"$f":"IF(A854<E$10,+VLOOKUP($A854,Data!A:B,2,1),\"\")","v":""},null,0,{"$error":"#VALUE!"},null,null,null,null,null,null,null,null,null,null,null,null,null,null,null,null,"","",{"$error":"#VALUE!"}]
[{"$f":"IF(A854<$E$10,+VLOOKUP($A854+1,Data!A:B,1,1),\"\")","v":""},{"$f":"IF(A855<E$10,+VLOOKUP($A855,Data!A:B,2,1),\"\")","v":""},null,0,{"$error":"#VALUE!"},null,null,null,null,null,null,null,null,null,null,null,null,null,null,null,null,"","",{"$error":"#VALUE!"}]
[{"$f":"IF(A855<$E$10,+VLOOKUP($A855+1,Data!A:B,1,1),\"\")","v":""},{"$f":"IF(A856<E$10,+VLOOKUP($A856,Data!A:B,2,1),\"\")","v":""},null,0,{"$error":"#VALUE!"},null,null,null,null,null,null,null,null,null,null,null,null,null,null,null,null,"","",{"$error":"#VALUE!"}]
[{"$f":"IF(A856<$E$10,+VLOOKUP($A856+1,Data!A:B,1,1),\"\")","v":""},{"$f":"IF(A857<E$10,+VLOOKUP($A857,Data!A:B,2,1),\"\")","v":""},null,0,{"$error":"#VALUE!"},null,null,null,null,null,null,null,null,null,null,null,null,null,null,null,null,"","",{"$error":"#VALUE!"}]
[{"$f":"IF(A857<$E$10,+VLOOKUP($A857+1,Data!A:B,1,1),\"\")","v":""},{"$f":"IF(A858<E$10,+VLOOKUP($A858,Data!A:B,2,1),\"\")","v":""},null,0,{"$error":"#VALUE!"},null,null,null,null,null,null,null,null,null,null,null,null,null,null,null,null,"","",{"$error":"#VALUE!"}]
[{"$f":"IF(A858<$E$10,+VLOOKUP($A858+1,Data!A:B,1,1),\"\")","v":""},{"$f":"IF(A859<E$10,+VLOOKUP($A859,Data!A:B,2,1),\"\")","v":""},null,0,{"$error":"#VALUE!"},null,null,null,null,null,null,null,null,null,null,null,null,null,null,null,null,"","",{"$error":"#VALUE!"}]
[{"$f":"IF(A859<$E$10,+VLOOKUP($A859+1,Data!A:B,1,1),\"\")","v":""},{"$f":"IF(A860<E$10,+VLOOKUP($A860,Data!A:B,2,1),\"\")","v":""},null,0,{"$error":"#VALUE!"},null,null,null,null,null,null,null,null,null,null,null,null,null,null,null,null,"","",{"$error":"#VALUE!"}]
[{"$f":"IF(A860<$E$10,+VLOOKUP($A860+1,Data!A:B,1,1),\"\")","v":""},{"$f":"IF(A861<E$10,+VLOOKUP($A861,Data!A:B,2,1),\"\")","v":""},null,0,{"$error":"#VALUE!"},null,null,null,null,null,null,null,null,null,null,null,null,null,null,null,null,"","",{"$error":"#VALUE!"}]
[{"$f":"IF(A861<$E$10,+VLOOKUP($A861+1,Data!A:B,1,1),\"\")","v":""},{"$f":"IF(A862<E$10,+VLOOKUP($A862,Data!A:B,2,1),\"\")","v":""},null,0,{"$error":"#VALUE!"},null,null,null,null,null,null,null,null,null,null,null,null,null,null,null,null,"","",{"$error":"#VALUE!"}]
[{"$f":"IF(A862<$E$10,+VLOOKUP($A862+1,Data!A:B,1,1),\"\")","v":""},{"$f":"IF(A863<E$10,+VLOOKUP($A863,Data!A:B,2,1),\"\")","v":""},null,0,{"$error":"#VALUE!"},null,null,null,null,null,null,null,null,null,null,null,null,null,null,null,null,"","",{"$error":"#VALUE!"}]
[{"$f":"IF(A863<$E$10,+VLOOKUP($A863+1,Data!A:B,1,1),\"\")","v":""},{"$f":"IF(A864<E$10,+VLOOKUP($A864,Data!A:B,2,1),\"\")","v":""},null,0,{"$error":"#VALUE!"},null,null,null,null,null,null,null,null,null,null,null,null,null,null,null,null,"","",{"$error":"#VALUE!"}]
[{"$f":"IF(A864<$E$10,+VLOOKUP($A864+1,Data!A:B,1,1),\"\")","v":""},{"$f":"IF(A865<E$10,+VLOOKUP($A865,Data!A:B,2,1),\"\")","v":""},null,0,{"$error":"#VALUE!"},null,null,null,null,null,null,null,null,null,null,null,null,null,null,null,null,"","",{"$error":"#VALUE!"}]
[{"$f":"IF(A865<$E$10,+VLOOKUP($A865+1,Data!A:B,1,1),\"\")","v":""},{"$f":"IF(A866<E$10,+VLOOKUP($A866,Data!A:B,2,1),\"\")","v":""},null,0,{"$error":"#VALUE!"},null,null,null,null,null,null,null,null,null,null,null,null,null,null,null,null,"","",{"$error":"#VALUE!"}]
[{"$f":"IF(A866<$E$10,+VLOOKUP($A866+1,Data!A:B,1,1),\"\")","v":""},{"$f":"IF(A867<E$10,+VLOOKUP($A867,Data!A:B,2,1),\"\")","v":""},null,{"$f":"+IF(AND(A867<$H$9,A867>$H$8),B867-X867,0)","v":0},{"$f":"+D867/X867","v":{"$error":"#VALUE!"}},null,null,null,null,null,null,null,null,null,null,null,null,null,null,null,null,{"$f":"+IF(AND($A867>$H$6,$A867<$H$7),$B867,\"\")","v":""},{"$f":"+IF(AND($A867>$H$10,$A867<$H$11),$B867,\"\")","v":""},{"$f":"+$G$15+(A867-$G$14)*$H$16","v":{"$error":"#VALUE!"}}]
[{"$f":"IF(A867<$E$10,+VLOOKUP($A867+1,Data!A:B,1,1),\"\")","v":""},{"$f":"IF(A868<E$10,+VLOOKUP($A868,Data!A:B,2,1),\"\")","v":""},null,0,{"$error":"#VALUE!"},null,null,null,null,null,null,null,null,null,null,null,null,null,null,null,null,"","",{"$error":"#VALUE!"}]
[{"$f":"IF(A868<$E$10,+VLOOKUP($A868+1,Data!A:B,1,1),\"\")","v":""},{"$f":"IF(A869<E$10,+VLOOKUP($A869,Data!A:B,2,1),\"\")","v":""},null,0,{"$error":"#VALUE!"},null,null,null,null,null,null,null,null,null,null,null,null,null,null,null,null,"","",{"$error":"#VALUE!"}]
[{"$f":"IF(A869<$E$10,+VLOOKUP($A869+1,Data!A:B,1,1),\"\")","v":""},{"$f":"IF(A870<E$10,+VLOOKUP($A870,Data!A:B,2,1),\"\")","v":""},null,0,{"$error":"#VALUE!"},null,null,null,null,null,null,null,null,null,null,null,null,null,null,null,null,"","",{"$error":"#VALUE!"}]
[{"$f":"IF(A870<$E$10,+VLOOKUP($A870+1,Data!A:B,1,1),\"\")","v":""},{"$f":"IF(A871<E$10,+VLOOKUP($A871,Data!A:B,2,1),\"\")","v":""},null,0,{"$error":"#VALUE!"},null,null,null,null,null,null,null,null,null,null,null,null,null,null,null,null,"","",{"$error":"#VALUE!"}]
[{"$f":"IF(A871<$E$10,+VLOOKUP($A871+1,Data!A:B,1,1),\"\")","v":""},{"$f":"IF(A872<E$10,+VLOOKUP($A872,Data!A:B,2,1),\"\")","v":""},null,0,{"$error":"#VALUE!"},null,null,null,null,null,null,null,null,null,null,null,null,null,null,null,null,"","",{"$error":"#VALUE!"}]
[{"$f":"IF(A872<$E$10,+VLOOKUP($A872+1,Data!A:B,1,1),\"\")","v":""},{"$f":"IF(A873<E$10,+VLOOKUP($A873,Data!A:B,2,1),\"\")","v":""},null,0,{"$error":"#VALUE!"},null,null,null,null,null,null,null,null,null,null,null,null,null,null,null,null,"","",{"$error":"#VALUE!"}]
[{"$f":"IF(A873<$E$10,+VLOOKUP($A873+1,Data!A:B,1,1),\"\")","v":""},{"$f":"IF(A874<E$10,+VLOOKUP($A874,Data!A:B,2,1),\"\")","v":""},null,0,{"$error":"#VALUE!"},null,null,null,null,null,null,null,null,null,null,null,null,null,null,null,null,"","",{"$error":"#VALUE!"}]
[{"$f":"IF(A874<$E$10,+VLOOKUP($A874+1,Data!A:B,1,1),\"\")","v":""},{"$f":"IF(A875<E$10,+VLOOKUP($A875,Data!A:B,2,1),\"\")","v":""},null,0,{"$error":"#VALUE!"},null,null,null,null,null,null,null,null,null,null,null,null,null,null,null,null,"","",{"$error":"#VALUE!"}]
[{"$f":"IF(A875<$E$10,+VLOOKUP($A875+1,Data!A:B,1,1),\"\")","v":""},{"$f":"IF(A876<E$10,+VLOOKUP($A876,Data!A:B,2,1),\"\")","v":""},null,0,{"$error":"#VALUE!"},null,null,null,null,null,null,null,null,null,null,null,null,null,null,null,null,"","",{"$error":"#VALUE!"}]
[{"$f":"IF(A876<$E$10,+VLOOKUP($A876+1,Data!A:B,1,1),\"\")","v":""},{"$f":"IF(A877<E$10,+VLOOKUP($A877,Data!A:B,2,1),\"\")","v":""},null,0,{"$error":"#VALUE!"},null,null,null,null,null,null,null,null,null,null,null,null,null,null,null,null,"","",{"$error":"#VALUE!"}]
[{"$f":"IF(A877<$E$10,+VLOOKUP($A877+1,Data!A:B,1,1),\"\")","v":""},{"$f":"IF(A878<E$10,+VLOOKUP($A878,Data!A:B,2,1),\"\")","v":""},null,0,{"$error":"#VALUE!"},null,null,null,null,null,null,null,null,null,null,null,null,null,null,null,null,"","",{"$error":"#VALUE!"}]
[{"$f":"IF(A878<$E$10,+VLOOKUP($A878+1,Data!A:B,1,1),\"\")","v":""},{"$f":"IF(A879<E$10,+VLOOKUP($A879,Data!A:B,2,1),\"\")","v":""},null,0,{"$error":"#VALUE!"},null,null,null,null,null,null,null,null,null,null,null,null,null,null,null,null,"","",{"$error":"#VALUE!"}]
[{"$f":"IF(A879<$E$10,+VLOOKUP($A879+1,Data!A:B,1,1),\"\")","v":""},{"$f":"IF(A880<E$10,+VLOOKUP($A880,Data!A:B,2,1),\"\")","v":""},null,0,{"$error":"#VALUE!"},null,null,null,null,null,null,null,null,null,null,null,null,null,null,null,null,"","",{"$error":"#VALUE!"}]
[{"$f":"IF(A880<$E$10,+VLOOKUP($A880+1,Data!A:B,1,1),\"\")","v":""},{"$f":"IF(A881<E$10,+VLOOKUP($A881,Data!A:B,2,1),\"\")","v":""},null,0,{"$error":"#VALUE!"},null,null,null,null,null,null,null,null,null,null,null,null,null,null,null,null,"","",{"$error":"#VALUE!"}]
[{"$f":"IF(A881<$E$10,+VLOOKUP($A881+1,Data!A:B,1,1),\"\")","v":""},{"$f":"IF(A882<E$10,+VLOOKUP($A882,Data!A:B,2,1),\"\")","v":""},null,0,{"$error":"#VALUE!"},null,null,null,null,null,null,null,null,null,null,null,null,null,null,null,null,"","",{"$error":"#VALUE!"}]
[{"$f":"IF(A882<$E$10,+VLOOKUP($A882+1,Data!A:B,1,1),\"\")","v":""},{"$f":"IF(A883<E$10,+VLOOKUP($A883,Data!A:B,2,1),\"\")","v":""},null,0,{"$error":"#VALUE!"},null,null,null,null,null,null,null,null,null,null,null,null,null,null,null,null,"","",{"$error":"#VALUE!"}]
[{"$f":"IF(A883<$E$10,+VLOOKUP($A883+1,Data!A:B,1,1),\"\")","v":""},{"$f":"IF(A884<E$10,+VLOOKUP($A884,Data!A:B,2,1),\"\")","v":""},null,0,{"$error":"#VALUE!"},null,null,null,null,null,null,null,null,null,null,null,null,null,null,null,null,"","",{"$error":"#VALUE!"}]
[{"$f":"IF(A884<$E$10,+VLOOKUP($A884+1,Data!A:B,1,1),\"\")","v":""},{"$f":"IF(A885<E$10,+VLOOKUP($A885,Data!A:B,2,1),\"\")","v":""},null,0,{"$error":"#VALUE!"},null,null,null,null,null,null,null,null,null,null,null,null,null,null,null,null,"","",{"$error":"#VALUE!"}]
[{"$f":"IF(A885<$E$10,+VLOOKUP($A885+1,Data!A:B,1,1),\"\")","v":""},{"$f":"IF(A886<E$10,+VLOOKUP($A886,Data!A:B,2,1),\"\")","v":""},null,0,{"$error":"#VALUE!"},null,null,null,null,null,null,null,null,null,null,null,null,null,null,null,null,"","",{"$error":"#VALUE!"}]
[{"$f":"IF(A886<$E$10,+VLOOKUP($A886+1,Data!A:B,1,1),\"\")","v":""},{"$f":"IF(A887<E$10,+VLOOKUP($A887,Data!A:B,2,1),\"\")","v":""},null,0,{"$error":"#VALUE!"},null,null,null,null,null,null,null,null,null,null,null,null,null,null,null,null,"","",{"$error":"#VALUE!"}]
[{"$f":"IF(A887<$E$10,+VLOOKUP($A887+1,Data!A:B,1,1),\"\")","v":""},{"$f":"IF(A888<E$10,+VLOOKUP($A888,Data!A:B,2,1),\"\")","v":""},null,0,{"$error":"#VALUE!"},null,null,null,null,null,null,null,null,null,null,null,null,null,null,null,null,"","",{"$error":"#VALUE!"}]
[{"$f":"IF(A888<$E$10,+VLOOKUP($A888+1,Data!A:B,1,1),\"\")","v":""},{"$f":"IF(A889<E$10,+VLOOKUP($A889,Data!A:B,2,1),\"\")","v":""},null,0,{"$error":"#VALUE!"},null,null,null,null,null,null,null,null,null,null,null,null,null,null,null,null,"","",{"$error":"#VALUE!"}]
[{"$f":"IF(A889<$E$10,+VLOOKUP($A889+1,Data!A:B,1,1),\"\")","v":""},{"$f":"IF(A890<E$10,+VLOOKUP($A890,Data!A:B,2,1),\"\")","v":""},null,0,{"$error":"#VALUE!"},null,null,null,null,null,null,null,null,null,null,null,null,null,null,null,null,"","",{"$error":"#VALUE!"}]
[{"$f":"IF(A890<$E$10,+VLOOKUP($A890+1,Data!A:B,1,1),\"\")","v":""},{"$f":"IF(A891<E$10,+VLOOKUP($A891,Data!A:B,2,1),\"\")","v":""},null,0,{"$error":"#VALUE!"},null,null,null,null,null,null,null,null,null,null,null,null,null,null,null,null,"","",{"$error":"#VALUE!"}]
[{"$f":"IF(A891<$E$10,+VLOOKUP($A891+1,Data!A:B,1,1),\"\")","v":""},{"$f":"IF(A892<E$10,+VLOOKUP($A892,Data!A:B,2,1),\"\")","v":""},null,0,{"$error":"#VALUE!"},null,null,null,null,null,null,null,null,null,null,null,null,null,null,null,null,"","",{"$error":"#VALUE!"}]
[{"$f":"IF(A892<$E$10,+VLOOKUP($A892+1,Data!A:B,1,1),\"\")","v":""},{"$f":"IF(A893<E$10,+VLOOKUP($A893,Data!A:B,2,1),\"\")","v":""},null,0,{"$error":"#VALUE!"},null,null,null,null,null,null,null,null,null,null,null,null,null,null,null,null,"","",{"$error":"#VALUE!"}]
[{"$f":"IF(A893<$E$10,+VLOOKUP($A893+1,Data!A:B,1,1),\"\")","v":""},{"$f":"IF(A894<E$10,+VLOOKUP($A894,Data!A:B,2,1),\"\")","v":""},null,0,{"$error":"#VALUE!"},null,null,null,null,null,null,null,null,null,null,null,null,null,null,null,null,"","",{"$error":"#VALUE!"}]
[{"$f":"IF(A894<$E$10,+VLOOKUP($A894+1,Data!A:B,1,1),\"\")","v":""},{"$f":"IF(A895<E$10,+VLOOKUP($A895,Data!A:B,2,1),\"\")","v":""},null,0,{"$error":"#VALUE!"},null,null,null,null,null,null,null,null,null,null,null,null,null,null,null,null,"","",{"$error":"#VALUE!"}]
[{"$f":"IF(A895<$E$10,+VLOOKUP($A895+1,Data!A:B,1,1),\"\")","v":""},{"$f":"IF(A896<E$10,+VLOOKUP($A896,Data!A:B,2,1),\"\")","v":""},null,0,{"$error":"#VALUE!"},null,null,null,null,null,null,null,null,null,null,null,null,null,null,null,null,"","",{"$error":"#VALUE!"}]
[{"$f":"IF(A896<$E$10,+VLOOKUP($A896+1,Data!A:B,1,1),\"\")","v":""},{"$f":"IF(A897<E$10,+VLOOKUP($A897,Data!A:B,2,1),\"\")","v":""},null,0,{"$error":"#VALUE!"},null,null,null,null,null,null,null,null,null,null,null,null,null,null,null,null,"","",{"$error":"#VALUE!"}]
[{"$f":"IF(A897<$E$10,+VLOOKUP($A897+1,Data!A:B,1,1),\"\")","v":""},{"$f":"IF(A898<E$10,+VLOOKUP($A898,Data!A:B,2,1),\"\")","v":""},null,0,{"$error":"#VALUE!"},null,null,null,null,null,null,null,null,null,null,null,null,null,null,null,null,"","",{"$error":"#VALUE!"}]
[{"$f":"IF(A898<$E$10,+VLOOKUP($A898+1,Data!A:B,1,1),\"\")","v":""},{"$f":"IF(A899<E$10,+VLOOKUP($A899,Data!A:B,2,1),\"\")","v":""},null,0,{"$error":"#VALUE!"},null,null,null,null,null,null,null,null,null,null,null,null,null,null,null,null,"","",{"$error":"#VALUE!"}]
[{"$f":"IF(A899<$E$10,+VLOOKUP($A899+1,Data!A:B,1,1),\"\")","v":""},{"$f":"IF(A900<E$10,+VLOOKUP($A900,Data!A:B,2,1),\"\")","v":""},null,0,{"$error":"#VALUE!"},null,null,null,null,null,null,null,null,null,null,null,null,null,null,null,null,"","",{"$error":"#VALUE!"}]
[{"$f":"IF(A900<$E$10,+VLOOKUP($A900+1,Data!A:B,1,1),\"\")","v":""},{"$f":"IF(A901<E$10,+VLOOKUP($A901,Data!A:B,2,1),\"\")","v":""},null,0,{"$error":"#VALUE!"},null,null,null,null,null,null,null,null,null,null,null,null,null,null,null,null,"","",{"$error":"#VALUE!"}]
[{"$f":"IF(A901<$E$10,+VLOOKUP($A901+1,Data!A:B,1,1),\"\")","v":""},{"$f":"IF(A902<E$10,+VLOOKUP($A902,Data!A:B,2,1),\"\")","v":""},null,0,{"$error":"#VALUE!"},null,null,null,null,null,null,null,null,null,null,null,null,null,null,null,null,"","",{"$error":"#VALUE!"}]
[{"$f":"IF(A902<$E$10,+VLOOKUP($A902+1,Data!A:B,1,1),\"\")","v":""},{"$f":"IF(A903<E$10,+VLOOKUP($A903,Data!A:B,2,1),\"\")","v":""},null,0,{"$error":"#VALUE!"},null,null,null,null,null,null,null,null,null,null,null,null,null,null,null,null,"","",{"$error":"#VALUE!"}]
[{"$f":"IF(A903<$E$10,+VLOOKUP($A903+1,Data!A:B,1,1),\"\")","v":""},{"$f":"IF(A904<E$10,+VLOOKUP($A904,Data!A:B,2,1),\"\")","v":""},null,0,{"$error":"#VALUE!"},null,null,null,null,null,null,null,null,null,null,null,null,null,null,null,null,"","",{"$error":"#VALUE!"}]
[{"$f":"IF(A904<$E$10,+VLOOKUP($A904+1,Data!A:B,1,1),\"\")","v":""},{"$f":"IF(A905<E$10,+VLOOKUP($A905,Data!A:B,2,1),\"\")","v":""},null,0,{"$error":"#VALUE!"},null,null,null,null,null,null,null,null,null,null,null,null,null,null,null,null,"","",{"$error":"#VALUE!"}]
[{"$f":"IF(A905<$E$10,+VLOOKUP($A905+1,Data!A:B,1,1),\"\")","v":""},{"$f":"IF(A906<E$10,+VLOOKUP($A906,Data!A:B,2,1),\"\")","v":""},null,0,{"$error":"#VALUE!"},null,null,null,null,null,null,null,null,null,null,null,null,null,null,null,null,"","",{"$error":"#VALUE!"}]
[{"$f":"IF(A906<$E$10,+VLOOKUP($A906+1,Data!A:B,1,1),\"\")","v":""},{"$f":"IF(A907<E$10,+VLOOKUP($A907,Data!A:B,2,1),\"\")","v":""},null,0,{"$error":"#VALUE!"},null,null,null,null,null,null,null,null,null,null,null,null,null,null,null,null,"","",{"$error":"#VALUE!"}]
[{"$f":"IF(A907<$E$10,+VLOOKUP($A907+1,Data!A:B,1,1),\"\")","v":""},{"$f":"IF(A908<E$10,+VLOOKUP($A908,Data!A:B,2,1),\"\")","v":""},null,0,{"$error":"#VALUE!"},null,null,null,null,null,null,null,null,null,null,null,null,null,null,null,null,"","",{"$error":"#VALUE!"}]
[{"$f":"IF(A908<$E$10,+VLOOKUP($A908+1,Data!A:B,1,1),\"\")","v":""},{"$f":"IF(A909<E$10,+VLOOKUP($A909,Data!A:B,2,1),\"\")","v":""},null,0,{"$error":"#VALUE!"},null,null,null,null,null,null,null,null,null,null,null,null,null,null,null,null,"","",{"$error":"#VALUE!"}]
[{"$f":"IF(A909<$E$10,+VLOOKUP($A909+1,Data!A:B,1,1),\"\")","v":""},{"$f":"IF(A910<E$10,+VLOOKUP($A910,Data!A:B,2,1),\"\")","v":""},null,0,{"$error":"#VALUE!"},null,null,null,null,null,null,null,null,null,null,null,null,null,null,null,null,"","",{"$error":"#VALUE!"}]
[{"$f":"IF(A910<$E$10,+VLOOKUP($A910+1,Data!A:B,1,1),\"\")","v":""},{"$f":"IF(A911<E$10,+VLOOKUP($A911,Data!A:B,2,1),\"\")","v":""},null,0,{"$error":"#VALUE!"},null,null,null,null,null,null,null,null,null,null,null,null,null,null,null,null,"","",{"$error":"#VALUE!"}]
[{"$f":"IF(A911<$E$10,+VLOOKUP($A911+1,Data!A:B,1,1),\"\")","v":""},{"$f":"IF(A912<E$10,+VLOOKUP($A912,Data!A:B,2,1),\"\")","v":""},null,0,{"$error":"#VALUE!"},null,null,null,null,null,null,null,null,null,null,null,null,null,null,null,null,"","",{"$error":"#VALUE!"}]
[{"$f":"IF(A912<$E$10,+VLOOKUP($A912+1,Data!A:B,1,1),\"\")","v":""},{"$f":"IF(A913<E$10,+VLOOKUP($A913,Data!A:B,2,1),\"\")","v":""},null,0,{"$error":"#VALUE!"},null,null,null,null,null,null,null,null,null,null,null,null,null,null,null,null,"","",{"$error":"#VALUE!"}]
[{"$f":"IF(A913<$E$10,+VLOOKUP($A913+1,Data!A:B,1,1),\"\")","v":""},{"$f":"IF(A914<E$10,+VLOOKUP($A914,Data!A:B,2,1),\"\")","v":""},null,0,{"$error":"#VALUE!"},null,null,null,null,null,null,null,null,null,null,null,null,null,null,null,null,"","",{"$error":"#VALUE!"}]
[{"$f":"IF(A914<$E$10,+VLOOKUP($A914+1,Data!A:B,1,1),\"\")","v":""},{"$f":"IF(A915<E$10,+VLOOKUP($A915,Data!A:B,2,1),\"\")","v":""},null,0,{"$error":"#VALUE!"},null,null,null,null,null,null,null,null,null,null,null,null,null,null,null,null,"","",{"$error":"#VALUE!"}]
[{"$f":"IF(A915<$E$10,+VLOOKUP($A915+1,Data!A:B,1,1),\"\")","v":""},{"$f":"IF(A916<E$10,+VLOOKUP($A916,Data!A:B,2,1),\"\")","v":""},null,0,{"$error":"#VALUE!"},null,null,null,null,null,null,null,null,null,null,null,null,null,null,null,null,"","",{"$error":"#VALUE!"}]
[{"$f":"IF(A916<$E$10,+VLOOKUP($A916+1,Data!A:B,1,1),\"\")","v":""},{"$f":"IF(A917<E$10,+VLOOKUP($A917,Data!A:B,2,1),\"\")","v":""},null,0,{"$error":"#VALUE!"},null,null,null,null,null,null,null,null,null,null,null,null,null,null,null,null,"","",{"$error":"#VALUE!"}]
[{"$f":"IF(A917<$E$10,+VLOOKUP($A917+1,Data!A:B,1,1),\"\")","v":""},{"$f":"IF(A918<E$10,+VLOOKUP($A918,Data!A:B,2,1),\"\")","v":""},null,0,{"$error":"#VALUE!"},null,null,null,null,null,null,null,null,null,null,null,null,null,null,null,null,"","",{"$error":"#VALUE!"}]
[{"$f":"IF(A918<$E$10,+VLOOKUP($A918+1,Data!A:B,1,1),\"\")","v":""},{"$f":"IF(A919<E$10,+VLOOKUP($A919,Data!A:B,2,1),\"\")","v":""},null,0,{"$error":"#VALUE!"},null,null,null,null,null,null,null,null,null,null,null,null,null,null,null,null,"","",{"$error":"#VALUE!"}]
[{"$f":"IF(A919<$E$10,+VLOOKUP($A919+1,Data!A:B,1,1),\"\")","v":""},{"$f":"IF(A920<E$10,+VLOOKUP($A920,Data!A:B,2,1),\"\")","v":""},null,0,{"$error":"#VALUE!"},null,null,null,null,null,null,null,null,null,null,null,null,null,null,null,null,"","",{"$error":"#VALUE!"}]
[{"$f":"IF(A920<$E$10,+VLOOKUP($A920+1,Data!A:B,1,1),\"\")","v":""},{"$f":"IF(A921<E$10,+VLOOKUP($A921,Data!A:B,2,1),\"\")","v":""},null,0,{"$error":"#VALUE!"},null,null,null,null,null,null,null,null,null,null,null,null,null,null,null,null,"","",{"$error":"#VALUE!"}]
[{"$f":"IF(A921<$E$10,+VLOOKUP($A921+1,Data!A:B,1,1),\"\")","v":""},{"$f":"IF(A922<E$10,+VLOOKUP($A922,Data!A:B,2,1),\"\")","v":""},null,0,{"$error":"#VALUE!"},null,null,null,null,null,null,null,null,null,null,null,null,null,null,null,null,"","",{"$error":"#VALUE!"}]
[{"$f":"IF(A922<$E$10,+VLOOKUP($A922+1,Data!A:B,1,1),\"\")","v":""},{"$f":"IF(A923<E$10,+VLOOKUP($A923,Data!A:B,2,1),\"\")","v":""},null,0,{"$error":"#VALUE!"},null,null,null,null,null,null,null,null,null,null,null,null,null,null,null,null,"","",{"$error":"#VALUE!"}]
[{"$f":"IF(A923<$E$10,+VLOOKUP($A923+1,Data!A:B,1,1),\"\")","v":""},{"$f":"IF(A924<E$10,+VLOOKUP($A924,Data!A:B,2,1),\"\")","v":""},null,0,{"$error":"#VALUE!"},null,null,null,null,null,null,null,null,null,null,null,null,null,null,null,null,"","",{"$error":"#VALUE!"}]
[{"$f":"IF(A924<$E$10,+VLOOKUP($A924+1,Data!A:B,1,1),\"\")","v":""},{"$f":"IF(A925<E$10,+VLOOKUP($A925,Data!A:B,2,1),\"\")","v":""},null,0,{"$error":"#VALUE!"},null,null,null,null,null,null,null,null,null,null,null,null,null,null,null,null,"","",{"$error":"#VALUE!"}]
[{"$f":"IF(A925<$E$10,+VLOOKUP($A925+1,Data!A:B,1,1),\"\")","v":""},{"$f":"IF(A926<E$10,+VLOOKUP($A926,Data!A:B,2,1),\"\")","v":""},null,0,{"$error":"#VALUE!"},null,null,null,null,null,null,null,null,null,null,null,null,null,null,null,null,"","",{"$error":"#VALUE!"}]
[{"$f":"IF(A926<$E$10,+VLOOKUP($A926+1,Data!A:B,1,1),\"\")","v":""},{"$f":"IF(A927<E$10,+VLOOKUP($A927,Data!A:B,2,1),\"\")","v":""},null,0,{"$error":"#VALUE!"},null,null,null,null,null,null,null,null,null,null,null,null,null,null,null,null,"","",{"$error":"#VALUE!"}]
[{"$f":"IF(A927<$E$10,+VLOOKUP($A927+1,Data!A:B,1,1),\"\")","v":""},{"$f":"IF(A928<E$10,+VLOOKUP($A928,Data!A:B,2,1),\"\")","v":""},null,0,{"$error":"#VALUE!"},null,null,null,null,null,null,null,null,null,null,null,null,null,null,null,null,"","",{"$error":"#VALUE!"}]
[{"$f":"IF(A928<$E$10,+VLOOKUP($A928+1,Data!A:B,1,1),\"\")","v":""},{"$f":"IF(A929<E$10,+VLOOKUP($A929,Data!A:B,2,1),\"\")","v":""},null,0,{"$error":"#VALUE!"},null,null,null,null,null,null,null,null,null,null,null,null,null,null,null,null,"","",{"$error":"#VALUE!"}]
[{"$f":"IF(A929<$E$10,+VLOOKUP($A929+1,Data!A:B,1,1),\"\")","v":""},{"$f":"IF(A930<E$10,+VLOOKUP($A930,Data!A:B,2,1),\"\")","v":""},null,0,{"$error":"#VALUE!"},null,null,null,null,null,null,null,null,null,null,null,null,null,null,null,null,"","",{"$error":"#VALUE!"}]
[{"$f":"IF(A930<$E$10,+VLOOKUP($A930+1,Data!A:B,1,1),\"\")","v":""},{"$f":"IF(A931<E$10,+VLOOKUP($A931,Data!A:B,2,1),\"\")","v":""},null,{"$f":"+IF(AND(A931<$H$9,A931>$H$8),B931-X931,0)","v":0},{"$f":"+D931/X931","v":{"$error":"#VALUE!"}},null,null,null,null,null,null,null,null,null,null,null,null,null,null,null,null,{"$f":"+IF(AND($A931>$H$6,$A931<$H$7),$B931,\"\")","v":""},{"$f":"+IF(AND($A931>$H$10,$A931<$H$11),$B931,\"\")","v":""},{"$f":"+$G$15+(A931-$G$14)*$H$16","v":{"$error":"#VALUE!"}}]
[{"$f":"IF(A931<$E$10,+VLOOKUP($A931+1,Data!A:B,1,1),\"\")","v":""},{"$f":"IF(A932<E$10,+VLOOKUP($A932,Data!A:B,2,1),\"\")","v":""},null,0,{"$error":"#VALUE!"},null,null,null,null,null,null,null,null,null,null,null,null,null,null,null,null,"","",{"$error":"#VALUE!"}]
[{"$f":"IF(A932<$E$10,+VLOOKUP($A932+1,Data!A:B,1,1),\"\")","v":""},{"$f":"IF(A933<E$10,+VLOOKUP($A933,Data!A:B,2,1),\"\")","v":""},null,0,{"$error":"#VALUE!"},null,null,null,null,null,null,null,null,null,null,null,null,null,null,null,null,"","",{"$error":"#VALUE!"}]
[{"$f":"IF(A933<$E$10,+VLOOKUP($A933+1,Data!A:B,1,1),\"\")","v":""},{"$f":"IF(A934<E$10,+VLOOKUP($A934,Data!A:B,2,1),\"\")","v":""},null,0,{"$error":"#VALUE!"},null,null,null,null,null,null,null,null,null,null,null,null,null,null,null,null,"","",{"$error":"#VALUE!"}]
[{"$f":"IF(A934<$E$10,+VLOOKUP($A934+1,Data!A:B,1,1),\"\")","v":""},{"$f":"IF(A935<E$10,+VLOOKUP($A935,Data!A:B,2,1),\"\")","v":""},null,0,{"$error":"#VALUE!"},null,null,null,null,null,null,null,null,null,null,null,null,null,null,null,null,"","",{"$error":"#VALUE!"}]
[{"$f":"IF(A935<$E$10,+VLOOKUP($A935+1,Data!A:B,1,1),\"\")","v":""},{"$f":"IF(A936<E$10,+VLOOKUP($A936,Data!A:B,2,1),\"\")","v":""},null,0,{"$error":"#VALUE!"},null,null,null,null,null,null,null,null,null,null,null,null,null,null,null,null,"","",{"$error":"#VALUE!"}]
[{"$f":"IF(A936<$E$10,+VLOOKUP($A936+1,Data!A:B,1,1),\"\")","v":""},{"$f":"IF(A937<E$10,+VLOOKUP($A937,Data!A:B,2,1),\"\")","v":""},null,0,{"$error":"#VALUE!"},null,null,null,null,null,null,null,null,null,null,null,null,null,null,null,null,"","",{"$error":"#VALUE!"}]
[{"$f":"IF(A937<$E$10,+VLOOKUP($A937+1,Data!A:B,1,1),\"\")","v":""},{"$f":"IF(A938<E$10,+VLOOKUP($A938,Data!A:B,2,1),\"\")","v":""},null,0,{"$error":"#VALUE!"},null,null,null,null,null,null,null,null,null,null,null,null,null,null,null,null,"","",{"$error":"#VALUE!"}]
[{"$f":"IF(A938<$E$10,+VLOOKUP($A938+1,Data!A:B,1,1),\"\")","v":""},{"$f":"IF(A939<E$10,+VLOOKUP($A939,Data!A:B,2,1),\"\")","v":""},null,0,{"$error":"#VALUE!"},null,null,null,null,null,null,null,null,null,null,null,null,null,null,null,null,"","",{"$error":"#VALUE!"}]
[{"$f":"IF(A939<$E$10,+VLOOKUP($A939+1,Data!A:B,1,1),\"\")","v":""},{"$f":"IF(A940<E$10,+VLOOKUP($A940,Data!A:B,2,1),\"\")","v":""},null,0,{"$error":"#VALUE!"},null,null,null,null,null,null,null,null,null,null,null,null,null,null,null,null,"","",{"$error":"#VALUE!"}]
[{"$f":"IF(A940<$E$10,+VLOOKUP($A940+1,Data!A:B,1,1),\"\")","v":""},{"$f":"IF(A941<E$10,+VLOOKUP($A941,Data!A:B,2,1),\"\")","v":""},null,0,{"$error":"#VALUE!"},null,null,null,null,null,null,null,null,null,null,null,null,null,null,null,null,"","",{"$error":"#VALUE!"}]
[{"$f":"IF(A941<$E$10,+VLOOKUP($A941+1,Data!A:B,1,1),\"\")","v":""},{"$f":"IF(A942<E$10,+VLOOKUP($A942,Data!A:B,2,1),\"\")","v":""},null,0,{"$error":"#VALUE!"},null,null,null,null,null,null,null,null,null,null,null,null,null,null,null,null,"","",{"$error":"#VALUE!"}]
[{"$f":"IF(A942<$E$10,+VLOOKUP($A942+1,Data!A:B,1,1),\"\")","v":""},{"$f":"IF(A943<E$10,+VLOOKUP($A943,Data!A:B,2,1),\"\")","v":""},null,0,{"$error":"#VALUE!"},null,null,null,null,null,null,null,null,null,null,null,null,null,null,null,null,"","",{"$error":"#VALUE!"}]
[{"$f":"IF(A943<$E$10,+VLOOKUP($A943+1,Data!A:B,1,1),\"\")","v":""},{"$f":"IF(A944<E$10,+VLOOKUP($A944,Data!A:B,2,1),\"\")","v":""},null,0,{"$error":"#VALUE!"},null,null,null,null,null,null,null,null,null,null,null,null,null,null,null,null,"","",{"$error":"#VALUE!"}]
[{"$f":"IF(A944<$E$10,+VLOOKUP($A944+1,Data!A:B,1,1),\"\")","v":""},{"$f":"IF(A945<E$10,+VLOOKUP($A945,Data!A:B,2,1),\"\")","v":""},null,0,{"$error":"#VALUE!"},null,null,null,null,null,null,null,null,null,null,null,null,null,null,null,null,"","",{"$error":"#VALUE!"}]
[{"$f":"IF(A945<$E$10,+VLOOKUP($A945+1,Data!A:B,1,1),\"\")","v":""},{"$f":"IF(A946<E$10,+VLOOKUP($A946,Data!A:B,2,1),\"\")","v":""},null,0,{"$error":"#VALUE!"},null,null,null,null,null,null,null,null,null,null,null,null,null,null,null,null,"","",{"$error":"#VALUE!"}]
[{"$f":"IF(A946<$E$10,+VLOOKUP($A946+1,Data!A:B,1,1),\"\")","v":""},{"$f":"IF(A947<E$10,+VLOOKUP($A947,Data!A:B,2,1),\"\")","v":""},null,0,{"$error":"#VALUE!"},null,null,null,null,null,null,null,null,null,null,null,null,null,null,null,null,"","",{"$error":"#VALUE!"}]
[{"$f":"IF(A947<$E$10,+VLOOKUP($A947+1,Data!A:B,1,1),\"\")","v":""},{"$f":"IF(A948<E$10,+VLOOKUP($A948,Data!A:B,2,1),\"\")","v":""},null,0,{"$error":"#VALUE!"},null,null,null,null,null,null,null,null,null,null,null,null,null,null,null,null,"","",{"$error":"#VALUE!"}]
[{"$f":"IF(A948<$E$10,+VLOOKUP($A948+1,Data!A:B,1,1),\"\")","v":""},{"$f":"IF(A949<E$10,+VLOOKUP($A949,Data!A:B,2,1),\"\")","v":""},null,0,{"$error":"#VALUE!"},null,null,null,null,null,null,null,null,null,null,null,null,null,null,null,null,"","",{"$error":"#VALUE!"}]
[{"$f":"IF(A949<$E$10,+VLOOKUP($A949+1,Data!A:B,1,1),\"\")","v":""},{"$f":"IF(A950<E$10,+VLOOKUP($A950,Data!A:B,2,1),\"\")","v":""},null,0,{"$error":"#VALUE!"},null,null,null,null,null,null,null,null,null,null,null,null,null,null,null,null,"","",{"$error":"#VALUE!"}]
[{"$f":"IF(A950<$E$10,+VLOOKUP($A950+1,Data!A:B,1,1),\"\")","v":""},{"$f":"IF(A951<E$10,+VLOOKUP($A951,Data!A:B,2,1),\"\")","v":""},null,0,{"$error":"#VALUE!"},null,null,null,null,null,null,null,null,null,null,null,null,null,null,null,null,"","",{"$error":"#VALUE!"}]
[{"$f":"IF(A951<$E$10,+VLOOKUP($A951+1,Data!A:B,1,1),\"\")","v":""},{"$f":"IF(A952<E$10,+VLOOKUP($A952,Data!A:B,2,1),\"\")","v":""},null,0,{"$error":"#VALUE!"},null,null,null,null,null,null,null,null,null,null,null,null,null,null,null,null,"","",{"$error":"#VALUE!"}]
[{"$f":"IF(A952<$E$10,+VLOOKUP($A952+1,Data!A:B,1,1),\"\")","v":""},{"$f":"IF(A953<E$10,+VLOOKUP($A953,Data!A:B,2,1),\"\")","v":""},null,0,{"$error":"#VALUE!"},null,null,null,null,null,null,null,null,null,null,null,null,null,null,null,null,"","",{"$error":"#VALUE!"}]
[{"$f":"IF(A953<$E$10,+VLOOKUP($A953+1,Data!A:B,1,1),\"\")","v":""},{"$f":"IF(A954<E$10,+VLOOKUP($A954,Data!A:B,2,1),\"\")","v":""},null,0,{"$error":"#VALUE!"},null,null,null,null,null,null,null,null,null,null,null,null,null,null,null,null,"","",{"$error":"#VALUE!"}]
[{"$f":"IF(A954<$E$10,+VLOOKUP($A954+1,Data!A:B,1,1),\"\")","v":""},{"$f":"IF(A955<E$10,+VLOOKUP($A955,Data!A:B,2,1),\"\")","v":""},null,0,{"$error":"#VALUE!"},null,null,null,null,null,null,null,null,null,null,null,null,null,null,null,null,"","",{"$error":"#VALUE!"}]
[{"$f":"IF(A955<$E$10,+VLOOKUP($A955+1,Data!A:B,1,1),\"\")","v":""},{"$f":"IF(A956<E$10,+VLOOKUP($A956,Data!A:B,2,1),\"\")","v":""},null,0,{"$error":"#VALUE!"},null,null,null,null,null,null,null,null,null,null,null,null,null,null,null,null,"","",{"$error":"#VALUE!"}]
[{"$f":"IF(A956<$E$10,+VLOOKUP($A956+1,Data!A:B,1,1),\"\")","v":""},{"$f":"IF(A957<E$10,+VLOOKUP($A957,Data!A:B,2,1),\"\")","v":""},null,0,{"$error":"#VALUE!"},null,null,null,null,null,null,null,null,null,null,null,null,null,null,null,null,"","",{"$error":"#VALUE!"}]
[{"$f":"IF(A957<$E$10,+VLOOKUP($A957+1,Data!A:B,1,1),\"\")","v":""},{"$f":"IF(A958<E$10,+VLOOKUP($A958,Data!A:B,2,1),\"\")","v":""},null,0,{"$error":"#VALUE!"},null,null,null,null,null,null,null,null,null,null,null,null,null,null,null,null,"","",{"$error":"#VALUE!"}]
[{"$f":"IF(A958<$E$10,+VLOOKUP($A958+1,Data!A:B,1,1),\"\")","v":""},{"$f":"IF(A959<E$10,+VLOOKUP($A959,Data!A:B,2,1),\"\")","v":""},null,0,{"$error":"#VALUE!"},null,null,null,null,null,null,null,null,null,null,null,null,null,null,null,null,"","",{"$error":"#VALUE!"}]
[{"$f":"IF(A959<$E$10,+VLOOKUP($A959+1,Data!A:B,1,1),\"\")","v":""},{"$f":"IF(A960<E$10,+VLOOKUP($A960,Data!A:B,2,1),\"\")","v":""},null,0,{"$error":"#VALUE!"},null,null,null,null,null,null,null,null,null,null,null,null,null,null,null,null,"","",{"$error":"#VALUE!"}]
[{"$f":"IF(A960<$E$10,+VLOOKUP($A960+1,Data!A:B,1,1),\"\")","v":""},{"$f":"IF(A961<E$10,+VLOOKUP($A961,Data!A:B,2,1),\"\")","v":""},null,0,{"$error":"#VALUE!"},null,null,null,null,null,null,null,null,null,null,null,null,null,null,null,null,"","",{"$error":"#VALUE!"}]
[{"$f":"IF(A961<$E$10,+VLOOKUP($A961+1,Data!A:B,1,1),\"\")","v":""},{"$f":"IF(A962<E$10,+VLOOKUP($A962,Data!A:B,2,1),\"\")","v":""},null,0,{"$error":"#VALUE!"},null,null,null,null,null,null,null,null,null,null,null,null,null,null,null,null,"","",{"$error":"#VALUE!"}]
[{"$f":"IF(A962<$E$10,+VLOOKUP($A962+1,Data!A:B,1,1),\"\")","v":""},{"$f":"IF(A963<E$10,+VLOOKUP($A963,Data!A:B,2,1),\"\")","v":""},null,0,{"$error":"#VALUE!"},null,null,null,null,null,null,null,null,null,null,null,null,null,null,null,null,"","",{"$error":"#VALUE!"}]
[{"$f":"IF(A963<$E$10,+VLOOKUP($A963+1,Data!A:B,1,1),\"\")","v":""},{"$f":"IF(A964<E$10,+VLOOKUP($A964,Data!A:B,2,1),\"\")","v":""},null,0,{"$error":"#VALUE!"},null,null,null,null,null,null,null,null,null,null,null,null,null,null,null,null,"","",{"$error":"#VALUE!"}]
[{"$f":"IF(A964<$E$10,+VLOOKUP($A964+1,Data!A:B,1,1),\"\")","v":""},{"$f":"IF(A965<E$10,+VLOOKUP($A965,Data!A:B,2,1),\"\")","v":""},null,0,{"$error":"#VALUE!"},null,null,null,null,null,null,null,null,null,null,null,null,null,null,null,null,"","",{"$error":"#VALUE!"}]
[{"$f":"IF(A965<$E$10,+VLOOKUP($A965+1,Data!A:B,1,1),\"\")","v":""},{"$f":"IF(A966<E$10,+VLOOKUP($A966,Data!A:B,2,1),\"\")","v":""},null,0,{"$error":"#VALUE!"},null,null,null,null,null,null,null,null,null,null,null,null,null,null,null,null,"","",{"$error":"#VALUE!"}]
[{"$f":"IF(A966<$E$10,+VLOOKUP($A966+1,Data!A:B,1,1),\"\")","v":""},{"$f":"IF(A967<E$10,+VLOOKUP($A967,Data!A:B,2,1),\"\")","v":""},null,0,{"$error":"#VALUE!"},null,null,null,null,null,null,null,null,null,null,null,null,null,null,null,null,"","",{"$error":"#VALUE!"}]
[{"$f":"IF(A967<$E$10,+VLOOKUP($A967+1,Data!A:B,1,1),\"\")","v":""},{"$f":"IF(A968<E$10,+VLOOKUP($A968,Data!A:B,2,1),\"\")","v":""},null,0,{"$error":"#VALUE!"},null,null,null,null,null,null,null,null,null,null,null,null,null,null,null,null,"","",{"$error":"#VALUE!"}]
[{"$f":"IF(A968<$E$10,+VLOOKUP($A968+1,Data!A:B,1,1),\"\")","v":""},{"$f":"IF(A969<E$10,+VLOOKUP($A969,Data!A:B,2,1),\"\")","v":""},null,0,{"$error":"#VALUE!"},null,null,null,null,null,null,null,null,null,null,null,null,null,null,null,null,"","",{"$error":"#VALUE!"}]
[{"$f":"IF(A969<$E$10,+VLOOKUP($A969+1,Data!A:B,1,1),\"\")","v":""},{"$f":"IF(A970<E$10,+VLOOKUP($A970,Data!A:B,2,1),\"\")","v":""},null,0,{"$error":"#VALUE!"},null,null,null,null,null,null,null,null,null,null,null,null,null,null,null,null,"","",{"$error":"#VALUE!"}]
[{"$f":"IF(A970<$E$10,+VLOOKUP($A970+1,Data!A:B,1,1),\"\")","v":""},{"$f":"IF(A971<E$10,+VLOOKUP($A971,Data!A:B,2,1),\"\")","v":""},null,0,{"$error":"#VALUE!"},null,null,null,null,null,null,null,null,null,null,null,null,null,null,null,null,"","",{"$error":"#VALUE!"}]
[{"$f":"IF(A971<$E$10,+VLOOKUP($A971+1,Data!A:B,1,1),\"\")","v":""},{"$f":"IF(A972<E$10,+VLOOKUP($A972,Data!A:B,2,1),\"\")","v":""},null,0,{"$error":"#VALUE!"},null,null,null,null,null,null,null,null,null,null,null,null,null,null,null,null,"","",{"$error":"#VALUE!"}]
[{"$f":"IF(A972<$E$10,+VLOOKUP($A972+1,Data!A:B,1,1),\"\")","v":""},{"$f":"IF(A973<E$10,+VLOOKUP($A973,Data!A:B,2,1),\"\")","v":""},null,0,{"$error":"#VALUE!"},null,null,null,null,null,null,null,null,null,null,null,null,null,null,null,null,"","",{"$error":"#VALUE!"}]
[{"$f":"IF(A973<$E$10,+VLOOKUP($A973+1,Data!A:B,1,1),\"\")","v":""},{"$f":"IF(A974<E$10,+VLOOKUP($A974,Data!A:B,2,1),\"\")","v":""},null,0,{"$error":"#VALUE!"},null,null,null,null,null,null,null,null,null,null,null,null,null,null,null,null,"","",{"$error":"#VALUE!"}]
[{"$f":"IF(A974<$E$10,+VLOOKUP($A974+1,Data!A:B,1,1),\"\")","v":""},{"$f":"IF(A975<E$10,+VLOOKUP($A975,Data!A:B,2,1),\"\")","v":""},null,0,{"$error":"#VALUE!"},null,null,null,null,null,null,null,null,null,null,null,null,null,null,null,null,"","",{"$error":"#VALUE!"}]
[{"$f":"IF(A975<$E$10,+VLOOKUP($A975+1,Data!A:B,1,1),\"\")","v":""},{"$f":"IF(A976<E$10,+VLOOKUP($A976,Data!A:B,2,1),\"\")","v":""},null,0,{"$error":"#VALUE!"},null,null,null,null,null,null,null,null,null,null,null,null,null,null,null,null,"","",{"$error":"#VALUE!"}]
[{"$f":"IF(A976<$E$10,+VLOOKUP($A976+1,Data!A:B,1,1),\"\")","v":""},{"$f":"IF(A977<E$10,+VLOOKUP($A977,Data!A:B,2,1),\"\")","v":""},null,0,{"$error":"#VALUE!"},null,null,null,null,null,null,null,null,null,null,null,null,null,null,null,null,"","",{"$error":"#VALUE!"}]
[{"$f":"IF(A977<$E$10,+VLOOKUP($A977+1,Data!A:B,1,1),\"\")","v":""},{"$f":"IF(A978<E$10,+VLOOKUP($A978,Data!A:B,2,1),\"\")","v":""},null,0,{"$error":"#VALUE!"},null,null,null,null,null,null,null,null,null,null,null,null,null,null,null,null,"","",{"$error":"#VALUE!"}]
[{"$f":"IF(A978<$E$10,+VLOOKUP($A978+1,Data!A:B,1,1),\"\")","v":""},{"$f":"IF(A979<E$10,+VLOOKUP($A979,Data!A:B,2,1),\"\")","v":""},null,0,{"$error":"#VALUE!"},null,null,null,null,null,null,null,null,null,null,null,null,null,null,null,null,"","",{"$error":"#VALUE!"}]
[{"$f":"IF(A979<$E$10,+VLOOKUP($A979+1,Data!A:B,1,1),\"\")","v":""},{"$f":"IF(A980<E$10,+VLOOKUP($A980,Data!A:B,2,1),\"\")","v":""},null,0,{"$error":"#VALUE!"},null,null,null,null,null,null,null,null,null,null,null,null,null,null,null,null,"","",{"$error":"#VALUE!"}]
[{"$f":"IF(A980<$E$10,+VLOOKUP($A980+1,Data!A:B,1,1),\"\")","v":""},{"$f":"IF(A981<E$10,+VLOOKUP($A981,Data!A:B,2,1),\"\")","v":""},null,0,{"$error":"#VALUE!"},null,null,null,null,null,null,null,null,null,null,null,null,null,null,null,null,"","",{"$error":"#VALUE!"}]
[{"$f":"IF(A981<$E$10,+VLOOKUP($A981+1,Data!A:B,1,1),\"\")","v":""},{"$f":"IF(A982<E$10,+VLOOKUP($A982,Data!A:B,2,1),\"\")","v":""},null,0,{"$error":"#VALUE!"},null,null,null,null,null,null,null,null,null,null,null,null,null,null,null,null,"","",{"$error":"#VALUE!"}]
[{"$f":"IF(A982<$E$10,+VLOOKUP($A982+1,Data!A:B,1,1),\"\")","v":""},{"$f":"IF(A983<E$10,+VLOOKUP($A983,Data!A:B,2,1),\"\")","v":""},null,0,{"$error":"#VALUE!"},null,null,null,null,null,null,null,null,null,null,null,null,null,null,null,null,"","",{"$error":"#VALUE!"}]
[{"$f":"IF(A983<$E$10,+VLOOKUP($A983+1,Data!A:B,1,1),\"\")","v":""},{"$f":"IF(A984<E$10,+VLOOKUP($A984,Data!A:B,2,1),\"\")","v":""},null,0,{"$error":"#VALUE!"},null,null,null,null,null,null,null,null,null,null,null,null,null,null,null,null,"","",{"$error":"#VALUE!"}]
[{"$f":"IF(A984<$E$10,+VLOOKUP($A984+1,Data!A:B,1,1),\"\")","v":""},{"$f":"IF(A985<E$10,+VLOOKUP($A985,Data!A:B,2,1),\"\")","v":""},null,0,{"$error":"#VALUE!"},null,null,null,null,null,null,null,null,null,null,null,null,null,null,null,null,"","",{"$error":"#VALUE!"}]
[{"$f":"IF(A985<$E$10,+VLOOKUP($A985+1,Data!A:B,1,1),\"\")","v":""},{"$f":"IF(A986<E$10,+VLOOKUP($A986,Data!A:B,2,1),\"\")","v":""},null,0,{"$error":"#VALUE!"},null,null,null,null,null,null,null,null,null,null,null,null,null,null,null,null,"","",{"$error":"#VALUE!"}]
[{"$f":"IF(A986<$E$10,+VLOOKUP($A986+1,Data!A:B,1,1),\"\")","v":""},{"$f":"IF(A987<E$10,+VLOOKUP($A987,Data!A:B,2,1),\"\")","v":""},null,0,{"$error":"#VALUE!"},null,null,null,null,null,null,null,null,null,null,null,null,null,null,null,null,"","",{"$error":"#VALUE!"}]
[{"$f":"IF(A987<$E$10,+VLOOKUP($A987+1,Data!A:B,1,1),\"\")","v":""},{"$f":"IF(A988<E$10,+VLOOKUP($A988,Data!A:B,2,1),\"\")","v":""},null,0,{"$error":"#VALUE!"},null,null,null,null,null,null,null,null,null,null,null,null,null,null,null,null,"","",{"$error":"#VALUE!"}]
[{"$f":"IF(A988<$E$10,+VLOOKUP($A988+1,Data!A:B,1,1),\"\")","v":""},{"$f":"IF(A989<E$10,+VLOOKUP($A989,Data!A:B,2,1),\"\")","v":""},null,0,{"$error":"#VALUE!"},null,null,null,null,null,null,null,null,null,null,null,null,null,null,null,null,"","",{"$error":"#VALUE!"}]
[{"$f":"IF(A989<$E$10,+VLOOKUP($A989+1,Data!A:B,1,1),\"\")","v":""},{"$f":"IF(A990<E$10,+VLOOKUP($A990,Data!A:B,2,1),\"\")","v":""},null,0,{"$error":"#VALUE!"},null,null,null,null,null,null,null,null,null,null,null,null,null,null,null,null,"","",{"$error":"#VALUE!"}]
[{"$f":"IF(A990<$E$10,+VLOOKUP($A990+1,Data!A:B,1,1),\"\")","v":""},{"$f":"IF(A991<E$10,+VLOOKUP($A991,Data!A:B,2,1),\"\")","v":""},null,0,{"$error":"#VALUE!"},null,null,null,null,null,null,null,null,null,null,null,null,null,null,null,null,"","",{"$error":"#VALUE!"}]
[{"$f":"IF(A991<$E$10,+VLOOKUP($A991+1,Data!A:B,1,1),\"\")","v":""},{"$f":"IF(A992<E$10,+VLOOKUP($A992,Data!A:B,2,1),\"\")","v":""},null,0,{"$error":"#VALUE!"},null,null,null,null,null,null,null,null,null,null,null,null,null,null,null,null,"","",{"$error":"#VALUE!"}]
[{"$f":"IF(A992<$E$10,+VLOOKUP($A992+1,Data!A:B,1,1),\"\")","v":""},{"$f":"IF(A993<E$10,+VLOOKUP($A993,Data!A:B,2,1),\"\")","v":""},null,0,{"$error":"#VALUE!"},null,null,null,null,null,null,null,null,null,null,null,null,null,null,null,null,"","",{"$error":"#VALUE!"}]
[{"$f":"IF(A993<$E$10,+VLOOKUP($A993+1,Data!A:B,1,1),\"\")","v":""},{"$f":"IF(A994<E$10,+VLOOKUP($A994,Data!A:B,2,1),\"\")","v":""},null,0,{"$error":"#VALUE!"},null,null,null,null,null,null,null,null,null,null,null,null,null,null,null,null,"","",{"$error":"#VALUE!"}]
[{"$f":"IF(A994<$E$10,+VLOOKUP($A994+1,Data!A:B,1,1),\"\")","v":""},{"$f":"IF(A995<E$10,+VLOOKUP($A995,Data!A:B,2,1),\"\")","v":""},null,{"$f":"+IF(AND(A995<$H$9,A995>$H$8),B995-X995,0)","v":0},{"$f":"+D995/X995","v":{"$error":"#VALUE!"}},null,null,null,null,null,null,null,null,null,null,null,null,null,null,null,null,{"$f":"+IF(AND($A995>$H$6,$A995<$H$7),$B995,\"\")","v":""},{"$f":"+IF(AND($A995>$H$10,$A995<$H$11),$B995,\"\")","v":""},{"$f":"+$G$15+(A995-$G$14)*$H$16","v":{"$error":"#VALUE!"}}]
[{"$f":"IF(A995<$E$10,+VLOOKUP($A995+1,Data!A:B,1,1),\"\")","v":""},{"$f":"IF(A996<E$10,+VLOOKUP($A996,Data!A:B,2,1),\"\")","v":""},null,0,{"$error":"#VALUE!"},null,null,null,null,null,null,null,null,null,null,null,null,null,null,null,null,"","",{"$error":"#VALUE!"}]
[{"$f":"IF(A996<$E$10,+VLOOKUP($A996+1,Data!A:B,1,1),\"\")","v":""},{"$f":"IF(A997<E$10,+VLOOKUP($A997,Data!A:B,2,1),\"\")","v":""},null,0,{"$error":"#VALUE!"},null,null,null,null,null,null,null,null,null,null,null,null,null,null,null,null,"","",{"$error":"#VALUE!"}]
[{"$f":"IF(A997<$E$10,+VLOOKUP($A997+1,Data!A:B,1,1),\"\")","v":""},{"$f":"IF(A998<E$10,+VLOOKUP($A998,Data!A:B,2,1),\"\")","v":""},null,0,{"$error":"#VALUE!"},null,null,null,null,null,null,null,null,null,null,null,null,null,null,null,null,"","",{"$error":"#VALUE!"}]
[{"$f":"IF(A998<$E$10,+VLOOKUP($A998+1,Data!A:B,1,1),\"\")","v":""},{"$f":"IF(A999<E$10,+VLOOKUP($A999,Data!A:B,2,1),\"\")","v":""},null,0,{"$error":"#VALUE!"},null,null,null,null,null,null,null,null,null,null,null,null,null,null,null,null,"","",{"$error":"#VALUE!"}]
[{"$f":"IF(A999<$E$10,+VLOOKUP($A999+1,Data!A:B,1,1),\"\")","v":""},{"$f":"IF(A1000<E$10,+VLOOKUP($A1000,Data!A:B,2,1),\"\")","v":""},null,0,{"$error":"#VALUE!"},null,null,null,null,null,null,null,null,null,null,null,null,null,null,null,null,"","",{"$error":"#VALUE!"}]
[{"$f":"IF(A1000<$E$10,+VLOOKUP($A1000+1,Data!A:B,1,1),\"\")","v":""},{"$f":"IF(A1001<E$10,+VLOOKUP($A1001,Data!A:B,2,1),\"\")","v":""},null,0,{"$error":"#VALUE!"},null,null,null,null,null,null,null,null,null,null,null,null,null,null,null,null,"","",{"$error":"#VALUE!"}]
[{"$f":"IF(A1001<$E$10,+VLOOKUP($A1001+1,Data!A:B,1,1),\"\")","v":""},{"$f":"IF(A1002<E$10,+VLOOKUP($A1002,Data!A:B,2,1),\"\")","v":""},null,0,{"$error":"#VALUE!"},null,null,null,null,null,null,null,null,null,null,null,null,null,null,null,null,"","",{"$error":"#VALUE!"}]
[{"$f":"IF(A1002<$E$10,+VLOOKUP($A1002+1,Data!A:B,1,1),\"\")","v":""},{"$f":"IF(A1003<E$10,+VLOOKUP($A1003,Data!A:B,2,1),\"\")","v":""},null,0,{"$error":"#VALUE!"},null,null,null,null,null,null,null,null,null,null,null,null,null,null,null,null,"","",{"$error":"#VALUE!"}]
[{"$f":"IF(A1003<$E$10,+VLOOKUP($A1003+1,Data!A:B,1,1),\"\")","v":""},{"$f":"IF(A1004<E$10,+VLOOKUP($A1004,Data!A:B,2,1),\"\")","v":""},null,0,{"$error":"#VALUE!"},null,null,null,null,null,null,null,null,null,null,null,null,null,null,null,null,"","",{"$error":"#VALUE!"}]
[{"$f":"IF(A1004<$E$10,+VLOOKUP($A1004+1,Data!A:B,1,1),\"\")","v":""},{"$f":"IF(A1005<E$10,+VLOOKUP($A1005,Data!A:B,2,1),\"\")","v":""},null,0,{"$error":"#VALUE!"},null,null,null,null,null,null,null,null,null,null,null,null,null,null,null,null,"","",{"$error":"#VALUE!"}]
[{"$f":"IF(A1005<$E$10,+VLOOKUP($A1005+1,Data!A:B,1,1),\"\")","v":""},{"$f":"IF(A1006<E$10,+VLOOKUP($A1006,Data!A:B,2,1),\"\")","v":""},null,0,{"$error":"#VALUE!"},null,null,null,null,null,null,null,null,null,null,null,null,null,null,null,null,"","",{"$error":"#VALUE!"}]
[{"$f":"IF(A1006<$E$10,+VLOOKUP($A1006+1,Data!A:B,1,1),\"\")","v":""},{"$f":"IF(A1007<E$10,+VLOOKUP($A1007,Data!A:B,2,1),\"\")","v":""},null,0,{"$error":"#VALUE!"},null,null,null,null,null,null,null,null,null,null,null,null,null,null,null,null,"","",{"$error":"#VALUE!"}]
[{"$f":"IF(A1007<$E$10,+VLOOKUP($A1007+1,Data!A:B,1,1),\"\")","v":""},{"$f":"IF(A1008<E$10,+VLOOKUP($A1008,Data!A:B,2,1),\"\")","v":""},null,0,{"$error":"#VALUE!"},null,null,null,null,null,null,null,null,null,null,null,null,null,null,null,null,"","",{"$error":"#VALUE!"}]
[{"$f":"IF(A1008<$E$10,+VLOOKUP($A1008+1,Data!A:B,1,1),\"\")","v":""},{"$f":"IF(A1009<E$10,+VLOOKUP($A1009,Data!A:B,2,1),\"\")","v":""},null,0,{"$error":"#VALUE!"},null,null,null,null,null,null,null,null,null,null,null,null,null,null,null,null,"","",{"$error":"#VALUE!"}]
[{"$f":"IF(A1009<$E$10,+VLOOKUP($A1009+1,Data!A:B,1,1),\"\")","v":""},{"$f":"IF(A1010<E$10,+VLOOKUP($A1010,Data!A:B,2,1),\"\")","v":""},null,0,{"$error":"#VALUE!"},null,null,null,null,null,null,null,null,null,null,null,null,null,null,null,null,"","",{"$error":"#VALUE!"}]
[{"$f":"IF(A1010<$E$10,+VLOOKUP($A1010+1,Data!A:B,1,1),\"\")","v":""},{"$f":"IF(A1011<E$10,+VLOOKUP($A1011,Data!A:B,2,1),\"\")","v":""},null,0,{"$error":"#VALUE!"},null,null,null,null,null,null,null,null,null,null,null,null,null,null,null,null,"","",{"$error":"#VALUE!"}]
[{"$f":"IF(A1011<$E$10,+VLOOKUP($A1011+1,Data!A:B,1,1),\"\")","v":""},{"$f":"IF(A1012<E$10,+VLOOKUP($A1012,Data!A:B,2,1),\"\")","v":""},null,0,{"$error":"#VALUE!"},null,null,null,null,null,null,null,null,null,null,null,null,null,null,null,null,"","",{"$error":"#VALUE!"}]
[{"$f":"IF(A1012<$E$10,+VLOOKUP($A1012+1,Data!A:B,1,1),\"\")","v":""},{"$f":"IF(A1013<E$10,+VLOOKUP($A1013,Data!A:B,2,1),\"\")","v":""},null,0,{"$error":"#VALUE!"},null,null,null,null,null,null,null,null,null,null,null,null,null,null,null,null,"","",{"$error":"#VALUE!"}]
[{"$f":"IF(A1013<$E$10,+VLOOKUP($A1013+1,Data!A:B,1,1),\"\")","v":""},{"$f":"IF(A1014<E$10,+VLOOKUP($A1014,Data!A:B,2,1),\"\")","v":""},null,0,{"$error":"#VALUE!"},null,null,null,null,null,null,null,null,null,null,null,null,null,null,null,null,"","",{"$error":"#VALUE!"}]
[{"$f":"IF(A1014<$E$10,+VLOOKUP($A1014+1,Data!A:B,1,1),\"\")","v":""},{"$f":"IF(A1015<E$10,+VLOOKUP($A1015,Data!A:B,2,1),\"\")","v":""},null,0,{"$error":"#VALUE!"},null,null,null,null,null,null,null,null,null,null,null,null,null,null,null,null,"","",{"$error":"#VALUE!"}]
[{"$f":"IF(A1015<$E$10,+VLOOKUP($A1015+1,Data!A:B,1,1),\"\")","v":""},{"$f":"IF(A1016<E$10,+VLOOKUP($A1016,Data!A:B,2,1),\"\")","v":""},null,null,null,null,null,null,null,null,null,null,null,null,null,null,null,null,null,null,null,{"$f":"+IF(AND($A1016>$H$6,$A1016<$H$7),$B1016,\"\")","v":""},{"$f":"+IF(AND($A1016>$H$10,$A1016<$H$11),$B1016,\"\")","v":""},{"$f":"+$G$15+(A1016-$G$14)*$H$16","v":{"$error":"#VALUE!"}}]
[{"$f":"IF(A1016<$E$10,+VLOOKUP($A1016+1,Data!A:B,1,1),\"\")","v":""},{"$f":"IF(A1017<E$10,+VLOOKUP($A1017,Data!A:B,2,1),\"\")","v":""},null,null,null,null,null,null,null,null,null,null,null,null,null,null,null,null,null,null,null,"",""]
[{"$f":"IF(A1017<$E$10,+VLOOKUP($A1017+1,Data!A:B,1,1),\"\")","v":""},{"$f":"IF(A1018<E$10,+VLOOKUP($A1018,Data!A:B,2,1),\"\")","v":""},null,null,null,null,null,null,null,null,null,null,null,null,null,null,null,null,null,null,null,"",""]
[{"$f":"IF(A1018<$E$10,+VLOOKUP($A1018+1,Data!A:B,1,1),\"\")","v":""},{"$f":"IF(A1019<E$10,+VLOOKUP($A1019,Data!A:B,2,1),\"\")","v":""},null,null,null,null,null,null,null,null,null,null,null,null,null,null,null,null,null,null,null,"",""]
[{"$f":"IF(A1019<$E$10,+VLOOKUP($A1019+1,Data!A:B,1,1),\"\")","v":""},{"$f":"IF(A1020<E$10,+VLOOKUP($A1020,Data!A:B,2,1),\"\")","v":""}]

{"sheet":"Spectres","index":2,"n_rows":23,"n_cols":2,"rows_kept":23,"cut":false,"hidden":false,"merged":[]}
["Spectres"]
[]
[]
[null,"Intensité"]
[]
[]
[]
[]
[]
[]
[]
[]
[]
[]
[]
[]
[]
[]
[]
[]
[]
[]
[null,"Flux absolu"]

{"sheet":"Data","index":3,"n_rows":3566,"n_cols":4,"rows_kept":3566,"cut":false,"hidden":false,"merged":[]}
[4323.8969999999999,-2.4356490450891101E-28,{"$f":"+IF(AND(A1>Analyse1!$E$3,Data!A1<Analyse1!$E$4),B1,\"\")","v":""},{"$f":"+B1/Analyse1!$H$3*Analyse1!$H$4","v":-3.7271054443675611E-42}]
[4324.8969999999999,6.8251747800282796E-24,{"$f":"+IF(AND(A2>Analyse1!$E$3,Data!A2<Analyse1!$E$4),B2,\"\")","v":""},{"$f":"+B2/Analyse1!$H$3*Analyse1!$H$4","v":1.0444093385577599E-37}]
[4325.8969999999999,9.4862828887960101E-24,{"$f":"+IF(AND(A3>Analyse1!$E$3,Data!A3<Analyse1!$E$4),B3,\"\")","v":""},{"$f":"+B3/Analyse1!$H$3*Analyse1!$H$4","v":1.4516203257168728E-37}]
[4326.8969999999999,7.9830807613986905E-24,{"$f":"+IF(AND(A4>Analyse1!$E$3,Data!A4<Analyse1!$E$4),B4,\"\")","v":""},{"$f":"+B4/Analyse1!$H$3*Analyse1!$H$4","v":1.2215956904228962E-37}]
[4327.8969999999999,2.3155683978363101E-24,{"$f":"+IF(AND(A5>Analyse1!$E$3,Data!A5<Analyse1!$E$4),B5,\"\")","v":""},{"$f":"+B5/Analyse1!$H$3*Analyse1!$H$4","v":3.5433543267582841E-38}]
[4328.8969999999999,-7.1499309001597503E-24,{"$f":"+IF(AND(A6>Analyse1!$E$3,Data!A6<Analyse1!$E$4),B6,\"\")","v":""},{"$f":"+B6/Analyse1!$H$3*Analyse1!$H$4","v":-1.0941045237435799E-37}]
[4329.8969999999999,-1.6542104823161901E-23,{"$f":"+IF(AND(A7>Analyse1!$E$3,Data!A7<Analyse1!$E$4),B7,\"\")","v":""},{"$f":"+B7/Analyse1!$H$3*Analyse1!$H$4","v":-2.5313240046638144E-37}]
[4330.8969999999999,-2.00413262069897E-23,{"$f":"+IF(AND(A8>Analyse1!$E$3,Data!A8<Analyse1!$E$4),B8,\"\")","v":""},{"$f":"+B8/Analyse1!$H$3*Analyse1!$H$4","v":-3.0667856754249575E-37}]
[4331.8969999999999,-1.1807047735843899E-23,{"$f":"+IF(AND(A9>Analyse1!$E$3,Data!A9<Analyse1!$E$4),B9,\"\")","v":""},{"$f":"+B9/Analyse1!$H$3*Analyse1!$H$4","v":-1.8067509351110757E-37}]
[4332.8969999999999,1.35753452188023E-23,{"$f":"+IF(AND(A10>Analyse1!$E$3,Data!A10<Analyse1!$E$4),B10,\"\")","v":""},{"$f":"+B10/Analyse1!$H$3*Analyse1!$H$4","v":2.077341281010215E-37}]
[4333.8969999999999,4.8570433509200602E-23,{"$f":"+IF(AND(A11>Analyse1!$E$3,Data!A11<Analyse1!$E$4),B11,\"\")","v":""},{"$f":"+B11/Analyse1!$H$3*Analyse1!$H$4","v":7.4323978461688081E-37}]
[4334.8969999999999,7.0652710494230904E-23,{"$f":"+IF(AND(A12>Analyse1!$E$3,Data!A12<Analyse1!$E$4),B12,\"\")","v":""},{"$f":"+B12/Analyse1!$H$3*Analyse1!$H$4","v":1.0811496117361973E-36}]
[4335.8969999999999,5.6459986910689702E-23,{"$f":"+IF(AND(A13>Analyse1!$E$3,Data!A13<Analyse1!$E$4),B13,\"\")","v":""},{"$f":"+B13/Analyse1!$H$3*Analyse1!$H$4","v":8.6396816909249736E-37}]
[4336.8969999999999,-1.728536639626E-23,{"$f":"+IF(AND(A14>Analyse1!$E$3,Data!A14<Analyse1!$E$4),B14,\"\")","v":""},{"$f":"+B14/Analyse1!$H$3*Analyse1!$H$4","v":-2.6450601876852792E-37}]
[4337.8969999999999,-1.4488211996558001E-22,{"$f":"+IF(AND(A15>Analyse1!$E$3,Data!A15<Analyse1!$E$4),B15,\"\")","v":""},{"$f":"+B15/Analyse1!$H$3*Analyse1!$H$4","v":-2.2170309766260737E-36}]
[4338.8969999999999,-2.4945199100567802E-22,{"$f":"+IF(AND(A16>Analyse1!$E$3,Data!A16<Analyse1!$E$4),B16,\"\")","v":""},{"$f":"+B16/Analyse1!$H$3*Analyse1!$H$4","v":-3.8171914613896079E-36}]
[4339.8969999999999,-2.4338676977956398E-22,{"$f":"+IF(AND(A17>Analyse1!$E$3,Data!A17<Analyse1!$E$4),B17,\"\")","v":""},{"$f":"+B17/Analyse1!$H$3*Analyse1!$H$4","v":-3.7243795716852099E-36}]
[4340.8969999999999,-3.9078246550247302E-23,{"$f":"+IF(AND(A18>Analyse1!$E$3,Data!A18<Analyse1!$E$4),B18,\"\")","v":""},{"$f":"+B18/Analyse1!$H$3*Analyse1!$H$4","v":-5.9798740613894927E-37}]
[4341.8969999999999,4.02691364957021E-22,{"$f":"+IF(AND(A19>Analyse1!$E$3,Data!A19<Analyse1!$E$4),B19,\"\")","v":""},{"$f":"+B19/Analyse1!$H$3*Analyse1!$H$4","v":6.1621077213782535E-36}]
[4342.8969999999999,8.4960003952514007E-22,{"$f":"+IF(AND(A20>Analyse1!$E$3,Data!A20<Analyse1!$E$4),B20,\"\")","v":""},{"$f":"+B20/Analyse1!$H$3*Analyse1!$H$4","v":1.3000842380118823E-35}]
[4343.8969999999999,9.7467429759424599E-22,{"$f":"+IF(AND(A21>Analyse1!$E$3,Data!A21<Analyse1!$E$4),B21,\"\")","v":""},{"$f":"+B21/Analyse1!$H$3*Analyse1!$H$4","v":1.4914767332235817E-35}]
[4344.8969999999999,4.5084348947958203E-22,{"$f":"+IF(AND(A22>Analyse1!$E$3,Data!A22<Analyse1!$E$4),B22,\"\")","v":""},{"$f":"+B22/Analyse1!$H$3*Analyse1!$H$4","v":6.8989464126000252E-36}]
[4345.8969999999999,-9.9041945523028504E-22,{"$f":"+IF(AND(A23>Analyse1!$E$3,Data!A23<Analyse1!$E$4),B23,\"\")","v":""},{"$f":"+B23/Analyse1!$H$3*Analyse1!$H$4","v":-1.5155704600542303E-35}]
[4346.8969999999999,-2.7753416129736899E-21,{"$f":"+IF(AND(A24>Analyse1!$E$3,Data!A24<Analyse1!$E$4),B24,\"\")","v":""},{"$f":"+B24/Analyse1!$H$3*Analyse1!$H$4","v":-4.2469135101997609E-35}]
[4347.8969999999999,-3.6985535948226403E-21,{"$f":"+IF(AND(A25>Analyse1!$E$3,Data!A25<Analyse1!$E$4),B25,\"\")","v":""},{"$f":"+B25/Analyse1!$H$3*Analyse1!$H$4","v":-5.659641017388178E-35}]
[4348.8969999999999,-2.5393810117747599E-21,{"$f":"+IF(AND(A26>Analyse1!$E$3,Data!A26<Analyse1!$E$4),B26,\"\")","v":""},{"$f":"+B26/Analyse1!$H$3*Analyse1!$H$4","v":-3.8858393057046714E-35}]
[4349.8969999999999,1.8876292132808498E-21,{"$f":"+IF(AND(A27>Analyse1!$E$3,Data!A27<Analyse1!$E$4),B27,\"\")","v":""},{"$f":"+B27/Analyse1!$H$3*Analyse1!$H$4","v":2.8885085607680052E-35}]
[4350.8969999999999,8.6337990872562897E-21,{"$f":"+IF(AND(A28>Analyse1!$E$3,Data!A28<Analyse1!$E$4),B28,\"\")","v":""},{"$f":"+B28/Analyse1!$H$3*Analyse1!$H$4","v":1.3211706197397291E-34}]
[4351.8969999999999,1.34305013134979E-20,{"$f":"+IF(AND(A29>Analyse1!$E$3,Data!A29<Analyse1!$E$4),B29,\"\")","v":""},{"$f":"+B29/Analyse1!$H$3*Analyse1!$H$4","v":2.0551768189695135E-34}]
[4352.8969999999999,1.17221089856822E-20,{"$f":"+IF(AND(A30>Analyse1!$E$3,Data!A30<Analyse1!$E$4),B30,\"\")","v":""},{"$f":"+B30/Analyse1!$H$3*Analyse1!$H$4","v":1.7937533450517136E-34}]
[4353.8969999999999,-1.0464399075305401E-21,{"$f":"+IF(AND(A31>Analyse1!$E$3,Data!A31<Analyse1!$E$4),B31,\"\")","v":""},{"$f":"+B31/Analyse1!$H$3*Analyse1!$H$4","v":-1.601294687518444E-35}]
[4354.8969999999999,-2.5225836391700399E-20,{"$f":"+IF(AND(A32>Analyse1!$E$3,Data!A32<Analyse1!$E$4),B32,\"\")","v":""},{"$f":"+B32/Analyse1!$H$3*Analyse1!$H$4","v":-3.8601354470094496E-34}]
[4355.8969999999999,-4.6856234620379398E-20,{"$f":"+IF(AND(A33>Analyse1!$E$3,Data!A33<Analyse1!$E$4),B33,\"\")","v":""},{"$f":"+B33/Analyse1!$H$3*Analyse1!$H$4","v":-7.1700858343403314E-34}]
[4356.8969999999999,-4.8935801357276E-20,{"$f":"+IF(AND(A34>Analyse1!$E$3,Data!A34<Analyse1!$E$4),B34,\"\")","v":""},{"$f":"+B34/Analyse1!$H$3*Analyse1!$H$4","v":-7.488307563478219E-34}]
[4357.8969999999999,-1.44627033660988E-20,{"$f":"+IF(AND(A35>Analyse1!$E$3,Data!A35<Analyse1!$E$4),B35,\"\")","v":""},{"$f":"+B35/Analyse1!$H$3*Analyse1!$H$4","v":-2.2131275671568588E-34}]
[4358.8969999999999,6.7299718296366004E-20,{"$f":"+IF(AND(A36>Analyse1!$E$3,Data!A36<Analyse1!$E$4),B36,\"\")","v":""},{"$f":"+B36/Analyse1!$H$3*Analyse1!$H$4","v":1.0298410888569209E-33}]
[4359.8969999999999,1.5703796081222101E-19,{"$f":"+IF(AND(A37>Analyse1!$E$3,Data!A37<Analyse1!$E$4),B37,\"\")","v":""},{"$f":"+B37/Analyse1!$H$3*Analyse1!$H$4","v":2.4030434101157417E-33}]
[4360.8969999999999,1.9145108191385899E-19,{"$f":"+IF(AND(A38>Analyse1!$E$3,Data!A38<Analyse1!$E$4),B38,\"\")","v":""},{"$f":"+B38/Analyse1!$H$3*Analyse1!$H$4","v":2.9296436248478385E-33}]
[4361.8969999999999,1.0708737556243699E-19,{"$f":"+IF(AND(A39>Analyse1!$E$3,Data!A39<Analyse1!$E$4),B39,\"\")","v":""},{"$f":"+B39/Analyse1!$H$3*Analyse1!$H$4","v":1.638684117018141E-33}]
[4362.8969999999999,-1.5332529876387699E-19,{"$f":"+IF(AND(A40>Analyse1!$E$3,Data!A40<Analyse1!$E$4),B40,\"\")","v":""},{"$f":"+B40/Analyse1!$H$3*Analyse1!$H$4","v":-2.3462311080257523E-33}]
[4363.8969999999999,-5.0356684044451403E-19,{"$f":"+IF(AND(A41>Analyse1!$E$3,Data!A41<Analyse1!$E$4),B41,\"\")","v":""},{"$f":"+B41/Analyse1!$H$3*Analyse1!$H$4","v":-7.705735423614995E-33}]
[4364.8969999999999,-7.1316400579582996E-19,{"$f":"+IF(AND(A42>Analyse1!$E$3,Data!A42<Analyse1!$E$4),B42,\"\")","v":""},{"$f":"+B42/Analyse1!$H$3*Analyse1!$H$4","v":-1.0913056025406855E-32}]
[4365.8969999999999,-5.4531180389867795E-19,{"$f":"+IF(AND(A43>Analyse1!$E$3,Data!A43<Analyse1!$E$4),B43,\"\")","v":""},{"$f":"+B43/Analyse1!$H$3*Analyse1!$H$4","v":-8.3445297559866632E-33}]
[4366.8969999999999,2.3480685358647998E-19,{"$f":"+IF(AND(A44>Analyse1!$E$3,Data!A44<Analyse1!$E$4),B44,\"\")","v":""},{"$f":"+B44/Analyse1!$H$3*Analyse1!$H$4","v":3.5930870424107763E-33}]
[4367.8969999999999,1.5308516855555901E-18,{"$f":"+IF(AND(A45>Analyse1!$E$3,Data!A45<Analyse1!$E$4),B45,\"\")","v":""},{"$f":"+B45/Analyse1!$H$3*Analyse1!$H$4","v":2.3425565613640166E-32}]
[4368.8969999999999,2.5476921349659099E-18,{"$f":"+IF(AND(A46>Analyse1!$E$3,Data!A46<Analyse1!$E$4),B46,\"\")","v":""},{"$f":"+B46/Analyse1!$H$3*Analyse1!$H$4","v":3.8985572432733044E-32}]
[4369.8969999999999,2.4015599441799599E-18,{"$f":"+IF(AND(A47>Analyse1!$E$3,Data!A47<Analyse1!$E$4),B47,\"\")","v":""},{"$f":"+B47/Analyse1!$H$3*Analyse1!$H$4","v":3.6749412486069846E-32}]
[4370.8969999999999,2.0868685556023201E-19,{"$f":"+IF(AND(A48>Analyse1!$E$3,Data!A48<Analyse1!$E$4),B48,\"\")","v":""},{"$f":"+B48/Analyse1!$H$3*Analyse1!$H$4","v":3.1933907600305826E-33}]
[4371.8969999999999,-4.3321209354966102E-18,{"$f":"+IF(AND(A49>Analyse1!$E$3,Data!A49<Analyse1!$E$4),B49,\"\")","v":""},{"$f":"+B49/Analyse1!$H$3*Analyse1!$H$4","v":-6.6291453429643777E-32}]
[4372.8969999999999,-8.7477061135141401E-18,{"$f":"+IF(AND(A50>Analyse1!$E$3,Data!A50<Analyse1!$E$4),B50,\"\")","v":""},{"$f":"+B50/Analyse1!$H$3*Analyse1!$H$4","v":-1.338601024935968E-31}]
[4373.8969999999999,-9.7399368255375904E-18,{"$f":"+IF(AND(A51>Analyse1!$E$3,Data!A51<Analyse1!$E$4),B51,\"\")","v":""},{"$f":"+B51/Analyse1!$H$3*Analyse1!$H$4","v":-1.4904352350537071E-31}]
[4374.8969999999999,-4.0105450319361401E-18,{"$f":"+IF(AND(A52>Analyse1!$E$3,Data!A52<Analyse1!$E$4),B52,\"\")","v":""},{"$f":"+B52/Analyse1!$H$3*Analyse1!$H$4","v":-6.1370599567901162E-32}]
[4375.8969999999999,1.09772990753031E-17,{"$f":"+IF(AND(A53>Analyse1!$E$3,Data!A53<Analyse1!$E$4),B53,\"\")","v":""},{"$f":"+B53/Analyse1!$H$3*Analyse1!$H$4","v":1.6797802306742564E-31}]
[4376.8969999999999,2.8821602859485302E-17,{"$f":"+IF(AND(A54>Analyse1!$E$3,Data!A54<Analyse1!$E$4),B54,\"\")","v":""},{"$f":"+B54/Analyse1!$H$3*Analyse1!$H$4","v":4.410370744897578E-31}]
[4377.8969999999999,3.7311760328713298E-17,{"$f":"+IF(AND(A55>Analyse1!$E$3,Data!A55<Analyse1!$E$4),B55,\"\")","v":""},{"$f":"+B55/Analyse1!$H$3*Analyse1!$H$4","v":5.7095608803113555E-31}]
[4378.8969999999999,2.4138467582101301E-17,{"$f":"+IF(AND(A56>Analyse1!$E$3,Data!A56<Analyse1!$E$4),B56,\"\")","v":""},{"$f":"+B56/Analyse1!$H$3*Analyse1!$H$4","v":3.6937429111692129E-31}]
[4379.8969999999999,-2.2449364594465699E-17,{"$f":"+IF(AND(A57>Analyse1!$E$3,Data!A57<Analyse1!$E$4),B57,\"\")","v":""},{"$f":"+B57/Analyse1!$H$3*Analyse1!$H$4","v":-3.4352711517009337E-31}]
[4380.8969999999999,-9.0589547927429802E-17,{"$f":"+IF(AND(A58>Analyse1!$E$3,Data!A58<Analyse1!$E$4),B58,\"\")","v":""},{"$f":"+B58/Analyse1!$H$3*Analyse1!$H$4","v":-1.3862292597691018E-30}]
[4381.8969999999999,-1.3659060937431301E-16,{"$f":"+IF(AND(A59>Analyse1!$E$3,Data!A59<Analyse1!$E$4),B59,\"\")","v":""},{"$f":"+B59/Analyse1!$H$3*Analyse1!$H$4","v":-2.0901517190045719E-30}]
[4382.8969999999999,-1.14513601371191E-16,{"$f":"+IF(AND(A60>Analyse1!$E$3,Data!A60<Analyse1!$E$4),B60,\"\")","v":""},{"$f":"+B60/Analyse1!$H$3*Analyse1!$H$4","v":-1.7523225194748352E-30}]
[4383.8969999999999,2.15348177966483E-17,{"$f":"+IF(AND(A61>Analyse1!$E$3,Data!A61<Analyse1!$E$4),B61,\"\")","v":""},{"$f":"+B61/Analyse1!$H$3*Analyse1!$H$4","v":3.295324374223005E-31}]
[4384.8969999999999,2.6835091040775998E-16,{"$f":"+IF(AND(A62>Analyse1!$E$3,Data!A62<Analyse1!$E$4),B62,\"\")","v":""},{"$f":"+B62/Analyse1!$H$3*Analyse1!$H$4","v":4.1063885669339596E-30}]
[4385.8969999999999,4.8020479851165003E-16,{"$f":"+IF(AND(A63>Analyse1!$E$3,Data!A63<Analyse1!$E$4),B63,\"\")","v":""},{"$f":"+B63/Analyse1!$H$3*Analyse1!$H$4","v":7.3482422377429101E-30}]
[4386.8969999999999,4.8564999575355003E-16,{"$f":"+IF(AND(A64>Analyse1!$E$3,Data!A64<Analyse1!$E$4),B64,\"\")","v":""},{"$f":"+B64/Analyse1!$H$3*Analyse1!$H$4","v":7.4315663288177721E-30}]
[4387.8969999999999,1.1324001577869201E-16,{"$f":"+IF(AND(A65>Analyse1!$E$3,Data!A65<Analyse1!$E$4),B65,\"\")","v":""},{"$f":"+B65/Analyse1!$H$3*Analyse1!$H$4","v":1.7328337191271747E-30}]
[4388.8969999999999,-7.3116475748535496E-16,{"$f":"+IF(AND(A66>Analyse1!$E$3,Data!A66<Analyse1!$E$4),B66,\"\")","v":""},{"$f":"+B66/Analyse1!$H$3*Analyse1!$H$4","v":-1.1188509091028149E-29}]
[4389.8969999999999,-1.62230163783213E-15,{"$f":"+IF(AND(A67>Analyse1!$E$3,Data!A67<Analyse1!$E$4),B67,\"\")","v":""},{"$f":"+B67/Analyse1!$H$3*Analyse1!$H$4","v":-2.4824961046673814E-29}]
[4390.8969999999999,-1.9209882621620599E-15,{"$f":"+IF(AND(A68>Analyse1!$E$3,Data!A68<Analyse1!$E$4),B68,\"\")","v":""},{"$f":"+B68/Analyse1!$H$3*Analyse1!$H$4","v":-2.9395556083526181E-29}]
[4391.8969999999999,-9.8737763261998408E-16,{"$f":"+IF(AND(A69>Analyse1!$E$3,Data!A69<Analyse1!$E$4),B69,\"\")","v":""},{"$f":"+B69/Analyse1!$H$3*Analyse1!$H$4","v":-1.5109157690861239E-29}]
[4392.8969999999999,1.7335125687575001E-15,{"$f":"+IF(AND(A70>Analyse1!$E$3,Data!A70<Analyse1!$E$4),B70,\"\")","v":""},{"$f":"+B70/Analyse1!$H$3*Analyse1!$H$4","v":2.6526745082271462E-29}]
[4393.8969999999999,5.2497551167494596E-15,{"$f":"+IF(AND(A71>Analyse1!$E$3,Data!A71<Analyse1!$E$4),B71,\"\")","v":""},{"$f":"+B71/Analyse1!$H$3*Analyse1!$H$4","v":8.0333375272945038E-29}]
[4394.8969999999999,7.2187909467371101E-15,{"$f":"+IF(AND(A72>Analyse1!$E$3,Data!A72<Analyse1!$E$4),B72,\"\")","v":""},{"$f":"+B72/Analyse1!$H$3*Analyse1!$H$4","v":1.1046417008880192E-28}]
[4395.8969999999999,5.2526785536539803E-15,{"$f":"+IF(AND(A73>Analyse1!$E$3,Data!A73<Analyse1!$E$4),B73,\"\")","v":""},{"$f":"+B73/Analyse1!$H$3*Analyse1!$H$4","v":8.0378110607968259E-29}]
[4396.8969999999999,-2.9977939245652602E-15,{"$f":"+IF(AND(A74>Analyse1!$E$3,Data!A74<Analyse1!$E$4),B74,\"\")","v":""},{"$f":"+B74/Analyse1!$H$3*Analyse1!$H$4","v":-4.5873169124537819E-29}]
[4397.8969999999999,-1.61427012810591E-14,{"$f":"+IF(AND(A75>Analyse1!$E$3,Data!A75<Analyse1!$E$4),B75,\"\")","v":""},{"$f":"+B75/Analyse1!$H$3*Analyse1!$H$4","v":-2.4702060402644488E-28}]
[4398.8969999999999,-2.5990868044377099E-14,{"$f":"+IF(AND(A76>Analyse1!$E$3,Data!A76<Analyse1!$E$4),B76,\"\")","v":""},{"$f":"+B76/Analyse1!$H$3*Analyse1!$H$4","v":-3.9772029548901065E-28}]
[4399.8969999999999,-2.36303751921109E-14,{"$f":"+IF(AND(A77>Analyse1!$E$3,Data!A77<Analyse1!$E$4),B77,\"\")","v":""},{"$f":"+B77/Analyse1!$H$3*Analyse1!$H$4","v":-3.615993043354999E-28}]
[4400.8969999999999,-1.49303701852223E-16,{"$f":"+IF(AND(A78>Analyse1!$E$3,Data!A78<Analyse1!$E$4),B78,\"\")","v":""},{"$f":"+B78/Analyse1!$H$3*Analyse1!$H$4","v":-2.2846913891787415E-30}]
[4401.8969999999999,4.6420234844698899E-14,{"$f":"+IF(AND(A79>Analyse1!$E$3,Data!A79<Analyse1!$E$4),B79,\"\")","v":""},{"$f":"+B79/Analyse1!$H$3*Analyse1!$H$4","v":7.1033678011754847E-28}]
[4402.8969999999999,8.9932375753539598E-14,{"$f":"+IF(AND(A80>Analyse1!$E$3,Data!A80<Analyse1!$E$4),B80,\"\")","v":""},{"$f":"+B80/Analyse1!$H$3*Analyse1!$H$4","v":1.3761730080602132E-27}]
[4403.8969999999999,9.7127384899222599E-14,{"$f":"+IF(AND(A81>Analyse1!$E$3,Data!A81<Analyse1!$E$4),B81,\"\")","v":""},{"$f":"+B81/Analyse1!$H$3*Analyse1!$H$4","v":1.4862732616793399E-27}]
[4404.8969999999999,3.47455276971816E-14,{"$f":"+IF(AND(A82>Analyse1!$E$3,Data!A82<Analyse1!$E$4),B82,\"\")","v":""},{"$f":"+B82/Analyse1!$H$3*Analyse1!$H$4","v":5.3168680318987234E-28}]
[4405.8969999999999,-1.20764687364538E-13,{"$f":"+IF(AND(A83>Analyse1!$E$3,Data!A83<Analyse1!$E$4),B83,\"\")","v":""},{"$f":"+B83/Analyse1!$H$3*Analyse1!$H$4","v":-1.8479785692903414E-27}]
[4406.8969999999999,-2.98783427914357E-13,{"$f":"+IF(AND(A84>Analyse1!$E$3,Data!A84<Analyse1!$E$4),B84,\"\")","v":""},{"$f":"+B84/Analyse1!$H$3*Analyse1!$H$4","v":-4.572076355219152E-27}]
[4407.8969999999999,-3.75772098908737E-13,{"$f":"+IF(AND(A85>Analyse1!$E$3,Data!A85<Analyse1!$E$4),B85,\"\")","v":""},{"$f":"+B85/Analyse1!$H$3*Analyse1!$H$4","v":-5.750180792705048E-27}]
[4408.8969999999999,-2.2760368103182098E-13,{"$f":"+IF(AND(A86>Analyse1!$E$3,Data!A86<Analyse1!$E$4),B86,\"\")","v":""},{"$f":"+B86/Analyse1!$H$3*Analyse1!$H$4","v":-3.482861869784536E-27}]
[4409.8969999999999,2.6151123583878598E-13,{"$f":"+IF(AND(A87>Analyse1!$E$3,Data!A87<Analyse1!$E$4),B87,\"\")","v":""},{"$f":"+B87/Analyse1!$H$3*Analyse1!$H$4","v":4.0017257528264666E-27}]
[4410.8969999999999,9.4841357822303902E-13,{"$f":"+IF(AND(A88>Analyse1!$E$3,Data!A88<Analyse1!$E$4),B88,\"\")","v":""},{"$f":"+B88/Analyse1!$H$3*Analyse1!$H$4","v":1.4512917688344066E-26}]
[4411.8969999999999,1.38704960719882E-12,{"$f":"+IF(AND(A89>Analyse1!$E$3,Data!A89<Analyse1!$E$4),B89,\"\")","v":""},{"$f":"+B89/Analyse1!$H$3*Analyse1!$H$4","v":2.1225061767507114E-26}]
[4412.8969999999999,1.1141709800871299E-12,{"$f":"+IF(AND(A90>Analyse1!$E$3,Data!A90<Analyse1!$E$4),B90,\"\")","v":""},{"$f":"+B90/Analyse1!$H$3*Analyse1!$H$4","v":1.7049388680244596E-26}]
[4413.8969999999999,-3.3191812603243802E-13,{"$f":"+IF(AND(A91>Analyse1!$E$3,Data!A91<Analyse1!$E$4),B91,\"\")","v":""},{"$f":"+B91/Analyse1!$H$3*Analyse1!$H$4","v":-5.0791137463505869E-27}]
[4414.8969999999999,-2.8459321049880499E-12,{"$f":"+IF(AND(A92>Analyse1!$E$3,Data!A92<Analyse1!$E$4),B92,\"\")","v":""},{"$f":"+B92/Analyse1!$H$3*Analyse1!$H$4","v":-4.3549332627325734E-26}]
[4415.8969999999999,-4.9140284341841901E-12,{"$f":"+IF(AND(A93>Analyse1!$E$3,Data!A93<Analyse1!$E$4),B93,\"\")","v":""},{"$f":"+B93/Analyse1!$H$3*Analyse1!$H$4","v":-7.5195981817465923E-26}]
[4416.8969999999999,-4.80734076222122E-12,{"$f":"+IF(AND(A94>Analyse1!$E$3,Data!A94<Analyse1!$E$4),B94,\"\")","v":""},{"$f":"+B94/Analyse1!$H$3*Analyse1!$H$4","v":-7.3563414088458237E-26}]
[4417.8969999999999,-7.9700273769950199E-13,{"$f":"+IF(AND(A95>Analyse1!$E$3,Data!A95<Analyse1!$E$4),B95,\"\")","v":""},{"$f":"+B95/Analyse1!$H$3*Analyse1!$H$4","v":-1.2195982211989767E-26}]
[4418.8969999999999,7.9040143043448894E-12,{"$f":"+IF(AND(A96>Analyse1!$E$3,Data!A96<Analyse1!$E$4),B96,\"\")","v":""},{"$f":"+B96/Analyse1!$H$3*Analyse1!$H$4","v":1.2094966968036699E-25}]
[4419.8969999999999,1.67324305561735E-11,{"$f":"+IF(AND(A97>Analyse1!$E$3,Data!A97<Analyse1!$E$4),B97,\"\")","v":""},{"$f":"+B97/Analyse1!$H$3*Analyse1!$H$4","v":2.5604482365452932E-25}]
[4420.8969999999999,1.9238158763681301E-11,{"$f":"+IF(AND(A98>Analyse1!$E$3,Data!A98<Analyse1!$E$4),B98,\"\")","v":""},{"$f":"+B98/Analyse1!$H$3*Analyse1!$H$4","v":2.9438825110002979E-25}]
[4421.8969999999999,8.9689818639490095E-12,{"$f":"+IF(AND(A99>Analyse1!$E$3,Data!A99<Analyse1!$E$4),B99,\"\")","v":""},{"$f":"+B99/Analyse1!$H$3*Analyse1!$H$4","v":1.3724613241369207E-25}]
[4422.8969999999999,-1.93950049690552E-11,{"$f":"+IF(AND(A100>Analyse1!$E$3,Data!A100<Analyse1!$E$4),B100,\"\")","v":""},{"$f":"+B100/Analyse1!$H$3*Analyse1!$H$4","v":-2.967883602091649E-25}]
[4423.8969999999999,-5.4625336133742199E-11,{"$f":"+IF(AND(A101>Analyse1!$E$3,Data!A101<Analyse1!$E$4),B101,\"\")","v":""},{"$f":"+B101/Analyse1!$H$3*Analyse1!$H$4","v":-8.3589377589097585E-25}]
[4424.8969999999999,-7.2953314804899395E-11,{"$f":"+IF(AND(A102>Analyse1!$E$3,Data!A102<Analyse1!$E$4),B102,\"\")","v":""},{"$f":"+B102/Analyse1!$H$3*Analyse1!$H$4","v":-1.116354169917174E-24}]
[4425.8969999999999,-5.0298939082248402E-11,{"$f":"+IF(AND(A103>Analyse1!$E$3,Data!A103<Analyse1!$E$4),B103,\"\")","v":""},{"$f":"+B103/Analyse1!$H$3*Analyse1!$H$4","v":-7.6968991110335267E-25}]
[4426.8969999999999,3.6747804081652899E-11,{"$f":"+IF(AND(A104>Analyse1!$E$3,Data!A104<Analyse1!$E$4),B104,\"\")","v":""},{"$f":"+B104/Analyse1!$H$3*Analyse1!$H$4","v":5.6232625524368231E-25}]
[4427.8969999999999,1.6980125774891999E-10,{"$f":"+IF(AND(A105>Analyse1!$E$3,Data!A105<Analyse1!$E$4),B105,\"\")","v":""},{"$f":"+B105/Analyse1!$H$3*Analyse1!$H$4","v":2.5983513244343675E-24}]
[4428.8969999999999,2.647575189125E-10,{"$f":"+IF(AND(A106>Analyse1!$E$3,Data!A106<Analyse1!$E$4),B106,\"\")","v":""},{"$f":"+B106/Analyse1!$H$3*Analyse1!$H$4","v":4.0514013797087259E-24}]
[4429.8969999999999,2.3174879703417401E-10,{"$f":"+IF(AND(A107>Analyse1!$E$3,Data!A107<Analyse1!$E$4),B107,\"\")","v":""},{"$f":"+B107/Analyse1!$H$3*Analyse1!$H$4","v":3.5462917159319301E-24}]
[4430.8969999999999,-1.90838533900747E-11,{"$f":"+IF(AND(A108>Analyse1!$E$3,Data!A108<Analyse1!$E$4),B108,\"\")","v":""},{"$f":"+B108/Analyse1!$H$3*Analyse1!$H$4","v":-2.9202702258386116E-25}]
[4431.8969999999999,-4.9559276904706702E-10,{"$f":"+IF(AND(A109>Analyse1!$E$3,Data!A109<Analyse1!$E$4),B109,\"\")","v":""},{"$f":"+B109/Analyse1!$H$3*Analyse1!$H$4","v":-7.5837137186443062E-24}]
[4432.8969999999999,-9.2315976920469299E-10,{"$f":"+IF(AND(A110>Analyse1!$E$3,Data!A110<Analyse1!$E$4),B110,\"\")","v":""},{"$f":"+B110/Analyse1!$H$3*Analyse1!$H$4","v":-1.4126476097865038E-23}]
[4433.8969999999999,-9.6639369361044496E-10,{"$f":"+IF(AND(A111>Analyse1!$E$3,Data!A111<Analyse1!$E$4),B111,\"\")","v":""},{"$f":"+B111/Analyse1!$H$3*Analyse1!$H$4","v":-1.478805497089253E-23}]
[4434.8969999999999,-2.89903382011814E-10,{"$f":"+IF(AND(A112>Analyse1!$E$3,Data!A112<Analyse1!$E$4),B112,\"\")","v":""},{"$f":"+B112/Analyse1!$H$3*Analyse1!$H$4","v":-4.4361911483732247E-24}]
[4435.8969999999999,1.32001215147941E-9,{"$f":"+IF(AND(A113>Analyse1!$E$3,Data!A113<Analyse1!$E$4),B113,\"\")","v":""},{"$f":"+B113/Analyse1!$H$3*Analyse1!$H$4","v":2.0199233901657004E-23}]
[4436.8969999999999,3.0921094450704902E-9,{"$f":"+IF(AND(A114>Analyse1!$E$3,Data!A114<Analyse1!$E$4),B114,\"\")","v":""},{"$f":"+B114/Analyse1!$H$3*Analyse1!$H$4","v":4.7316414368232364E-23}]
[4437.8969999999999,3.7778278973577797E-9,{"$f":"+IF(AND(A115>Analyse1!$E$3,Data!A115<Analyse1!$E$4),B115,\"\")","v":""},{"$f":"+B115/Analyse1!$H$3*Analyse1!$H$4","v":5.7809490051596059E-23}]
[4438.8969999999999,2.1254706578694902E-9,{"$f":"+IF(AND(A116>Analyse1!$E$3,Data!A116<Analyse1!$E$4),B116,\"\")","v":""},{"$f":"+B116/Analyse1!$H$3*Analyse1!$H$4","v":3.2524608899469139E-23}]
[4439.8969999999999,-2.9976703372165099E-9,{"$f":"+IF(AND(A117>Analyse1!$E$3,Data!A117<Analyse1!$E$4),B117,\"\")","v":""},{"$f":"+B117/Analyse1!$H$3*Analyse1!$H$4","v":-4.5871277952731632E-23}]
[4440.8969999999999,-9.90852034859639E-9,{"$f":"+IF(AND(A118>Analyse1!$E$3,Data!A118<Analyse1!$E$4),B118,\"\")","v":""},{"$f":"+B118/Analyse1!$H$3*Analyse1!$H$4","v":-1.5162324067722676E-22}]
[4441.8969999999999,-1.40635974831363E-8,{"$f":"+IF(AND(A119>Analyse1!$E$3,Data!A119<Analyse1!$E$4),B119,\"\")","v":""},{"$f":"+B119/Analyse1!$H$3*Analyse1!$H$4","v":-2.1520551514790806E-22}]
[4442.8969999999999,-1.07915054992002E-8,{"$f":"+IF(AND(A120>Analyse1!$E$3,Data!A120<Analyse1!$E$4),B120,\"\")","v":""},{"$f":"+B120/Analyse1!$H$3*Analyse1!$H$4","v":-1.6513495234499198E-22}]
[4443.8969999999999,4.5420375541793497E-9,{"$f":"+IF(AND(A121>Analyse1!$E$3,Data!A121<Analyse1!$E$4),B121,\"\")","v":""},{"$f":"+B121/Analyse1!$H$3*Analyse1!$H$4","v":6.9503662405042534E-23}]
[4444.8969999999999,3.0095832427979801E-8,{"$f":"+IF(AND(A122>Analyse1!$E$3,Data!A122<Analyse1!$E$4),B122,\"\")","v":""},{"$f":"+B122/Analyse1!$H$3*Analyse1!$H$4","v":4.605357291571268E-22}]
[4445.8969999999999,5.0211563807556999E-8,{"$f":"+IF(AND(A123>Analyse1!$E$3,Data!A123<Analyse1!$E$4),B123,\"\")","v":""},{"$f":"+B123/Analyse1!$H$3*Analyse1!$H$4","v":7.6835286764603672E-22}]
[4446.8969999999999,4.7455343576843397E-8,{"$f":"+IF(AND(A124>Analyse1!$E$3,Data!A124<Analyse1!$E$4),B124,\"\")","v":""},{"$f":"+B124/Analyse1!$H$3*Analyse1!$H$4","v":7.2617633384499045E-22}]
[4447.8969999999999,4.39328361977144E-9,{"$f":"+IF(AND(A125>Analyse1!$E$3,Data!A125<Analyse1!$E$4),B125,\"\")","v":""},{"$f":"+B125/Analyse1!$H$3*Analyse1!$H$4","v":6.7227383727206459E-23}]
[4448.8969999999999,-8.5061977538583696E-8,{"$f":"+IF(AND(A126>Analyse1!$E$3,Data!A126<Analyse1!$E$4),B126,\"\")","v":""},{"$f":"+B126/Analyse1!$H$3*Analyse1!$H$4","v":-1.3016446693416271E-21}]
[4449.8969999999999,-1.72306663601727E-7,{"$f":"+IF(AND(A127>Analyse1!$E$3,Data!A127<Analyse1!$E$4),B127,\"\")","v":""},{"$f":"+B127/Analyse1!$H$3*Analyse1!$H$4","v":-2.6366898191086103E-21}]
[4450.8969999999999,-1.92279899616914E-7,{"$f":"+IF(AND(A128>Analyse1!$E$3,Data!A128<Analyse1!$E$4),B128,\"\")","v":""},{"$f":"+B128/Analyse1!$H$3*Analyse1!$H$4","v":-2.9423264494923535E-21}]
[4451.8969999999999,-7.9917529361512299E-8,{"$f":"+IF(AND(A129>Analyse1!$E$3,Data!A129<Analyse1!$E$4),B129,\"\")","v":""},{"$f":"+B129/Analyse1!$H$3*Analyse1!$H$4","v":-1.2229227334055404E-21}]
[4452.8969999999999,2.15093728557073E-7,{"$f":"+IF(AND(A130>Analyse1!$E$3,Data!A130<Analyse1!$E$4),B130,\"\")","v":""},{"$f":"+B130/Analyse1!$H$3*Analyse1!$H$4","v":3.2914307107207028E-21}]
[4453.8969999999999,5.6735462354387403E-7,{"$f":"+IF(AND(A131>Analyse1!$E$3,Data!A131<Analyse1!$E$4),B131,\"\")","v":""},{"$f":"+B131/Analyse1!$H$3*Analyse1!$H$4","v":8.6818357946972485E-21}]
[4454.8969999999999,7.3605976987623398E-7,{"$f":"+IF(AND(A132>Analyse1!$E$3,Data!A132<Analyse1!$E$4),B132,\"\")","v":""},{"$f":"+B132/Analyse1!$H$3*Analyse1!$H$4","v":1.1263414083473907E-20}]
[4455.8969999999999,4.7838643077968605E-7,{"$f":"+IF(AND(A133>Analyse1!$E$3,Data!A133<Analyse1!$E$4),B133,\"\")","v":""},{"$f":"+B133/Analyse1!$H$3*Analyse1!$H$4","v":7.3204170127281246E-21}]
[4456.8969999999999,-4.3781518426445299E-7,{"$f":"+IF(AND(A134>Analyse1!$E$3,Data!A134<Analyse1!$E$4),B134,\"\")","v":""},{"$f":"+B134/Analyse1!$H$3*Analyse1!$H$4","v":-6.6995832597020542E-21}]
[4457.8969999999999,-1.7819277499300299E-6,{"$f":"+IF(AND(A135>Analyse1!$E$3,Data!A135<Analyse1!$E$4),B135,\"\")","v":""},{"$f":"+B135/Analyse1!$H$3*Analyse1!$H$4","v":-2.7267609147650704E-20}]
[4458.8969999999999,-2.6929319834590598E-6,{"$f":"+IF(AND(A136>Analyse1!$E$3,Data!A136<Analyse1!$E$4),B136,\"\")","v":""},{"$f":"+B136/Analyse1!$H$3*Analyse1!$H$4","v":-4.1208077481846697E-20}]
[4459.8969999999999,-2.26460109397605E-6,{"$f":"+IF(AND(A137>Analyse1!$E$3,Data!A137<Analyse1!$E$4),B137,\"\")","v":""},{"$f":"+B137/Analyse1!$H$3*Analyse1!$H$4","v":-3.4653625832083173E-20}]
[4460.8969999999999,4.0848838221021699E-7,{"$f":"+IF(AND(A138>Analyse1!$E$3,Data!A138<Analyse1!$E$4),B138,\"\")","v":""},{"$f":"+B138/Analyse1!$H$3*Analyse1!$H$4","v":6.250815470998597E-21}]
[4461.8969999999999,5.2733388062326202E-6,{"$f":"+IF(AND(A139>Analyse1!$E$3,Data!A139<Analyse1!$E$4),B139,\"\")","v":""},{"$f":"+B139/Analyse1!$H$3*Analyse1!$H$4","v":8.0694260178133599E-20}]
[4462.8969999999999,9.4620264001693196E-6,{"$f":"+IF(AND(A140>Analyse1!$E$3,Data!A140<Analyse1!$E$4),B140,\"\")","v":""},{"$f":"+B140/Analyse1!$H$3*Analyse1!$H$4","v":1.4479085228607077E-19}]
[4463.8969999999999,9.5924667372937392E-6,{"$f":"+IF(AND(A141>Analyse1!$E$3,Data!A141<Analyse1!$E$4),B141,\"\")","v":""},{"$f":"+B141/Analyse1!$H$3*Analyse1!$H$4","v":1.467868906383194E-19}]
[4464.8969999999999,2.2825753908793399E-6,{"$f":"+IF(AND(A142>Analyse1!$E$3,Data!A142<Analyse1!$E$4),B142,\"\")","v":""},{"$f":"+B142/Analyse1!$H$3*Analyse1!$H$4","v":3.492867407838945E-20}]
[4465.8969999999999,-1.4346660690656599E-5,{"$f":"+IF(AND(A143>Analyse1!$E$3,Data!A143<Analyse1!$E$4),B143,\"\")","v":""},{"$f":"+B143/Analyse1!$H$3*Analyse1!$H$4","v":-2.1953703583220458E-19}]
[4466.8969999999999,-3.1947311197601601E-5,{"$f":"+IF(AND(A144>Analyse1!$E$3,Data!A144<Analyse1!$E$4),B144,\"\")","v":""},{"$f":"+B144/Analyse1!$H$3*Analyse1!$H$4","v":-4.8886762950336864E-19}]
[4467.8969999999999,-3.7911323587105499E-5,{"$f":"+IF(AND(A145>Analyse1!$E$3,Data!A145<Analyse1!$E$4),B145,\"\")","v":""},{"$f":"+B145/Analyse1!$H$3*Analyse1!$H$4","v":-5.8013079031060352E-19}]
[4468.8969999999999,-1.9616586943137502E-5,{"$f":"+IF(AND(A146>Analyse1!$E$3,Data!A146<Analyse1!$E$4),B146,\"\")","v":""},{"$f":"+B146/Analyse1!$H$3*Analyse1!$H$4","v":-3.0017907605815388E-19}]
[4469.8969999999999,3.3921036403310897E-5,{"$f":"+IF(AND(A147>Analyse1!$E$3,Data!A147<Analyse1!$E$4),B147,\"\")","v":""},{"$f":"+B147/Analyse1!$H$3*Analyse1!$H$4","v":5.1907018259580507E-19}]
[4470.8969999999999,1.03312620335881E-4,{"$f":"+IF(AND(A148>Analyse1!$E$3,Data!A148<Analyse1!$E$4),B148,\"\")","v":""},{"$f":"+B148/Analyse1!$H$3*Analyse1!$H$4","v":1.5809216459247857E-18}]
[4471.8969999999999,1.42371247452876E-4,{"$f":"+IF(AND(A149>Analyse1!$E$3,Data!A149<Analyse1!$E$4),B149,\"\")","v":""},{"$f":"+B149/Analyse1!$H$3*Analyse1!$H$4","v":2.1786088294325744E-18}]
[4472.8969999999999,1.03990558516899E-4,{"$f":"+IF(AND(A150>Analyse1!$E$3,Data!A150<Analyse1!$E$4),B150,\"\")","v":""},{"$f":"+B150/Analyse1!$H$3*Analyse1!$H$4","v":1.5912956654926351E-18}]
[4473.8969999999999,-5.8204772633973701E-5,{"$f":"+IF(AND(A151>Analyse1!$E$3,Data!A151<Analyse1!$E$4),B151,\"\")","v":""},{"$f":"+B151/Analyse1!$H$3*Analyse1!$H$4","v":-8.9066741946938687E-19}]
[4474.8969999999999,-3.17418384847036E-4,{"$f":"+IF(AND(A152>Analyse1!$E$3,Data!A152<Analyse1!$E$4),B152,\"\")","v":""},{"$f":"+B152/Analyse1!$H$3*Analyse1!$H$4","v":-4.8572342254771052E-18}]
[4475.8969999999999,-5.1230118571788503E-4,{"$f":"+IF(AND(A153>Analyse1!$E$3,Data!A153<Analyse1!$E$4),B153,\"\")","v":""},{"$f":"+B153/Analyse1!$H$3*Analyse1!$H$4","v":-7.8393910744034514E-18}]
[4476.8969999999999,-4.67049849212916E-4,{"$f":"+IF(AND(A154>Analyse1!$E$3,Data!A154<Analyse1!$E$4),B154,\"\")","v":""},{"$f":"+B154/Analyse1!$H$3*Analyse1!$H$4","v":-7.146941137937306E-18}]
[4477.8969999999999,-5.8610492985244296E-6,{"$f":"+IF(AND(A155>Analyse1!$E$3,Data!A155<Analyse1!$E$4),B155,\"\")","v":""},{"$f":"+B155/Analyse1!$H$3*Analyse1!$H$4","v":-8.9687587767546654E-20}]
[4478.8969999999999,9.1172911139405296E-4,{"$f":"+IF(AND(A156>Analyse1!$E$3,Data!A156<Analyse1!$E$4),B156,\"\")","v":""},{"$f":"+B156/Analyse1!$H$3*Analyse1!$H$4","v":1.3951560639315548E-17}]
[4479.8969999999999,1.7716310746264401E-3,{"$f":"+IF(AND(A157>Analyse1!$E$3,Data!A157<Analyse1!$E$4),B157,\"\")","v":""},{"$f":"+B157/Analyse1!$H$3*Analyse1!$H$4","v":2.7110046239889949E-17}]
[4480.8969999999999,1.9177379672218799E-3,{"$f":"+IF(AND(A158>Analyse1!$E$3,Data!A158<Analyse1!$E$4),B158,\"\")","v":""},{"$f":"+B158/Analyse1!$H$3*Analyse1!$H$4","v":2.9345819065823366E-17}]
[4481.8969999999999,6.9394284428354598E-4,{"$f":"+IF(AND(A159>Analyse1!$E$3,Data!A159<Analyse1!$E$4),B159,\"\")","v":""},{"$f":"+B159/Analyse1!$H$3*Analyse1!$H$4","v":1.0618927871500836E-17}]
[4482.8969999999999,-2.3675320997096402E-3,{"$f":"+IF(AND(A160>Analyse1!$E$3,Data!A160<Analyse1!$E$4),B160,\"\")","v":""},{"$f":"+B160/Analyse1!$H$3*Analyse1!$H$4","v":-3.6228707893422834E-17}]
[4483.8969999999999,-5.8823209834501398E-3,{"$f":"+IF(AND(A161>Analyse1!$E$3,Data!A161<Analyse1!$E$4),B161,\"\")","v":""},{"$f":"+B161/Analyse1!$H$3*Analyse1!$H$4","v":-9.0013093664454659E-17}]
[4484.8969999999999,-7.4139079954698203E-3,{"$f":"+IF(AND(A162>Analyse1!$E$3,Data!A162<Analyse1!$E$4),B162,\"\")","v":""},{"$f":"+B162/Analyse1!$H$3*Analyse1!$H$4","v":-1.1344991147090653E-16}]
[4485.8969999999999,-4.5136686822149497E-3,{"$f":"+IF(AND(A163>Analyse1!$E$3,Data!A163<Analyse1!$E$4),B163,\"\")","v":""},{"$f":"+B163/Analyse1!$H$3*Analyse1!$H$4","v":-6.9069553158629289E-17}]
[4486.8969999999999,5.1069926330272204E-3,{"$f":"+IF(AND(A164>Analyse1!$E$3,Data!A164<Analyse1!$E$4),B164,\"\")","v":""},{"$f":"+B164/Analyse1!$H$3*Analyse1!$H$4","v":7.8148779625204143E-17}]
[4487.8969999999999,1.8658593315062401E-2,{"$f":"+IF(AND(A165>Analyse1!$E$3,Data!A165<Analyse1!$E$4),B165,\"\")","v":""},{"$f":"+B165/Analyse1!$H$3*Analyse1!$H$4","v":2.8551956148618686E-16}]
[4488.8969999999999,2.7349256511838602E-2,{"$f":"+IF(AND(A166>Analyse1!$E$3,Data!A166<Analyse1!$E$4),B166,\"\")","v":""},{"$f":"+B166/Analyse1!$H$3*Analyse1!$H$4","v":4.1850677563831578E-16}]
[4489.8969999999999,2.2040591354035199E-2,{"$f":"+IF(AND(A167>Analyse1!$E$3,Data!A167<Analyse1!$E$4),B167,\"\")","v":""},{"$f":"+B167/Analyse1!$H$3*Analyse1!$H$4","v":3.3727194071057041E-16}]
[4490.8969999999999,-6.3773802534293003E-3,{"$f":"+IF(AND(A168>Analyse1!$E$3,Data!A168<Analyse1!$E$4),B168,\"\")","v":""},{"$f":"+B168/Analyse1!$H$3*Analyse1!$H$4","v":-9.7588643615479947E-17}]
[4491.8969999999999,-5.5937444800160503E-2,{"$f":"+IF(AND(A169>Analyse1!$E$3,Data!A169<Analyse1!$E$4),B169,\"\")","v":""},{"$f":"+B169/Analyse1!$H$3*Analyse1!$H$4","v":-8.5597206822159612E-16}]
[4492.8969999999999,-9.6837416728076595E-2,{"$f":"+IF(AND(A170>Analyse1!$E$3,Data!A170<Analyse1!$E$4),B170,\"\")","v":""},{"$f":"+B170/Analyse1!$H$3*Analyse1!$H$4","v":-1.4818360791076119E-15}]
[4493.8969999999999,-9.4972357013458103E-2,{"$f":"+IF(AND(A171>Analyse1!$E$3,Data!A171<Analyse1!$E$4),B171,\"\")","v":""},{"$f":"+B171/Analyse1!$H$3*Analyse1!$H$4","v":-1.4532963589437372E-15}]
[4494.8969999999999,-1.62373266325858E-2,{"$f":"+IF(AND(A172>Analyse1!$E$3,Data!A172<Analyse1!$E$4),B172,\"\")","v":""},{"$f":"+B172/Analyse1!$H$3*Analyse1!$H$4","v":-2.4846859040018557E-16}]
[4495.8969999999999,0.16371054731097201,{"$f":"+IF(AND(A173>Analyse1!$E$3,Data!A173<Analyse1!$E$4),B173,\"\")","v":""},{"$f":"+B173/Analyse1!$H$3*Analyse1!$H$4","v":2.5051493909328531E-15}]
[4496.8969999999999,0.41307295365692898,{"$f":"+IF(AND(A174>Analyse1!$E$3,Data!A174<Analyse1!$E$4),B174,\"\")","v":""},{"$f":"+B174/Analyse1!$H$3*Analyse1!$H$4","v":6.3209700001725939E-15}]
[4497.8969999999999,0.68002177019178101,{"$f":"+IF(AND(A175>Analyse1!$E$3,Data!A175<Analyse1!$E$4),B175,\"\")","v":""},{"$f":"+B175/Analyse1!$H$3*Analyse1!$H$4","v":1.0405903293335622E-14}]
[4498.8969999999999,0.91270410191902196,{"$f":"+IF(AND(A176>Analyse1!$E$3,Data!A176<Analyse1!$E$4),B176,\"\")","v":""},{"$f":"+B176/Analyse1!$H$3*Analyse1!$H$4","v":1.3966480245656805E-14}]
[4499.8969999999999,1.06218511613299,{"$f":"+IF(AND(A177>Analyse1!$E$3,Data!A177<Analyse1!$E$4),B177,\"\")","v":""},{"$f":"+B177/Analyse1!$H$3*Analyse1!$H$4","v":1.6253884923394694E-14}]
[4500.8969999999999,1.122853535745,{"$f":"+IF(AND(A178>Analyse1!$E$3,Data!A178<Analyse1!$E$4),B178,\"\")","v":""},{"$f":"+B178/Analyse1!$H$3*Analyse1!$H$4","v":1.7182251830330687E-14}]
[4501.8969999999999,1.1222759544384699,{"$f":"+IF(AND(A179>Analyse1!$E$3,Data!A179<Analyse1!$E$4),B179,\"\")","v":""},{"$f":"+B179/Analyse1!$H$3*Analyse1!$H$4","v":1.71734135026723E-14}]
[4502.8969999999999,1.0888625006692201,{"$f":"+IF(AND(A180>Analyse1!$E$3,Data!A180<Analyse1!$E$4),B180,\"\")","v":""},{"$f":"+B180/Analyse1!$H$3*Analyse1!$H$4","v":1.6662110506415143E-14}]
[4503.8969999999999,1.05085221803908,{"$f":"+IF(AND(A181>Analyse1!$E$3,Data!A181<Analyse1!$E$4),B181,\"\")","v":""},{"$f":"+B181/Analyse1!$H$3*Analyse1!$H$4","v":1.6080465414243986E-14}]
[4504.8969999999999,1.0254916976542301,{"$f":"+IF(AND(A182>Analyse1!$E$3,Data!A182<Analyse1!$E$4),B182,\"\")","v":""},{"$f":"+B182/Analyse1!$H$3*Analyse1!$H$4","v":1.569239089345476E-14}]
[4505.8969999999999,1.0125572904915701,{"$f":"+IF(AND(A183>Analyse1!$E$3,Data!A183<Analyse1!$E$4),B183,\"\")","v":""},{"$f":"+B183/Analyse1!$H$3*Analyse1!$H$4","v":1.5494464597575571E-14}]
[4506.8969999999999,1.01027088849469,{"$f":"+IF(AND(A184>Analyse1!$E$3,Data!A184<Analyse1!$E$4),B184,\"\")","v":""},{"$f":"+B184/Analyse1!$H$3*Analyse1!$H$4","v":1.5459477367589521E-14}]
[4507.8969999999999,1.01685434571598,{"$f":"+IF(AND(A185>Analyse1!$E$3,Data!A185<Analyse1!$E$4),B185,\"\")","v":""},{"$f":"+B185/Analyse1!$H$3*Analyse1!$H$4","v":1.5560219464656845E-14}]
[4508.8969999999999,1.0300833946661401,{"$f":"+IF(AND(A186>Analyse1!$E$3,Data!A186<Analyse1!$E$4),B186,\"\")","v":""},{"$f":"+B186/Analyse1!$H$3*Analyse1!$H$4","v":1.5762654460229627E-14}]
[4509.8969999999999,1.04617868883972,{"$f":"+IF(AND(A187>Analyse1!$E$3,Data!A187<Analyse1!$E$4),B187,\"\")","v":""},{"$f":"+B187/Analyse1!$H$3*Analyse1!$H$4","v":1.6008949626045902E-14}]
[4510.8969999999999,1.0610222542588299,{"$f":"+IF(AND(A188>Analyse1!$E$3,Data!A188<Analyse1!$E$4),B188,\"\")","v":""},{"$f":"+B188/Analyse1!$H$3*Analyse1!$H$4","v":1.6236090451605058E-14}]
[4511.8969999999999,1.07049611694559,{"$f":"+IF(AND(A189>Analyse1!$E$3,Data!A189<Analyse1!$E$4),B189,\"\")","v":""},{"$f":"+B189/Analyse1!$H$3*Analyse1!$H$4","v":1.6381062426406633E-14}]
[4512.8969999999999,1.0709501250548099,{"$f":"+IF(AND(A190>Analyse1!$E$3,Data!A190<Analyse1!$E$4),B190,\"\")","v":""},{"$f":"+B190/Analyse1!$H$3*Analyse1!$H$4","v":1.6388009798808551E-14}]
[4513.8969999999999,1.06257065631185,{"$f":"+IF(AND(A191>Analyse1!$E$3,Data!A191<Analyse1!$E$4),B191,\"\")","v":""},{"$f":"+B191/Analyse1!$H$3*Analyse1!$H$4","v":1.625978457836571E-14}]
[4514.8969999999999,1.04742402364811,{"$f":"+IF(AND(A192>Analyse1!$E$3,Data!A192<Analyse1!$E$4),B192,\"\")","v":""},{"$f":"+B192/Analyse1!$H$3*Analyse1!$H$4","v":1.602800612416401E-14}]
[4515.8969999999999,1.0275894421126299,{"$f":"+IF(AND(A193>Analyse1!$E$3,Data!A193<Analyse1!$E$4),B193,\"\")","v":""},{"$f":"+B193/Analyse1!$H$3*Analyse1!$H$4","v":1.5724491227480955E-14}]
[4516.8969999999999,1.0051685938989301,{"$f":"+IF(AND(A194>Analyse1!$E$3,Data!A194<Analyse1!$E$4),B194,\"\")","v":""},{"$f":"+B194/Analyse1!$H$3*Analyse1!$H$4","v":1.5381400478782545E-14}]
[4517.8969999999999,0.98280507461150102,{"$f":"+IF(AND(A195>Analyse1!$E$3,Data!A195<Analyse1!$E$4),B195,\"\")","v":""},{"$f":"+B195/Analyse1!$H$3*Analyse1!$H$4","v":1.5039186995031864E-14}]
[4518.8969999999999,0.963698756246543,{"$f":"+IF(AND(A196>Analyse1!$E$3,Data!A196<Analyse1!$E$4),B196,\"\")","v":""},{"$f":"+B196/Analyse1!$H$3*Analyse1!$H$4","v":1.4746816206459369E-14}]
[4519.8969999999999,0.95107485115708801,{"$f":"+IF(AND(A197>Analyse1!$E$3,Data!A197<Analyse1!$E$4),B197,\"\")","v":""},{"$f":"+B197/Analyse1!$H$3*Analyse1!$H$4","v":1.4553641309267373E-14}]
[4520.8969999999999,0.94814621859875003,{"$f":"+IF(AND(A198>Analyse1!$E$3,Data!A198<Analyse1!$E$4),B198,\"\")","v":""},{"$f":"+B198/Analyse1!$H$3*Analyse1!$H$4","v":1.4508826468743686E-14}]
[4521.8969999999999,0.95586617874478896,{"$f":"+IF(AND(A199>Analyse1!$E$3,Data!A199<Analyse1!$E$4),B199,\"\")","v":""},{"$f":"+B199/Analyse1!$H$3*Analyse1!$H$4","v":1.462695968481033E-14}]
[4522.8969999999999,0.97031269697232703,{"$f":"+IF(AND(A200>Analyse1!$E$3,Data!A200<Analyse1!$E$4),B200,\"\")","v":""},{"$f":"+B200/Analyse1!$H$3*Analyse1!$H$4","v":1.484802477153362E-14}]
[4523.8969999999999,0.98692905078258997,{"$f":"+IF(AND(A201>Analyse1!$E$3,Data!A201<Analyse1!$E$4),B201,\"\")","v":""},{"$f":"+B201/Analyse1!$H$3*Analyse1!$H$4","v":1.510229335294783E-14}]
[4524.8969999999999,1.0011585176768101,{"$f":"+IF(AND(A202>Analyse1!$E$3,Data!A202<Analyse1!$E$4),B202,\"\")","v":""},{"$f":"+B202/Analyse1!$H$3*Analyse1!$H$4","v":1.5320037053087336E-14}]
[4525.8969999999999,1.00927243492713,{"$f":"+IF(AND(A203>Analyse1!$E$3,Data!A203<Analyse1!$E$4),B203,\"\")","v":""},{"$f":"+B203/Analyse1!$H$3*Analyse1!$H$4","v":1.5444198722519104E-14}]
[4526.8969999999999,1.0115819801369501,{"$f":"+IF(AND(A204>Analyse1!$E$3,Data!A204<Analyse1!$E$4),B204,\"\")","v":""},{"$f":"+B204/Analyse1!$H$3*Analyse1!$H$4","v":1.5479540097102152E-14}]
[4527.8969999999999,1.00962846163467,{"$f":"+IF(AND(A205>Analyse1!$E$3,Data!A205<Analyse1!$E$4),B205,\"\")","v":""},{"$f":"+B205/Analyse1!$H$3*Analyse1!$H$4","v":1.5449646753230621E-14}]
[4528.8969999999999,1.0049534803192699,{"$f":"+IF(AND(A206>Analyse1!$E$3,Data!A206<Analyse1!$E$4),B206,\"\")","v":""},{"$f":"+B206/Analyse1!$H$3*Analyse1!$H$4","v":1.5378108744304107E-14}]
[4529.8969999999999,0.999039658390381,{"$f":"+IF(AND(A207>Analyse1!$E$3,Data!A207<Analyse1!$E$4),B207,\"\")","v":""},{"$f":"+B207/Analyse1!$H$3*Analyse1!$H$4","v":1.5287613613436943E-14}]
[4530.8969999999999,0.99265668305549803,{"$f":"+IF(AND(A208>Analyse1!$E$3,Data!A208<Analyse1!$E$4),B208,\"\")","v":""},{"$f":"+B208/Analyse1!$H$3*Analyse1!$H$4","v":1.5189939352155858E-14}]
[4531.8969999999999,0.986100975689707,{"$f":"+IF(AND(A209>Analyse1!$E$3,Data!A209<Analyse1!$E$4),B209,\"\")","v":""},{"$f":"+B209/Analyse1!$H$3*Analyse1!$H$4","v":1.5089621891953679E-14}]
[4532.8969999999999,0.97966044987599898,{"$f":"+IF(AND(A210>Analyse1!$E$3,Data!A210<Analyse1!$E$4),B210,\"\")","v":""},{"$f":"+B210/Analyse1!$H$3*Analyse1!$H$4","v":1.4991066975459201E-14}]
[4533.8969999999999,0.97362489189841395,{"$f":"+IF(AND(A211>Analyse1!$E$3,Data!A211<Analyse1!$E$4),B211,\"\")","v":""},{"$f":"+B211/Analyse1!$H$3*Analyse1!$H$4","v":1.4898709001951444E-14}]
[4534.8969999999999,0.96836733939493203,{"$f":"+IF(AND(A212>Analyse1!$E$3,Data!A212<Analyse1!$E$4),B212,\"\")","v":""},{"$f":"+B212/Analyse1!$H$3*Analyse1!$H$4","v":1.4818256308656879E-14}]
[4535.8969999999999,0.96437544316710799,{"$f":"+IF(AND(A213>Analyse1!$E$3,Data!A213<Analyse1!$E$4),B213,\"\")","v":""},{"$f":"+B213/Analyse1!$H$3*Analyse1!$H$4","v":1.4757171078853056E-14}]
[4536.8969999999999,0.96214520073435605,{"$f":"+IF(AND(A214>Analyse1!$E$3,Data!A214<Analyse1!$E$4),B214,\"\")","v":""},{"$f":"+B214/Analyse1!$H$3*Analyse1!$H$4","v":1.4723043219873827E-14}]
[4537.8969999999999,0.96217234322482803,{"$f":"+IF(AND(A215>Analyse1!$E$3,Data!A215<Analyse1!$E$4),B215,\"\")","v":""},{"$f":"+B215/Analyse1!$H$3*Analyse1!$H$4","v":1.4723458562651622E-14}]
[4538.8969999999999,0.96459883600693896,{"$f":"+IF(AND(A216>Analyse1!$E$3,Data!A216<Analyse1!$E$4),B216,\"\")","v":""},{"$f":"+B216/Analyse1!$H$3*Analyse1!$H$4","v":1.4760589505129391E-14}]
[4539.8969999999999,0.96851539349174398,{"$f":"+IF(AND(A217>Analyse1!$E$3,Data!A217<Analyse1!$E$4),B217,\"\")","v":""},{"$f":"+B217/Analyse1!$H$3*Analyse1!$H$4","v":1.4820521878203531E-14}]
[4540.8969999999999,0.97281835375201098,{"$f":"+IF(AND(A218>Analyse1!$E$3,Data!A218<Analyse1!$E$4),B218,\"\")","v":""},{"$f":"+B218/Analyse1!$H$3*Analyse1!$H$4","v":1.4886367105968485E-14}]
[4541.8969999999999,0.97640405486050896,{"$f":"+IF(AND(A219>Analyse1!$E$3,Data!A219<Analyse1!$E$4),B219,\"\")","v":""},{"$f":"+B219/Analyse1!$H$3*Analyse1!$H$4","v":1.4941236612518713E-14}]
[4542.8969999999999,0.97829882001679402,{"$f":"+IF(AND(A220>Analyse1!$E$3,Data!A220<Analyse1!$E$4),B220,\"\")","v":""},{"$f":"+B220/Analyse1!$H$3*Analyse1!$H$4","v":1.4970230894531661E-14}]
[4543.8969999999999,0.97842465330003003,{"$f":"+IF(AND(A221>Analyse1!$E$3,Data!A221<Analyse1!$E$4),B221,\"\")","v":""},{"$f":"+B221/Analyse1!$H$3*Analyse1!$H$4","v":1.4972156434321465E-14}]
[4544.8969999999999,0.97708091388075502,{"$f":"+IF(AND(A222>Analyse1!$E$3,Data!A222<Analyse1!$E$4),B222,\"\")","v":""},{"$f":"+B222/Analyse1!$H$3*Analyse1!$H$4","v":1.4951594118434908E-14}]
[4545.8969999999999,0.97456828156111097,{"$f":"+IF(AND(A223>Analyse1!$E$3,Data!A223<Analyse1!$E$4),B223,\"\")","v":""},{"$f":"+B223/Analyse1!$H$3*Analyse1!$H$4","v":1.4913145042131731E-14}]
[4546.8969999999999,0.97123187060901195,{"$f":"+IF(AND(A224>Analyse1!$E$3,Data!A224<Analyse1!$E$4),B224,\"\")","v":""},{"$f":"+B224/Analyse1!$H$3*Analyse1!$H$4","v":1.4862090250599724E-14}]
[4547.8969999999999,0.96825508985487996,{"$f":"+IF(AND(A225>Analyse1!$E$3,Data!A225<Analyse1!$E$4),B225,\"\")","v":""},{"$f":"+B225/Analyse1!$H$3*Analyse1!$H$4","v":1.4816538631503433E-14}]
[4548.8969999999999,0.96756874342099797,{"$f":"+IF(AND(A226>Analyse1!$E$3,Data!A226<Analyse1!$E$4),B226,\"\")","v":""},{"$f":"+B226/Analyse1!$H$3*Analyse1!$H$4","v":1.4806035946251624E-14}]
[4549.8969999999999,0.97112981493317796,{"$f":"+IF(AND(A227>Analyse1!$E$3,Data!A227<Analyse1!$E$4),B227,\"\")","v":""},{"$f":"+B227/Analyse1!$H$3*Analyse1!$H$4","v":1.4860528563107035E-14}]
[4550.8969999999999,0.98087246956115803,{"$f":"+IF(AND(A228>Analyse1!$E$3,Data!A228<Analyse1!$E$4),B228,\"\")","v":""},{"$f":"+B228/Analyse1!$H$3*Analyse1!$H$4","v":1.5009613675265336E-14}]
[4551.8969999999999,0.99636150527217304,{"$f":"+IF(AND(A229>Analyse1!$E$3,Data!A229<Analyse1!$E$4),B229,\"\")","v":""},{"$f":"+B229/Analyse1!$H$3*Analyse1!$H$4","v":1.5246631686718689E-14}]
[4552.8969999999999,1.01275697490424,{"$f":"+IF(AND(A230>Analyse1!$E$3,Data!A230<Analyse1!$E$4),B230,\"\")","v":""},{"$f":"+B230/Analyse1!$H$3*Analyse1!$H$4","v":1.5497520230172221E-14}]
[4553.8969999999999,1.0247392950443901,{"$f":"+IF(AND(A231>Analyse1!$E$3,Data!A231<Analyse1!$E$4),B231,\"\")","v":""},{"$f":"+B231/Analyse1!$H$3*Analyse1!$H$4","v":1.5680877396183285E-14}]
[4554.8969999999999,1.02698888227968,{"$f":"+IF(AND(A232>Analyse1!$E$3,Data!A232<Analyse1!$E$4),B232,\"\")","v":""},{"$f":"+B232/Analyse1!$H$3*Analyse1!$H$4","v":1.5715301275309605E-14}]
[4555.8969999999999,1.01597025346292,{"$f":"+IF(AND(A233>Analyse1!$E$3,Data!A233<Analyse1!$E$4),B233,\"\")","v":""},{"$f":"+B233/Analyse1!$H$3*Analyse1!$H$4","v":1.5546690811765138E-14}]
[4556.8969999999999,0.99554654669513398,{"$f":"+IF(AND(A234>Analyse1!$E$3,Data!A234<Analyse1!$E$4),B234,\"\")","v":""},{"$f":"+B234/Analyse1!$H$3*Analyse1!$H$4","v":1.5234160938703738E-14}]
[4557.8969999999999,0.97149850134203597,{"$f":"+IF(AND(A235>Analyse1!$E$3,Data!A235<Analyse1!$E$4),B235,\"\")","v":""},{"$f":"+B235/Analyse1!$H$3*Analyse1!$H$4","v":1.4866170316480695E-14}]
[4558.8969999999999,0.94960685998813199,{"$f":"+IF(AND(A236>Analyse1!$E$3,Data!A236<Analyse1!$E$4),B236,\"\")","v":""},{"$f":"+B236/Analyse1!$H$3*Analyse1!$H$4","v":1.4531177654706256E-14}]
[4559.8969999999999,0.93522233673186295,{"$f":"+IF(AND(A237>Analyse1!$E$3,Data!A237<Analyse1!$E$4),B237,\"\")","v":""},{"$f":"+B237/Analyse1!$H$3*Analyse1!$H$4","v":1.4311061234193339E-14}]
[4560.8969999999999,0.92940762223887696,{"$f":"+IF(AND(A238>Analyse1!$E$3,Data!A238<Analyse1!$E$4),B238,\"\")","v":""},{"$f":"+B238/Analyse1!$H$3*Analyse1!$H$4","v":1.4222082675940262E-14}]
[4561.8969999999999,0.93076296757313604,{"$f":"+IF(AND(A239>Analyse1!$E$3,Data!A239<Analyse1!$E$4),B239,\"\")","v":""},{"$f":"+B239/Analyse1!$H$3*Analyse1!$H$4","v":1.4242822589124799E-14}]
[4562.8969999999999,0.937859308846269,{"$f":"+IF(AND(A240>Analyse1!$E$3,Data!A240<Analyse1!$E$4),B240,\"\")","v":""},{"$f":"+B240/Analyse1!$H$3*Analyse1!$H$4","v":1.4351412996464115E-14}]
[4563.8969999999999,0.94925970899937195,{"$f":"+IF(AND(A241>Analyse1!$E$3,Data!A241<Analyse1!$E$4),B241,\"\")","v":""},{"$f":"+B241/Analyse1!$H$3*Analyse1!$H$4","v":1.4525865442986617E-14}]
[4564.8969999999999,0.96327191974887905,{"$f":"+IF(AND(A242>Analyse1!$E$3,Data!A242<Analyse1!$E$4),B242,\"\")","v":""},{"$f":"+B242/Analyse1!$H$3*Analyse1!$H$4","v":1.4740284622455072E-14}]
[4565.8969999999999,0.97789873209031697,{"$f":"+IF(AND(A243>Analyse1!$E$3,Data!A243<Analyse1!$E$4),B243,\"\")","v":""},{"$f":"+B243/Analyse1!$H$3*Analyse1!$H$4","v":1.4964108625430517E-14}]
[4566.8969999999999,0.99112503555253395,{"$f":"+IF(AND(A244>Analyse1!$E$3,Data!A244<Analyse1!$E$4),B244,\"\")","v":""},{"$f":"+B244/Analyse1!$H$3*Analyse1!$H$4","v":1.5166501608698279E-14}]
[4567.8969999999999,1.00093704185901,{"$f":"+IF(AND(A245>Analyse1!$E$3,Data!A245<Analyse1!$E$4),B245,\"\")","v":""},{"$f":"+B245/Analyse1!$H$3*Analyse1!$H$4","v":1.5316647961674587E-14}]
[4568.8969999999999,1.0058722841239001,{"$f":"+IF(AND(A246>Analyse1!$E$3,Data!A246<Analyse1!$E$4),B246,\"\")","v":""},{"$f":"+B246/Analyse1!$H$3*Analyse1!$H$4","v":1.5392168564085809E-14}]
[4569.8969999999999,1.0058695926510901,{"$f":"+IF(AND(A247>Analyse1!$E$3,Data!A247<Analyse1!$E$4),B247,\"\")","v":""},{"$f":"+B247/Analyse1!$H$3*Analyse1!$H$4","v":1.539212737833705E-14}]
[4570.8969999999999,1.00108713771519,{"$f":"+IF(AND(A248>Analyse1!$E$3,Data!A248<Analyse1!$E$4),B248,\"\")","v":""},{"$f":"+B248/Analyse1!$H$3*Analyse1!$H$4","v":1.5318944774854111E-14}]
[4571.8969999999999,0.99168308959082696,{"$f":"+IF(AND(A249>Analyse1!$E$3,Data!A249<Analyse1!$E$4),B249,\"\")","v":""},{"$f":"+B249/Analyse1!$H$3*Analyse1!$H$4","v":1.5175041124063051E-14}]
[4572.8969999999999,0.97821272270385795,{"$f":"+IF(AND(A250>Analyse1!$E$3,Data!A250<Analyse1!$E$4),B250,\"\")","v":""},{"$f":"+B250/Analyse1!$H$3*Analyse1!$H$4","v":1.4968913406840088E-14}]
[4573.8969999999999,0.96354332309213597,{"$f":"+IF(AND(A251>Analyse1!$E$3,Data!A251<Analyse1!$E$4),B251,\"\")","v":""},{"$f":"+B251/Analyse1!$H$3*Analyse1!$H$4","v":1.4744437720292842E-14}]
[4574.8969999999999,0.95137667095148204,{"$f":"+IF(AND(A252>Analyse1!$E$3,Data!A252<Analyse1!$E$4),B252,\"\")","v":""},{"$f":"+B252/Analyse1!$H$3*Analyse1!$H$4","v":1.4558259849040877E-14}]
[4575.8969999999999,0.94541567363651402,{"$f":"+IF(AND(A253>Analyse1!$E$3,Data!A253<Analyse1!$E$4),B253,\"\")","v":""},{"$f":"+B253/Analyse1!$H$3*Analyse1!$H$4","v":1.4467042825836021E-14}]
[4576.8969999999999,0.94907114824545702,{"$f":"+IF(AND(A254>Analyse1!$E$3,Data!A254<Analyse1!$E$4),B254,\"\")","v":""},{"$f":"+B254/Analyse1!$H$3*Analyse1!$H$4","v":1.4522980028054088E-14}]
[4577.8969999999999,0.96134809115420305,{"$f":"+IF(AND(A255>Analyse1!$E$3,Data!A255<Analyse1!$E$4),B255,\"\")","v":""},{"$f":"+B255/Analyse1!$H$3*Analyse1!$H$4","v":1.4710845602725594E-14}]
[4578.8969999999999,0.97784175168727105,{"$f":"+IF(AND(A256>Analyse1!$E$3,Data!A256<Analyse1!$E$4),B256,\"\")","v":""},{"$f":"+B256/Analyse1!$H$3*Analyse1!$H$4","v":1.4963236693692885E-14}]
[4579.8969999999999,0.99405861455462796,{"$f":"+IF(AND(A257>Analyse1!$E$3,Data!A257<Analyse1!$E$4),B257,\"\")","v":""},{"$f":"+B257/Analyse1!$H$3*Analyse1!$H$4","v":1.5211392141233057E-14}]
[4580.8969999999999,1.00554641542116,{"$f":"+IF(AND(A258>Analyse1!$E$3,Data!A258<Analyse1!$E$4),B258,\"\")","v":""},{"$f":"+B258/Analyse1!$H$3*Analyse1!$H$4","v":1.5387182020484298E-14}]
[4581.8969999999999,1.01058383047436,{"$f":"+IF(AND(A259>Analyse1!$E$3,Data!A259<Analyse1!$E$4),B259,\"\")","v":""},{"$f":"+B259/Analyse1!$H$3*Analyse1!$H$4","v":1.546426610247951E-14}]
[4582.8969999999999,1.01183657528641,{"$f":"+IF(AND(A260>Analyse1!$E$3,Data!A260<Analyse1!$E$4),B260,\"\")","v":""},{"$f":"+B260/Analyse1!$H$3*Analyse1!$H$4","v":1.5483435990763739E-14}]
[4583.8969999999999,1.0123663465994699,{"$f":"+IF(AND(A261>Analyse1!$E$3,Data!A261<Analyse1!$E$4),B261,\"\")","v":""},{"$f":"+B261/Analyse1!$H$3*Analyse1!$H$4","v":1.5491542715126003E-14}]
[4584.8969999999999,1.0152347776514601,{"$f":"+IF(AND(A262>Analyse1!$E$3,Data!A262<Analyse1!$E$4),B262,\"\")","v":""},{"$f":"+B262/Analyse1!$H$3*Analyse1!$H$4","v":1.5535436333593828E-14}]
[4585.8969999999999,1.02253218987795,{"$f":"+IF(AND(A263>Analyse1!$E$3,Data!A263<Analyse1!$E$4),B263,\"\")","v":""},{"$f":"+B263/Analyse1!$H$3*Analyse1!$H$4","v":1.5647103590803907E-14}]
[4586.8969999999999,1.03292250335504,{"$f":"+IF(AND(A264>Analyse1!$E$3,Data!A264<Analyse1!$E$4),B264,\"\")","v":""},{"$f":"+B264/Analyse1!$H$3*Analyse1!$H$4","v":1.5806099378835145E-14}]
[4587.8969999999999,1.04431448164121,{"$f":"+IF(AND(A265>Analyse1!$E$3,Data!A265<Analyse1!$E$4),B265,\"\")","v":""},{"$f":"+B265/Analyse1!$H$3*Analyse1!$H$4","v":1.5980422951346995E-14}]
[4588.8969999999999,1.05461688829496,{"$f":"+IF(AND(A266>Analyse1!$E$3,Data!A266<Analyse1!$E$4),B266,\"\")","v":""},{"$f":"+B266/Analyse1!$H$3*Analyse1!$H$4","v":1.6138073561999221E-14}]
[4589.8969999999999,1.06202658735482,{"$f":"+IF(AND(A267>Analyse1!$E$3,Data!A267<Analyse1!$E$4),B267,\"\")","v":""},{"$f":"+B267/Analyse1!$H$3*Analyse1!$H$4","v":1.625145906703662E-14}]
[4590.8969999999999,1.06713442759207,{"$f":"+IF(AND(A268>Analyse1!$E$3,Data!A268<Analyse1!$E$4),B268,\"\")","v":""},{"$f":"+B268/Analyse1!$H$3*Analyse1!$H$4","v":1.6329620816963602E-14}]
[4591.8969999999999,1.0717173732709899,{"$f":"+IF(AND(A269>Analyse1!$E$3,Data!A269<Analyse1!$E$4),B269,\"\")","v":""},{"$f":"+B269/Analyse1!$H$3*Analyse1!$H$4","v":1.6399750468136389E-14}]
[4592.8969999999999,1.0775608843231099,{"$f":"+IF(AND(A270>Analyse1!$E$3,Data!A270<Analyse1!$E$4),B270,\"\")","v":""},{"$f":"+B270/Analyse1!$H$3*Analyse1!$H$4","v":1.6489169680237127E-14}]
[4593.8969999999999,1.0864012978011199,{"$f":"+IF(AND(A271>Analyse1!$E$3,Data!A271<Analyse1!$E$4),B271,\"\")","v":""},{"$f":"+B271/Analyse1!$H$3*Analyse1!$H$4","v":1.6624448419474149E-14}]
[4594.8969999999999,1.09876707479753,{"$f":"+IF(AND(A272>Analyse1!$E$3,Data!A272<Analyse1!$E$4),B272,\"\")","v":""},{"$f":"+B272/Analyse1!$H$3*Analyse1!$H$4","v":1.6813673360809937E-14}]
[4595.8969999999999,1.11393377928858,{"$f":"+IF(AND(A273>Analyse1!$E$3,Data!A273<Analyse1!$E$4),B273,\"\")","v":""},{"$f":"+B273/Analyse1!$H$3*Analyse1!$H$4","v":1.7045758960316485E-14}]
[4596.8969999999999,1.1311188443601401,{"$f":"+IF(AND(A274>Analyse1!$E$3,Data!A274<Analyse1!$E$4),B274,\"\")","v":""},{"$f":"+B274/Analyse1!$H$3*Analyse1!$H$4","v":1.7308730137215576E-14}]
[4597.8969999999999,1.1495371987488501,{"$f":"+IF(AND(A275>Analyse1!$E$3,Data!A275<Analyse1!$E$4),B275,\"\")","v":""},{"$f":"+B275/Analyse1!$H$3*Analyse1!$H$4","v":1.7590573488403065E-14}]
[4598.8969999999999,1.1679230530754099,{"$f":"+IF(AND(A276>Analyse1!$E$3,Data!A276<Analyse1!$E$4),B276,\"\")","v":""},{"$f":"+B276/Analyse1!$H$3*Analyse1!$H$4","v":1.7871919513595142E-14}]
[4599.8969999999999,1.1839617374445901,{"$f":"+IF(AND(A277>Analyse1!$E$3,Data!A277<Analyse1!$E$4),B277,\"\")","v":""},{"$f":"+B277/Analyse1!$H$3*Analyse1!$H$4","v":1.8117348418688806E-14}]
[4600.8969999999999,1.19520025822767,{"$f":"+IF(AND(A278>Analyse1!$E$3,Data!A278<Analyse1!$E$4),B278,\"\")","v":""},{"$f":"+B278/Analyse1!$H$3*Analyse1!$H$4","v":1.828932373706117E-14}]
[4601.8969999999999,1.19918562179591,{"$f":"+IF(AND(A279>Analyse1!$E$3,Data!A279<Analyse1!$E$4),B279,\"\")","v":""},{"$f":"+B279/Analyse1!$H$3*Analyse1!$H$4","v":1.8350309002089074E-14}]
[4602.8969999999999,1.19447661371533,{"$f":"+IF(AND(A280>Analyse1!$E$3,Data!A280<Analyse1!$E$4),B280,\"\")","v":""},{"$f":"+B280/Analyse1!$H$3*Analyse1!$H$4","v":1.8278250305085545E-14}]
[4603.8969999999999,1.1846282389341101,{"$f":"+IF(AND(A281>Analyse1!$E$3,Data!A281<Analyse1!$E$4),B281,\"\")","v":""},{"$f":"+B281/Analyse1!$H$3*Analyse1!$H$4","v":1.8127547430468756E-14}]
[4604.8969999999999,1.1747349773831099,{"$f":"+IF(AND(A282>Analyse1!$E$3,Data!A282<Analyse1!$E$4),B282,\"\")","v":""},{"$f":"+B282/Analyse1!$H$3*Analyse1!$H$4","v":1.7976157684628194E-14}]
[4605.8969999999999,1.16989174098761,{"$f":"+IF(AND(A283>Analyse1!$E$3,Data!A283<Analyse1!$E$4),B283,\"\")","v":""},{"$f":"+B283/Analyse1!$H$3*Analyse1!$H$4","v":1.7902044984465485E-14}]
[4606.8969999999999,1.1748768244565999,{"$f":"+IF(AND(A284>Analyse1!$E$3,Data!A284<Analyse1!$E$4),B284,\"\")","v":""},{"$f":"+B284/Analyse1!$H$3*Analyse1!$H$4","v":1.7978328272385647E-14}]
[4607.8969999999999,1.19058442550887,{"$f":"+IF(AND(A285>Analyse1!$E$3,Data!A285<Analyse1!$E$4),B285,\"\")","v":""},{"$f":"+B285/Analyse1!$H$3*Analyse1!$H$4","v":1.8218690838240152E-14}]
[4608.8969999999999,1.21530277119332,{"$f":"+IF(AND(A286>Analyse1!$E$3,Data!A286<Analyse1!$E$4),B286,\"\")","v":""},{"$f":"+B286/Analyse1!$H$3*Analyse1!$H$4","v":1.8596938603294914E-14}]
[4609.8969999999999,1.2472719285585101,{"$f":"+IF(AND(A287>Analyse1!$E$3,Data!A287<Analyse1!$E$4),B287,\"\")","v":""},{"$f":"+B287/Analyse1!$H$3*Analyse1!$H$4","v":1.9086140529606446E-14}]
[4610.8969999999999,1.28472810750897,{"$f":"+IF(AND(A288>Analyse1!$E$3,Data!A288<Analyse1!$E$4),B288,\"\")","v":""},{"$f":"+B288/Analyse1!$H$3*Analyse1!$H$4","v":1.9659306556021213E-14}]
[4611.8969999999999,1.3257316616732799,{"$f":"+IF(AND(A289>Analyse1!$E$3,Data!A289<Analyse1!$E$4),B289,\"\")","v":""},{"$f":"+B289/Analyse1!$H$3*Analyse1!$H$4","v":2.0286755614301403E-14}]
[4612.8969999999999,1.3680982677626601,{"$f":"+IF(AND(A290>Analyse1!$E$3,Data!A290<Analyse1!$E$4),B290,\"\")","v":""},{"$f":"+B290/Analyse1!$H$3*Analyse1!$H$4","v":2.0935062514400494E-14}]
[4613.8969999999999,1.40962550883696,{"$f":"+IF(AND(A291>Analyse1!$E$3,Data!A291<Analyse1!$E$4),B291,\"\")","v":""},{"$f":"+B291/Analyse1!$H$3*Analyse1!$H$4","v":2.1570525191626743E-14}]
[4614.8969999999999,1.44811171208193,{"$f":"+IF(AND(A292>Analyse1!$E$3,Data!A292<Analyse1!$E$4),B292,\"\")","v":""},{"$f":"+B292/Analyse1!$H$3*Analyse1!$H$4","v":2.2159452968132886E-14}]
[4615.8969999999999,1.4824603896709101,{"$f":"+IF(AND(A293>Analyse1!$E$3,Data!A293<Analyse1!$E$4),B293,\"\")","v":""},{"$f":"+B293/Analyse1!$H$3*Analyse1!$H$4","v":2.2685067048317539E-14}]
[4616.8969999999999,1.5148979260819,{"$f":"+IF(AND(A294>Analyse1!$E$3,Data!A294<Analyse1!$E$4),B294,\"\")","v":""},{"$f":"+B294/Analyse1!$H$3*Analyse1!$H$4","v":2.3181436255543976E-14}]
[4617.8969999999999,1.54827264594755,{"$f":"+IF(AND(A295>Analyse1!$E$3,Data!A295<Analyse1!$E$4),B295,\"\")","v":""},{"$f":"+B295/Analyse1!$H$3*Analyse1!$H$4","v":2.3692146533637243E-14}]
[4618.8969999999999,1.5854328739005099,{"$f":"+IF(AND(A296>Analyse1!$E$3,Data!A296<Analyse1!$E$4),B296,\"\")","v":""},{"$f":"+B296/Analyse1!$H$3*Analyse1!$H$4","v":2.4260783826422378E-14}]
[4619.8969999999999,1.6286068858237299,{"$f":"+IF(AND(A297>Analyse1!$E$3,Data!A297<Analyse1!$E$4),B297,\"\")","v":""},{"$f":"+B297/Analyse1!$H$3*Analyse1!$H$4","v":2.4921445900125761E-14}]
[4620.8969999999999,1.67569590545418,{"$f":"+IF(AND(A298>Analyse1!$E$3,Data!A298<Analyse1!$E$4),B298,\"\")","v":""},{"$f":"+B298/Analyse1!$H$3*Analyse1!$H$4","v":2.5642016631727861E-14}]
[4621.8969999999999,1.72275741036094,{"$f":"+IF(AND(A299>Analyse1!$E$3,Data!A299<Analyse1!$E$4),B299,\"\")","v":""},{"$f":"+B299/Analyse1!$H$3*Analyse1!$H$4","v":2.6362166324524419E-14}]
[4622.8969999999999,1.7658420449879699,{"$f":"+IF(AND(A300>Analyse1!$E$3,Data!A300<Analyse1!$E$4),B300,\"\")","v":""},{"$f":"+B300/Analyse1!$H$3*Analyse1!$H$4","v":2.7021460719218769E-14}]
[4623.8969999999999,1.80120767284017,{"$f":"+IF(AND(A301>Analyse1!$E$3,Data!A301<Analyse1!$E$4),B301,\"\")","v":""},{"$f":"+B301/Analyse1!$H$3*Analyse1!$H$4","v":2.7562636486627372E-14}]
[4624.8969999999999,1.8290900521051801,{"$f":"+IF(AND(A302>Analyse1!$E$3,Data!A302<Analyse1!$E$4),B302,\"\")","v":""},{"$f":"+B302/Analyse1!$H$3*Analyse1!$H$4","v":2.7989301271400326E-14}]
[4625.8969999999999,1.85330875675832,{"$f":"+IF(AND(A303>Analyse1!$E$3,Data!A303<Analyse1!$E$4),B303,\"\")","v":""},{"$f":"+B303/Analyse1!$H$3*Analyse1!$H$4","v":2.8359903374976152E-14}]
[4626.8969999999999,1.87781149505607,{"$f":"+IF(AND(A304>Analyse1!$E$3,Data!A304<Analyse1!$E$4),B304,\"\")","v":""},{"$f":"+B304/Analyse1!$H$3*Analyse1!$H$4","v":2.8734851849164543E-14}]
[4627.8969999999999,1.9065177727339799,{"$f":"+IF(AND(A305>Analyse1!$E$3,Data!A305<Analyse1!$E$4),B305,\"\")","v":""},{"$f":"+B305/Analyse1!$H$3*Analyse1!$H$4","v":2.9174124182083719E-14}]
[4628.8969999999999,1.94030729833002,{"$f":"+IF(AND(A306>Analyse1!$E$3,Data!A306<Analyse1!$E$4),B306,\"\")","v":""},{"$f":"+B306/Analyse1!$H$3*Analyse1!$H$4","v":2.9691181945662257E-14}]
[4629.8969999999999,1.9743465863841301,{"$f":"+IF(AND(A307>Analyse1!$E$3,Data!A307<Analyse1!$E$4),B307,\"\")","v":""},{"$f":"+B307/Analyse1!$H$3*Analyse1!$H$4","v":3.0212061651565155E-14}]
[4630.8969999999999,2.0031715754942501,{"$f":"+IF(AND(A308>Analyse1!$E$3,Data!A308<Analyse1!$E$4),B308,\"\")","v":""},{"$f":"+B308/Analyse1!$H$3*Analyse1!$H$4","v":3.0653150543508675E-14}]
[4631.8969999999999,2.0213182042583,{"$f":"+IF(AND(A309>Analyse1!$E$3,Data!A309<Analyse1!$E$4),B309,\"\")","v":""},{"$f":"+B309/Analyse1!$H$3*Analyse1!$H$4","v":3.0930835865208759E-14}]
[4632.8969999999999,2.0253550998351799,{"$f":"+IF(AND(A310>Analyse1!$E$3,Data!A310<Analyse1!$E$4),B310,\"\")","v":""},{"$f":"+B310/Analyse1!$H$3*Analyse1!$H$4","v":3.0992609688959225E-14}]
[4633.8969999999999,2.0203821992128801,{"$f":"+IF(AND(A311>Analyse1!$E$3,Data!A311<Analyse1!$E$4),B311,\"\")","v":""},{"$f":"+B311/Analyse1!$H$3*Analyse1!$H$4","v":3.0916512826724322E-14}]
[4634.8969999999999,2.0137372901497201,{"$f":"+IF(AND(A312>Analyse1!$E$3,Data!A312<Analyse1!$E$4),B312,\"\")","v":""},{"$f":"+B312/Analyse1!$H$3*Analyse1!$H$4","v":3.081483037458054E-14}]
[4635.8969999999999,2.0127581691882499,{"$f":"+IF(AND(A313>Analyse1!$E$3,Data!A313<Analyse1!$E$4),B313,\"\")","v":""},{"$f":"+B313/Analyse1!$H$3*Analyse1!$H$4","v":3.0799847563023402E-14}]
[4636.8969999999999,2.0241360699635602,{"$f":"+IF(AND(A314>Analyse1!$E$3,Data!A314<Analyse1!$E$4),B314,\"\")","v":""},{"$f":"+B314/Analyse1!$H$3*Analyse1!$H$4","v":3.0973955717113319E-14}]
[4637.8969999999999,2.0480249385281302,{"$f":"+IF(AND(A315>Analyse1!$E$3,Data!A315<Analyse1!$E$4),B315,\"\")","v":""},{"$f":"+B315/Analyse1!$H$3*Analyse1!$H$4","v":3.1339510566923512E-14}]
[4638.8969999999999,2.08078377888125,{"$f":"+IF(AND(A316>Analyse1!$E$3,Data!A316<Analyse1!$E$4),B316,\"\")","v":""},{"$f":"+B316/Analyse1!$H$3*Analyse1!$H$4","v":3.1840796466373837E-14}]
[4639.8969999999999,2.1187248849749798,{"$f":"+IF(AND(A317>Analyse1!$E$3,Data!A317<Analyse1!$E$4),B317,\"\")","v":""},{"$f":"+B317/Analyse1!$H$3*Analyse1!$H$4","v":3.2421382997805313E-14}]
[4640.8969999999999,2.1581828135476702,{"$f":"+IF(AND(A318>Analyse1!$E$3,Data!A318<Analyse1!$E$4),B318,\"\")","v":""},{"$f":"+B318/Analyse1!$H$3*Analyse1!$H$4","v":3.3025180415595277E-14}]
[4641.8969999999999,2.19623004280204,{"$f":"+IF(AND(A319>Analyse1!$E$3,Data!A319<Analyse1!$E$4),B319,\"\")","v":""},{"$f":"+B319/Analyse1!$H$3*Analyse1!$H$4","v":3.3607390876429033E-14}]
[4642.8969999999999,2.23082975852035,{"$f":"+IF(AND(A320>Analyse1!$E$3,Data!A320<Analyse1!$E$4),B320,\"\")","v":""},{"$f":"+B320/Analyse1!$H$3*Analyse1!$H$4","v":3.413684641965392E-14}]
[4643.8969999999999,2.2599983060988902,{"$f":"+IF(AND(A321>Analyse1!$E$3,Data!A321<Analyse1!$E$4),B321,\"\")","v":""},{"$f":"+B321/Analyse1!$H$3*Analyse1!$H$4","v":3.4583192549460543E-14}]
[4644.8969999999999,2.2817537140600499,{"$f":"+IF(AND(A322>Analyse1!$E$3,Data!A322<Analyse1!$E$4),B322,\"\")","v":""},{"$f":"+B322/Analyse1!$H$3*Analyse1!$H$4","v":3.4916100525755251E-14}]
[4645.8969999999999,2.2948661057252502,{"$f":"+IF(AND(A323>Analyse1!$E$3,Data!A323<Analyse1!$E$4),B323,\"\")","v":""},{"$f":"+B323/Analyse1!$H$3*Analyse1!$H$4","v":3.5116750395499761E-14}]
[4646.8969999999999,2.3000392239210701,{"$f":"+IF(AND(A324>Analyse1!$E$3,Data!A324<Analyse1!$E$4),B324,\"\")","v":""},{"$f":"+B324/Analyse1!$H$3*Analyse1!$H$4","v":3.5195911048923426E-14}]
[4647.8969999999999,2.2982832752132798,{"$f":"+IF(AND(A325>Analyse1!$E$3,Data!A325<Analyse1!$E$4),B325,\"\")","v":""},{"$f":"+B325/Analyse1!$H$3*Analyse1!$H$4","v":3.5169040979107618E-14}]
[4648.8969999999999,2.29060846616767,{"$f":"+IF(AND(A326>Analyse1!$E$3,Data!A326<Analyse1!$E$4),B326,\"\")","v":""},{"$f":"+B326/Analyse1!$H$3*Analyse1!$H$4","v":3.5051598679134022E-14}]
[4649.8969999999999,2.27813520239989,{"$f":"+IF(AND(A327>Analyse1!$E$3,Data!A327<Analyse1!$E$4),B327,\"\")","v":""},{"$f":"+B327/Analyse1!$H$3*Analyse1!$H$4","v":3.4860728942003139E-14}]
[4650.8969999999999,2.2626334479090402,{"$f":"+IF(AND(A328>Analyse1!$E$3,Data!A328<Analyse1!$E$4),B328,\"\")","v":""},{"$f":"+B328/Analyse1!$H$3*Analyse1!$H$4","v":3.4623516303849922E-14}]
[4651.8969999999999,2.2461103482490801,{"$f":"+IF(AND(A329>Analyse1!$E$3,Data!A329<Analyse1!$E$4),B329,\"\")","v":""},{"$f":"+B329/Analyse1!$H$3*Analyse1!$H$4","v":3.4370674726264548E-14}]
[4652.8969999999999,2.2305733977747702,{"$f":"+IF(AND(A330>Analyse1!$E$3,Data!A330<Analyse1!$E$4),B330,\"\")","v":""},{"$f":"+B330/Analyse1!$H$3*Analyse1!$H$4","v":3.4132923508294837E-14}]
[4653.8969999999999,2.2178922911478098,{"$f":"+IF(AND(A331>Analyse1!$E$3,Data!A331<Analyse1!$E$4),B331,\"\")","v":""},{"$f":"+B331/Analyse1!$H$3*Analyse1!$H$4","v":3.3938873295497361E-14}]
[4654.8969999999999,2.2078247971569498,{"$f":"+IF(AND(A332>Analyse1!$E$3,Data!A332<Analyse1!$E$4),B332,\"\")","v":""},{"$f":"+B332/Analyse1!$H$3*Analyse1!$H$4","v":3.3784817391014211E-14}]
[4655.8969999999999,2.1984769438835001,{"$f":"+IF(AND(A333>Analyse1!$E$3,Data!A333<Analyse1!$E$4),B333,\"\")","v":""},{"$f":"+B333/Analyse1!$H$3*Analyse1!$H$4","v":3.3641773651199274E-14}]
[4656.8969999999999,2.18791074298665,{"$f":"+IF(AND(A334>Analyse1!$E$3,Data!A334<Analyse1!$E$4),B334,\"\")","v":""},{"$f":"+B334/Analyse1!$H$3*Analyse1!$H$4","v":3.3480086379511531E-14}]
[4657.8969999999999,2.1741972351663299,{"$f":"+IF(AND(A335>Analyse1!$E$3,Data!A335<Analyse1!$E$4),B335,\"\")","v":""},{"$f":"+B335/Analyse1!$H$3*Analyse1!$H$4","v":3.3270238044581888E-14}]
[4658.8969999999999,2.15602362442768,{"$f":"+IF(AND(A336>Analyse1!$E$3,Data!A336<Analyse1!$E$4),B336,\"\")","v":""},{"$f":"+B336/Analyse1!$H$3*Analyse1!$H$4","v":3.2992139836367491E-14}]
[4659.8969999999999,2.1330776114810299,{"$f":"+IF(AND(A337>Analyse1!$E$3,Data!A337<Analyse1!$E$4),B337,\"\")","v":""},{"$f":"+B337/Analyse1!$H$3*Analyse1!$H$4","v":3.2641012854619348E-14}]
[4660.8969999999999,2.10513850083901,{"$f":"+IF(AND(A338>Analyse1!$E$3,Data!A338<Analyse1!$E$4),B338,\"\")","v":""},{"$f":"+B338/Analyse1!$H$3*Analyse1!$H$4","v":3.2213479948782127E-14}]
[4661.8969999999999,2.0719856420217,{"$f":"+IF(AND(A339>Analyse1!$E$3,Data!A339<Analyse1!$E$4),B339,\"\")","v":""},{"$f":"+B339/Analyse1!$H$3*Analyse1!$H$4","v":3.1706164657018394E-14}]
[4662.8969999999999,2.0343174455606001,{"$f":"+IF(AND(A340>Analyse1!$E$3,Data!A340<Analyse1!$E$4),B340,\"\")","v":""},{"$f":"+B340/Analyse1!$H$3*Analyse1!$H$4","v":3.1129754273130204E-14}]
[4663.8969999999999,1.99611334431318,{"$f":"+IF(AND(A341>Analyse1!$E$3,Data!A341<Analyse1!$E$4),B341,\"\")","v":""},{"$f":"+B341/Analyse1!$H$3*Analyse1!$H$4","v":3.0545143308576319E-14}]
[4664.8969999999999,1.96208464108738,{"$f":"+IF(AND(A342>Analyse1!$E$3,Data!A342<Analyse1!$E$4),B342,\"\")","v":""},{"$f":"+B342/Analyse1!$H$3*Analyse1!$H$4","v":3.0024425574987536E-14}]
[4665.8969999999999,1.9369426386911099,{"$f":"+IF(AND(A343>Analyse1!$E$3,Data!A343<Analyse1!$E$4),B343,\"\")","v":""},{"$f":"+B343/Analyse1!$H$3*Analyse1!$H$4","v":2.9639694883994197E-14}]
[4666.8969999999999,1.92472665708983,{"$f":"+IF(AND(A344>Analyse1!$E$3,Data!A344<Analyse1!$E$4),B344,\"\")","v":""},{"$f":"+B344/Analyse1!$H$3*Analyse1!$H$4","v":2.945276215809009E-14}]
[4667.8969999999999,1.9238178771779599,{"$f":"+IF(AND(A345>Analyse1!$E$3,Data!A345<Analyse1!$E$4),B345,\"\")","v":""},{"$f":"+B345/Analyse1!$H$3*Analyse1!$H$4","v":2.9438855727013361E-14}]
[4668.8969999999999,1.92976300369188,{"$f":"+IF(AND(A346>Analyse1!$E$3,Data!A346<Analyse1!$E$4),B346,\"\")","v":""},{"$f":"+B346/Analyse1!$H$3*Analyse1!$H$4","v":2.9529829890315594E-14}]
[4669.8969999999999,1.93808757012079,{"$f":"+IF(AND(A347>Analyse1!$E$3,Data!A347<Analyse1!$E$4),B347,\"\")","v":""},{"$f":"+B347/Analyse1!$H$3*Analyse1!$H$4","v":2.9657214978580867E-14}]
[4670.8969999999999,1.9443832487743999,{"$f":"+IF(AND(A348>Analyse1!$E$3,Data!A348<Analyse1!$E$4),B348,\"\")","v":""},{"$f":"+B348/Analyse1!$H$3*Analyse1!$H$4","v":2.9753553399065411E-14}]
[4671.8969999999999,1.94589984911244,{"$f":"+IF(AND(A349>Analyse1!$E$3,Data!A349<Analyse1!$E$4),B349,\"\")","v":""},{"$f":"+B349/Analyse1!$H$3*Analyse1!$H$4","v":2.9776760886154879E-14}]
[4672.8969999999999,1.9416251667154101,{"$f":"+IF(AND(A350>Analyse1!$E$3,Data!A350<Analyse1!$E$4),B350,\"\")","v":""},{"$f":"+B350/Analyse1!$H$3*Analyse1!$H$4","v":2.9711348374992671E-14}]
[4673.8969999999999,1.9306291168531899,{"$f":"+IF(AND(A351>Analyse1!$E$3,Data!A351<Analyse1!$E$4),B351,\"\")","v":""},{"$f":"+B351/Analyse1!$H$3*Analyse1!$H$4","v":2.9543083421588769E-14}]
[4674.8969999999999,1.9119875866562399,{"$f":"+IF(AND(A352>Analyse1!$E$3,Data!A352<Analyse1!$E$4),B352,\"\")","v":""},{"$f":"+B352/Analyse1!$H$3*Analyse1!$H$4","v":2.9257824965209423E-14}]
[4675.8969999999999,1.88598070393392,{"$f":"+IF(AND(A353>Analyse1!$E$3,Data!A353<Analyse1!$E$4),B353,\"\")","v":""},{"$f":"+B353/Analyse1!$H$3*Analyse1!$H$4","v":2.8859859608169074E-14}]
[4676.8969999999999,1.8555456861063999,{"$f":"+IF(AND(A354>Analyse1!$E$3,Data!A354<Analyse1!$E$4),B354,\"\")","v":""},{"$f":"+B354/Analyse1!$H$3*Analyse1!$H$4","v":2.8394133559200373E-14}]
[4677.8969999999999,1.8239747092431999,{"$f":"+IF(AND(A355>Analyse1!$E$3,Data!A355<Analyse1!$E$4),B355,\"\")","v":""},{"$f":"+B355/Analyse1!$H$3*Analyse1!$H$4","v":2.7911024713990984E-14}]
[4678.8969999999999,1.79455994941385,{"$f":"+IF(AND(A356>Analyse1!$E$3,Data!A356<Analyse1!$E$4),B356,\"\")","v":""},{"$f":"+B356/Analyse1!$H$3*Analyse1!$H$4","v":2.7460910968228716E-14}]
[4679.8969999999999,1.7701145437827099,{"$f":"+IF(AND(A357>Analyse1!$E$3,Data!A357<Analyse1!$E$4),B357,\"\")","v":""},{"$f":"+B357/Analyse1!$H$3*Analyse1!$H$4","v":2.7086839816223886E-14}]
[4680.8969999999999,1.7510572950515599,{"$f":"+IF(AND(A358>Analyse1!$E$3,Data!A358<Analyse1!$E$4),B358,\"\")","v":""},{"$f":"+B358/Analyse1!$H$3*Analyse1!$H$4","v":2.6795219906353258E-14}]
[4681.8969999999999,1.7370604658553099,{"$f":"+IF(AND(A359>Analyse1!$E$3,Data!A359<Analyse1!$E$4),B359,\"\")","v":""},{"$f":"+B359/Analyse1!$H$3*Analyse1!$H$4","v":2.658103610016653E-14}]
[4682.8969999999999,1.72779607406193,{"$f":"+IF(AND(A360>Analyse1!$E$3,Data!A360<Analyse1!$E$4),B360,\"\")","v":""},{"$f":"+B360/Analyse1!$H$3*Analyse1!$H$4","v":2.643926951371402E-14}]
[4683.8969999999999,1.72276155607144,{"$f":"+IF(AND(A361>Analyse1!$E$3,Data!A361<Analyse1!$E$4),B361,\"\")","v":""},{"$f":"+B361/Analyse1!$H$3*Analyse1!$H$4","v":2.6362229763467754E-14}]
[4684.8969999999999,1.7192807160083099,{"$f":"+IF(AND(A362>Analyse1!$E$3,Data!A362<Analyse1!$E$4),B362,\"\")","v":""},{"$f":"+B362/Analyse1!$H$3*Analyse1!$H$4","v":2.630896487304184E-14}]
[4685.8969999999999,1.7132034001493299,{"$f":"+IF(AND(A363>Analyse1!$E$3,Data!A363<Analyse1!$E$4),B363,\"\")","v":""},{"$f":"+B363/Analyse1!$H$3*Analyse1!$H$4","v":2.6215967907527391E-14}]
[4686.8969999999999,1.7003514612650401,{"$f":"+IF(AND(A364>Analyse1!$E$3,Data!A364<Analyse1!$E$4),B364,\"\")","v":""},{"$f":"+B364/Analyse1!$H$3*Analyse1!$H$4","v":2.6019303566731266E-14}]
[4687.8969999999999,1.6766431965055899,{"$f":"+IF(AND(A365>Analyse1!$E$3,Data!A365<Analyse1!$E$4),B365,\"\")","v":""},{"$f":"+B365/Analyse1!$H$3*Analyse1!$H$4","v":2.5656512372163984E-14}]
[4688.8969999999999,1.6425078282126899,{"$f":"+IF(AND(A366>Analyse1!$E$3,Data!A366<Analyse1!$E$4),B366,\"\")","v":""},{"$f":"+B366/Analyse1!$H$3*Analyse1!$H$4","v":2.51341624167528E-14}]
[4689.8969999999999,1.60471760645383,{"$f":"+IF(AND(A367>Analyse1!$E$3,Data!A367<Analyse1!$E$4),B367,\"\")","v":""},{"$f":"+B367/Analyse1!$H$3*Analyse1!$H$4","v":2.4555884764045441E-14}]
[4690.8969999999999,1.57052104363129,{"$f":"+IF(AND(A368>Analyse1!$E$3,Data!A368<Analyse1!$E$4),B368,\"\")","v":""},{"$f":"+B368/Analyse1!$H$3*Analyse1!$H$4","v":2.4032598391029073E-14}]
[4691.8969999999999,1.5471647338646899,{"$f":"+IF(AND(A369>Analyse1!$E$3,Data!A369<Analyse1!$E$4),B369,\"\")","v":""},{"$f":"+B369/Analyse1!$H$3*Analyse1!$H$4","v":2.3675192920536726E-14}]
[4692.8969999999999,1.5386924516484699,{"$f":"+IF(AND(A370>Analyse1!$E$3,Data!A370<Analyse1!$E$4),B370,\"\")","v":""},{"$f":"+B370/Analyse1!$H$3*Analyse1!$H$4","v":2.354554743964136E-14}]
[4693.8969999999999,1.5394046462197499,{"$f":"+IF(AND(A371>Analyse1!$E$3,Data!A371<Analyse1!$E$4),B371,\"\")","v":""},{"$f":"+B371/Analyse1!$H$3*Analyse1!$H$4","v":2.3556445661080196E-14}]
[4694.8969999999999,1.5417557604927601,{"$f":"+IF(AND(A372>Analyse1!$E$3,Data!A372<Analyse1!$E$4),B372,\"\")","v":""},{"$f":"+B372/Analyse1!$H$3*Analyse1!$H$4","v":2.3592423138315409E-14}]
[4695.8969999999999,1.5382002373817401,{"$f":"+IF(AND(A373>Analyse1!$E$3,Data!A373<Analyse1!$E$4),B373,\"\")","v":""},{"$f":"+B373/Analyse1!$H$3*Analyse1!$H$4","v":2.3538015424809326E-14}]
[4696.8969999999999,1.5226436561493799,{"$f":"+IF(AND(A374>Analyse1!$E$3,Data!A374<Analyse1!$E$4),B374,\"\")","v":""},{"$f":"+B374/Analyse1!$H$3*Analyse1!$H$4","v":2.3299963810912899E-14}]
[4697.8969999999999,1.4992479914749399,{"$f":"+IF(AND(A375>Analyse1!$E$3,Data!A375<Analyse1!$E$4),B375,\"\")","v":""},{"$f":"+B375/Analyse1!$H$3*Analyse1!$H$4","v":2.2941956119457853E-14}]
[4698.8969999999999,1.4765950654612801,{"$f":"+IF(AND(A376>Analyse1!$E$3,Data!A376<Analyse1!$E$4),B376,\"\")","v":""},{"$f":"+B376/Analyse1!$H$3*Analyse1!$H$4","v":2.2595314044539059E-14}]
[4699.8969999999999,1.4632840226537001,{"$f":"+IF(AND(A377>Analyse1!$E$3,Data!A377<Analyse1!$E$4),B377,\"\")","v":""},{"$f":"+B377/Analyse1!$H$3*Analyse1!$H$4","v":2.2391624353619217E-14}]
[4700.8969999999999,1.4674205668856699,{"$f":"+IF(AND(A378>Analyse1!$E$3,Data!A378<Analyse1!$E$4),B378,\"\")","v":""},{"$f":"+B378/Analyse1!$H$3*Analyse1!$H$4","v":2.2454923031887038E-14}]
[4701.8969999999999,1.4874708144306901,{"$f":"+IF(AND(A379>Analyse1!$E$3,Data!A379<Analyse1!$E$4),B379,\"\")","v":""},{"$f":"+B379/Analyse1!$H$3*Analyse1!$H$4","v":2.2761738116501284E-14}]
[4702.8969999999999,1.5131250498934501,{"$f":"+IF(AND(A380>Analyse1!$E$3,Data!A380<Analyse1!$E$4),B380,\"\")","v":""},{"$f":"+B380/Analyse1!$H$3*Analyse1!$H$4","v":2.3154307156187548E-14}]
[4703.8969999999999,1.5337533457364401,{"$f":"+IF(AND(A381>Analyse1!$E$3,Data!A381<Analyse1!$E$4),B381,\"\")","v":""},{"$f":"+B381/Analyse1!$H$3*Analyse1!$H$4","v":2.3469967714507518E-14}]
[4704.8969999999999,1.5387817938292101,{"$f":"+IF(AND(A382>Analyse1!$E$3,Data!A382<Analyse1!$E$4),B382,\"\")","v":""},{"$f":"+B382/Analyse1!$H$3*Analyse1!$H$4","v":2.3546914581302922E-14}]
[4705.8969999999999,1.52390818508426,{"$f":"+IF(AND(A383>Analyse1!$E$3,Data!A383<Analyse1!$E$4),B383,\"\")","v":""},{"$f":"+B383/Analyse1!$H$3*Analyse1!$H$4","v":2.3319314023486644E-14}]
[4706.8969999999999,1.4967474658918101,{"$f":"+IF(AND(A384>Analyse1!$E$3,Data!A384<Analyse1!$E$4),B384,\"\")","v":""},{"$f":"+B384/Analyse1!$H$3*Analyse1!$H$4","v":2.2903692304178498E-14}]
[4707.8969999999999,1.46624772709372,{"$f":"+IF(AND(A385>Analyse1!$E$3,Data!A385<Analyse1!$E$4),B385,\"\")","v":""},{"$f":"+B385/Analyse1!$H$3*Analyse1!$H$4","v":2.2436975874915629E-14}]
[4708.8969999999999,1.4413570595318499,{"$f":"+IF(AND(A386>Analyse1!$E$3,Data!A386<Analyse1!$E$4),B386,\"\")","v":""},{"$f":"+B386/Analyse1!$H$3*Analyse1!$H$4","v":2.2056091187235205E-14}]
[4709.8969999999999,1.42888677853122,{"$f":"+IF(AND(A387>Analyse1!$E$3,Data!A387<Analyse1!$E$4),B387,\"\")","v":""},{"$f":"+B387/Analyse1!$H$3*Analyse1!$H$4","v":2.1865267093329095E-14}]
[4710.8969999999999,1.4265717024647799,{"$f":"+IF(AND(A388>Analyse1!$E$3,Data!A388<Analyse1!$E$4),B388,\"\")","v":""},{"$f":"+B388/Analyse1!$H$3*Analyse1!$H$4","v":2.1829841083868694E-14}]
[4711.8969999999999,1.4297370809766601,{"$f":"+IF(AND(A389>Analyse1!$E$3,Data!A389<Analyse1!$E$4),B389,\"\")","v":""},{"$f":"+B389/Analyse1!$H$3*Analyse1!$H$4","v":2.1878278684141609E-14}]
[4712.8969999999999,1.43370814547257,{"$f":"+IF(AND(A390>Analyse1!$E$3,Data!A390<Analyse1!$E$4),B390,\"\")","v":""},{"$f":"+B390/Analyse1!$H$3*Analyse1!$H$4","v":2.1939045140345481E-14}]
[4713.8969999999999,1.43408645769232,{"$f":"+IF(AND(A391>Analyse1!$E$3,Data!A391<Analyse1!$E$4),B391,\"\")","v":""},{"$f":"+B391/Analyse1!$H$3*Analyse1!$H$4","v":2.194483419085234E-14}]
[4714.8969999999999,1.42930671143699,{"$f":"+IF(AND(A392>Analyse1!$E$3,Data!A392<Analyse1!$E$4),B392,\"\")","v":""},{"$f":"+B392/Analyse1!$H$3*Analyse1!$H$4","v":2.1871693036436621E-14}]
[4715.8969999999999,1.41946612191528,{"$f":"+IF(AND(A393>Analyse1!$E$3,Data!A393<Analyse1!$E$4),B393,\"\")","v":""},{"$f":"+B393/Analyse1!$H$3*Analyse1!$H$4","v":2.1721109294266944E-14}]
[4716.8969999999999,1.4046830507294901,{"$f":"+IF(AND(A394>Analyse1!$E$3,Data!A394<Analyse1!$E$4),B394,\"\")","v":""},{"$f":"+B394/Analyse1!$H$3*Analyse1!$H$4","v":2.1494894170162255E-14}]
[4717.8969999999999,1.3850813602751599,{"$f":"+IF(AND(A395>Analyse1!$E$3,Data!A395<Analyse1!$E$4),B395,\"\")","v":""},{"$f":"+B395/Analyse1!$H$3*Analyse1!$H$4","v":2.1194943044779704E-14}]
[4718.8969999999999,1.36097131889874,{"$f":"+IF(AND(A396>Analyse1!$E$3,Data!A396<Analyse1!$E$4),B396,\"\")","v":""},{"$f":"+B396/Analyse1!$H$3*Analyse1!$H$4","v":2.0826003740247448E-14}]
[4719.8969999999999,1.33289056750202,{"$f":"+IF(AND(A397>Analyse1!$E$3,Data!A397<Analyse1!$E$4),B397,\"\")","v":""},{"$f":"+B397/Analyse1!$H$3*Analyse1!$H$4","v":2.0396303403806661E-14}]
[4720.8969999999999,1.3013905426022001,{"$f":"+IF(AND(A398>Analyse1!$E$3,Data!A398<Analyse1!$E$4),B398,\"\")","v":""},{"$f":"+B398/Analyse1!$H$3*Analyse1!$H$4","v":1.9914280287469156E-14}]
[4721.8969999999999,1.26702432145896,{"$f":"+IF(AND(A399>Analyse1!$E$3,Data!A399<Analyse1!$E$4),B399,\"\")","v":""},{"$f":"+B399/Analyse1!$H$3*Analyse1!$H$4","v":1.9388397750395251E-14}]
[4722.8969999999999,1.2311322870321599,{"$f":"+IF(AND(A400>Analyse1!$E$3,Data!A400<Analyse1!$E$4),B400,\"\")","v":""},{"$f":"+B400/Analyse1!$H$3*Analyse1!$H$4","v":1.8839166746892199E-14}]
[4723.8969999999999,1.1971023207857301,{"$f":"+IF(AND(A401>Analyse1!$E$3,Data!A401<Analyse1!$E$4),B401,\"\")","v":""},{"$f":"+B401/Analyse1!$H$3*Analyse1!$H$4","v":1.8318429686171398E-14}]
[4724.8969999999999,1.1686508842591801,{"$f":"+IF(AND(A402>Analyse1!$E$3,Data!A402<Analyse1!$E$4),B402,\"\")","v":""},{"$f":"+B402/Analyse1!$H$3*Analyse1!$H$4","v":1.7883057011310912E-14}]
[4725.8969999999999,1.1494944389920401,{"$f":"+IF(AND(A403>Analyse1!$E$3,Data!A403<Analyse1!$E$4),B403,\"\")","v":""},{"$f":"+B403/Analyse1!$H$3*Analyse1!$H$4","v":1.7589919165389131E-14}]
[4726.8969999999999,1.14230705977915,{"$f":"+IF(AND(A404>Analyse1!$E$3,Data!A404<Analyse1!$E$4),B404,\"\")","v":""},{"$f":"+B404/Analyse1!$H$3*Analyse1!$H$4","v":1.7479935667359691E-14}]
[4727.8969999999999,1.1435422070244501,{"$f":"+IF(AND(A405>Analyse1!$E$3,Data!A405<Analyse1!$E$4),B405,\"\")","v":""},{"$f":"+B405/Analyse1!$H$3*Analyse1!$H$4","v":1.7498836272238851E-14}]
[4728.8969999999999,1.1473555168845999,{"$f":"+IF(AND(A406>Analyse1!$E$3,Data!A406<Analyse1!$E$4),B406,\"\")","v":""},{"$f":"+B406/Analyse1!$H$3*Analyse1!$H$4","v":1.7557188718251062E-14}]
[4729.8969999999999,1.1478989568989899,{"$f":"+IF(AND(A407>Analyse1!$E$3,Data!A407<Analyse1!$E$4),B407,\"\")","v":""},{"$f":"+B407/Analyse1!$H$3*Analyse1!$H$4","v":1.7565504605305493E-14}]
[4730.8969999999999,1.1396926072770199,{"$f":"+IF(AND(A408>Analyse1!$E$3,Data!A408<Analyse1!$E$4),B408,\"\")","v":""},{"$f":"+B408/Analyse1!$H$3*Analyse1!$H$4","v":1.7439928507155817E-14}]
[4731.8969999999999,1.1229894309533499,{"$f":"+IF(AND(A409>Analyse1!$E$3,Data!A409<Analyse1!$E$4),B409,\"\")","v":""},{"$f":"+B409/Analyse1!$H$3*Analyse1!$H$4","v":1.7184331340808297E-14}]
[4732.8969999999999,1.1025734651322501,{"$f":"+IF(AND(A410>Analyse1!$E$3,Data!A410<Analyse1!$E$4),B410,\"\")","v":""},{"$f":"+B410/Analyse1!$H$3*Analyse1!$H$4","v":1.6871919922105485E-14}]
[4733.8969999999999,1.0833523200133099,{"$f":"+IF(AND(A411>Analyse1!$E$3,Data!A411<Analyse1!$E$4),B411,\"\")","v":""},{"$f":"+B411/Analyse1!$H$3*Analyse1!$H$4","v":1.6577792019055481E-14}]
[4734.8969999999999,1.07019199413526,{"$f":"+IF(AND(A412>Analyse1!$E$3,Data!A412<Analyse1!$E$4),B412,\"\")","v":""},{"$f":"+B412/Analyse1!$H$3*Analyse1!$H$4","v":1.6376408645171512E-14}]
[4735.8969999999999,1.0650300812195299,{"$f":"+IF(AND(A413>Analyse1!$E$3,Data!A413<Analyse1!$E$4),B413,\"\")","v":""},{"$f":"+B413/Analyse1!$H$3*Analyse1!$H$4","v":1.6297419458406862E-14}]
[4736.8969999999999,1.0649978058219201,{"$f":"+IF(AND(A414>Analyse1!$E$3,Data!A414<Analyse1!$E$4),B414,\"\")","v":""},{"$f":"+B414/Analyse1!$H$3*Analyse1!$H$4","v":1.6296925570297682E-14}]
[4737.8969999999999,1.06678003528875,{"$f":"+IF(AND(A415>Analyse1!$E$3,Data!A415<Analyse1!$E$4),B415,\"\")","v":""},{"$f":"+B415/Analyse1!$H$3*Analyse1!$H$4","v":1.632419779641058E-14}]
[4738.8969999999999,1.0670616616564801,{"$f":"+IF(AND(A416>Analyse1!$E$3,Data!A416<Analyse1!$E$4),B416,\"\")","v":""},{"$f":"+B416/Analyse1!$H$3*Analyse1!$H$4","v":1.6328507330128342E-14}]
[4739.8969999999999,1.0632235621798201,{"$f":"+IF(AND(A417>Analyse1!$E$3,Data!A417<Analyse1!$E$4),B417,\"\")","v":""},{"$f":"+B417/Analyse1!$H$3*Analyse1!$H$4","v":1.6269775545742875E-14}]
[4740.8969999999999,1.05516113214118,{"$f":"+IF(AND(A418>Analyse1!$E$3,Data!A418<Analyse1!$E$4),B418,\"\")","v":""},{"$f":"+B418/Analyse1!$H$3*Analyse1!$H$4","v":1.6146401749536748E-14}]
[4741.8969999999999,1.0433374457001701,{"$f":"+IF(AND(A419>Analyse1!$E$3,Data!A419<Analyse1!$E$4),B419,\"\")","v":""},{"$f":"+B419/Analyse1!$H$3*Analyse1!$H$4","v":1.5965472045416873E-14}]
[4742.8969999999999,1.0282155770163799,{"$f":"+IF(AND(A420>Analyse1!$E$3,Data!A420<Analyse1!$E$4),B420,\"\")","v":""},{"$f":"+B420/Analyse1!$H$3*Analyse1!$H$4","v":1.5734072537289854E-14}]
[4743.8969999999999,1.01040989585263,{"$f":"+IF(AND(A421>Analyse1!$E$3,Data!A421<Analyse1!$E$4),B421,\"\")","v":""},{"$f":"+B421/Analyse1!$H$3*Analyse1!$H$4","v":1.5461604501141989E-14}]
[4744.8969999999999,0.99182568979390795,{"$f":"+IF(AND(A422>Analyse1!$E$3,Data!A422<Analyse1!$E$4),B422,\"\")","v":""},{"$f":"+B422/Analyse1!$H$3*Analyse1!$H$4","v":1.5177223236442265E-14}]
[4745.8969999999999,0.97502210493354202,{"$f":"+IF(AND(A423>Analyse1!$E$3,Data!A423<Analyse1!$E$4),B423,\"\")","v":""},{"$f":"+B423/Analyse1!$H$3*Analyse1!$H$4","v":1.4920089587634208E-14}]
[4746.8969999999999,0.962563376260262,{"$f":"+IF(AND(A424>Analyse1!$E$3,Data!A424<Analyse1!$E$4),B424,\"\")","v":""},{"$f":"+B424/Analyse1!$H$3*Analyse1!$H$4","v":1.4729442271011542E-14}]
[4747.8969999999999,0.95692699214428101,{"$f":"+IF(AND(A425>Analyse1!$E$3,Data!A425<Analyse1!$E$4),B425,\"\")","v":""},{"$f":"+B425/Analyse1!$H$3*Analyse1!$H$4","v":1.4643192579301745E-14}]
[4748.8969999999999,0.95837269185700802,{"$f":"+IF(AND(A426>Analyse1!$E$3,Data!A426<Analyse1!$E$4),B426,\"\")","v":""},{"$f":"+B426/Analyse1!$H$3*Analyse1!$H$4","v":1.4665315123110302E-14}]
[4749.8969999999999,0.96481127634183905,{"$f":"+IF(AND(A427>Analyse1!$E$3,Data!A427<Analyse1!$E$4),B427,\"\")","v":""},{"$f":"+B427/Analyse1!$H$3*Analyse1!$H$4","v":1.4763840332790321E-14}]
[4750.8969999999999,0.97404053490843701,{"$f":"+IF(AND(A428>Analyse1!$E$3,Data!A428<Analyse1!$E$4),B428,\"\")","v":""},{"$f":"+B428/Analyse1!$H$3*Analyse1!$H$4","v":1.4905069299748427E-14}]
[4751.8969999999999,0.98386016317065605,{"$f":"+IF(AND(A429>Analyse1!$E$3,Data!A429<Analyse1!$E$4),B429,\"\")","v":""},{"$f":"+B429/Analyse1!$H$3*Analyse1!$H$4","v":1.5055332286247137E-14}]
[4752.8969999999999,0.99247413400492401,{"$f":"+IF(AND(A430>Analyse1!$E$3,Data!A430<Analyse1!$E$4),B430,\"\")","v":""},{"$f":"+B430/Analyse1!$H$3*Analyse1!$H$4","v":1.5187145930165813E-14}]
[4753.8969999999999,0.99898848539818697,{"$f":"+IF(AND(A431>Analyse1!$E$3,Data!A431<Analyse1!$E$4),B431,\"\")","v":""},{"$f":"+B431/Analyse1!$H$3*Analyse1!$H$4","v":1.5286830548494991E-14}]
[4754.8969999999999,1.0026313213754501,{"$f":"+IF(AND(A432>Analyse1!$E$3,Data!A432<Analyse1!$E$4),B432,\"\")","v":""},{"$f":"+B432/Analyse1!$H$3*Analyse1!$H$4","v":1.5342574350465027E-14}]
[4755.8969999999999,1.0026307459617201,{"$f":"+IF(AND(A433>Analyse1!$E$3,Data!A433<Analyse1!$E$4),B433,\"\")","v":""},{"$f":"+B433/Analyse1!$H$3*Analyse1!$H$4","v":1.5342565545306295E-14}]
[4756.8969999999999,0.99852259296798396,{"$f":"+IF(AND(A434>Analyse1!$E$3,Data!A434<Analyse1!$E$4),B434,\"\")","v":""},{"$f":"+B434/Analyse1!$H$3*Analyse1!$H$4","v":1.5279701318540452E-14}]
[4757.8969999999999,0.99139954761163496,{"$f":"+IF(AND(A435>Analyse1!$E$3,Data!A435<Analyse1!$E$4),B435,\"\")","v":""},{"$f":"+B435/Analyse1!$H$3*Analyse1!$H$4","v":1.5170702277066668E-14}]
[4758.8969999999999,0.982845480601376,{"$f":"+IF(AND(A436>Analyse1!$E$3,Data!A436<Analyse1!$E$4),B436,\"\")","v":""},{"$f":"+B436/Analyse1!$H$3*Analyse1!$H$4","v":1.5039805299976708E-14}]
[4759.8969999999999,0.97444444917900197,{"$f":"+IF(AND(A437>Analyse1!$E$3,Data!A437<Analyse1!$E$4),B437,\"\")","v":""},{"$f":"+B437/Analyse1!$H$3*Analyse1!$H$4","v":1.4911250120749366E-14}]
[4760.8969999999999,0.96771999721777302,{"$f":"+IF(AND(A438>Analyse1!$E$3,Data!A438<Analyse1!$E$4),B438,\"\")","v":""},{"$f":"+B438/Analyse1!$H$3*Analyse1!$H$4","v":1.4808350478596004E-14}]
[4761.8969999999999,0.963430946151419,{"$f":"+IF(AND(A439>Analyse1!$E$3,Data!A439<Analyse1!$E$4),B439,\"\")","v":""},{"$f":"+B439/Analyse1!$H$3*Analyse1!$H$4","v":1.474271809361505E-14}]
[4762.8969999999999,0.96181201305596298,{"$f":"+IF(AND(A440>Analyse1!$E$3,Data!A440<Analyse1!$E$4),B440,\"\")","v":""},{"$f":"+B440/Analyse1!$H$3*Analyse1!$H$4","v":1.4717944679044888E-14}]
[4763.8969999999999,0.96308768916468201,{"$f":"+IF(AND(A441>Analyse1!$E$3,Data!A441<Analyse1!$E$4),B441,\"\")","v":""},{"$f":"+B441/Analyse1!$H$3*Analyse1!$H$4","v":1.4737465469117835E-14}]
[4764.8969999999999,0.96746421906279001,{"$f":"+IF(AND(A442>Analyse1!$E$3,Data!A442<Analyse1!$E$4),B442,\"\")","v":""},{"$f":"+B442/Analyse1!$H$3*Analyse1!$H$4","v":1.4804436482218287E-14}]
[4765.8969999999999,0.97427205900225899,{"$f":"+IF(AND(A443>Analyse1!$E$3,Data!A443<Analyse1!$E$4),B443,\"\")","v":""},{"$f":"+B443/Analyse1!$H$3*Analyse1!$H$4","v":1.4908612152986361E-14}]
[4766.8969999999999,0.98159706453378304,{"$f":"+IF(AND(A444>Analyse1!$E$3,Data!A444<Analyse1!$E$4),B444,\"\")","v":""},{"$f":"+B444/Analyse1!$H$3*Analyse1!$H$4","v":1.5020701651477991E-14}]
[4767.8969999999999,0.98743021416401799,{"$f":"+IF(AND(A445>Analyse1!$E$3,Data!A445<Analyse1!$E$4),B445,\"\")","v":""},{"$f":"+B445/Analyse1!$H$3*Analyse1!$H$4","v":1.5109962309898767E-14}]
[4768.8969999999999,0.98976294272070198,{"$f":"+IF(AND(A446>Analyse1!$E$3,Data!A446<Analyse1!$E$4),B446,\"\")","v":""},{"$f":"+B446/Analyse1!$H$3*Analyse1!$H$4","v":1.5145658443220515E-14}]
[4769.8969999999999,0.98744799997802402,{"$f":"+IF(AND(A447>Analyse1!$E$3,Data!A447<Analyse1!$E$4),B447,\"\")","v":""},{"$f":"+B447/Analyse1!$H$3*Analyse1!$H$4","v":1.5110234473921527E-14}]
[4770.8969999999999,0.98198932414540896,{"$f":"+IF(AND(A448>Analyse1!$E$3,Data!A448<Analyse1!$E$4),B448,\"\")","v":""},{"$f":"+B448/Analyse1!$H$3*Analyse1!$H$4","v":1.5026704129285884E-14}]
[4771.8969999999999,0.97539930664485597,{"$f":"+IF(AND(A449>Analyse1!$E$3,Data!A449<Analyse1!$E$4),B449,\"\")","v":""},{"$f":"+B449/Analyse1!$H$3*Analyse1!$H$4","v":1.4925861644797773E-14}]
[4772.8969999999999,0.96969033889836398,{"$f":"+IF(AND(A450>Analyse1!$E$3,Data!A450<Analyse1!$E$4),B450,\"\")","v":""},{"$f":"+B450/Analyse1!$H$3*Analyse1!$H$4","v":1.4838501255941375E-14}]
[4773.8969999999999,0.96663984017817595,{"$f":"+IF(AND(A451>Analyse1!$E$3,Data!A451<Analyse1!$E$4),B451,\"\")","v":""},{"$f":"+B451/Analyse1!$H$3*Analyse1!$H$4","v":1.4791821581745405E-14}]
[4774.8969999999999,0.96634318675139497,{"$f":"+IF(AND(A452>Analyse1!$E$3,Data!A452<Analyse1!$E$4),B452,\"\")","v":""},{"$f":"+B452/Analyse1!$H$3*Analyse1!$H$4","v":1.478728209932582E-14}]
[4775.8969999999999,0.96816268629939795,{"$f":"+IF(AND(A453>Analyse1!$E$3,Data!A453<Analyse1!$E$4),B453,\"\")","v":""},{"$f":"+B453/Analyse1!$H$3*Analyse1!$H$4","v":1.4815124643739432E-14}]
[4776.8969999999999,0.97145761223784599,{"$f":"+IF(AND(A454>Analyse1!$E$3,Data!A454<Analyse1!$E$4),B454,\"\")","v":""},{"$f":"+B454/Analyse1!$H$3*Analyse1!$H$4","v":1.4865544618771297E-14}]
[4777.8969999999999,0.97559038142931398,{"$f":"+IF(AND(A455>Analyse1!$E$3,Data!A455<Analyse1!$E$4),B455,\"\")","v":""},{"$f":"+B455/Analyse1!$H$3*Analyse1!$H$4","v":1.4928785530202651E-14}]
[4778.8969999999999,0.97998591124023005,{"$f":"+IF(AND(A456>Analyse1!$E$3,Data!A456<Analyse1!$E$4),B456,\"\")","v":""},{"$f":"+B456/Analyse1!$H$3*Analyse1!$H$4","v":1.4996047285840954E-14}]
[4779.8969999999999,0.98412661662878498,{"$f":"+IF(AND(A457>Analyse1!$E$3,Data!A457<Analyse1!$E$4),B457,\"\")","v":""},{"$f":"+B457/Analyse1!$H$3*Analyse1!$H$4","v":1.5059409639412879E-14}]
[4780.8969999999999,0.98749705323381098,{"$f":"+IF(AND(A458>Analyse1!$E$3,Data!A458<Analyse1!$E$4),B458,\"\")","v":""},{"$f":"+B458/Analyse1!$H$3*Analyse1!$H$4","v":1.5110985102001861E-14}]
[4781.8969999999999,0.98958523203542303,{"$f":"+IF(AND(A459>Analyse1!$E$3,Data!A459<Analyse1!$E$4),B459,\"\")","v":""},{"$f":"+B459/Analyse1!$H$3*Analyse1!$H$4","v":1.5142939059391548E-14}]
[4782.8969999999999,0.99028124776694404,{"$f":"+IF(AND(A460>Analyse1!$E$3,Data!A460<Analyse1!$E$4),B460,\"\")","v":""},{"$f":"+B460/Analyse1!$H$3*Analyse1!$H$4","v":1.5153589707224197E-14}]
[4783.8969999999999,0.99024763406317395,{"$f":"+IF(AND(A461>Analyse1!$E$3,Data!A461<Analyse1!$E$4),B461,\"\")","v":""},{"$f":"+B461/Analyse1!$H$3*Analyse1!$H$4","v":1.5153075339940541E-14}]
[4784.8969999999999,0.99023450241364896,{"$f":"+IF(AND(A462>Analyse1!$E$3,Data!A462<Analyse1!$E$4),B462,\"\")","v":""},{"$f":"+B462/Analyse1!$H$3*Analyse1!$H$4","v":1.5152874395381072E-14}]
[4785.8969999999999,0.99099196430790704,{"$f":"+IF(AND(A463>Analyse1!$E$3,Data!A463<Analyse1!$E$4),B463,\"\")","v":""},{"$f":"+B463/Analyse1!$H$3*Analyse1!$H$4","v":1.5164465311386326E-14}]
[4786.8969999999999,0.99288229113634696,{"$f":"+IF(AND(A464>Analyse1!$E$3,Data!A464<Analyse1!$E$4),B464,\"\")","v":""},{"$f":"+B464/Analyse1!$H$3*Analyse1!$H$4","v":1.5193391676734887E-14}]
[4787.8969999999999,0.99460039949379297,{"$f":"+IF(AND(A465>Analyse1!$E$3,Data!A465<Analyse1!$E$4),B465,\"\")","v":""},{"$f":"+B465/Analyse1!$H$3*Analyse1!$H$4","v":1.5219682701814883E-14}]
[4788.8969999999999,0.99439323283207404,{"$f":"+IF(AND(A466>Analyse1!$E$3,Data!A466<Analyse1!$E$4),B466,\"\")","v":""},{"$f":"+B466/Analyse1!$H$3*Analyse1!$H$4","v":1.5216512573530839E-14}]
[4789.8969999999999,0.99050772881596905,{"$f":"+IF(AND(A467>Analyse1!$E$3,Data!A467<Analyse1!$E$4),B467,\"\")","v":""},{"$f":"+B467/Analyse1!$H$3*Analyse1!$H$4","v":1.5157055390232055E-14}]
[4790.8969999999999,0.98146548671993195,{"$f":"+IF(AND(A468>Analyse1!$E$3,Data!A468<Analyse1!$E$4),B468,\"\")","v":""},{"$f":"+B468/Analyse1!$H$3*Analyse1!$H$4","v":1.5018688207105325E-14}]
[4791.8969999999999,0.96864380668653505,{"$f":"+IF(AND(A469>Analyse1!$E$3,Data!A469<Analyse1!$E$4),B469,\"\")","v":""},{"$f":"+B469/Analyse1!$H$3*Analyse1!$H$4","v":1.482248689659729E-14}]
[4792.8969999999999,0.95511393605009198,{"$f":"+IF(AND(A470>Analyse1!$E$3,Data!A470<Analyse1!$E$4),B470,\"\")","v":""},{"$f":"+B470/Analyse1!$H$3*Analyse1!$H$4","v":1.4615448634609793E-14}]
[4793.8969999999999,0.94396937683359405,{"$f":"+IF(AND(A471>Analyse1!$E$3,Data!A471<Analyse1!$E$4),B471,\"\")","v":""},{"$f":"+B471/Analyse1!$H$3*Analyse1!$H$4","v":1.4444911145168795E-14}]
[4794.8969999999999,0.93824919191867995,{"$f":"+IF(AND(A472>Analyse1!$E$3,Data!A472<Analyse1!$E$4),B472,\"\")","v":""},{"$f":"+B472/Analyse1!$H$3*Analyse1!$H$4","v":1.4357379107734456E-14}]
[4795.8969999999999,0.93910599518323501,{"$f":"+IF(AND(A473>Analyse1!$E$3,Data!A473<Analyse1!$E$4),B473,\"\")","v":""},{"$f":"+B473/Analyse1!$H$3*Analyse1!$H$4","v":1.4370490176090194E-14}]
[4796.8969999999999,0.94536710053495399,{"$f":"+IF(AND(A474>Analyse1!$E$3,Data!A474<Analyse1!$E$4),B474,\"\")","v":""},{"$f":"+B474/Analyse1!$H$3*Analyse1!$H$4","v":1.4466299545224065E-14}]
[4797.8969999999999,0.95571640719624196,{"$f":"+IF(AND(A475>Analyse1!$E$3,Data!A475<Analyse1!$E$4),B475,\"\")","v":""},{"$f":"+B475/Analyse1!$H$3*Analyse1!$H$4","v":1.4624667834286436E-14}]
[4798.8969999999999,0.96883700802908501,{"$f":"+IF(AND(A476>Analyse1!$E$3,Data!A476<Analyse1!$E$4),B476,\"\")","v":""},{"$f":"+B476/Analyse1!$H$3*Analyse1!$H$4","v":1.4825443323251323E-14}]
[4799.8969999999999,0.98299557620063005,{"$f":"+IF(AND(A477>Analyse1!$E$3,Data!A477<Analyse1!$E$4),B477,\"\")","v":""},{"$f":"+B477/Analyse1!$H$3*Analyse1!$H$4","v":1.504210210922467E-14}]
[4800.8969999999999,0.99536331117270405,{"$f":"+IF(AND(A478>Analyse1!$E$3,Data!A478<Analyse1!$E$4),B478,\"\")","v":""},{"$f":"+B478/Analyse1!$H$3*Analyse1!$H$4","v":1.5231357012109195E-14}]
[4801.8969999999999,1.00293341303784,{"$f":"+IF(AND(A479>Analyse1!$E$3,Data!A479<Analyse1!$E$4),B479,\"\")","v":""},{"$f":"+B479/Analyse1!$H$3*Analyse1!$H$4","v":1.5347197050446625E-14}]
[4802.8969999999999,1.0026990818885799,{"$f":"+IF(AND(A480>Analyse1!$E$3,Data!A480<Analyse1!$E$4),B480,\"\")","v":""},{"$f":"+B480/Analyse1!$H$3*Analyse1!$H$4","v":1.5343611242778836E-14}]
[4803.8969999999999,0.99240114753772501,{"$f":"+IF(AND(A481>Analyse1!$E$3,Data!A481<Analyse1!$E$4),B481,\"\")","v":""},{"$f":"+B481/Analyse1!$H$3*Analyse1!$H$4","v":1.5186029068687714E-14}]
[4804.8969999999999,0.974297590926822,{"$f":"+IF(AND(A482>Analyse1!$E$3,Data!A482<Analyse1!$E$4),B482,\"\")","v":""},{"$f":"+B482/Analyse1!$H$3*Analyse1!$H$4","v":1.4909002850386855E-14}]
[4805.8969999999999,0.95233434578526399,{"$f":"+IF(AND(A483>Analyse1!$E$3,Data!A483<Analyse1!$E$4),B483,\"\")","v":""},{"$f":"+B483/Analyse1!$H$3*Analyse1!$H$4","v":1.4572914485324042E-14}]
[4806.8969999999999,0.93046026370758905,{"$f":"+IF(AND(A484>Analyse1!$E$3,Data!A484<Analyse1!$E$4),B484,\"\")","v":""},{"$f":"+B484/Analyse1!$H$3*Analyse1!$H$4","v":1.4238190521021286E-14}]
[4807.8969999999999,0.91250220223606204,{"$f":"+IF(AND(A485>Analyse1!$E$3,Data!A485<Analyse1!$E$4),B485,\"\")","v":""},{"$f":"+B485/Analyse1!$H$3*Analyse1!$H$4","v":1.3963390714309533E-14}]
[4808.8969999999999,0.90035623003244203,{"$f":"+IF(AND(A486>Analyse1!$E$3,Data!A486<Analyse1!$E$4),B486,\"\")","v":""},{"$f":"+B486/Analyse1!$H$3*Analyse1!$H$4","v":1.3777529293845349E-14}]
[4809.8969999999999,0.89437627143690401,{"$f":"+IF(AND(A487>Analyse1!$E$3,Data!A487<Analyse1!$E$4),B487,\"\")","v":""},{"$f":"+B487/Analyse1!$H$3*Analyse1!$H$4","v":1.3686022119265084E-14}]
[4810.8969999999999,0.89487321857685198,{"$f":"+IF(AND(A488>Analyse1!$E$3,Data!A488<Analyse1!$E$4),B488,\"\")","v":""},{"$f":"+B488/Analyse1!$H$3*Analyse1!$H$4","v":1.3693626557985833E-14}]
[4811.8969999999999,0.90214225912221702,{"$f":"+IF(AND(A489>Analyse1!$E$3,Data!A489<Analyse1!$E$4),B489,\"\")","v":""},{"$f":"+B489/Analyse1!$H$3*Analyse1!$H$4","v":1.3804859662962857E-14}]
[4812.8969999999999,0.91533835195538005,{"$f":"+IF(AND(A490>Analyse1!$E$3,Data!A490<Analyse1!$E$4),B490,\"\")","v":""},{"$f":"+B490/Analyse1!$H$3*Analyse1!$H$4","v":1.4006790353848015E-14}]
[4813.8969999999999,0.93172476604708399,{"$f":"+IF(AND(A491>Analyse1!$E$3,Data!A491<Analyse1!$E$4),B491,\"\")","v":""},{"$f":"+B491/Analyse1!$H$3*Analyse1!$H$4","v":1.4257540326624231E-14}]
[4814.8969999999999,0.94838659148751303,{"$f":"+IF(AND(A492>Analyse1!$E$3,Data!A492<Analyse1!$E$4),B492,\"\")","v":""},{"$f":"+B492/Analyse1!$H$3*Analyse1!$H$4","v":1.4512504728976593E-14}]
[4815.8969999999999,0.962408948604215,{"$f":"+IF(AND(A493>Analyse1!$E$3,Data!A493<Analyse1!$E$4),B493,\"\")","v":""},{"$f":"+B493/Analyse1!$H$3*Analyse1!$H$4","v":1.4727079171291676E-14}]
[4816.8969999999999,0.97210383894138597,{"$f":"+IF(AND(A494>Analyse1!$E$3,Data!A494<Analyse1!$E$4),B494,\"\")","v":""},{"$f":"+B494/Analyse1!$H$3*Analyse1!$H$4","v":1.4875433379510105E-14}]
[4817.8969999999999,0.98026918269139895,{"$f":"+IF(AND(A495>Analyse1!$E$3,Data!A495<Analyse1!$E$4),B495,\"\")","v":""},{"$f":"+B495/Analyse1!$H$3*Analyse1!$H$4","v":1.5000381993133925E-14}]
[4818.8969999999999,0.99072789133363204,{"$f":"+IF(AND(A496>Analyse1!$E$3,Data!A496<Analyse1!$E$4),B496,\"\")","v":""},{"$f":"+B496/Analyse1!$H$3*Analyse1!$H$4","v":1.5160424385120223E-14}]
[4819.8969999999999,1.0073028763474601,{"$f":"+IF(AND(A497>Analyse1!$E$3,Data!A497<Analyse1!$E$4),B497,\"\")","v":""},{"$f":"+B497/Analyse1!$H$3*Analyse1!$H$4","v":1.5414059928426049E-14}]
[4820.8969999999999,1.0334286724731601,{"$f":"+IF(AND(A498>Analyse1!$E$3,Data!A498<Analyse1!$E$4),B498,\"\")","v":""},{"$f":"+B498/Analyse1!$H$3*Analyse1!$H$4","v":1.5813844935116004E-14}]
[4821.8969999999999,1.0691816530413001,{"$f":"+IF(AND(A499>Analyse1!$E$3,Data!A499<Analyse1!$E$4),B499,\"\")","v":""},{"$f":"+B499/Analyse1!$H$3*Analyse1!$H$4","v":1.6360948093498198E-14}]
[4822.8969999999999,1.1129184417151201,{"$f":"+IF(AND(A500>Analyse1!$E$3,Data!A500<Analyse1!$E$4),B500,\"\")","v":""},{"$f":"+B500/Analyse1!$H$3*Analyse1!$H$4","v":1.7030221950969665E-14}]
[4823.8969999999999,1.16298172591353,{"$f":"+IF(AND(A501>Analyse1!$E$3,Data!A501<Analyse1!$E$4),B501,\"\")","v":""},{"$f":"+B501/Analyse1!$H$3*Analyse1!$H$4","v":1.7796305798209598E-14}]
[4824.8969999999999,1.21770315914972,{"$f":"+IF(AND(A502>Analyse1!$E$3,Data!A502<Analyse1!$E$4),B502,\"\")","v":""},{"$f":"+B502/Analyse1!$H$3*Analyse1!$H$4","v":1.8633670081661768E-14}]
[4825.8969999999999,1.2751266837198401,{"$f":"+IF(AND(A503>Analyse1!$E$3,Data!A503<Analyse1!$E$4),B503,\"\")","v":""},{"$f":"+B503/Analyse1!$H$3*Analyse1!$H$4","v":1.9512382601807451E-14}]
[4826.8969999999999,1.33298831331281,{"$f":"+IF(AND(A504>Analyse1!$E$3,Data!A504<Analyse1!$E$4),B504,\"\")","v":""},{"$f":"+B504/Analyse1!$H$3*Analyse1!$H$4","v":2.0397799140412453E-14}]
[4827.8969999999999,1.38900897838712,{"$f":"+IF(AND(A505>Analyse1!$E$3,Data!A505<Analyse1!$E$4),B505,\"\")","v":""},{"$f":"+B505/Analyse1!$H$3*Analyse1!$H$4","v":2.1255044670988938E-14}]
[4828.8969999999999,1.44091584721065,{"$f":"+IF(AND(A506>Analyse1!$E$3,Data!A506<Analyse1!$E$4),B506,\"\")","v":""},{"$f":"+B506/Analyse1!$H$3*Analyse1!$H$4","v":2.2049339619936207E-14}]
[4829.8969999999999,1.48782891866338,{"$f":"+IF(AND(A507>Analyse1!$E$3,Data!A507<Analyse1!$E$4),B507,\"\")","v":""},{"$f":"+B507/Analyse1!$H$3*Analyse1!$H$4","v":2.2767217938144719E-14}]
[4830.8969999999999,1.5320110939065399,{"$f":"+IF(AND(A508>Analyse1!$E$3,Data!A508<Analyse1!$E$4),B508,\"\")","v":""},{"$f":"+B508/Analyse1!$H$3*Analyse1!$H$4","v":2.3443307238550304E-14}]
[4831.8969999999999,1.5761560566655699,{"$f":"+IF(AND(A509>Analyse1!$E$3,Data!A509<Analyse1!$E$4),B509,\"\")","v":""},{"$f":"+B509/Analyse1!$H$3*Analyse1!$H$4","v":2.4118827102022935E-14}]
[4832.8969999999999,1.6229574906659501,{"$f":"+IF(AND(A510>Analyse1!$E$3,Data!A510<Analyse1!$E$4),B510,\"\")","v":""},{"$f":"+B510/Analyse1!$H$3*Analyse1!$H$4","v":2.4834997109433195E-14}]
[4833.8969999999999,1.6743949392772699,{"$f":"+IF(AND(A511>Analyse1!$E$3,Data!A511<Analyse1!$E$4),B511,\"\")","v":""},{"$f":"+B511/Analyse1!$H$3*Analyse1!$H$4","v":2.5622108845215366E-14}]
[4834.8969999999999,1.72879089995099,{"$f":"+IF(AND(A512>Analyse1!$E$3,Data!A512<Analyse1!$E$4),B512,\"\")","v":""},{"$f":"+B512/Analyse1!$H$3*Analyse1!$H$4","v":2.6454492646926864E-14}]
[4835.8969999999999,1.7833003845039299,{"$f":"+IF(AND(A513>Analyse1!$E$3,Data!A513<Analyse1!$E$4),B513,\"\")","v":""},{"$f":"+B513/Analyse1!$H$3*Analyse1!$H$4","v":2.7288613626123599E-14}]
[4836.8969999999999,1.8350778952222799,{"$f":"+IF(AND(A514>Analyse1!$E$3,Data!A514<Analyse1!$E$4),B514,\"\")","v":""},{"$f":"+B514/Analyse1!$H$3*Analyse1!$H$4","v":2.8080929097366301E-14}]
[4837.8969999999999,1.88169717006527,{"$f":"+IF(AND(A515>Analyse1!$E$3,Data!A515<Analyse1!$E$4),B515,\"\")","v":""},{"$f":"+B515/Analyse1!$H$3*Analyse1!$H$4","v":2.8794311649052516E-14}]
[4838.8969999999999,1.9261097895030701,{"$f":"+IF(AND(A516>Analyse1!$E$3,Data!A516<Analyse1!$E$4),B516,\"\")","v":""},{"$f":"+B516/Analyse1!$H$3*Analyse1!$H$4","v":2.9473927277745006E-14}]
[4839.8969999999999,1.97499238736514,{"$f":"+IF(AND(A517>Analyse1!$E$3,Data!A517<Analyse1!$E$4),B517,\"\")","v":""},{"$f":"+B517/Analyse1!$H$3*Analyse1!$H$4","v":3.0221943897766239E-14}]
[4840.8969999999999,2.0350962389937899,{"$f":"+IF(AND(A518>Analyse1!$E$3,Data!A518<Analyse1!$E$4),B518,\"\")","v":""},{"$f":"+B518/Analyse1!$H$3*Analyse1!$H$4","v":3.1141671610936858E-14}]
[4841.8969999999999,2.11305015055631,{"$f":"+IF(AND(A519>Analyse1!$E$3,Data!A519<Analyse1!$E$4),B519,\"\")","v":""},{"$f":"+B519/Analyse1!$H$3*Analyse1!$H$4","v":3.2334546457911322E-14}]
[4842.8969999999999,2.2094489444546901,{"$f":"+IF(AND(A520>Analyse1!$E$3,Data!A520<Analyse1!$E$4),B520,\"\")","v":""},{"$f":"+B520/Analyse1!$H$3*Analyse1!$H$4","v":3.3809670594919218E-14}]
[4843.8969999999999,2.3162210359087401,{"$f":"+IF(AND(A521>Analyse1!$E$3,Data!A521<Analyse1!$E$4),B521,\"\")","v":""},{"$f":"+B521/Analyse1!$H$3*Analyse1!$H$4","v":3.5443530137069884E-14}]
[4844.8969999999999,2.4246241570233198,{"$f":"+IF(AND(A522>Analyse1!$E$3,Data!A522<Analyse1!$E$4),B522,\"\")","v":""},{"$f":"+B522/Analyse1!$H$3*Analyse1!$H$4","v":3.7102348199168005E-14}]
[4845.8969999999999,2.5259173299162998,{"$f":"+IF(AND(A523>Analyse1!$E$3,Data!A523<Analyse1!$E$4),B523,\"\")","v":""},{"$f":"+B523/Analyse1!$H$3*Analyse1!$H$4","v":3.8652367636196057E-14}]
[4846.8969999999999,2.6141292404344498,{"$f":"+IF(AND(A524>Analyse1!$E$3,Data!A524<Analyse1!$E$4),B524,\"\")","v":""},{"$f":"+B524/Analyse1!$H$3*Analyse1!$H$4","v":4.0002213553501565E-14}]
[4847.8969999999999,2.6919147294116299,{"$f":"+IF(AND(A525>Analyse1!$E$3,Data!A525<Analyse1!$E$4),B525,\"\")","v":""},{"$f":"+B525/Analyse1!$H$3*Analyse1!$H$4","v":4.1192511146022882E-14}]
[4848.8969999999999,2.7636032170642499,{"$f":"+IF(AND(A526>Analyse1!$E$3,Data!A526<Analyse1!$E$4),B526,\"\")","v":""},{"$f":"+B526/Analyse1!$H$3*Analyse1!$H$4","v":4.22895105399515E-14}]
[4849.8969999999999,2.8335241236087199,{"$f":"+IF(AND(A527>Analyse1!$E$3,Data!A527<Analyse1!$E$4),B527,\"\")","v":""},{"$f":"+B527/Analyse1!$H$3*Analyse1!$H$4","v":4.3359461861478922E-14}]
[4850.8969999999999,2.9055602005008399,{"$f":"+IF(AND(A528>Analyse1!$E$3,Data!A528<Analyse1!$E$4),B528,\"\")","v":""},{"$f":"+B528/Analyse1!$H$3*Analyse1!$H$4","v":4.4461780173375442E-14}]
[4851.8969999999999,2.9803556185137698,{"$f":"+IF(AND(A529>Analyse1!$E$3,Data!A529<Analyse1!$E$4),B529,\"\")","v":""},{"$f":"+B529/Analyse1!$H$3*Analyse1!$H$4","v":4.56063227758978E-14}]
[4852.8969999999999,3.0571271383804302,{"$f":"+IF(AND(A530>Analyse1!$E$3,Data!A530<Analyse1!$E$4),B530,\"\")","v":""},{"$f":"+B530/Analyse1!$H$3*Analyse1!$H$4","v":4.678110429971513E-14}]
[4853.8969999999999,3.1350852890342602,{"$f":"+IF(AND(A531>Analyse1!$E$3,Data!A531<Analyse1!$E$4),B531,\"\")","v":""},{"$f":"+B531/Analyse1!$H$3*Analyse1!$H$4","v":4.7974044014574944E-14}]
[4854.8969999999999,3.2133026903797801,{"$f":"+IF(AND(A532>Analyse1!$E$3,Data!A532<Analyse1!$E$4),B532,\"\")","v":""},{"$f":"+B532/Analyse1!$H$3*Analyse1!$H$4","v":4.9170950863642369E-14}]
[4855.8969999999999,3.2880608387598902,{"$f":"+IF(AND(A533>Analyse1!$E$3,Data!A533<Analyse1!$E$4),B533,\"\")","v":""},{"$f":"+B533/Analyse1!$H$3*Analyse1!$H$4","v":5.0314923154724855E-14}]
[4856.8969999999999,3.3530465702566401,{"$f":"+IF(AND(A534>Analyse1!$E$3,Data!A534<Analyse1!$E$4),B534,\"\")","v":""},{"$f":"+B534/Analyse1!$H$3*Analyse1!$H$4","v":5.1309354902418967E-14}]
[4857.8969999999999,3.4018481702144499,{"$f":"+IF(AND(A535>Analyse1!$E$3,Data!A535<Analyse1!$E$4),B535,\"\")","v":""},{"$f":"+B535/Analyse1!$H$3*Analyse1!$H$4","v":5.2056132067476199E-14}]
[4858.8969999999999,3.4280943180885699,{"$f":"+IF(AND(A536>Analyse1!$E$3,Data!A536<Analyse1!$E$4),B536,\"\")","v":""},{"$f":"+B536/Analyse1!$H$3*Analyse1!$H$4","v":5.2457758733816089E-14}]
[4859.8969999999999,3.4303027064439702,{"$f":"+IF(AND(A537>Analyse1!$E$3,Data!A537<Analyse1!$E$4),B537,\"\")","v":""},{"$f":"+B537/Analyse1!$H$3*Analyse1!$H$4","v":5.2491552174949517E-14}]
[4860.8969999999999,3.4164869317048101,{"$f":"+IF(AND(A538>Analyse1!$E$3,Data!A538<Analyse1!$E$4),B538,\"\")","v":""},{"$f":"+B538/Analyse1!$H$3*Analyse1!$H$4","v":5.2280138920021431E-14}]
[4861.8969999999999,3.3957517085663498,{"$f":"+IF(AND(A539>Analyse1!$E$3,Data!A539<Analyse1!$E$4),B539,\"\")","v":""},{"$f":"+B539/Analyse1!$H$3*Analyse1!$H$4","v":5.196284212717948E-14}]
[4862.8969999999999,3.3772017517238599,{"$f":"+IF(AND(A540>Analyse1!$E$3,Data!A540<Analyse1!$E$4),B540,\"\")","v":""},{"$f":"+B540/Analyse1!$H$3*Analyse1!$H$4","v":5.167898495457152E-14}]
[4863.8969999999999,3.3672425212037398,{"$f":"+IF(AND(A541>Analyse1!$E$3,Data!A541<Analyse1!$E$4),B541,\"\")","v":""},{"$f":"+B541/Analyse1!$H$3*Analyse1!$H$4","v":5.1526585731177274E-14}]
[4864.8969999999999,3.3605349140877099,{"$f":"+IF(AND(A542>Analyse1!$E$3,Data!A542<Analyse1!$E$4),B542,\"\")","v":""},{"$f":"+B542/Analyse1!$H$3*Analyse1!$H$4","v":5.1423943854051178E-14}]
[4865.8969999999999,3.3485463745683002,{"$f":"+IF(AND(A543>Analyse1!$E$3,Data!A543<Analyse1!$E$4),B543,\"\")","v":""},{"$f":"+B543/Analyse1!$H$3*Analyse1!$H$4","v":5.1240491517176545E-14}]
[4866.8969999999999,3.3227442821196602,{"$f":"+IF(AND(A544>Analyse1!$E$3,Data!A544<Analyse1!$E$4),B544,\"\")","v":""},{"$f":"+B544/Analyse1!$H$3*Analyse1!$H$4","v":5.0845659924196019E-14}]
[4867.8969999999999,3.27531069333447,{"$f":"+IF(AND(A545>Analyse1!$E$3,Data!A545<Analyse1!$E$4),B545,\"\")","v":""},{"$f":"+B545/Analyse1!$H$3*Analyse1!$H$4","v":5.0119816488896395E-14}]
[4868.8969999999999,3.2059634176768199,{"$f":"+IF(AND(A546>Analyse1!$E$3,Data!A546<Analyse1!$E$4),B546,\"\")","v":""},{"$f":"+B546/Analyse1!$H$3*Analyse1!$H$4","v":4.9058643044484049E-14}]
[4869.8969999999999,3.1189387667814601,{"$f":"+IF(AND(A547>Analyse1!$E$3,Data!A547<Analyse1!$E$4),B547,\"\")","v":""},{"$f":"+B547/Analyse1!$H$3*Analyse1!$H$4","v":4.7726964940858012E-14}]
[4870.8969999999999,3.0185343385967598,{"$f":"+IF(AND(A548>Analyse1!$E$3,Data!A548<Analyse1!$E$4),B548,\"\")","v":""},{"$f":"+B548/Analyse1!$H$3*Analyse1!$H$4","v":4.6190545350029334E-14}]
[4871.8969999999999,2.9090520845266101,{"$f":"+IF(AND(A549>Analyse1!$E$3,Data!A549<Analyse1!$E$4),B549,\"\")","v":""},{"$f":"+B549/Analyse1!$H$3*Analyse1!$H$4","v":4.4515214061930894E-14}]
[4872.8969999999999,2.7949482556207599,{"$f":"+IF(AND(A550>Analyse1!$E$3,Data!A550<Analyse1!$E$4),B550,\"\")","v":""},{"$f":"+B550/Analyse1!$H$3*Analyse1!$H$4","v":4.2769162007363975E-14}]
[4873.8969999999999,2.6808713045288899,{"$f":"+IF(AND(A551>Analyse1!$E$3,Data!A551<Analyse1!$E$4),B551,\"\")","v":""},{"$f":"+B551/Analyse1!$H$3*Analyse1!$H$4","v":4.1023521245413374E-14}]
[4874.8969999999999,2.5714817325760202,{"$f":"+IF(AND(A552>Analyse1!$E$3,Data!A552<Analyse1!$E$4),B552,\"\")","v":""},{"$f":"+B552/Analyse1!$H$3*Analyse1!$H$4","v":3.9349608207717659E-14}]
[4875.8969999999999,2.4714367547371099,{"$f":"+IF(AND(A553>Analyse1!$E$3,Data!A553<Analyse1!$E$4),B553,\"\")","v":""},{"$f":"+B553/Analyse1!$H$3*Analyse1!$H$4","v":3.78186890371711E-14}]
[4876.8969999999999,2.3835628617012201,{"$f":"+IF(AND(A554>Analyse1!$E$3,Data!A554<Analyse1!$E$4),B554,\"\")","v":""},{"$f":"+B554/Analyse1!$H$3*Analyse1!$H$4","v":3.6474015567845983E-14}]
[4877.8969999999999,2.3058147059191199,{"$f":"+IF(AND(A555>Analyse1!$E$3,Data!A555<Analyse1!$E$4),B555,\"\")","v":""},{"$f":"+B555/Analyse1!$H$3*Analyse1!$H$4","v":3.5284289259413892E-14}]
[4878.8969999999999,2.2353454502808199,{"$f":"+IF(AND(A556>Analyse1!$E$3,Data!A556<Analyse1!$E$4),B556,\"\")","v":""},{"$f":"+B556/Analyse1!$H$3*Analyse1!$H$4","v":3.4205946930581254E-14}]
[4879.8969999999999,2.1693082576763398,{"$f":"+IF(AND(A557>Analyse1!$E$3,Data!A557<Analyse1!$E$4),B557,\"\")","v":""},{"$f":"+B557/Analyse1!$H$3*Analyse1!$H$4","v":3.3195425400054662E-14}]
[4880.8969999999999,2.1054433460759401,{"$f":"+IF(AND(A558>Analyse1!$E$3,Data!A558<Analyse1!$E$4),B558,\"\")","v":""},{"$f":"+B558/Analyse1!$H$3*Analyse1!$H$4","v":3.2218144784812358E-14}]
[4881.8969999999999,2.0450821408520601,{"$f":"+IF(AND(A559>Analyse1!$E$3,Data!A559<Analyse1!$E$4),B559,\"\")","v":""},{"$f":"+B559/Analyse1!$H$3*Analyse1!$H$4","v":3.1294478967390453E-14}]
[4882.8969999999999,1.9909135666892599,{"$f":"+IF(AND(A560>Analyse1!$E$3,Data!A560<Analyse1!$E$4),B560,\"\")","v":""},{"$f":"+B560/Analyse1!$H$3*Analyse1!$H$4","v":3.0465574704344566E-14}]
[4883.8969999999999,1.94562908260389,{"$f":"+IF(AND(A561>Analyse1!$E$3,Data!A561<Analyse1!$E$4),B561,\"\")","v":""},{"$f":"+B561/Analyse1!$H$3*Analyse1!$H$4","v":2.9772617533358619E-14}]
[4884.8969999999999,1.9117419756615699,{"$f":"+IF(AND(A562>Analyse1!$E$3,Data!A562<Analyse1!$E$4),B562,\"\")","v":""},{"$f":"+B562/Analyse1!$H$3*Analyse1!$H$4","v":2.925406654986105E-14}]
[4885.8969999999999,1.8888994942002999,{"$f":"+IF(AND(A563>Analyse1!$E$3,Data!A563<Analyse1!$E$4),B563,\"\")","v":""},{"$f":"+B563/Analyse1!$H$3*Analyse1!$H$4","v":2.8904523838899383E-14}]
[4886.8969999999999,1.87443558792708,{"$f":"+IF(AND(A564>Analyse1!$E$3,Data!A564<Analyse1!$E$4),B564,\"\")","v":""},{"$f":"+B564/Analyse1!$H$3*Analyse1!$H$4","v":2.8683192674927161E-14}]
[4887.8969999999999,1.86561817588454,{"$f":"+IF(AND(A565>Analyse1!$E$3,Data!A565<Analyse1!$E$4),B565,\"\")","v":""},{"$f":"+B565/Analyse1!$H$3*Analyse1!$H$4","v":2.854826591076447E-14}]
[4888.8969999999999,1.85971299753774,{"$f":"+IF(AND(A566>Analyse1!$E$3,Data!A566<Analyse1!$E$4),B566,\"\")","v":""},{"$f":"+B566/Analyse1!$H$3*Analyse1!$H$4","v":2.8457903046661796E-14}]
[4889.8969999999999,1.8538224529130201,{"$f":"+IF(AND(A567>Analyse1!$E$3,Data!A567<Analyse1!$E$4),B567,\"\")","v":""},{"$f":"+B567/Analyse1!$H$3*Analyse1!$H$4","v":2.8367764112297046E-14}]
[4890.8969999999999,1.84477502010515,{"$f":"+IF(AND(A568>Analyse1!$E$3,Data!A568<Analyse1!$E$4),B568,\"\")","v":""},{"$f":"+B568/Analyse1!$H$3*Analyse1!$H$4","v":2.8229317499293619E-14}]
[4891.8969999999999,1.8293730105852499,{"$f":"+IF(AND(A569>Analyse1!$E$3,Data!A569<Analyse1!$E$4),B569,\"\")","v":""},{"$f":"+B569/Analyse1!$H$3*Analyse1!$H$4","v":2.7993631189512809E-14}]
[4892.8969999999999,1.8044187531431899,{"$f":"+IF(AND(A570>Analyse1!$E$3,Data!A570<Analyse1!$E$4),B570,\"\")","v":""},{"$f":"+B570/Analyse1!$H$3*Analyse1!$H$4","v":2.7611773429832786E-14}]
[4893.8969999999999,1.7677820241703801,{"$f":"+IF(AND(A571>Analyse1!$E$3,Data!A571<Analyse1!$E$4),B571,\"\")","v":""},{"$f":"+B571/Analyse1!$H$3*Analyse1!$H$4","v":2.705114688023322E-14}]
[4894.8969999999999,1.7212825666571101,{"$f":"+IF(AND(A572>Analyse1!$E$3,Data!A572<Analyse1!$E$4),B572,\"\")","v":""},{"$f":"+B572/Analyse1!$H$3*Analyse1!$H$4","v":2.6339597810356836E-14}]
[4895.8969999999999,1.66765356530113,{"$f":"+IF(AND(A573>Analyse1!$E$3,Data!A573<Analyse1!$E$4),B573,\"\")","v":""},{"$f":"+B573/Analyse1!$H$3*Analyse1!$H$4","v":2.551895025715996E-14}]
[4896.8969999999999,1.60962820480018,{"$f":"+IF(AND(A574>Analyse1!$E$3,Data!A574<Analyse1!$E$4),B574,\"\")","v":""},{"$f":"+B574/Analyse1!$H$3*Analyse1!$H$4","v":2.4631028257598773E-14}]
[4897.8969999999999,1.5497514907551,{"$f":"+IF(AND(A575>Analyse1!$E$3,Data!A575<Analyse1!$E$4),B575,\"\")","v":""},{"$f":"+B575/Analyse1!$H$3*Analyse1!$H$4","v":2.3714776273930525E-14}]
[4898.8969999999999,1.48891944868796,{"$f":"+IF(AND(A576>Analyse1!$E$3,Data!A576<Analyse1!$E$4),B576,\"\")","v":""},{"$f":"+B576/Analyse1!$H$3*Analyse1!$H$4","v":2.278390556561738E-14}]
[4899.8969999999999,1.4271743159277599,{"$f":"+IF(AND(A577>Analyse1!$E$3,Data!A577<Analyse1!$E$4),B577,\"\")","v":""},{"$f":"+B577/Analyse1!$H$3*Analyse1!$H$4","v":2.1839062461321455E-14}]
[4900.8969999999999,1.36455113105169,{"$f":"+IF(AND(A578>Analyse1!$E$3,Data!A578<Analyse1!$E$4),B578,\"\")","v":""},{"$f":"+B578/Analyse1!$H$3*Analyse1!$H$4","v":2.0880783132179857E-14}]
[4901.8969999999999,1.30114395121062,{"$f":"+IF(AND(A579>Analyse1!$E$3,Data!A579<Analyse1!$E$4),B579,\"\")","v":""},{"$f":"+B579/Analyse1!$H$3*Analyse1!$H$4","v":1.9910506869784268E-14}]
[4902.8969999999999,1.2386166800873,{"$f":"+IF(AND(A580>Analyse1!$E$3,Data!A580<Analyse1!$E$4),B580,\"\")","v":""},{"$f":"+B580/Analyse1!$H$3*Analyse1!$H$4","v":1.8953695242530118E-14}]
[4903.8969999999999,1.18033101655616,{"$f":"+IF(AND(A581>Analyse1!$E$3,Data!A581<Analyse1!$E$4),B581,\"\")","v":""},{"$f":"+B581/Analyse1!$H$3*Analyse1!$H$4","v":1.8061790005552351E-14}]
[4904.8969999999999,1.1297333170547601,{"$f":"+IF(AND(A582>Analyse1!$E$3,Data!A582<Analyse1!$E$4),B582,\"\")","v":""},{"$f":"+B582/Analyse1!$H$3*Analyse1!$H$4","v":1.728752837018098E-14}]
[4905.8969999999999,1.09026167119603,{"$f":"+IF(AND(A583>Analyse1!$E$3,Data!A583<Analyse1!$E$4),B583,\"\")","v":""},{"$f":"+B583/Analyse1!$H$3*Analyse1!$H$4","v":1.6683521046240601E-14}]
[4906.8969999999999,1.0634083557927601,{"$f":"+IF(AND(A584>Analyse1!$E$3,Data!A584<Analyse1!$E$4),B584,\"\")","v":""},{"$f":"+B584/Analyse1!$H$3*Analyse1!$H$4","v":1.6272603314719944E-14}]
[4907.8969999999999,1.04622530957839,{"$f":"+IF(AND(A585>Analyse1!$E$3,Data!A585<Analyse1!$E$4),B585,\"\")","v":""},{"$f":"+B585/Analyse1!$H$3*Analyse1!$H$4","v":1.6009663030997523E-14}]
[4908.8969999999999,1.0351480199829799,{"$f":"+IF(AND(A586>Analyse1!$E$3,Data!A586<Analyse1!$E$4),B586,\"\")","v":""},{"$f":"+B586/Analyse1!$H$3*Analyse1!$H$4","v":1.5840154922088594E-14}]
[4909.8969999999999,1.02661197443658,{"$f":"+IF(AND(A587>Analyse1!$E$3,Data!A587<Analyse1!$E$4),B587,\"\")","v":""},{"$f":"+B587/Analyse1!$H$3*Analyse1!$H$4","v":1.5709533715008276E-14}]
[4910.8969999999999,1.0176118527009801,{"$f":"+IF(AND(A588>Analyse1!$E$3,Data!A588<Analyse1!$E$4),B588,\"\")","v":""},{"$f":"+B588/Analyse1!$H$3*Analyse1!$H$4","v":1.5571811070654569E-14}]
[4911.8969999999999,1.0080409002778801,{"$f":"+IF(AND(A589>Analyse1!$E$3,Data!A589<Analyse1!$E$4),B589,\"\")","v":""},{"$f":"+B589/Analyse1!$H$3*Analyse1!$H$4","v":1.5425353398701201E-14}]
[4912.8969999999999,0.99872867249279595,{"$f":"+IF(AND(A590>Analyse1!$E$3,Data!A590<Analyse1!$E$4),B590,\"\")","v":""},{"$f":"+B590/Analyse1!$H$3*Analyse1!$H$4","v":1.5282854811119559E-14}]
[4913.8969999999999,0.99050519097741996,{"$f":"+IF(AND(A591>Analyse1!$E$3,Data!A591<Analyse1!$E$4),B591,\"\")","v":""},{"$f":"+B591/Analyse1!$H$3*Analyse1!$H$4","v":1.5157016555442242E-14}]
[4914.8969999999999,0.98413154740914699,{"$f":"+IF(AND(A592>Analyse1!$E$3,Data!A592<Analyse1!$E$4),B592,\"\")","v":""},{"$f":"+B592/Analyse1!$H$3*Analyse1!$H$4","v":1.5059485091737874E-14}]
[4915.8969999999999,0.97947122164338596,{"$f":"+IF(AND(A593>Analyse1!$E$3,Data!A593<Analyse1!$E$4),B593,\"\")","v":""},{"$f":"+B593/Analyse1!$H$3*Analyse1!$H$4","v":1.4988171346561343E-14}]
[4916.8969999999999,0.975759318216738,{"$f":"+IF(AND(A594>Analyse1!$E$3,Data!A594<Analyse1!$E$4),B594,\"\")","v":""},{"$f":"+B594/Analyse1!$H$3*Analyse1!$H$4","v":1.4931370653135003E-14}]
[4917.8969999999999,0.97221801475715197,{"$f":"+IF(AND(A595>Analyse1!$E$3,Data!A595<Analyse1!$E$4),B595,\"\")","v":""},{"$f":"+B595/Analyse1!$H$3*Analyse1!$H$4","v":1.4877180533129856E-14}]
[4918.8969999999999,0.96808611977029102,{"$f":"+IF(AND(A596>Analyse1!$E$3,Data!A596<Analyse1!$E$4),B596,\"\")","v":""},{"$f":"+B596/Analyse1!$H$3*Analyse1!$H$4","v":1.4813952999047574E-14}]
[4919.8969999999999,0.96344381964513004,{"$f":"+IF(AND(A597>Analyse1!$E$3,Data!A597<Analyse1!$E$4),B597,\"\")","v":""},{"$f":"+B597/Analyse1!$H$3*Analyse1!$H$4","v":1.4742915087794464E-14}]
[4920.8969999999999,0.95959263463179401,{"$f":"+IF(AND(A598>Analyse1!$E$3,Data!A598<Analyse1!$E$4),B598,\"\")","v":""},{"$f":"+B598/Analyse1!$H$3*Analyse1!$H$4","v":1.4683983064482601E-14}]
[4921.8969999999999,0.95793003082764405,{"$f":"+IF(AND(A599>Analyse1!$E$3,Data!A599<Analyse1!$E$4),B599,\"\")","v":""},{"$f":"+B599/Analyse1!$H$3*Analyse1!$H$4","v":1.4658541387231243E-14}]
[4922.8969999999999,0.95985319194629803,{"$f":"+IF(AND(A600>Analyse1!$E$3,Data!A600<Analyse1!$E$4),B600,\"\")","v":""},{"$f":"+B600/Analyse1!$H$3*Analyse1!$H$4","v":1.4687970193036347E-14}]
[4923.8969999999999,0.96606500125402095,{"$f":"+IF(AND(A601>Analyse1!$E$3,Data!A601<Analyse1!$E$4),B601,\"\")","v":""},{"$f":"+B601/Analyse1!$H$3*Analyse1!$H$4","v":1.4783025218869675E-14}]
[4924.8969999999999,0.97508029418922404,{"$f":"+IF(AND(A602>Analyse1!$E$3,Data!A602<Analyse1!$E$4),B602,\"\")","v":""},{"$f":"+B602/Analyse1!$H$3*Analyse1!$H$4","v":1.4920980017608484E-14}]
[4925.8969999999999,0.98498395680098005,{"$f":"+IF(AND(A603>Analyse1!$E$3,Data!A603<Analyse1!$E$4),B603,\"\")","v":""},{"$f":"+B603/Analyse1!$H$3*Analyse1!$H$4","v":1.5072528923695259E-14}]
[4926.8969999999999,0.99386087513835797,{"$f":"+IF(AND(A604>Analyse1!$E$3,Data!A604<Analyse1!$E$4),B604,\"\")","v":""},{"$f":"+B604/Analyse1!$H$3*Analyse1!$H$4","v":1.5208366271572435E-14}]
[4927.8969999999999,0.99996682035187801,{"$f":"+IF(AND(A605>Analyse1!$E$3,Data!A605<Analyse1!$E$4),B605,\"\")","v":""},{"$f":"+B605/Analyse1!$H$3*Analyse1!$H$4","v":1.5301801332318173E-14}]
[4928.8969999999999,1.0028125423882099,{"$f":"+IF(AND(A606>Analyse1!$E$3,Data!A606<Analyse1!$E$4),B606,\"\")","v":""},{"$f":"+B606/Analyse1!$H$3*Analyse1!$H$4","v":1.5345347450409998E-14}]
[4929.8969999999999,1.0024681732085099,{"$f":"+IF(AND(A607>Analyse1!$E$3,Data!A607<Analyse1!$E$4),B607,\"\")","v":""},{"$f":"+B607/Analyse1!$H$3*Analyse1!$H$4","v":1.5340077806792335E-14}]
[4930.8969999999999,0.99900641754417496,{"$f":"+IF(AND(A608>Analyse1!$E$3,Data!A608<Analyse1!$E$4),B608,\"\")","v":""},{"$f":"+B608/Analyse1!$H$3*Analyse1!$H$4","v":1.5287104951734963E-14}]
[4931.8969999999999,0.99254110511634897,{"$f":"+IF(AND(A609>Analyse1!$E$3,Data!A609<Analyse1!$E$4),B609,\"\")","v":""},{"$f":"+B609/Analyse1!$H$3*Analyse1!$H$4","v":1.5188170742810763E-14}]
[4932.8969999999999,0.98403340478322299,{"$f":"+IF(AND(A610>Analyse1!$E$3,Data!A610<Analyse1!$E$4),B610,\"\")","v":""},{"$f":"+B610/Analyse1!$H$3*Analyse1!$H$4","v":1.5057983282944264E-14}]
[4933.8969999999999,0.97524044885331396,{"$f":"+IF(AND(A611>Analyse1!$E$3,Data!A611<Analyse1!$E$4),B611,\"\")","v":""},{"$f":"+B611/Analyse1!$H$3*Analyse1!$H$4","v":1.4923430753775397E-14}]
[4934.8969999999999,0.96795020688442401,{"$f":"+IF(AND(A612>Analyse1!$E$3,Data!A612<Analyse1!$E$4),B612,\"\")","v":""},{"$f":"+B612/Analyse1!$H$3*Analyse1!$H$4","v":1.4811873218063134E-14}]
[4935.8969999999999,0.96394217091776702,{"$f":"+IF(AND(A613>Analyse1!$E$3,Data!A613<Analyse1!$E$4),B613,\"\")","v":""},{"$f":"+B613/Analyse1!$H$3*Analyse1!$H$4","v":1.4750541012987579E-14}]
[4936.8969999999999,0.96392786461078805,{"$f":"+IF(AND(A614>Analyse1!$E$3,Data!A614<Analyse1!$E$4),B614,\"\")","v":""},{"$f":"+B614/Analyse1!$H$3*Analyse1!$H$4","v":1.4750322093456713E-14}]
[4937.8969999999999,0.96652157047503695,{"$f":"+IF(AND(A615>Analyse1!$E$3,Data!A615<Analyse1!$E$4),B615,\"\")","v":""},{"$f":"+B615/Analyse1!$H$3*Analyse1!$H$4","v":1.4790011782195826E-14}]
[4938.8969999999999,0.97009335764985205,{"$f":"+IF(AND(A616>Analyse1!$E$3,Data!A616<Analyse1!$E$4),B616,\"\")","v":""},{"$f":"+B616/Analyse1!$H$3*Analyse1!$H$4","v":1.4844668373432634E-14}]
[4939.8969999999999,0.97301329527456903,{"$f":"+IF(AND(A617>Analyse1!$E$3,Data!A617<Analyse1!$E$4),B617,\"\")","v":""},{"$f":"+B617/Analyse1!$H$3*Analyse1!$H$4","v":1.4889350161394817E-14}]
[4940.8969999999999,0.97403272704352595,{"$f":"+IF(AND(A618>Analyse1!$E$3,Data!A618<Analyse1!$E$4),B618,\"\")","v":""},{"$f":"+B618/Analyse1!$H$3*Analyse1!$H$4","v":1.490494982138648E-14}]
[4941.8969999999999,0.97358199601553297,{"$f":"+IF(AND(A619>Analyse1!$E$3,Data!A619<Analyse1!$E$4),B619,\"\")","v":""},{"$f":"+B619/Analyse1!$H$3*Analyse1!$H$4","v":1.4898052595894306E-14}]
[4942.8969999999999,0.97255347532260905,{"$f":"+IF(AND(A620>Analyse1!$E$3,Data!A620<Analyse1!$E$4),B620,\"\")","v":""},{"$f":"+B620/Analyse1!$H$3*Analyse1!$H$4","v":1.4882313854379097E-14}]
[4943.8969999999999,0.97183955190733595,{"$f":"+IF(AND(A621>Analyse1!$E$3,Data!A621<Analyse1!$E$4),B621,\"\")","v":""},{"$f":"+B621/Analyse1!$H$3*Analyse1!$H$4","v":1.4871389177635168E-14}]
[4944.8969999999999,0.97226179498203402,{"$f":"+IF(AND(A622>Analyse1!$E$3,Data!A622<Analyse1!$E$4),B622,\"\")","v":""},{"$f":"+B622/Analyse1!$H$3*Analyse1!$H$4","v":1.4877850471661609E-14}]
[4945.8969999999999,0.97388444090527104,{"$f":"+IF(AND(A623>Analyse1!$E$3,Data!A623<Analyse1!$E$4),B623,\"\")","v":""},{"$f":"+B623/Analyse1!$H$3*Analyse1!$H$4","v":1.4902680701069953E-14}]
[4946.8969999999999,0.97631270835115203,{"$f":"+IF(AND(A624>Analyse1!$E$3,Data!A624<Analyse1!$E$4),B624,\"\")","v":""},{"$f":"+B624/Analyse1!$H$3*Analyse1!$H$4","v":1.4939838800001207E-14}]
[4947.8969999999999,0.97914539138981704,{"$f":"+IF(AND(A625>Analyse1!$E$3,Data!A625<Analyse1!$E$4),B625,\"\")","v":""},{"$f":"+B625/Analyse1!$H$3*Analyse1!$H$4","v":1.4983185391320934E-14}]
[4948.8969999999999,0.98198014714958104,{"$f":"+IF(AND(A626>Analyse1!$E$3,Data!A626<Analyse1!$E$4),B626,\"\")","v":""},{"$f":"+B626/Analyse1!$H$3*Analyse1!$H$4","v":1.5026563700059506E-14}]
[4949.8969999999999,0.98437340725736899,{"$f":"+IF(AND(A627>Analyse1!$E$3,Data!A627<Analyse1!$E$4),B627,\"\")","v":""},{"$f":"+B627/Analyse1!$H$3*Analyse1!$H$4","v":1.5063186105883976E-14}]
[4950.8969999999999,0.98582970914284296,{"$f":"+IF(AND(A628>Analyse1!$E$3,Data!A628<Analyse1!$E$4),B628,\"\")","v":""},{"$f":"+B628/Analyse1!$H$3*Analyse1!$H$4","v":1.5085470887416589E-14}]
[4951.8969999999999,0.98585028406222797,{"$f":"+IF(AND(A629>Analyse1!$E$3,Data!A629<Analyse1!$E$4),B629,\"\")","v":""},{"$f":"+B629/Analyse1!$H$3*Analyse1!$H$4","v":1.5085785731191854E-14}]
[4952.8969999999999,0.98393706461096198,{"$f":"+IF(AND(A630>Analyse1!$E$3,Data!A630<Analyse1!$E$4),B630,\"\")","v":""},{"$f":"+B630/Analyse1!$H$3*Analyse1!$H$4","v":1.505650905585367E-14}]
[4953.8969999999999,0.98001447017633403,{"$f":"+IF(AND(A631>Analyse1!$E$3,Data!A631<Analyse1!$E$4),B631,\"\")","v":""},{"$f":"+B631/Analyse1!$H$3*Analyse1!$H$4","v":1.4996484303507573E-14}]
[4954.8969999999999,0.97514426188349002,{"$f":"+IF(AND(A632>Analyse1!$E$3,Data!A632<Analyse1!$E$4),B632,\"\")","v":""},{"$f":"+B632/Analyse1!$H$3*Analyse1!$H$4","v":1.4921958871035841E-14}]
[4955.8969999999999,0.97057764205564301,{"$f":"+IF(AND(A633>Analyse1!$E$3,Data!A633<Analyse1!$E$4),B633,\"\")","v":""},{"$f":"+B633/Analyse1!$H$3*Analyse1!$H$4","v":1.4852079043081801E-14}]
[4956.8969999999999,0.96756581301601197,{"$f":"+IF(AND(A634>Analyse1!$E$3,Data!A634<Analyse1!$E$4),B634,\"\")","v":""},{"$f":"+B634/Analyse1!$H$3*Analyse1!$H$4","v":1.4805991104288868E-14}]
[4957.8969999999999,0.96723861611965201,{"$f":"+IF(AND(A635>Analyse1!$E$3,Data!A635<Analyse1!$E$4),B635,\"\")","v":""},{"$f":"+B635/Analyse1!$H$3*Analyse1!$H$4","v":1.4800984236258095E-14}]
[4958.8969999999999,0.96997421018366103,{"$f":"+IF(AND(A636>Analyse1!$E$3,Data!A636<Analyse1!$E$4),B636,\"\")","v":""},{"$f":"+B636/Analyse1!$H$3*Analyse1!$H$4","v":1.4842845142081553E-14}]
[4959.8969999999999,0.97586332651381502,{"$f":"+IF(AND(A637>Analyse1!$E$3,Data!A637<Analyse1!$E$4),B637,\"\")","v":""},{"$f":"+B637/Analyse1!$H$3*Analyse1!$H$4","v":1.4932962220241425E-14}]
[4960.8969999999999,0.984996118274303,{"$f":"+IF(AND(A638>Analyse1!$E$3,Data!A638<Analyse1!$E$4),B638,\"\")","v":""},{"$f":"+B638/Analyse1!$H$3*Analyse1!$H$4","v":1.5072715022318641E-14}]
[4961.8969999999999,0.99740513041814205,{"$f":"+IF(AND(A639>Analyse1!$E$3,Data!A639<Analyse1!$E$4),B639,\"\")","v":""},{"$f":"+B639/Analyse1!$H$3*Analyse1!$H$4","v":1.5262601561242536E-14}]
[4962.8969999999999,1.0121809809051201,{"$f":"+IF(AND(A640>Analyse1!$E$3,Data!A640<Analyse1!$E$4),B640,\"\")","v":""},{"$f":"+B640/Analyse1!$H$3*Analyse1!$H$4","v":1.5488706191982398E-14}]
[4963.8969999999999,1.02764600024513,{"$f":"+IF(AND(A641>Analyse1!$E$3,Data!A641<Analyse1!$E$4),B641,\"\")","v":""},{"$f":"+B641/Analyse1!$H$3*Analyse1!$H$4","v":1.5725356697504186E-14}]
[4964.8969999999999,1.0421000912715399,{"$f":"+IF(AND(A642>Analyse1!$E$3,Data!A642<Analyse1!$E$4),B642,\"\")","v":""},{"$f":"+B642/Analyse1!$H$3*Analyse1!$H$4","v":1.5946537665536247E-14}]
[4965.8969999999999,1.0538505176630699,{"$f":"+IF(AND(A643>Analyse1!$E$3,Data!A643<Analyse1!$E$4),B643,\"\")","v":""},{"$f":"+B643/Analyse1!$H$3*Analyse1!$H$4","v":1.6126346321737407E-14}]
[4966.8969999999999,1.06177418043087,{"$f":"+IF(AND(A644>Analyse1!$E$3,Data!A644<Analyse1!$E$4),B644,\"\")","v":""},{"$f":"+B644/Analyse1!$H$3*Analyse1!$H$4","v":1.6247596658278072E-14}]
[4967.8969999999999,1.06571362663837,{"$f":"+IF(AND(A645>Analyse1!$E$3,Data!A645<Analyse1!$E$4),B645,\"\")","v":""},{"$f":"+B645/Analyse1!$H$3*Analyse1!$H$4","v":1.6307879281660822E-14}]
[4968.8969999999999,1.0656049498825899,{"$f":"+IF(AND(A646>Analyse1!$E$3,Data!A646<Analyse1!$E$4),B646,\"\")","v":""},{"$f":"+B646/Analyse1!$H$3*Analyse1!$H$4","v":1.6306216276356506E-14}]
[4969.8969999999999,1.0613842493503101,{"$f":"+IF(AND(A647>Analyse1!$E$3,Data!A647<Analyse1!$E$4),B647,\"\")","v":""},{"$f":"+B647/Analyse1!$H$3*Analyse1!$H$4","v":1.62416298123722E-14}]
[4970.8969999999999,1.05355002246176,{"$f":"+IF(AND(A648>Analyse1!$E$3,Data!A648<Analyse1!$E$4),B648,\"\")","v":""},{"$f":"+B648/Analyse1!$H$3*Analyse1!$H$4","v":1.6121748051296655E-14}]
[4971.8969999999999,1.04470693073851,{"$f":"+IF(AND(A649>Analyse1!$E$3,Data!A649<Analyse1!$E$4),B649,\"\")","v":""},{"$f":"+B649/Analyse1!$H$3*Analyse1!$H$4","v":1.5986428328723236E-14}]
[4972.8969999999999,1.03795257833046,{"$f":"+IF(AND(A650>Analyse1!$E$3,Data!A650<Analyse1!$E$4),B650,\"\")","v":""},{"$f":"+B650/Analyse1!$H$3*Analyse1!$H$4","v":1.5883071140691661E-14}]
[4973.8969999999999,1.03638456938749,{"$f":"+IF(AND(A651>Analyse1!$E$3,Data!A651<Analyse1!$E$4),B651,\"\")","v":""},{"$f":"+B651/Analyse1!$H$3*Analyse1!$H$4","v":1.5859076983241335E-14}]
[4974.8969999999999,1.0427832271742301,{"$f":"+IF(AND(A652>Analyse1!$E$3,Data!A652<Analyse1!$E$4),B652,\"\")","v":""},{"$f":"+B652/Analyse1!$H$3*Analyse1!$H$4","v":1.595699122224752E-14}]
[4975.8969999999999,1.05711111741504,{"$f":"+IF(AND(A653>Analyse1!$E$3,Data!A653<Analyse1!$E$4),B653,\"\")","v":""},{"$f":"+B653/Analyse1!$H$3*Analyse1!$H$4","v":1.617624102685502E-14}]
[4976.8969999999999,1.07785577159735,{"$f":"+IF(AND(A654>Analyse1!$E$3,Data!A654<Analyse1!$E$4),B654,\"\")","v":""},{"$f":"+B654/Analyse1!$H$3*Analyse1!$H$4","v":1.6493682136444687E-14}]
[4977.8969999999999,1.1034917902107599,{"$f":"+IF(AND(A655>Analyse1!$E$3,Data!A655<Analyse1!$E$4),B655,\"\")","v":""},{"$f":"+B655/Analyse1!$H$3*Analyse1!$H$4","v":1.6885972416272144E-14}]
[4978.8969999999999,1.1325219945659,{"$f":"+IF(AND(A656>Analyse1!$E$3,Data!A656<Analyse1!$E$4),B656,\"\")","v":""},{"$f":"+B656/Analyse1!$H$3*Analyse1!$H$4","v":1.7330201575318273E-14}]
[4979.8969999999999,1.1642150739396,{"$f":"+IF(AND(A657>Analyse1!$E$3,Data!A657<Analyse1!$E$4),B657,\"\")","v":""},{"$f":"+B657/Analyse1!$H$3*Analyse1!$H$4","v":1.7815178870880036E-14}]
[4980.8969999999999,1.19867670286341,{"$f":"+IF(AND(A658>Analyse1!$E$3,Data!A658<Analyse1!$E$4),B658,\"\")","v":""},{"$f":"+B658/Analyse1!$H$3*Analyse1!$H$4","v":1.8342521367298722E-14}]
[4981.8969999999999,1.23605503531358,{"$f":"+IF(AND(A659>Analyse1!$E$3,Data!A659<Analyse1!$E$4),B659,\"\")","v":""},{"$f":"+B659/Analyse1!$H$3*Analyse1!$H$4","v":1.8914496162507003E-14}]
[4982.8969999999999,1.2764944774745399,{"$f":"+IF(AND(A660>Analyse1!$E$3,Data!A660<Analyse1!$E$4),B660,\"\")","v":""},{"$f":"+B660/Analyse1!$H$3*Analyse1!$H$4","v":1.9533313004568855E-14}]
[4983.8969999999999,1.3192083839562001,{"$f":"+IF(AND(A661>Analyse1!$E$3,Data!A661<Analyse1!$E$4),B661,\"\")","v":""},{"$f":"+B661/Analyse1!$H$3*Analyse1!$H$4","v":2.0186934402606428E-14}]
[4984.8969999999999,1.3612613905734201,{"$f":"+IF(AND(A662>Analyse1!$E$3,Data!A662<Analyse1!$E$4),B662,\"\")","v":""},{"$f":"+B662/Analyse1!$H$3*Analyse1!$H$4","v":2.0830442506662246E-14}]
[4985.8969999999999,1.3994159965077899,{"$f":"+IF(AND(A663>Analyse1!$E$3,Data!A663<Analyse1!$E$4),B663,\"\")","v":""},{"$f":"+B663/Analyse1!$H$3*Analyse1!$H$4","v":2.1414296078638931E-14}]
[4986.8969999999999,1.4304347009409,{"$f":"+IF(AND(A664>Analyse1!$E$3,Data!A664<Analyse1!$E$4),B664,\"\")","v":""},{"$f":"+B664/Analyse1!$H$3*Analyse1!$H$4","v":2.1888953880439122E-14}]
[4987.8969999999999,1.45187971114186,{"$f":"+IF(AND(A665>Analyse1!$E$3,Data!A665<Analyse1!$E$4),B665,\"\")","v":""},{"$f":"+B665/Analyse1!$H$3*Analyse1!$H$4","v":2.2217112054276484E-14}]
[4988.8969999999999,1.4655092271908701,{"$f":"+IF(AND(A666>Analyse1!$E$3,Data!A666<Analyse1!$E$4),B666,\"\")","v":""},{"$f":"+B666/Analyse1!$H$3*Analyse1!$H$4","v":2.2425675121163249E-14}]
[4989.8969999999999,1.4744528955112099,{"$f":"+IF(AND(A667>Analyse1!$E$3,Data!A667<Analyse1!$E$4),B667,\"\")","v":""},{"$f":"+B667/Analyse1!$H$3*Analyse1!$H$4","v":2.2562533897909293E-14}]
[4990.8969999999999,1.4818411369340101,{"$f":"+IF(AND(A668>Analyse1!$E$3,Data!A668<Analyse1!$E$4),B668,\"\")","v":""},{"$f":"+B668/Analyse1!$H$3*Analyse1!$H$4","v":2.267559105155276E-14}]
[4991.8969999999999,1.4906475026482899,{"$f":"+IF(AND(A669>Analyse1!$E$3,Data!A669<Analyse1!$E$4),B669,\"\")","v":""},{"$f":"+B669/Analyse1!$H$3*Analyse1!$H$4","v":2.2810348781386467E-14}]
[4992.8969999999999,1.5017716611009699,{"$f":"+IF(AND(A670>Analyse1!$E$3,Data!A670<Analyse1!$E$4),B670,\"\")","v":""},{"$f":"+B670/Analyse1!$H$3*Analyse1!$H$4","v":2.2980574092034513E-14}]
[4993.8969999999999,1.5146459883518999,{"$f":"+IF(AND(A671>Analyse1!$E$3,Data!A671<Analyse1!$E$4),B671,\"\")","v":""},{"$f":"+B671/Analyse1!$H$3*Analyse1!$H$4","v":2.3177581026536257E-14}]
[4994.8969999999999,1.5286718802547901,{"$f":"+IF(AND(A672>Analyse1!$E$3,Data!A672<Analyse1!$E$4),B672,\"\")","v":""},{"$f":"+B672/Analyse1!$H$3*Analyse1!$H$4","v":2.3392209559242045E-14}]
[4995.8969999999999,1.54324673332299,{"$f":"+IF(AND(A673>Analyse1!$E$3,Data!A673<Analyse1!$E$4),B673,\"\")","v":""},{"$f":"+B673/Analyse1!$H$3*Analyse1!$H$4","v":2.3615238465359995E-14}]
[4996.8969999999999,1.55756011627234,{"$f":"+IF(AND(A674>Analyse1!$E$3,Data!A674<Analyse1!$E$4),B674,\"\")","v":""},{"$f":"+B674/Analyse1!$H$3*Analyse1!$H$4","v":2.3834266274909988E-14}]
[4997.8969999999999,1.5704966962198199,{"$f":"+IF(AND(A675>Analyse1!$E$3,Data!A675<Analyse1!$E$4),B675,\"\")","v":""},{"$f":"+B675/Analyse1!$H$3*Analyse1!$H$4","v":2.4032225819414005E-14}]
[4998.8969999999999,1.5809168276535299,{"$f":"+IF(AND(A676>Analyse1!$E$3,Data!A676<Analyse1!$E$4),B676,\"\")","v":""},{"$f":"+B676/Analyse1!$H$3*Analyse1!$H$4","v":2.4191677891032908E-14}]
[4999.8969999999999,1.5876811808548299,{"$f":"+IF(AND(A677>Analyse1!$E$3,Data!A677<Analyse1!$E$4),B677,\"\")","v":""},{"$f":"+B677/Analyse1!$H$3*Analyse1!$H$4","v":2.4295188114293617E-14}]
[5000.8969999999999,1.59054625010313,{"$f":"+IF(AND(A678>Analyse1!$E$3,Data!A678<Analyse1!$E$4),B678,\"\")","v":""},{"$f":"+B678/Analyse1!$H$3*Analyse1!$H$4","v":2.4339030289402381E-14}]
[5001.8969999999999,1.59212518994632,{"$f":"+IF(AND(A679>Analyse1!$E$3,Data!A679<Analyse1!$E$4),B679,\"\")","v":""},{"$f":"+B679/Analyse1!$H$3*Analyse1!$H$4","v":2.4363191714866153E-14}]
[5002.8969999999999,1.5955993342369501,{"$f":"+IF(AND(A680>Analyse1!$E$3,Data!A680<Analyse1!$E$4),B680,\"\")","v":""},{"$f":"+B680/Analyse1!$H$3*Analyse1!$H$4","v":2.4416354144511892E-14}]
[5003.8969999999999,1.60415001682759,{"$f":"+IF(AND(A681>Analyse1!$E$3,Data!A681<Analyse1!$E$4),B681,\"\")","v":""},{"$f":"+B681/Analyse1!$H$3*Analyse1!$H$4","v":2.4547199332166857E-14}]
[5004.8969999999999,1.6203227614217299,{"$f":"+IF(AND(A682>Analyse1!$E$3,Data!A682<Analyse1!$E$4),B682,\"\")","v":""},{"$f":"+B682/Analyse1!$H$3*Analyse1!$H$4","v":2.4794679668255178E-14}]
[5005.8969999999999,1.6419333476109199,{"$f":"+IF(AND(A683>Analyse1!$E$3,Data!A683<Analyse1!$E$4),B683,\"\")","v":""},{"$f":"+B683/Analyse1!$H$3*Analyse1!$H$4","v":2.5125371537036947E-14}]
[5006.8969999999999,1.6646655929466401,{"$f":"+IF(AND(A684>Analyse1!$E$3,Data!A684<Analyse1!$E$4),B684,\"\")","v":""},{"$f":"+B684/Analyse1!$H$3*Analyse1!$H$4","v":2.5473227380736143E-14}]
[5007.8969999999999,1.68419299701919,{"$f":"+IF(AND(A685>Analyse1!$E$3,Data!A685<Analyse1!$E$4),B685,\"\")","v":""},{"$f":"+B685/Analyse1!$H$3*Analyse1!$H$4","v":2.5772041752945926E-14}]
[5008.8969999999999,1.69633795755934,{"$f":"+IF(AND(A686>Analyse1!$E$3,Data!A686<Analyse1!$E$4),B686,\"\")","v":""},{"$f":"+B686/Analyse1!$H$3*Analyse1!$H$4","v":2.5957887692623033E-14}]
[5009.8969999999999,1.70004652725115,{"$f":"+IF(AND(A687>Analyse1!$E$3,Data!A687<Analyse1!$E$4),B687,\"\")","v":""},{"$f":"+B687/Analyse1!$H$3*Analyse1!$H$4","v":2.6014637372208562E-14}]
[5010.8969999999999,1.6972298126191601,{"$f":"+IF(AND(A688>Analyse1!$E$3,Data!A688<Analyse1!$E$4),B688,\"\")","v":""},{"$f":"+B688/Analyse1!$H$3*Analyse1!$H$4","v":2.5971535134382935E-14}]
[5011.8969999999999,1.6899160711032399,{"$f":"+IF(AND(A689>Analyse1!$E$3,Data!A689<Analyse1!$E$4),B689,\"\")","v":""},{"$f":"+B689/Analyse1!$H$3*Analyse1!$H$4","v":2.5859618001339302E-14}]
[5012.8969999999999,1.68012819980993,{"$f":"+IF(AND(A690>Analyse1!$E$3,Data!A690<Analyse1!$E$4),B690,\"\")","v":""},{"$f":"+B690/Analyse1!$H$3*Analyse1!$H$4","v":2.5709840969793571E-14}]
[5013.8969999999999,1.66918571908657,{"$f":"+IF(AND(A691>Analyse1!$E$3,Data!A691<Analyse1!$E$4),B691,\"\")","v":""},{"$f":"+B691/Analyse1!$H$3*Analyse1!$H$4","v":2.5542395747908455E-14}]
[5014.8969999999999,1.6570115869686699,{"$f":"+IF(AND(A692>Analyse1!$E$3,Data!A692<Analyse1!$E$4),B692,\"\")","v":""},{"$f":"+B692/Analyse1!$H$3*Analyse1!$H$4","v":2.5356103415732922E-14}]
[5015.8969999999999,1.64336396516088,{"$f":"+IF(AND(A693>Analyse1!$E$3,Data!A693<Analyse1!$E$4),B693,\"\")","v":""},{"$f":"+B693/Analyse1!$H$3*Analyse1!$H$4","v":2.5147263288929586E-14}]
[5016.8969999999999,1.6280010153678299,{"$f":"+IF(AND(A694>Analyse1!$E$3,Data!A694<Analyse1!$E$4),B694,\"\")","v":""},{"$f":"+B694/Analyse1!$H$3*Analyse1!$H$4","v":2.4912174683160743E-14}]
[5017.8969999999999,1.61086340109861,{"$f":"+IF(AND(A695>Analyse1!$E$3,Data!A695<Analyse1!$E$4),B695,\"\")","v":""},{"$f":"+B695/Analyse1!$H$3*Analyse1!$H$4","v":2.4649929613104091E-14}]
[5018.8969999999999,1.5927051816037301,{"$f":"+IF(AND(A696>Analyse1!$E$3,Data!A696<Analyse1!$E$4),B696,\"\")","v":""},{"$f":"+B696/Analyse1!$H$3*Analyse1!$H$4","v":2.4372066926458642E-14}]
[5019.8969999999999,1.5745069398166001,{"$f":"+IF(AND(A697>Analyse1!$E$3,Data!A697<Analyse1!$E$4),B697,\"\")","v":""},{"$f":"+B697/Analyse1!$H$3*Analyse1!$H$4","v":2.4093591806327991E-14}]
[5020.8969999999999,1.55724926819793,{"$f":"+IF(AND(A698>Analyse1!$E$3,Data!A698<Analyse1!$E$4),B698,\"\")","v":""},{"$f":"+B698/Analyse1!$H$3*Analyse1!$H$4","v":2.3829509581605421E-14}]
[5021.8969999999999,1.54170165056171,{"$f":"+IF(AND(A699>Analyse1!$E$3,Data!A699<Analyse1!$E$4),B699,\"\")","v":""},{"$f":"+B699/Analyse1!$H$3*Analyse1!$H$4","v":2.3591595131427401E-14}]
[5022.8969999999999,1.5263437296592599,{"$f":"+IF(AND(A700>Analyse1!$E$3,Data!A700<Analyse1!$E$4),B700,\"\")","v":""},{"$f":"+B700/Analyse1!$H$3*Analyse1!$H$4","v":2.3356583479296728E-14}]
[5023.8969999999999,1.5082522798701401,{"$f":"+IF(AND(A701>Analyse1!$E$3,Data!A701<Analyse1!$E$4),B701,\"\")","v":""},{"$f":"+B701/Analyse1!$H$3*Analyse1!$H$4","v":2.3079742523324503E-14}]
[5024.8969999999999,1.4844838226372199,{"$f":"+IF(AND(A702>Analyse1!$E$3,Data!A702<Analyse1!$E$4),B702,\"\")","v":""},{"$f":"+B702/Analyse1!$H$3*Analyse1!$H$4","v":2.2716030244925242E-14}]
[5025.8969999999999,1.45219243889229,{"$f":"+IF(AND(A703>Analyse1!$E$3,Data!A703<Analyse1!$E$4),B703,\"\")","v":""},{"$f":"+B703/Analyse1!$H$3*Analyse1!$H$4","v":2.2221897510964436E-14}]
[5026.8969999999999,1.41215210676563,{"$f":"+IF(AND(A704>Analyse1!$E$3,Data!A704<Analyse1!$E$4),B704,\"\")","v":""},{"$f":"+B704/Analyse1!$H$3*Analyse1!$H$4","v":2.1609187973995412E-14}]
[5027.8969999999999,1.3697416240483999,{"$f":"+IF(AND(A705>Analyse1!$E$3,Data!A705<Analyse1!$E$4),B705,\"\")","v":""},{"$f":"+B705/Analyse1!$H$3*Analyse1!$H$4","v":2.0960209660176553E-14}]
[5028.8969999999999,1.33063791576213,{"$f":"+IF(AND(A706>Analyse1!$E$3,Data!A706<Analyse1!$E$4),B706,\"\")","v":""},{"$f":"+B706/Analyse1!$H$3*Analyse1!$H$4","v":2.0361832630683842E-14}]
[5029.8969999999999,1.3005144130741899,{"$f":"+IF(AND(A707>Analyse1!$E$3,Data!A707<Analyse1!$E$4),B707,\"\")","v":""},{"$f":"+B707/Analyse1!$H$3*Analyse1!$H$4","v":1.9900873482657104E-14}]
[5030.8969999999999,1.2827626245314001,{"$f":"+IF(AND(A708>Analyse1!$E$3,Data!A708<Analyse1!$E$4),B708,\"\")","v":""},{"$f":"+B708/Analyse1!$H$3*Analyse1!$H$4","v":1.9629230128051086E-14}]
[5031.8969999999999,1.2745597137620901,{"$f":"+IF(AND(A709>Analyse1!$E$3,Data!A709<Analyse1!$E$4),B709,\"\")","v":""},{"$f":"+B709/Analyse1!$H$3*Analyse1!$H$4","v":1.9503706652287617E-14}]
[5032.8969999999999,1.2720348776525801,{"$f":"+IF(AND(A710>Analyse1!$E$3,Data!A710<Analyse1!$E$4),B710,\"\")","v":""},{"$f":"+B710/Analyse1!$H$3*Analyse1!$H$4","v":1.9465070829820238E-14}]
[5033.8969999999999,1.2713173130891799,{"$f":"+IF(AND(A711>Analyse1!$E$3,Data!A711<Analyse1!$E$4),B711,\"\")","v":""},{"$f":"+B711/Analyse1!$H$3*Analyse1!$H$4","v":1.9454090435102342E-14}]
[5034.8969999999999,1.2690004632580401,{"$f":"+IF(AND(A712>Analyse1!$E$3,Data!A712<Analyse1!$E$4),B712,\"\")","v":""},{"$f":"+B712/Analyse1!$H$3*Analyse1!$H$4","v":1.941863728294631E-14}]
[5035.8969999999999,1.26458921373593,{"$f":"+IF(AND(A713>Analyse1!$E$3,Data!A713<Analyse1!$E$4),B713,\"\")","v":""},{"$f":"+B713/Analyse1!$H$3*Analyse1!$H$4","v":1.9351134979429024E-14}]
[5036.8969999999999,1.25871457895676,{"$f":"+IF(AND(A714>Analyse1!$E$3,Data!A714<Analyse1!$E$4),B714,\"\")","v":""},{"$f":"+B714/Analyse1!$H$3*Analyse1!$H$4","v":1.9261239502437942E-14}]
[5037.8969999999999,1.2520100083451999,{"$f":"+IF(AND(A715>Analyse1!$E$3,Data!A715<Analyse1!$E$4),B715,\"\")","v":""},{"$f":"+B715/Analyse1!$H$3*Analyse1!$H$4","v":1.9158644090841699E-14}]
[5038.8969999999999,1.2450852714249601,{"$f":"+IF(AND(A716>Analyse1!$E$3,Data!A716<Analyse1!$E$4),B716,\"\")","v":""},{"$f":"+B716/Analyse1!$H$3*Analyse1!$H$4","v":1.9052679626345971E-14}]
[5039.8969999999999,1.2381565448456899,{"$f":"+IF(AND(A717>Analyse1!$E$3,Data!A717<Analyse1!$E$4),B717,\"\")","v":""},{"$f":"+B717/Analyse1!$H$3*Analyse1!$H$4","v":1.8946654110854733E-14}]
[5040.8969999999999,1.23111558487546,{"$f":"+IF(AND(A718>Analyse1!$E$3,Data!A718<Analyse1!$E$4),B718,\"\")","v":""},{"$f":"+B718/Analyse1!$H$3*Analyse1!$H$4","v":1.8838911165328448E-14}]
[5041.8969999999999,1.2238444645869599,{"$f":"+IF(AND(A719>Analyse1!$E$3,Data!A719<Analyse1!$E$4),B719,\"\")","v":""},{"$f":"+B719/Analyse1!$H$3*Analyse1!$H$4","v":1.8727646235479212E-14}]
[5042.8969999999999,1.2162271375532401,{"$f":"+IF(AND(A720>Analyse1!$E$3,Data!A720<Analyse1!$E$4),B720,\"\")","v":""},{"$f":"+B720/Analyse1!$H$3*Analyse1!$H$4","v":1.8611083543016812E-14}]
[5043.8969999999999,1.2082979077325899,{"$f":"+IF(AND(A721>Analyse1!$E$3,Data!A721<Analyse1!$E$4),B721,\"\")","v":""},{"$f":"+B721/Analyse1!$H$3*Analyse1!$H$4","v":1.84897480177129E-14}]
[5044.8969999999999,1.2003487194675999,{"$f":"+IF(AND(A722>Analyse1!$E$3,Data!A722<Analyse1!$E$4),B722,\"\")","v":""},{"$f":"+B722/Analyse1!$H$3*Analyse1!$H$4","v":1.8368107082125388E-14}]
[5045.8969999999999,1.19269682681505,{"$f":"+IF(AND(A723>Analyse1!$E$3,Data!A723<Analyse1!$E$4),B723,\"\")","v":""},{"$f":"+B723/Analyse1!$H$3*Analyse1!$H$4","v":1.8251015455880885E-14}]
[5046.8969999999999,1.1856594828428799,{"$f":"+IF(AND(A724>Analyse1!$E$3,Data!A724<Analyse1!$E$4),B724,\"\")","v":""},{"$f":"+B724/Analyse1!$H$3*Analyse1!$H$4","v":1.8143327843474465E-14}]
[5047.8969999999999,1.1793742648304499,{"$f":"+IF(AND(A725>Analyse1!$E$3,Data!A725<Analyse1!$E$4),B725,\"\")","v":""},{"$f":"+B725/Analyse1!$H$3*Analyse1!$H$4","v":1.8047149494954192E-14}]
[5048.8969999999999,1.1732977577779,{"$f":"+IF(AND(A726>Analyse1!$E$3,Data!A726<Analyse1!$E$4),B726,\"\")","v":""},{"$f":"+B726/Analyse1!$H$3*Analyse1!$H$4","v":1.7954164906045704E-14}]
[5049.8969999999999,1.16672523659896,{"$f":"+IF(AND(A727>Analyse1!$E$3,Data!A727<Analyse1!$E$4),B727,\"\")","v":""},{"$f":"+B727/Analyse1!$H$3*Analyse1!$H$4","v":1.7853590155678281E-14}]
[5050.8969999999999,1.1589519762073199,{"$f":"+IF(AND(A728>Analyse1!$E$3,Data!A728<Analyse1!$E$4),B728,\"\")","v":""},{"$f":"+B728/Analyse1!$H$3*Analyse1!$H$4","v":1.7734641322780606E-14}]
[5051.8969999999999,1.1494043898814199,{"$f":"+IF(AND(A729>Analyse1!$E$3,Data!A729<Analyse1!$E$4),B729,\"\")","v":""},{"$f":"+B729/Analyse1!$H$3*Analyse1!$H$4","v":1.7588541206068065E-14}]
[5052.8969999999999,1.13868928104638,{"$f":"+IF(AND(A730>Analyse1!$E$3,Data!A730<Analyse1!$E$4),B730,\"\")","v":""},{"$f":"+B730/Analyse1!$H$3*Analyse1!$H$4","v":1.742457529908902E-14}]
[5053.8969999999999,1.1280381661671901,{"$f":"+IF(AND(A731>Analyse1!$E$3,Data!A731<Analyse1!$E$4),B731,\"\")","v":""},{"$f":"+B731/Analyse1!$H$3*Analyse1!$H$4","v":1.7261588647400205E-14}]
[5054.8969999999999,1.1186882520696799,{"$f":"+IF(AND(A732>Analyse1!$E$3,Data!A732<Analyse1!$E$4),B732,\"\")","v":""},{"$f":"+B732/Analyse1!$H$3*Analyse1!$H$4","v":1.7118513372218578E-14}]
[5055.8969999999999,1.11181799620536,{"$f":"+IF(AND(A733>Analyse1!$E$3,Data!A733<Analyse1!$E$4),B733,\"\")","v":""},{"$f":"+B733/Analyse1!$H$3*Analyse1!$H$4","v":1.7013382593678323E-14}]
[5056.8969999999999,1.10697888565032,{"$f":"+IF(AND(A734>Analyse1!$E$3,Data!A734<Analyse1!$E$4),B734,\"\")","v":""},{"$f":"+B734/Analyse1!$H$3*Analyse1!$H$4","v":1.6939333028401456E-14}]
[5057.8969999999999,1.10192568742015,{"$f":"+IF(AND(A735>Analyse1!$E$3,Data!A735<Analyse1!$E$4),B735,\"\")","v":""},{"$f":"+B735/Analyse1!$H$3*Analyse1!$H$4","v":1.686200742735434E-14}]
[5058.8969999999999,1.0943203643633399,{"$f":"+IF(AND(A736>Analyse1!$E$3,Data!A736<Analyse1!$E$4),B736,\"\")","v":""},{"$f":"+B736/Analyse1!$H$3*Analyse1!$H$4","v":1.6745628423456535E-14}]
[5059.8969999999999,1.08183117203033,{"$f":"+IF(AND(A737>Analyse1!$E$3,Data!A737<Analyse1!$E$4),B737,\"\")","v":""},{"$f":"+B737/Analyse1!$H$3*Analyse1!$H$4","v":1.6554514942497657E-14}]
[5060.8969999999999,1.06377846270662,{"$f":"+IF(AND(A738>Analyse1!$E$3,Data!A738<Analyse1!$E$4),B738,\"\")","v":""},{"$f":"+B738/Analyse1!$H$3*Analyse1!$H$4","v":1.6278266805100166E-14}]
[5061.8969999999999,1.0433386211601601,{"$f":"+IF(AND(A739>Analyse1!$E$3,Data!A739<Analyse1!$E$4),B739,\"\")","v":""},{"$f":"+B739/Analyse1!$H$3*Analyse1!$H$4","v":1.5965490032668921E-14}]
[5062.8969999999999,1.02423718275567,{"$f":"+IF(AND(A740>Analyse1!$E$3,Data!A740<Analyse1!$E$4),B740,\"\")","v":""},{"$f":"+B740/Analyse1!$H$3*Analyse1!$H$4","v":1.5673193918759696E-14}]
[5063.8969999999999,1.0101996828578801,{"$f":"+IF(AND(A741>Analyse1!$E$3,Data!A741<Analyse1!$E$4),B741,\"\")","v":""},{"$f":"+B741/Analyse1!$H$3*Analyse1!$H$4","v":1.5458387756928413E-14}]
[5064.8969999999999,1.00399409250986,{"$f":"+IF(AND(A742>Analyse1!$E$3,Data!A742<Analyse1!$E$4),B742,\"\")","v":""},{"$f":"+B742/Analyse1!$H$3*Analyse1!$H$4","v":1.5363427895538473E-14}]
[5065.8969999999999,1.00330258618563,{"$f":"+IF(AND(A743>Analyse1!$E$3,Data!A743<Analyse1!$E$4),B743,\"\")","v":""},{"$f":"+B743/Analyse1!$H$3*Analyse1!$H$4","v":1.5352846252049857E-14}]
[5066.8969999999999,1.00412542760144,{"$f":"+IF(AND(A744>Analyse1!$E$3,Data!A744<Analyse1!$E$4),B744,\"\")","v":""},{"$f":"+B744/Analyse1!$H$3*Analyse1!$H$4","v":1.5365437625699933E-14}]
[5067.8969999999999,1.0024618099772,{"$f":"+IF(AND(A745>Analyse1!$E$3,Data!A745<Analyse1!$E$4),B745,\"\")","v":""},{"$f":"+B745/Analyse1!$H$3*Analyse1!$H$4","v":1.5339980434660227E-14}]
[5068.8969999999999,0.99463256373555398,{"$f":"+IF(AND(A746>Analyse1!$E$3,Data!A746<Analyse1!$E$4),B746,\"\")","v":""},{"$f":"+B746/Analyse1!$H$3*Analyse1!$H$4","v":1.5220174888982911E-14}]
[5069.8969999999999,0.98127580618827603,{"$f":"+IF(AND(A747>Analyse1!$E$3,Data!A747<Analyse1!$E$4),B747,\"\")","v":""},{"$f":"+B747/Analyse1!$H$3*Analyse1!$H$4","v":1.5015785656987725E-14}]
[5070.8969999999999,0.96611668702085296,{"$f":"+IF(AND(A748>Analyse1!$E$3,Data!A748<Analyse1!$E$4),B748,\"\")","v":""},{"$f":"+B748/Analyse1!$H$3*Analyse1!$H$4","v":1.4783816130447616E-14}]
[5071.8969999999999,0.95294723166783202,{"$f":"+IF(AND(A749>Analyse1!$E$3,Data!A749<Analyse1!$E$4),B749,\"\")","v":""},{"$f":"+B749/Analyse1!$H$3*Analyse1!$H$4","v":1.4582293054516107E-14}]
[5072.8969999999999,0.94552077008650304,{"$f":"+IF(AND(A750>Analyse1!$E$3,Data!A750<Analyse1!$E$4),B750,\"\")","v":""},{"$f":"+B750/Analyse1!$H$3*Analyse1!$H$4","v":1.4468651044194604E-14}]
[5073.8969999999999,0.94552449482413103,{"$f":"+IF(AND(A751>Analyse1!$E$3,Data!A751<Analyse1!$E$4),B751,\"\")","v":""},{"$f":"+B751/Analyse1!$H$3*Analyse1!$H$4","v":1.4468708041280946E-14}]
[5074.8969999999999,0.95158199494048101,{"$f":"+IF(AND(A752>Analyse1!$E$3,Data!A752<Analyse1!$E$4),B752,\"\")","v":""},{"$f":"+B752/Analyse1!$H$3*Analyse1!$H$4","v":1.4561401780177465E-14}]
[5075.8969999999999,0.96206891598606403,{"$f":"+IF(AND(A753>Analyse1!$E$3,Data!A753<Analyse1!$E$4),B753,\"\")","v":""},{"$f":"+B753/Analyse1!$H$3*Analyse1!$H$4","v":1.4721875887079086E-14}]
[5076.8969999999999,0.97536085294838704,{"$f":"+IF(AND(A754>Analyse1!$E$3,Data!A754<Analyse1!$E$4),B754,\"\")","v":""},{"$f":"+B754/Analyse1!$H$3*Analyse1!$H$4","v":1.4925273214449999E-14}]
[5077.8969999999999,0.98966653964283202,{"$f":"+IF(AND(A755>Analyse1!$E$3,Data!A755<Analyse1!$E$4),B755,\"\")","v":""},{"$f":"+B755/Analyse1!$H$3*Analyse1!$H$4","v":1.5144183253528851E-14}]
[5078.8969999999999,1.00265628524119,{"$f":"+IF(AND(A756>Analyse1!$E$3,Data!A756<Analyse1!$E$4),B756,\"\")","v":""},{"$f":"+B756/Analyse1!$H$3*Analyse1!$H$4","v":1.5342956355253849E-14}]
[5079.8969999999999,1.01189200308564,{"$f":"+IF(AND(A757>Analyse1!$E$3,Data!A757<Analyse1!$E$4),B757,\"\")","v":""},{"$f":"+B757/Analyse1!$H$3*Analyse1!$H$4","v":1.5484284164077937E-14}]
[5080.8969999999999,1.0149356065183499,{"$f":"+IF(AND(A758>Analyse1!$E$3,Data!A758<Analyse1!$E$4),B758,\"\")","v":""},{"$f":"+B758/Analyse1!$H$3*Analyse1!$H$4","v":1.5530858324453878E-14}]
[5081.8969999999999,1.00989149912707,{"$f":"+IF(AND(A759>Analyse1!$E$3,Data!A759<Analyse1!$E$4),B759,\"\")","v":""},{"$f":"+B759/Analyse1!$H$3*Analyse1!$H$4","v":1.5453671834233049E-14}]
[5082.8969999999999,0.99895193900060697,{"$f":"+IF(AND(A760>Analyse1!$E$3,Data!A760<Analyse1!$E$4),B760,\"\")","v":""},{"$f":"+B760/Analyse1!$H$3*Analyse1!$H$4","v":1.528627130422428E-14}]
[5083.8969999999999,0.98617255230569201,{"$f":"+IF(AND(A761>Analyse1!$E$3,Data!A761<Analyse1!$E$4),B761,\"\")","v":""},{"$f":"+B761/Analyse1!$H$3*Analyse1!$H$4","v":1.5090717179452776E-14}]
[5084.8969999999999,0.97561844393321495,{"$f":"+IF(AND(A762>Analyse1!$E$3,Data!A762<Analyse1!$E$4),B762,\"\")","v":""},{"$f":"+B762/Analyse1!$H$3*Analyse1!$H$4","v":1.4929214951310273E-14}]
[5085.8969999999999,0.97118245598118602,{"$f":"+IF(AND(A763>Analyse1!$E$3,Data!A763<Analyse1!$E$4),B763,\"\")","v":""},{"$f":"+B763/Analyse1!$H$3*Analyse1!$H$4","v":1.4861334092692765E-14}]
[5086.8969999999999,0.97307744668690099,{"$f":"+IF(AND(A764>Analyse1!$E$3,Data!A764<Analyse1!$E$4),B764,\"\")","v":""},{"$f":"+B764/Analyse1!$H$3*Analyse1!$H$4","v":1.4890331826132798E-14}]
[5087.8969999999999,0.97798648740090899,{"$f":"+IF(AND(A765>Analyse1!$E$3,Data!A765<Analyse1!$E$4),B765,\"\")","v":""},{"$f":"+B765/Analyse1!$H$3*Analyse1!$H$4","v":1.4965451484314637E-14}]
[5088.8969999999999,0.982450442428494,{"$f":"+IF(AND(A766>Analyse1!$E$3,Data!A766<Analyse1!$E$4),B766,\"\")","v":""},{"$f":"+B766/Analyse1!$H$3*Analyse1!$H$4","v":1.5033760303765739E-14}]
[5089.8969999999999,0.98302422929646605,{"$f":"+IF(AND(A767>Analyse1!$E$3,Data!A767<Analyse1!$E$4),B767,\"\")","v":""},{"$f":"+B767/Analyse1!$H$3*Analyse1!$H$4","v":1.5042540567752608E-14}]
[5090.8969999999999,0.978185015379891,{"$f":"+IF(AND(A768>Analyse1!$E$3,Data!A768<Analyse1!$E$4),B768,\"\")","v":""},{"$f":"+B768/Analyse1!$H$3*Analyse1!$H$4","v":1.496848942080559E-14}]
[5091.8969999999999,0.97026894355905902,{"$f":"+IF(AND(A769>Analyse1!$E$3,Data!A769<Analyse1!$E$4),B769,\"\")","v":""},{"$f":"+B769/Analyse1!$H$3*Analyse1!$H$4","v":1.484735524328147E-14}]
[5092.8969999999999,0.96207358730581505,{"$f":"+IF(AND(A770>Analyse1!$E$3,Data!A770<Analyse1!$E$4),B770,\"\")","v":""},{"$f":"+B770/Analyse1!$H$3*Analyse1!$H$4","v":1.4721947369057621E-14}]
[5093.8969999999999,0.95639652009200504,{"$f":"+IF(AND(A771>Analyse1!$E$3,Data!A771<Analyse1!$E$4),B771,\"\")","v":""},{"$f":"+B771/Analyse1!$H$3*Analyse1!$H$4","v":1.4635075132011428E-14}]
[5094.8969999999999,0.95540859584822702,{"$f":"+IF(AND(A772>Analyse1!$E$3,Data!A772<Analyse1!$E$4),B772,\"\")","v":""},{"$f":"+B772/Analyse1!$H$3*Analyse1!$H$4","v":1.4619957609907689E-14}]
[5095.8969999999999,0.95845362436489201,{"$f":"+IF(AND(A773>Analyse1!$E$3,Data!A773<Analyse1!$E$4),B773,\"\")","v":""},{"$f":"+B773/Analyse1!$H$3*Analyse1!$H$4","v":1.4666553577358746E-14}]
[5096.8969999999999,0.964078647445476,{"$f":"+IF(AND(A774>Analyse1!$E$3,Data!A774<Analyse1!$E$4),B774,\"\")","v":""},{"$f":"+B774/Analyse1!$H$3*Analyse1!$H$4","v":1.4752629418993685E-14}]
[5097.8969999999999,0.97083066146092301,{"$f":"+IF(AND(A775>Analyse1!$E$3,Data!A775<Analyse1!$E$4),B775,\"\")","v":""},{"$f":"+B775/Analyse1!$H$3*Analyse1!$H$4","v":1.4855950824218951E-14}]
[5098.8969999999999,0.97733051741270105,{"$f":"+IF(AND(A776>Analyse1!$E$3,Data!A776<Analyse1!$E$4),B776,\"\")","v":""},{"$f":"+B776/Analyse1!$H$3*Analyse1!$H$4","v":1.4955413628822601E-14}]
[5099.8969999999999,0.98301163215957899,{"$f":"+IF(AND(A777>Analyse1!$E$3,Data!A777<Analyse1!$E$4),B777,\"\")","v":""},{"$f":"+B777/Analyse1!$H$3*Analyse1!$H$4","v":1.5042347802470723E-14}]
[5100.8969999999999,0.98781061420812899,{"$f":"+IF(AND(A778>Analyse1!$E$3,Data!A778<Analyse1!$E$4),B778,\"\")","v":""},{"$f":"+B778/Analyse1!$H$3*Analyse1!$H$4","v":1.511578330893926E-14}]
[5101.8969999999999,0.99167156186507599,{"$f":"+IF(AND(A779>Analyse1!$E$3,Data!A779<Analyse1!$E$4),B779,\"\")","v":""},{"$f":"+B779/Analyse1!$H$3*Analyse1!$H$4","v":1.5174864723240879E-14}]
[5102.8969999999999,0.99453427911998304,{"$f":"+IF(AND(A780>Analyse1!$E$3,Data!A780<Analyse1!$E$4),B780,\"\")","v":""},{"$f":"+B780/Analyse1!$H$3*Analyse1!$H$4","v":1.5218670907419843E-14}]
[5103.8969999999999,0.99617548109272203,{"$f":"+IF(AND(A781>Analyse1!$E$3,Data!A781<Analyse1!$E$4),B781,\"\")","v":""},{"$f":"+B781/Analyse1!$H$3*Analyse1!$H$4","v":1.5243785087232555E-14}]
[5104.8969999999999,0.99616222698420198,{"$f":"+IF(AND(A782>Analyse1!$E$3,Data!A782<Analyse1!$E$4),B782,\"\")","v":""},{"$f":"+B782/Analyse1!$H$3*Analyse1!$H$4","v":1.5243582268767699E-14}]
[5105.8969999999999,0.99404778369329305,{"$f":"+IF(AND(A783>Analyse1!$E$3,Data!A783<Analyse1!$E$4),B783,\"\")","v":""},{"$f":"+B783/Analyse1!$H$3*Analyse1!$H$4","v":1.5211226404045549E-14}]
[5106.8969999999999,0.98938627283121505,{"$f":"+IF(AND(A784>Analyse1!$E$3,Data!A784<Analyse1!$E$4),B784,\"\")","v":""},{"$f":"+B784/Analyse1!$H$3*Analyse1!$H$4","v":1.5139894524158915E-14}]
[5107.8969999999999,0.98233874111671504,{"$f":"+IF(AND(A785>Analyse1!$E$3,Data!A785<Analyse1!$E$4),B785,\"\")","v":""},{"$f":"+B785/Analyse1!$H$3*Analyse1!$H$4","v":1.5032051015770762E-14}]
[5108.8969999999999,0.97473830654665194,{"$f":"+IF(AND(A786>Analyse1!$E$3,Data!A786<Analyse1!$E$4),B786,\"\")","v":""},{"$f":"+B786/Analyse1!$H$3*Analyse1!$H$4","v":1.4915746817007983E-14}]
[5109.8969999999999,0.96870356086519704,{"$f":"+IF(AND(A787>Analyse1!$E$3,Data!A787<Analyse1!$E$4),B787,\"\")","v":""},{"$f":"+B787/Analyse1!$H$3*Analyse1!$H$4","v":1.4823401273506656E-14}]
[5110.8969999999999,0.96635309581652495,{"$f":"+IF(AND(A788>Analyse1!$E$3,Data!A788<Analyse1!$E$4),B788,\"\")","v":""},{"$f":"+B788/Analyse1!$H$3*Analyse1!$H$4","v":1.478743373090291E-14}]
[5111.8969999999999,0.96928044620861398,{"$f":"+IF(AND(A789>Analyse1!$E$3,Data!A789<Analyse1!$E$4),B789,\"\")","v":""},{"$f":"+B789/Analyse1!$H$3*Analyse1!$H$4","v":1.4832228951322392E-14}]
[5112.8969999999999,0.97574502619387804,{"$f":"+IF(AND(A790>Analyse1!$E$3,Data!A790<Analyse1!$E$4),B790,\"\")","v":""},{"$f":"+B790/Analyse1!$H$3*Analyse1!$H$4","v":1.4931151952184143E-14}]
[5113.8969999999999,0.98270176677416798,{"$f":"+IF(AND(A791>Analyse1!$E$3,Data!A791<Analyse1!$E$4),B791,\"\")","v":""},{"$f":"+B791/Analyse1!$H$3*Analyse1!$H$4","v":1.5037606146576926E-14}]
[5114.8969999999999,0.98710257325055395,{"$f":"+IF(AND(A792>Analyse1!$E$3,Data!A792<Analyse1!$E$4),B792,\"\")","v":""},{"$f":"+B792/Analyse1!$H$3*Analyse1!$H$4","v":1.5104948647381045E-14}]
[5115.8969999999999,0.98608874263070101,{"$f":"+IF(AND(A793>Analyse1!$E$3,Data!A793<Analyse1!$E$4),B793,\"\")","v":""},{"$f":"+B793/Analyse1!$H$3*Analyse1!$H$4","v":1.508943469790405E-14}]
[5116.8969999999999,0.98000199934365595,{"$f":"+IF(AND(A794>Analyse1!$E$3,Data!A794<Analyse1!$E$4),B794,\"\")","v":""},{"$f":"+B794/Analyse1!$H$3*Analyse1!$H$4","v":1.4996293470971731E-14}]
[5117.8969999999999,0.97184982738751402,{"$f":"+IF(AND(A795>Analyse1!$E$3,Data!A795<Analyse1!$E$4),B795,\"\")","v":""},{"$f":"+B795/Analyse1!$H$3*Analyse1!$H$4","v":1.487154641620857E-14}]
[5118.8969999999999,0.96472104756518595,{"$f":"+IF(AND(A796>Analyse1!$E$3,Data!A796<Analyse1!$E$4),B796,\"\")","v":""},{"$f":"+B796/Analyse1!$H$3*Analyse1!$H$4","v":1.4762459624164091E-14}]
[5119.8969999999999,0.96168319259241797,{"$f":"+IF(AND(A797>Analyse1!$E$3,Data!A797<Analyse1!$E$4),B797,\"\")","v":""},{"$f":"+B797/Analyse1!$H$3*Analyse1!$H$4","v":1.4715973428498785E-14}]
[5120.8969999999999,0.96404448404153398,{"$f":"+IF(AND(A798>Analyse1!$E$3,Data!A798<Analyse1!$E$4),B798,\"\")","v":""},{"$f":"+B798/Analyse1!$H$3*Analyse1!$H$4","v":1.4752106640028105E-14}]
[5121.8969999999999,0.97006561261257096,{"$f":"+IF(AND(A799>Analyse1!$E$3,Data!A799<Analyse1!$E$4),B799,\"\")","v":""},{"$f":"+B799/Analyse1!$H$3*Analyse1!$H$4","v":1.4844243810297345E-14}]
[5122.8969999999999,0.97770369807085,{"$f":"+IF(AND(A800>Analyse1!$E$3,Data!A800<Analyse1!$E$4),B800,\"\")","v":""},{"$f":"+B800/Analyse1!$H$3*Analyse1!$H$4","v":1.4961124154587896E-14}]
[5123.8969999999999,0.98491586104249496,{"$f":"+IF(AND(A801>Analyse1!$E$3,Data!A801<Analyse1!$E$4),B801,\"\")","v":""},{"$f":"+B801/Analyse1!$H$3*Analyse1!$H$4","v":1.507148690135341E-14}]
[5124.8969999999999,0.98998818146913004,{"$f":"+IF(AND(A802>Analyse1!$E$3,Data!A802<Analyse1!$E$4),B802,\"\")","v":""},{"$f":"+B802/Analyse1!$H$3*Analyse1!$H$4","v":1.5149105116160697E-14}]
[5125.8969999999999,0.99246857171273195,{"$f":"+IF(AND(A803>Analyse1!$E$3,Data!A803<Analyse1!$E$4),B803,\"\")","v":""},{"$f":"+B803/Analyse1!$H$3*Analyse1!$H$4","v":1.5187060814251623E-14}]
[5126.8969999999999,0.99220745075328198,{"$f":"+IF(AND(A804>Analyse1!$E$3,Data!A804<Analyse1!$E$4),B804,\"\")","v":""},{"$f":"+B804/Analyse1!$H$3*Analyse1!$H$4","v":1.5183065060628714E-14}]
[5127.8969999999999,0.98905523757075997,{"$f":"+IF(AND(A805>Analyse1!$E$3,Data!A805<Analyse1!$E$4),B805,\"\")","v":""},{"$f":"+B805/Analyse1!$H$3*Analyse1!$H$4","v":1.5134828920294484E-14}]
[5128.8969999999999,0.98299560381800599,{"$f":"+IF(AND(A806>Analyse1!$E$3,Data!A806<Analyse1!$E$4),B806,\"\")","v":""},{"$f":"+B806/Analyse1!$H$3*Analyse1!$H$4","v":1.5042102531834291E-14}]
[5129.8969999999999,0.97522792745692599,{"$f":"+IF(AND(A807>Analyse1!$E$3,Data!A807<Analyse1!$E$4),B807,\"\")","v":""},{"$f":"+B807/Analyse1!$H$3*Analyse1!$H$4","v":1.4923239147498036E-14}]
[5130.8969999999999,0.96760206510298197,{"$f":"+IF(AND(A808>Analyse1!$E$3,Data!A808<Analyse1!$E$4),B808,\"\")","v":""},{"$f":"+B808/Analyse1!$H$3*Analyse1!$H$4","v":1.4806545844927663E-14}]
[5131.8969999999999,0.96197402567314505,{"$f":"+IF(AND(A809>Analyse1!$E$3,Data!A809<Analyse1!$E$4),B809,\"\")","v":""},{"$f":"+B809/Analyse1!$H$3*Analyse1!$H$4","v":1.472042384618423E-14}]
[5132.8969999999999,0.96014482127811296,{"$f":"+IF(AND(A810>Analyse1!$E$3,Data!A810<Analyse1!$E$4),B810,\"\")","v":""},{"$f":"+B810/Analyse1!$H$3*Analyse1!$H$4","v":1.4692432795202024E-14}]
[5133.8969999999999,0.96236098820098404,{"$f":"+IF(AND(A811>Analyse1!$E$3,Data!A811<Analyse1!$E$4),B811,\"\")","v":""},{"$f":"+B811/Analyse1!$H$3*Analyse1!$H$4","v":1.4726345266378915E-14}]
[5134.8969999999999,0.96713436899883398,{"$f":"+IF(AND(A812>Analyse1!$E$3,Data!A812<Analyse1!$E$4),B812,\"\")","v":""},{"$f":"+B812/Analyse1!$H$3*Analyse1!$H$4","v":1.4799389014596978E-14}]
[5135.8969999999999,0.97288562983472804,{"$f":"+IF(AND(A813>Analyse1!$E$3,Data!A813<Analyse1!$E$4),B813,\"\")","v":""},{"$f":"+B813/Analyse1!$H$3*Analyse1!$H$4","v":1.4887396585378402E-14}]
[5136.8969999999999,0.97803761903653197,{"$f":"+IF(AND(A814>Analyse1!$E$3,Data!A814<Analyse1!$E$4),B814,\"\")","v":""},{"$f":"+B814/Analyse1!$H$3*Analyse1!$H$4","v":1.4966233916405556E-14}]
[5137.8969999999999,0.98161946856626103,{"$f":"+IF(AND(A815>Analyse1!$E$3,Data!A815<Analyse1!$E$4),B815,\"\")","v":""},{"$f":"+B815/Analyse1!$H$3*Analyse1!$H$4","v":1.5021044484907103E-14}]
[5138.8969999999999,0.98409147296894695,{"$f":"+IF(AND(A816>Analyse1!$E$3,Data!A816<Analyse1!$E$4),B816,\"\")","v":""},{"$f":"+B816/Analyse1!$H$3*Analyse1!$H$4","v":1.5058871860268625E-14}]
[5139.8969999999999,0.986120347357756,{"$f":"+IF(AND(A817>Analyse1!$E$3,Data!A817<Analyse1!$E$4),B817,\"\")","v":""},{"$f":"+B817/Analyse1!$H$3*Analyse1!$H$4","v":1.5089918323205124E-14}]
[5140.8969999999999,0.98837280684585505,{"$f":"+IF(AND(A818>Analyse1!$E$3,Data!A818<Analyse1!$E$4),B818,\"\")","v":""},{"$f":"+B818/Analyse1!$H$3*Analyse1!$H$4","v":1.5124386154431622E-14}]
[5141.8969999999999,0.991273871506135,{"$f":"+IF(AND(A819>Analyse1!$E$3,Data!A819<Analyse1!$E$4),B819,\"\")","v":""},{"$f":"+B819/Analyse1!$H$3*Analyse1!$H$4","v":1.5168779142459156E-14}]
[5142.8969999999999,0.99394913012061803,{"$f":"+IF(AND(A820>Analyse1!$E$3,Data!A820<Analyse1!$E$4),B820,\"\")","v":""},{"$f":"+B820/Analyse1!$H$3*Analyse1!$H$4","v":1.5209716776586845E-14}]
[5143.8969999999999,0.99508937176056,{"$f":"+IF(AND(A821>Analyse1!$E$3,Data!A821<Analyse1!$E$4),B821,\"\")","v":""},{"$f":"+B821/Analyse1!$H$3*Analyse1!$H$4","v":1.5227165106561522E-14}]
[5144.8969999999999,0.993385075234691,{"$f":"+IF(AND(A822>Analyse1!$E$3,Data!A822<Analyse1!$E$4),B822,\"\")","v":""},{"$f":"+B822/Analyse1!$H$3*Analyse1!$H$4","v":1.5201085434396968E-14}]
[5145.8969999999999,0.987687299449163,{"$f":"+IF(AND(A823>Analyse1!$E$3,Data!A823<Analyse1!$E$4),B823,\"\")","v":""},{"$f":"+B823/Analyse1!$H$3*Analyse1!$H$4","v":1.5113896308386207E-14}]
[5146.8969999999999,0.97903572627362601,{"$f":"+IF(AND(A824>Analyse1!$E$3,Data!A824<Analyse1!$E$4),B824,\"\")","v":""},{"$f":"+B824/Analyse1!$H$3*Analyse1!$H$4","v":1.4981507261820145E-14}]
[5147.8969999999999,0.97005163173773901,{"$f":"+IF(AND(A825>Analyse1!$E$3,Data!A825<Analyse1!$E$4),B825,\"\")","v":""},{"$f":"+B825/Analyse1!$H$3*Analyse1!$H$4","v":1.4844029870629774E-14}]
[5148.8969999999999,0.96339143604369104,{"$f":"+IF(AND(A826>Analyse1!$E$3,Data!A826<Analyse1!$E$4),B826,\"\")","v":""},{"$f":"+B826/Analyse1!$H$3*Analyse1!$H$4","v":1.4742113497735701E-14}]
[5149.8969999999999,0.96167485001446196,{"$f":"+IF(AND(A827>Analyse1!$E$3,Data!A827<Analyse1!$E$4),B827,\"\")","v":""},{"$f":"+B827/Analyse1!$H$3*Analyse1!$H$4","v":1.4715845767792566E-14}]
[5150.8969999999999,0.96550689618807295,{"$f":"+IF(AND(A828>Analyse1!$E$3,Data!A828<Analyse1!$E$4),B828,\"\")","v":""},{"$f":"+B828/Analyse1!$H$3*Analyse1!$H$4","v":1.4774484922663958E-14}]
[5151.8969999999999,0.97247331877840604,{"$f":"+IF(AND(A829>Analyse1!$E$3,Data!A829<Analyse1!$E$4),B829,\"\")","v":""},{"$f":"+B829/Analyse1!$H$3*Analyse1!$H$4","v":1.4881087274166719E-14}]
[5152.8969999999999,0.97991186899504601,{"$f":"+IF(AND(A830>Analyse1!$E$3,Data!A830<Analyse1!$E$4),B830,\"\")","v":""},{"$f":"+B830/Analyse1!$H$3*Analyse1!$H$4","v":1.4994914268521837E-14}]
[5153.8969999999999,0.985160515792181,{"$f":"+IF(AND(A831>Analyse1!$E$3,Data!A831<Analyse1!$E$4),B831,\"\")","v":""},{"$f":"+B831/Analyse1!$H$3*Analyse1!$H$4","v":1.5075230683945504E-14}]
[5154.8969999999999,0.98640090657569202,{"$f":"+IF(AND(A832>Analyse1!$E$3,Data!A832<Analyse1!$E$4),B832,\"\")","v":""},{"$f":"+B832/Analyse1!$H$3*Analyse1!$H$4","v":1.5094211527066926E-14}]
[5155.8969999999999,0.98456947138748896,{"$f":"+IF(AND(A833>Analyse1!$E$3,Data!A833<Analyse1!$E$4),B833,\"\")","v":""},{"$f":"+B833/Analyse1!$H$3*Analyse1!$H$4","v":1.5066186339798173E-14}]
[5156.8969999999999,0.98116398627227197,{"$f":"+IF(AND(A834>Analyse1!$E$3,Data!A834<Analyse1!$E$4),B834,\"\")","v":""},{"$f":"+B834/Analyse1!$H$3*Analyse1!$H$4","v":1.5014074554074243E-14}]
[5157.8969999999999,0.97768222727474097,{"$f":"+IF(AND(A835>Analyse1!$E$3,Data!A835<Analyse1!$E$4),B835,\"\")","v":""},{"$f":"+B835/Analyse1!$H$3*Analyse1!$H$4","v":1.4960795601830125E-14}]
[5158.8969999999999,0.97544013614886804,{"$f":"+IF(AND(A836>Analyse1!$E$3,Data!A836<Analyse1!$E$4),B836,\"\")","v":""},{"$f":"+B836/Analyse1!$H$3*Analyse1!$H$4","v":1.492648643048683E-14}]
[5159.8969999999999,0.97436565854289303,{"$f":"+IF(AND(A837>Analyse1!$E$3,Data!A837<Analyse1!$E$4),B837,\"\")","v":""},{"$f":"+B837/Analyse1!$H$3*Analyse1!$H$4","v":1.4910044442084787E-14}]
[5160.8969999999999,0.973746939541694,{"$f":"+IF(AND(A838>Analyse1!$E$3,Data!A838<Analyse1!$E$4),B838,\"\")","v":""},{"$f":"+B838/Analyse1!$H$3*Analyse1!$H$4","v":1.4900576612708661E-14}]
[5161.8969999999999,0.97286870705587003,{"$f":"+IF(AND(A839>Analyse1!$E$3,Data!A839<Analyse1!$E$4),B839,\"\")","v":""},{"$f":"+B839/Analyse1!$H$3*Analyse1!$H$4","v":1.4887137627786203E-14}]
[5162.8969999999999,0.971062685144783,{"$f":"+IF(AND(A840>Analyse1!$E$3,Data!A840<Analyse1!$E$4),B840,\"\")","v":""},{"$f":"+B840/Analyse1!$H$3*Analyse1!$H$4","v":1.4859501322338046E-14}]
[5163.8969999999999,0.96868308257908697,{"$f":"+IF(AND(A841>Analyse1!$E$3,Data!A841<Analyse1!$E$4),B841,\"\")","v":""},{"$f":"+B841/Analyse1!$H$3*Analyse1!$H$4","v":1.4823087908443632E-14}]
[5164.8969999999999,0.96707514984321497,{"$f":"+IF(AND(A842>Analyse1!$E$3,Data!A842<Analyse1!$E$4),B842,\"\")","v":""},{"$f":"+B842/Analyse1!$H$3*Analyse1!$H$4","v":1.4798482824775568E-14}]
[5165.8969999999999,0.96762484304757601,{"$f":"+IF(AND(A843>Analyse1!$E$3,Data!A843<Analyse1!$E$4),B843,\"\")","v":""},{"$f":"+B843/Analyse1!$H$3*Analyse1!$H$4","v":1.4806894400075538E-14}]
[5166.8969999999999,0.97170912186265501,{"$f":"+IF(AND(A844>Analyse1!$E$3,Data!A844<Analyse1!$E$4),B844,\"\")","v":""},{"$f":"+B844/Analyse1!$H$3*Analyse1!$H$4","v":1.4869393296781071E-14}]
[5167.8969999999999,0.97942118079033802,{"$f":"+IF(AND(A845>Analyse1!$E$3,Data!A845<Analyse1!$E$4),B845,\"\")","v":""},{"$f":"+B845/Analyse1!$H$3*Analyse1!$H$4","v":1.4987405605962499E-14}]
[5168.8969999999999,0.98824838901766798,{"$f":"+IF(AND(A846>Analyse1!$E$3,Data!A846<Analyse1!$E$4),B846,\"\")","v":""},{"$f":"+B846/Analyse1!$H$3*Analyse1!$H$4","v":1.5122482274372434E-14}]
[5169.8969999999999,0.99536239130425597,{"$f":"+IF(AND(A847>Analyse1!$E$3,Data!A847<Analyse1!$E$4),B847,\"\")","v":""},{"$f":"+B847/Analyse1!$H$3*Analyse1!$H$4","v":1.523134293599791E-14}]
[5170.8969999999999,0.99793483240971004,{"$f":"+IF(AND(A848>Analyse1!$E$3,Data!A848<Analyse1!$E$4),B848,\"\")","v":""},{"$f":"+B848/Analyse1!$H$3*Analyse1!$H$4","v":1.5270707224825907E-14}]
[5171.8969999999999,0.99399148655536496,{"$f":"+IF(AND(A849>Analyse1!$E$3,Data!A849<Analyse1!$E$4),B849,\"\")","v":""},{"$f":"+B849/Analyse1!$H$3*Analyse1!$H$4","v":1.5210364927841918E-14}]
[5172.8969999999999,0.98545764266723002,{"$f":"+IF(AND(A850>Analyse1!$E$3,Data!A850<Analyse1!$E$4),B850,\"\")","v":""},{"$f":"+B850/Analyse1!$H$3*Analyse1!$H$4","v":1.507977741121681E-14}]
[5173.8969999999999,0.97537081456764396,{"$f":"+IF(AND(A851>Analyse1!$E$3,Data!A851<Analyse1!$E$4),B851,\"\")","v":""},{"$f":"+B851/Analyse1!$H$3*Analyse1!$H$4","v":1.4925425650226584E-14}]
[5174.8969999999999,0.96676859951519001,{"$f":"+IF(AND(A852>Analyse1!$E$3,Data!A852<Analyse1!$E$4),B852,\"\")","v":""},{"$f":"+B852/Analyse1!$H$3*Analyse1!$H$4","v":1.4793791896914438E-14}]
[5175.8969999999999,0.96244990143984999,{"$f":"+IF(AND(A853>Analyse1!$E$3,Data!A853<Analyse1!$E$4),B853,\"\")","v":""},{"$f":"+B853/Analyse1!$H$3*Analyse1!$H$4","v":1.4727705844239345E-14}]
[5176.8969999999999,0.96254964922976105,{"$f":"+IF(AND(A854>Analyse1!$E$3,Data!A854<Analyse1!$E$4),B854,\"\")","v":""},{"$f":"+B854/Analyse1!$H$3*Analyse1!$H$4","v":1.4729232215748374E-14}]
[5177.8969999999999,0.96553528386540199,{"$f":"+IF(AND(A855>Analyse1!$E$3,Data!A855<Analyse1!$E$4),B855,\"\")","v":""},{"$f":"+B855/Analyse1!$H$3*Analyse1!$H$4","v":1.477491931967587E-14}]
[5178.8969999999999,0.96984866741954701,{"$f":"+IF(AND(A856>Analyse1!$E$3,Data!A856<Analyse1!$E$4),B856,\"\")","v":""},{"$f":"+B856/Analyse1!$H$3*Analyse1!$H$4","v":1.4840924047905144E-14}]
[5179.8969999999999,0.97395521289939602,{"$f":"+IF(AND(A857>Analyse1!$E$3,Data!A857<Analyse1!$E$4),B857,\"\")","v":""},{"$f":"+B857/Analyse1!$H$3*Analyse1!$H$4","v":1.4903763675996669E-14}]
[5180.8969999999999,0.977236023817317,{"$f":"+IF(AND(A858>Analyse1!$E$3,Data!A858<Analyse1!$E$4),B858,\"\")","v":""},{"$f":"+B858/Analyse1!$H$3*Analyse1!$H$4","v":1.4953967658622078E-14}]
[5181.8969999999999,0.98026180362619897,{"$f":"+IF(AND(A859>Analyse1!$E$3,Data!A859<Analyse1!$E$4),B859,\"\")","v":""},{"$f":"+B859/Analyse1!$H$3*Analyse1!$H$4","v":1.5000269076397677E-14}]
[5182.8969999999999,0.98368276735509297,{"$f":"+IF(AND(A860>Analyse1!$E$3,Data!A860<Analyse1!$E$4),B860,\"\")","v":""},{"$f":"+B860/Analyse1!$H$3*Analyse1!$H$4","v":1.5052617720651875E-14}]
[5183.8969999999999,0.98814840774591195,{"$f":"+IF(AND(A861>Analyse1!$E$3,Data!A861<Analyse1!$E$4),B861,\"\")","v":""},{"$f":"+B861/Analyse1!$H$3*Analyse1!$H$4","v":1.5120952330052059E-14}]
[5184.8969999999999,0.99374893463477398,{"$f":"+IF(AND(A862>Analyse1!$E$3,Data!A862<Analyse1!$E$4),B862,\"\")","v":""},{"$f":"+B862/Analyse1!$H$3*Analyse1!$H$4","v":1.5206653323390533E-14}]
[5185.8969999999999,0.99901577697966704,{"$f":"+IF(AND(A863>Analyse1!$E$3,Data!A863<Analyse1!$E$4),B863,\"\")","v":""},{"$f":"+B863/Analyse1!$H$3*Analyse1!$H$4","v":1.5287248172709468E-14}]
[5186.8969999999999,1.0022109333622999,{"$f":"+IF(AND(A864>Analyse1!$E$3,Data!A864<Analyse1!$E$4),B864,\"\")","v":""},{"$f":"+B864/Analyse1!$H$3*Analyse1!$H$4","v":1.5336141443163715E-14}]
[5187.8969999999999,1.00159640236436,{"$f":"+IF(AND(A865>Analyse1!$E$3,Data!A865<Analyse1!$E$4),B865,\"\")","v":""},{"$f":"+B865/Analyse1!$H$3*Analyse1!$H$4","v":1.5326737699907795E-14}]
[5188.8969999999999,0.99584157920749705,{"$f":"+IF(AND(A866>Analyse1!$E$3,Data!A866<Analyse1!$E$4),B866,\"\")","v":""},{"$f":"+B866/Analyse1!$H$3*Analyse1!$H$4","v":1.5238675617389942E-14}]
[5189.8969999999999,0.986235360737302,{"$f":"+IF(AND(A867>Analyse1!$E$3,Data!A867<Analyse1!$E$4),B867,\"\")","v":""},{"$f":"+B867/Analyse1!$H$3*Analyse1!$H$4","v":1.509167829348469E-14}]
[5190.8969999999999,0.97510332296249502,{"$f":"+IF(AND(A868>Analyse1!$E$3,Data!A868<Analyse1!$E$4),B868,\"\")","v":""},{"$f":"+B868/Analyse1!$H$3*Analyse1!$H$4","v":1.4921332411014295E-14}]
[5191.8969999999999,0.96477361604540401,{"$f":"+IF(AND(A869>Analyse1!$E$3,Data!A869<Analyse1!$E$4),B869,\"\")","v":""},{"$f":"+B869/Analyse1!$H$3*Analyse1!$H$4","v":1.4763264043295073E-14}]
[5192.8969999999999,0.95749291419524396,{"$f":"+IF(AND(A870>Analyse1!$E$3,Data!A870<Analyse1!$E$4),B870,\"\")","v":""},{"$f":"+B870/Analyse1!$H$3*Analyse1!$H$4","v":1.465185249342806E-14}]
[5193.8969999999999,0.95410797493147204,{"$f":"+IF(AND(A871>Analyse1!$E$3,Data!A871<Analyse1!$E$4),B871,\"\")","v":""},{"$f":"+B871/Analyse1!$H$3*Analyse1!$H$4","v":1.4600055106672796E-14}]
[5194.8969999999999,0.95428723079938205,{"$f":"+IF(AND(A872>Analyse1!$E$3,Data!A872<Analyse1!$E$4),B872,\"\")","v":""},{"$f":"+B872/Analyse1!$H$3*Analyse1!$H$4","v":1.4602798135363934E-14}]
[5195.8969999999999,0.95766236967240903,{"$f":"+IF(AND(A873>Analyse1!$E$3,Data!A873<Analyse1!$E$4),B873,\"\")","v":""},{"$f":"+B873/Analyse1!$H$3*Analyse1!$H$4","v":1.4654445553511137E-14}]
[5196.8969999999999,0.96385931109307399,{"$f":"+IF(AND(A874>Analyse1!$E$3,Data!A874<Analyse1!$E$4),B874,\"\")","v":""},{"$f":"+B874/Analyse1!$H$3*Analyse1!$H$4","v":1.4749273066341674E-14}]
[5197.8969999999999,0.97201096874759496,{"$f":"+IF(AND(A875>Analyse1!$E$3,Data!A875<Analyse1!$E$4),B875,\"\")","v":""},{"$f":"+B875/Analyse1!$H$3*Analyse1!$H$4","v":1.487401225110248E-14}]
[5198.8969999999999,0.98038695995445302,{"$f":"+IF(AND(A876>Analyse1!$E$3,Data!A876<Analyse1!$E$4),B876,\"\")","v":""},{"$f":"+B876/Analyse1!$H$3*Analyse1!$H$4","v":1.5002184257213128E-14}]
[5199.8969999999999,0.98716970806735505,{"$f":"+IF(AND(A877>Analyse1!$E$3,Data!A877<Analyse1!$E$4),B877,\"\")","v":""},{"$f":"+B877/Analyse1!$H$3*Analyse1!$H$4","v":1.5105975965096256E-14}]
[5200.8969999999999,0.99054163703716103,{"$f":"+IF(AND(A878>Analyse1!$E$3,Data!A878<Analyse1!$E$4),B878,\"\")","v":""},{"$f":"+B878/Analyse1!$H$3*Analyse1!$H$4","v":1.5157574264312327E-14}]
[5201.8969999999999,0.989305441962675,{"$f":"+IF(AND(A879>Analyse1!$E$3,Data!A879<Analyse1!$E$4),B879,\"\")","v":""},{"$f":"+B879/Analyse1!$H$3*Analyse1!$H$4","v":1.5138657625227126E-14}]
[5202.8969999999999,0.98467178158958701,{"$f":"+IF(AND(A880>Analyse1!$E$3,Data!A880<Analyse1!$E$4),B880,\"\")","v":""},{"$f":"+B880/Analyse1!$H$3*Analyse1!$H$4","v":1.5067751922130417E-14}]
[5203.8969999999999,0.97843556096767303,{"$f":"+IF(AND(A881>Analyse1!$E$3,Data!A881<Analyse1!$E$4),B881,\"\")","v":""},{"$f":"+B881/Analyse1!$H$3*Analyse1!$H$4","v":1.4972323346822836E-14}]
[5204.8969999999999,0.97239168514671104,{"$f":"+IF(AND(A882>Analyse1!$E$3,Data!A882<Analyse1!$E$4),B882,\"\")","v":""},{"$f":"+B882/Analyse1!$H$3*Analyse1!$H$4","v":1.4879838091105031E-14}]
[5205.8969999999999,0.96823185331593298,{"$f":"+IF(AND(A883>Analyse1!$E$3,Data!A883<Analyse1!$E$4),B883,\"\")","v":""},{"$f":"+B883/Analyse1!$H$3*Analyse1!$H$4","v":1.4816183058803039E-14}]
[5206.8969999999999,0.96669335401184298,{"$f":"+IF(AND(A884>Analyse1!$E$3,Data!A884<Analyse1!$E$4),B884,\"\")","v":""},{"$f":"+B884/Analyse1!$H$3*Analyse1!$H$4","v":1.4792640466967031E-14}]
[5207.8969999999999,0.96799719968936304,{"$f":"+IF(AND(A885>Analyse1!$E$3,Data!A885<Analyse1!$E$4),B885,\"\")","v":""},{"$f":"+B885/Analyse1!$H$3*Analyse1!$H$4","v":1.4812592316487792E-14}]
[5208.8969999999999,0.97235933573121103,{"$f":"+IF(AND(A886>Analyse1!$E$3,Data!A886<Analyse1!$E$4),B886,\"\")","v":""},{"$f":"+B886/Analyse1!$H$3*Analyse1!$H$4","v":1.4879343070351222E-14}]
[5209.8969999999999,0.97995055430208,{"$f":"+IF(AND(A887>Analyse1!$E$3,Data!A887<Analyse1!$E$4),B887,\"\")","v":""},{"$f":"+B887/Analyse1!$H$3*Analyse1!$H$4","v":1.4995506243046054E-14}]
[5210.8969999999999,0.98963882606049502,{"$f":"+IF(AND(A888>Analyse1!$E$3,Data!A888<Analyse1!$E$4),B888,\"\")","v":""},{"$f":"+B888/Analyse1!$H$3*Analyse1!$H$4","v":1.5143759171726838E-14}]
[5211.8969999999999,0.99882298182508,{"$f":"+IF(AND(A889>Analyse1!$E$3,Data!A889<Analyse1!$E$4),B889,\"\")","v":""},{"$f":"+B889/Analyse1!$H$3*Analyse1!$H$4","v":1.5284297961669181E-14}]
[5212.8969999999999,1.00482328493927,{"$f":"+IF(AND(A890>Analyse1!$E$3,Data!A890<Analyse1!$E$4),B890,\"\")","v":""},{"$f":"+B890/Analyse1!$H$3*Analyse1!$H$4","v":1.5376116454361483E-14}]
[5213.8969999999999,1.0049652910059701,{"$f":"+IF(AND(A891>Analyse1!$E$3,Data!A891<Analyse1!$E$4),B891,\"\")","v":""},{"$f":"+B891/Analyse1!$H$3*Analyse1!$H$4","v":1.5378289475082177E-14}]
[5214.8969999999999,0.998132805127947,{"$f":"+IF(AND(A892>Analyse1!$E$3,Data!A892<Analyse1!$E$4),B892,\"\")","v":""},{"$f":"+B892/Analyse1!$H$3*Analyse1!$H$4","v":1.5273736664545332E-14}]
[5215.8969999999999,0.98692983536421697,{"$f":"+IF(AND(A893>Analyse1!$E$3,Data!A893<Analyse1!$E$4),B893,\"\")","v":""},{"$f":"+B893/Analyse1!$H$3*Analyse1!$H$4","v":1.5102305358858368E-14}]
[5216.8969999999999,0.97450380328163899,{"$f":"+IF(AND(A894>Analyse1!$E$3,Data!A894<Analyse1!$E$4),B894,\"\")","v":""},{"$f":"+B894/Analyse1!$H$3*Analyse1!$H$4","v":1.4912158375571751E-14}]
[5217.8969999999999,0.96400213044706695,{"$f":"+IF(AND(A895>Analyse1!$E$3,Data!A895<Analyse1!$E$4),B895,\"\")","v":""},{"$f":"+B895/Analyse1!$H$3*Analyse1!$H$4","v":1.4751458532235873E-14}]
[5218.8969999999999,0.95808202491116501,{"$f":"+IF(AND(A896>Analyse1!$E$3,Data!A896<Analyse1!$E$4),B896,\"\")","v":""},{"$f":"+B896/Analyse1!$H$3*Analyse1!$H$4","v":1.4660867247672199E-14}]
[5219.8969999999999,0.95673277669179502,{"$f":"+IF(AND(A897>Analyse1!$E$3,Data!A897<Analyse1!$E$4),B897,\"\")","v":""},{"$f":"+B897/Analyse1!$H$3*Analyse1!$H$4","v":1.4640220634424053E-14}]
[5220.8969999999999,0.95904045833289298,{"$f":"+IF(AND(A898>Analyse1!$E$3,Data!A898<Analyse1!$E$4),B898,\"\")","v":""},{"$f":"+B898/Analyse1!$H$3*Analyse1!$H$4","v":1.4675533492102565E-14}]
[5221.8969999999999,0.96409042335059003,{"$f":"+IF(AND(A899>Analyse1!$E$3,Data!A899<Analyse1!$E$4),B899,\"\")","v":""},{"$f":"+B899/Analyse1!$H$3*Analyse1!$H$4","v":1.4752809617533171E-14}]
[5222.8969999999999,0.97094608656714698,{"$f":"+IF(AND(A900>Analyse1!$E$3,Data!A900<Analyse1!$E$4),B900,\"\")","v":""},{"$f":"+B900/Analyse1!$H$3*Analyse1!$H$4","v":1.485771709486739E-14}]
[5223.8969999999999,0.97836722173256196,{"$f":"+IF(AND(A901>Analyse1!$E$3,Data!A901<Analyse1!$E$4),B901,\"\")","v":""},{"$f":"+B901/Analyse1!$H$3*Analyse1!$H$4","v":1.4971277598726408E-14}]
[5224.8969999999999,0.98489184700333499,{"$f":"+IF(AND(A902>Analyse1!$E$3,Data!A902<Analyse1!$E$4),B902,\"\")","v":""},{"$f":"+B902/Analyse1!$H$3*Analyse1!$H$4","v":1.5071119431104466E-14}]
[5225.8969999999999,0.98905292767090303,{"$f":"+IF(AND(A903>Analyse1!$E$3,Data!A903<Analyse1!$E$4),B903,\"\")","v":""},{"$f":"+B903/Analyse1!$H$3*Analyse1!$H$4","v":1.5134793573492979E-14}]
[5226.8969999999999,0.98940772632906504,{"$f":"+IF(AND(A904>Analyse1!$E$3,Data!A904<Analyse1!$E$4),B904,\"\")","v":""},{"$f":"+B904/Analyse1!$H$3*Analyse1!$H$4","v":1.5140222812213378E-14}]
[5227.8969999999999,0.98588461674974903,{"$f":"+IF(AND(A905>Analyse1!$E$3,Data!A905<Analyse1!$E$4),B905,\"\")","v":""},{"$f":"+B905/Analyse1!$H$3*Analyse1!$H$4","v":1.5086311100587077E-14}]
[5228.8969999999999,0.98048877262883505,{"$f":"+IF(AND(A906>Analyse1!$E$3,Data!A906<Analyse1!$E$4),B906,\"\")","v":""},{"$f":"+B906/Analyse1!$H$3*Analyse1!$H$4","v":1.5003742226222498E-14}]
[5229.8969999999999,0.97539847510269195,{"$f":"+IF(AND(A907>Analyse1!$E$3,Data!A907<Analyse1!$E$4),B907,\"\")","v":""},{"$f":"+B907/Analyse1!$H$3*Analyse1!$H$4","v":1.4925848920282581E-14}]
[5230.8969999999999,0.97279181249042301,{"$f":"+IF(AND(A908>Analyse1!$E$3,Data!A908<Analyse1!$E$4),B908,\"\")","v":""},{"$f":"+B908/Analyse1!$H$3*Analyse1!$H$4","v":1.4885960963380889E-14}]
[5231.8969999999999,0.97396058198207702,{"$f":"+IF(AND(A909>Analyse1!$E$3,Data!A909<Analyse1!$E$4),B909,\"\")","v":""},{"$f":"+B909/Analyse1!$H$3*Analyse1!$H$4","v":1.490384583535921E-14}]
[5232.8969999999999,0.97726815436945702,{"$f":"+IF(AND(A910>Analyse1!$E$3,Data!A910<Analyse1!$E$4),B910,\"\")","v":""},{"$f":"+B910/Analyse1!$H$3*Analyse1!$H$4","v":1.4954459330261112E-14}]
[5233.8969999999999,0.98047391235152104,{"$f":"+IF(AND(A911>Analyse1!$E$3,Data!A911<Analyse1!$E$4),B911,\"\")","v":""},{"$f":"+B911/Analyse1!$H$3*Analyse1!$H$4","v":1.5003514829666358E-14}]
[5234.8969999999999,0.98133723862722599,{"$f":"+IF(AND(A912>Analyse1!$E$3,Data!A912<Analyse1!$E$4),B912,\"\")","v":""},{"$f":"+B912/Analyse1!$H$3*Analyse1!$H$4","v":1.5016725715154698E-14}]
[5235.8969999999999,0.97799835353119902,{"$f":"+IF(AND(A913>Analyse1!$E$3,Data!A913<Analyse1!$E$4),B913,\"\")","v":""},{"$f":"+B913/Analyse1!$H$3*Analyse1!$H$4","v":1.496563306350765E-14}]
[5236.8969999999999,0.97154242315972505,{"$f":"+IF(AND(A914>Analyse1!$E$3,Data!A914<Analyse1!$E$4),B914,\"\")","v":""},{"$f":"+B914/Analyse1!$H$3*Analyse1!$H$4","v":1.4866842421709346E-14}]
[5237.8969999999999,0.96442732309919299,{"$f":"+IF(AND(A915>Analyse1!$E$3,Data!A915<Analyse1!$E$4),B915,\"\")","v":""},{"$f":"+B915/Analyse1!$H$3*Analyse1!$H$4","v":1.4757964961607704E-14}]
[5238.8969999999999,0.95911861891816497,{"$f":"+IF(AND(A916>Analyse1!$E$3,Data!A916<Analyse1!$E$4),B916,\"\")","v":""},{"$f":"+B916/Analyse1!$H$3*Analyse1!$H$4","v":1.4676729529534516E-14}]
[5239.8969999999999,0.95800156475782505,{"$f":"+IF(AND(A917>Analyse1!$E$3,Data!A917<Analyse1!$E$4),B917,\"\")","v":""},{"$f":"+B917/Analyse1!$H$3*Analyse1!$H$4","v":1.4659636021538973E-14}]
[5240.8969999999999,0.96168160876931097,{"$f":"+IF(AND(A918>Analyse1!$E$3,Data!A918<Analyse1!$E$4),B918,\"\")","v":""},{"$f":"+B918/Analyse1!$H$3*Analyse1!$H$4","v":1.4715949192348112E-14}]
[5241.8969999999999,0.96902102831289905,{"$f":"+IF(AND(A919>Analyse1!$E$3,Data!A919<Analyse1!$E$4),B919,\"\")","v":""},{"$f":"+B919/Analyse1!$H$3*Analyse1!$H$4","v":1.4828259258507102E-14}]
[5242.8969999999999,0.97880911735494003,{"$f":"+IF(AND(A920>Analyse1!$E$3,Data!A920<Analyse1!$E$4),B920,\"\")","v":""},{"$f":"+B920/Analyse1!$H$3*Analyse1!$H$4","v":1.4978039622111215E-14}]
[5243.8969999999999,0.989834137979694,{"$f":"+IF(AND(A921>Analyse1!$E$3,Data!A921<Analyse1!$E$4),B921,\"\")","v":""},{"$f":"+B921/Analyse1!$H$3*Analyse1!$H$4","v":1.5146747895077043E-14}]
[5244.8969999999999,1.0007306140783701,{"$f":"+IF(AND(A922>Analyse1!$E$3,Data!A922<Analyse1!$E$4),B922,\"\")","v":""},{"$f":"+B922/Analyse1!$H$3*Analyse1!$H$4","v":1.531348913997717E-14}]
[5245.8969999999999,1.0098175351277601,{"$f":"+IF(AND(A923>Analyse1!$E$3,Data!A923<Analyse1!$E$4),B923,\"\")","v":""},{"$f":"+B923/Analyse1!$H$3*Analyse1!$H$4","v":1.5452540014256477E-14}]
[5246.8969999999999,1.0153751541463401,{"$f":"+IF(AND(A924>Analyse1!$E$3,Data!A924<Analyse1!$E$4),B924,\"\")","v":""},{"$f":"+B924/Analyse1!$H$3*Analyse1!$H$4","v":1.5537584418102896E-14}]
[5247.8969999999999,1.01568372415258,{"$f":"+IF(AND(A925>Analyse1!$E$3,Data!A925<Analyse1!$E$4),B925,\"\")","v":""},{"$f":"+B925/Analyse1!$H$3*Analyse1!$H$4","v":1.5542306251704267E-14}]
[5248.8969999999999,1.0096212819378101,{"$f":"+IF(AND(A926>Analyse1!$E$3,Data!A926<Analyse1!$E$4),B926,\"\")","v":""},{"$f":"+B926/Analyse1!$H$3*Analyse1!$H$4","v":1.5449536887290332E-14}]
[5249.8969999999999,0.99882810588415005,{"$f":"+IF(AND(A927>Analyse1!$E$3,Data!A927<Analyse1!$E$4),B927,\"\")","v":""},{"$f":"+B927/Analyse1!$H$3*Analyse1!$H$4","v":1.5284376371604699E-14}]
[5250.8969999999999,0.98574177356826398,{"$f":"+IF(AND(A928>Analyse1!$E$3,Data!A928<Analyse1!$E$4),B928,\"\")","v":""},{"$f":"+B928/Analyse1!$H$3*Analyse1!$H$4","v":1.508412527007723E-14}]
[5251.8969999999999,0.97279993932708098,{"$f":"+IF(AND(A929>Analyse1!$E$3,Data!A929<Analyse1!$E$4),B929,\"\")","v":""},{"$f":"+B929/Analyse1!$H$3*Analyse1!$H$4","v":1.488608532274709E-14}]
[5252.8969999999999,0.96231056983045005,{"$f":"+IF(AND(A930>Analyse1!$E$3,Data!A930<Analyse1!$E$4),B930,\"\")","v":""},{"$f":"+B930/Analyse1!$H$3*Analyse1!$H$4","v":1.4725573748890825E-14}]
[5253.8969999999999,0.95511329521787003,{"$f":"+IF(AND(A931>Analyse1!$E$3,Data!A931<Analyse1!$E$4),B931,\"\")","v":""},{"$f":"+B931/Analyse1!$H$3*Analyse1!$H$4","v":1.461543882839708E-14}]
[5254.8969999999999,0.951118757068524,{"$f":"+IF(AND(A932>Analyse1!$E$3,Data!A932<Analyse1!$E$4),B932,\"\")","v":""},{"$f":"+B932/Analyse1!$H$3*Analyse1!$H$4","v":1.455431317109362E-14}]
[5255.8969999999999,0.95022291669564096,{"$f":"+IF(AND(A933>Analyse1!$E$3,Data!A933<Analyse1!$E$4),B933,\"\")","v":""},{"$f":"+B933/Analyse1!$H$3*Analyse1!$H$4","v":1.4540604744841535E-14}]
[5256.8969999999999,0.95231196297850296,{"$f":"+IF(AND(A934>Analyse1!$E$3,Data!A934<Analyse1!$E$4),B934,\"\")","v":""},{"$f":"+B934/Analyse1!$H$3*Analyse1!$H$4","v":1.4572571976697411E-14}]
[5257.8969999999999,0.95688298318411902,{"$f":"+IF(AND(A935>Analyse1!$E$3,Data!A935<Analyse1!$E$4),B935,\"\")","v":""},{"$f":"+B935/Analyse1!$H$3*Analyse1!$H$4","v":1.4642519140592045E-14}]
[5258.8969999999999,0.96292222116784798,{"$f":"+IF(AND(A936>Analyse1!$E$3,Data!A936<Analyse1!$E$4),B936,\"\")","v":""},{"$f":"+B936/Analyse1!$H$3*Analyse1!$H$4","v":1.4734933426691149E-14}]
[5259.8969999999999,0.96938123296955203,{"$f":"+IF(AND(A937>Analyse1!$E$3,Data!A937<Analyse1!$E$4),B937,\"\")","v":""},{"$f":"+B937/Analyse1!$H$3*Analyse1!$H$4","v":1.4833771221487174E-14}]
[5260.8969999999999,0.97521188829729499,{"$f":"+IF(AND(A938>Analyse1!$E$3,Data!A938<Analyse1!$E$4),B938,\"\")","v":""},{"$f":"+B938/Analyse1!$H$3*Analyse1!$H$4","v":1.4922993711320339E-14}]
[5261.8969999999999,0.97963174606431502,{"$f":"+IF(AND(A939>Analyse1!$E$3,Data!A939<Analyse1!$E$4),B939,\"\")","v":""},{"$f":"+B939/Analyse1!$H$3*Analyse1!$H$4","v":1.4990627740861684E-14}]
[5262.8969999999999,0.98260751697586102,{"$f":"+IF(AND(A940>Analyse1!$E$3,Data!A940<Analyse1!$E$4),B940,\"\")","v":""},{"$f":"+B940/Analyse1!$H$3*Analyse1!$H$4","v":1.5036163907034624E-14}]
[5263.8969999999999,0.98423700264390201,{"$f":"+IF(AND(A941>Analyse1!$E$3,Data!A941<Analyse1!$E$4),B941,\"\")","v":""},{"$f":"+B941/Analyse1!$H$3*Analyse1!$H$4","v":1.5061098800331832E-14}]
[5264.8969999999999,0.98461800468040905,{"$f":"+IF(AND(A942>Analyse1!$E$3,Data!A942<Analyse1!$E$4),B942,\"\")","v":""},{"$f":"+B942/Analyse1!$H$3*Analyse1!$H$4","v":1.5066929011246017E-14}]
[5265.8969999999999,0.98389273725384996,{"$f":"+IF(AND(A943>Analyse1!$E$3,Data!A943<Analyse1!$E$4),B943,\"\")","v":""},{"$f":"+B943/Analyse1!$H$3*Analyse1!$H$4","v":1.5055830744935439E-14}]
[5266.8969999999999,0.98249257891059805,{"$f":"+IF(AND(A944>Analyse1!$E$3,Data!A944<Analyse1!$E$4),B944,\"\")","v":""},{"$f":"+B944/Analyse1!$H$3*Analyse1!$H$4","v":1.5034405089237491E-14}]
[5267.8969999999999,0.98096466067286703,{"$f":"+IF(AND(A945>Analyse1!$E$3,Data!A945<Analyse1!$E$4),B945,\"\")","v":""},{"$f":"+B945/Analyse1!$H$3*Analyse1!$H$4","v":1.5011024412149066E-14}]
[5268.8969999999999,0.97985642067213397,{"$f":"+IF(AND(A946>Analyse1!$E$3,Data!A946<Analyse1!$E$4),B946,\"\")","v":""},{"$f":"+B946/Analyse1!$H$3*Analyse1!$H$4","v":1.4994065781147914E-14}]
[5269.8969999999999,0.97968737523896299,{"$f":"+IF(AND(A947>Analyse1!$E$3,Data!A947<Analyse1!$E$4),B947,\"\")","v":""},{"$f":"+B947/Analyse1!$H$3*Analyse1!$H$4","v":1.4991478995684763E-14}]
[5270.8969999999999,0.98048918792268602,{"$f":"+IF(AND(A948>Analyse1!$E$3,Data!A948<Analyse1!$E$4),B948,\"\")","v":""},{"$f":"+B948/Analyse1!$H$3*Analyse1!$H$4","v":1.5003748581177356E-14}]
[5271.8969999999999,0.981878568702375,{"$f":"+IF(AND(A949>Analyse1!$E$3,Data!A949<Analyse1!$E$4),B949,\"\")","v":""},{"$f":"+B949/Analyse1!$H$3*Analyse1!$H$4","v":1.5025009315266774E-14}]
[5272.8969999999999,0.98345900542359199,{"$f":"+IF(AND(A950>Analyse1!$E$3,Data!A950<Analyse1!$E$4),B950,\"\")","v":""},{"$f":"+B950/Analyse1!$H$3*Analyse1!$H$4","v":1.5049193646420734E-14}]
[5273.8969999999999,0.98483460039615001,{"$f":"+IF(AND(A951>Analyse1!$E$3,Data!A951<Analyse1!$E$4),B951,\"\")","v":""},{"$f":"+B951/Analyse1!$H$3*Analyse1!$H$4","v":1.5070243425828826E-14}]
[5274.8969999999999,0.98566379624724898,{"$f":"+IF(AND(A952>Analyse1!$E$3,Data!A952<Analyse1!$E$4),B952,\"\")","v":""},{"$f":"+B952/Analyse1!$H$3*Analyse1!$H$4","v":1.508293203701158E-14}]
[5275.8969999999999,0.98570122756921796,{"$f":"+IF(AND(A953>Analyse1!$E$3,Data!A953<Analyse1!$E$4),B953,\"\")","v":""},{"$f":"+B953/Analyse1!$H$3*Analyse1!$H$4","v":1.508350482266878E-14}]
[5276.8969999999999,0.98471137939993003,{"$f":"+IF(AND(A954>Analyse1!$E$3,Data!A954<Analyse1!$E$4),B954,\"\")","v":""},{"$f":"+B954/Analyse1!$H$3*Analyse1!$H$4","v":1.5068357860062287E-14}]
[5277.8969999999999,0.98245873681770302,{"$f":"+IF(AND(A955>Analyse1!$E$3,Data!A955<Analyse1!$E$4),B955,\"\")","v":""},{"$f":"+B955/Analyse1!$H$3*Analyse1!$H$4","v":1.5033887227072858E-14}]
[5278.8969999999999,0.97890104263341104,{"$f":"+IF(AND(A956>Analyse1!$E$3,Data!A956<Analyse1!$E$4),B956,\"\")","v":""},{"$f":"+B956/Analyse1!$H$3*Analyse1!$H$4","v":1.497944629113258E-14}]
[5279.8969999999999,0.97475534339326098,{"$f":"+IF(AND(A957>Analyse1!$E$3,Data!A957<Analyse1!$E$4),B957,\"\")","v":""},{"$f":"+B957/Analyse1!$H$3*Analyse1!$H$4","v":1.4916007520100161E-14}]
[5280.8969999999999,0.97092514050367595,{"$f":"+IF(AND(A958>Analyse1!$E$3,Data!A958<Analyse1!$E$4),B958,\"\")","v":""},{"$f":"+B958/Analyse1!$H$3*Analyse1!$H$4","v":1.4857396571730618E-14}]
[5281.8969999999999,0.96831393537107602,{"$f":"+IF(AND(A959>Analyse1!$E$3,Data!A959<Analyse1!$E$4),B959,\"\")","v":""},{"$f":"+B959/Analyse1!$H$3*Analyse1!$H$4","v":1.4817439103778916E-14}]
[5282.8969999999999,0.96772909767227799,{"$f":"+IF(AND(A960>Analyse1!$E$3,Data!A960<Analyse1!$E$4),B960,\"\")","v":""},{"$f":"+B960/Analyse1!$H$3*Analyse1!$H$4","v":1.4808489736563406E-14}]
[5283.8969999999999,0.96907684617818801,{"$f":"+IF(AND(A961>Analyse1!$E$3,Data!A961<Analyse1!$E$4),B961,\"\")","v":""},{"$f":"+B961/Analyse1!$H$3*Analyse1!$H$4","v":1.4829113400732688E-14}]
[5284.8969999999999,0.97177058948633699,{"$f":"+IF(AND(A962>Analyse1!$E$3,Data!A962<Analyse1!$E$4),B962,\"\")","v":""},{"$f":"+B962/Analyse1!$H$3*Analyse1!$H$4","v":1.4870333893355687E-14}]
[5285.8969999999999,0.97521872017450795,{"$f":"+IF(AND(A963>Analyse1!$E$3,Data!A963<Analyse1!$E$4),B963,\"\")","v":""},{"$f":"+B963/Analyse1!$H$3*Analyse1!$H$4","v":1.4923098254816895E-14}]
[5286.8969999999999,0.97883527118140201,{"$f":"+IF(AND(A964>Analyse1!$E$3,Data!A964<Analyse1!$E$4),B964,\"\")","v":""},{"$f":"+B964/Analyse1!$H$3*Analyse1!$H$4","v":1.4978439836046775E-14}]
[5287.8969999999999,0.98220043836207405,{"$f":"+IF(AND(A965>Analyse1!$E$3,Data!A965<Analyse1!$E$4),B965,\"\")","v":""},{"$f":"+B965/Analyse1!$H$3*Analyse1!$H$4","v":1.5029934664275736E-14}]
[5288.8969999999999,0.98508376227012295,{"$f":"+IF(AND(A966>Analyse1!$E$3,Data!A966<Analyse1!$E$4),B966,\"\")","v":""},{"$f":"+B966/Analyse1!$H$3*Analyse1!$H$4","v":1.5074056177829718E-14}]
[5289.8969999999999,0.98726508498046095,{"$f":"+IF(AND(A967>Analyse1!$E$3,Data!A967<Analyse1!$E$4),B967,\"\")","v":""},{"$f":"+B967/Analyse1!$H$3*Analyse1!$H$4","v":1.5107435452097557E-14}]
[5290.8969999999999,0.988524151174907,{"$f":"+IF(AND(A968>Analyse1!$E$3,Data!A968<Analyse1!$E$4),B968,\"\")","v":""},{"$f":"+B968/Analyse1!$H$3*Analyse1!$H$4","v":1.5126702072128883E-14}]
[5291.8969999999999,0.98861027015791803,{"$f":"+IF(AND(A969>Analyse1!$E$3,Data!A969<Analyse1!$E$4),B969,\"\")","v":""},{"$f":"+B969/Analyse1!$H$3*Analyse1!$H$4","v":1.5128019891422637E-14}]
[5292.8969999999999,0.98719926035085603,{"$f":"+IF(AND(A970>Analyse1!$E$3,Data!A970<Analyse1!$E$4),B970,\"\")","v":""},{"$f":"+B970/Analyse1!$H$3*Analyse1!$H$4","v":1.5106428183271745E-14}]
[5293.8969999999999,0.98395606881263598,{"$f":"+IF(AND(A971>Analyse1!$E$3,Data!A971<Analyse1!$E$4),B971,\"\")","v":""},{"$f":"+B971/Analyse1!$H$3*Analyse1!$H$4","v":1.5056799864021076E-14}]
[5294.8969999999999,0.97854564260216803,{"$f":"+IF(AND(A972>Analyse1!$E$3,Data!A972<Analyse1!$E$4),B972,\"\")","v":""},{"$f":"+B972/Analyse1!$H$3*Analyse1!$H$4","v":1.4974007850015437E-14}]
[5295.8969999999999,0.97095351867301105,{"$f":"+IF(AND(A973>Analyse1!$E$3,Data!A973<Analyse1!$E$4),B973,\"\")","v":""},{"$f":"+B973/Analyse1!$H$3*Analyse1!$H$4","v":1.4857830823248269E-14}]
[5296.8969999999999,0.96293145889794696,{"$f":"+IF(AND(A974>Analyse1!$E$3,Data!A974<Analyse1!$E$4),B974,\"\")","v":""},{"$f":"+B974/Analyse1!$H$3*Analyse1!$H$4","v":1.4735074785292117E-14}]
[5297.8969999999999,0.95683620600020902,{"$f":"+IF(AND(A975>Analyse1!$E$3,Data!A975<Analyse1!$E$4),B975,\"\")","v":""},{"$f":"+B975/Analyse1!$H$3*Analyse1!$H$4","v":1.4641803341667013E-14}]
[5298.8969999999999,0.95502503755151402,{"$f":"+IF(AND(A976>Analyse1!$E$3,Data!A976<Analyse1!$E$4),B976,\"\")","v":""},{"$f":"+B976/Analyse1!$H$3*Analyse1!$H$4","v":1.46140882823098E-14}]
[5299.8969999999999,0.95962625711877003,{"$f":"+IF(AND(A977>Analyse1!$E$3,Data!A977<Analyse1!$E$4),B977,\"\")","v":""},{"$f":"+B977/Analyse1!$H$3*Analyse1!$H$4","v":1.4684497566169591E-14}]
[5300.8969999999999,0.96954974605869604,{"$f":"+IF(AND(A978>Analyse1!$E$3,Data!A978<Analyse1!$E$4),B978,\"\")","v":0.96954974605869604},{"$f":"+B978/Analyse1!$H$3*Analyse1!$H$4","v":1.4836349860857499E-14}]
[5301.8969999999999,0.98132994985520805,{"$f":"+IF(AND(A979>Analyse1!$E$3,Data!A979<Analyse1!$E$4),B979,\"\")","v":0.98132994985520805},{"$f":"+B979/Analyse1!$H$3*Analyse1!$H$4","v":1.501661418011263E-14}]
[5302.8969999999999,0.99144582736536901,{"$f":"+IF(AND(A980>Analyse1!$E$3,Data!A980<Analyse1!$E$4),B980,\"\")","v":0.99144582736536901},{"$f":"+B980/Analyse1!$H$3*Analyse1!$H$4","v":1.5171410464161413E-14}]
[5303.8969999999999,0.99641733343083605,{"$f":"+IF(AND(A981>Analyse1!$E$3,Data!A981<Analyse1!$E$4),B981,\"\")","v":0.99641733343083605},{"$f":"+B981/Analyse1!$H$3*Analyse1!$H$4","v":1.5247485986456665E-14}]
[5304.8969999999999,0.99514397759829898,{"$f":"+IF(AND(A982>Analyse1!$E$3,Data!A982<Analyse1!$E$4),B982,\"\")","v":0.99514397759829898},{"$f":"+B982/Analyse1!$H$3*Analyse1!$H$4","v":1.5228000701966951E-14}]
[5305.8969999999999,0.99016818631981895,{"$f":"+IF(AND(A983>Analyse1!$E$3,Data!A983<Analyse1!$E$4),B983,\"\")","v":0.99016818631981895},{"$f":"+B983/Analyse1!$H$3*Analyse1!$H$4","v":1.5151859606017797E-14}]
[5306.8969999999999,0.984340509253959,{"$f":"+IF(AND(A984>Analyse1!$E$3,Data!A984<Analyse1!$E$4),B984,\"\")","v":0.984340509253959},{"$f":"+B984/Analyse1!$H$3*Analyse1!$H$4","v":1.5062682690468422E-14}]
[5307.8969999999999,0.98051131730013596,{"$f":"+IF(AND(A985>Analyse1!$E$3,Data!A985<Analyse1!$E$4),B985,\"\")","v":0.98051131730013596},{"$f":"+B985/Analyse1!$H$3*Analyse1!$H$4","v":1.5004087211750344E-14}]
[5308.8969999999999,0.98054475264000995,{"$f":"+IF(AND(A986>Analyse1!$E$3,Data!A986<Analyse1!$E$4),B986,\"\")","v":0.98054475264000995},{"$f":"+B986/Analyse1!$H$3*Analyse1!$H$4","v":1.5004598849654542E-14}]
[5309.8969999999999,0.98300742068744595,{"$f":"+IF(AND(A987>Analyse1!$E$3,Data!A987<Analyse1!$E$4),B987,\"\")","v":0.98300742068744595},{"$f":"+B987/Analyse1!$H$3*Analyse1!$H$4","v":1.5042283357222557E-14}]
[5310.8969999999999,0.985777544268165,{"$f":"+IF(AND(A988>Analyse1!$E$3,Data!A988<Analyse1!$E$4),B988,\"\")","v":0.985777544268165},{"$f":"+B988/Analyse1!$H$3*Analyse1!$H$4","v":1.508467264438232E-14}]
[5311.8969999999999,0.98673334620788899,{"$f":"+IF(AND(A989>Analyse1!$E$3,Data!A989<Analyse1!$E$4),B989,\"\")","v":0.98673334620788899},{"$f":"+B989/Analyse1!$H$3*Analyse1!$H$4","v":1.5099298621061782E-14}]
[5312.8969999999999,0.98407824694433599,{"$f":"+IF(AND(A990>Analyse1!$E$3,Data!A990<Analyse1!$E$4),B990,\"\")","v":0.98407824694433599},{"$f":"+B990/Analyse1!$H$3*Analyse1!$H$4","v":1.5058669471552424E-14}]
[5313.8969999999999,0.97856323701349501,{"$f":"+IF(AND(A991>Analyse1!$E$3,Data!A991<Analyse1!$E$4),B991,\"\")","v":0.97856323701349501},{"$f":"+B991/Analyse1!$H$3*Analyse1!$H$4","v":1.4974277085135249E-14}]
[5314.8969999999999,0.97214008939280705,{"$f":"+IF(AND(A992>Analyse1!$E$3,Data!A992<Analyse1!$E$4),B992,\"\")","v":0.97214008939280705},{"$f":"+B992/Analyse1!$H$3*Analyse1!$H$4","v":1.4875988095121225E-14}]
[5315.8969999999999,0.96676762570308705,{"$f":"+IF(AND(A993>Analyse1!$E$3,Data!A993<Analyse1!$E$4),B993,\"\")","v":0.96676762570308705},{"$f":"+B993/Analyse1!$H$3*Analyse1!$H$4","v":1.4793776995340676E-14}]
[5316.8969999999999,0.96434083383146696,{"$f":"+IF(AND(A994>Analyse1!$E$3,Data!A994<Analyse1!$E$4),B994,\"\")","v":0.96434083383146696},{"$f":"+B994/Analyse1!$H$3*Analyse1!$H$4","v":1.4756641476102797E-14}]
[5317.8969999999999,0.965313555025196,{"$f":"+IF(AND(A995>Analyse1!$E$3,Data!A995<Analyse1!$E$4),B995,\"\")","v":0.965313555025196},{"$f":"+B995/Analyse1!$H$3*Analyse1!$H$4","v":1.4771526356436068E-14}]
[5318.8969999999999,0.96871334208801196,{"$f":"+IF(AND(A996>Analyse1!$E$3,Data!A996<Analyse1!$E$4),B996,\"\")","v":0.96871334208801196},{"$f":"+B996/Analyse1!$H$3*Analyse1!$H$4","v":1.4823550948801133E-14}]
[5319.8969999999999,0.97350688582929301,{"$f":"+IF(AND(A997>Analyse1!$E$3,Data!A997<Analyse1!$E$4),B997,\"\")","v":0.97350688582929301},{"$f":"+B997/Analyse1!$H$3*Analyse1!$H$4","v":1.4896903236611089E-14}]
[5320.8969999999999,0.97866128708344202,{"$f":"+IF(AND(A998>Analyse1!$E$3,Data!A998<Analyse1!$E$4),B998,\"\")","v":0.97866128708344202},{"$f":"+B998/Analyse1!$H$3*Analyse1!$H$4","v":1.4975777477608691E-14}]
[5321.8969999999999,0.983207483022975,{"$f":"+IF(AND(A999>Analyse1!$E$3,Data!A999<Analyse1!$E$4),B999,\"\")","v":0.983207483022975},{"$f":"+B999/Analyse1!$H$3*Analyse1!$H$4","v":1.5045344772911594E-14}]
[5322.8969999999999,0.98630888949887996,{"$f":"+IF(AND(A1000>Analyse1!$E$3,Data!A1000<Analyse1!$E$4),B1000,\"\")","v":0.98630888949887996},{"$f":"+B1000/Analyse1!$H$3*Analyse1!$H$4","v":1.5092803453318975E-14}]
[5323.8969999999999,0.98714540063175304,{"$f":"+IF(AND(A1001>Analyse1!$E$3,Data!A1001<Analyse1!$E$4),B1001,\"\")","v":0.98714540063175304},{"$f":"+B1001/Analyse1!$H$3*Analyse1!$H$4","v":1.5105604005204277E-14}]
[5324.8969999999999,0.98489691054218997,{"$f":"+IF(AND(A1002>Analyse1!$E$3,Data!A1002<Analyse1!$E$4),B1002,\"\")","v":0.98489691054218997},{"$f":"+B1002/Analyse1!$H$3*Analyse1!$H$4","v":1.5071196914940951E-14}]
[5325.8969999999999,0.97917195023097603,{"$f":"+IF(AND(A1003>Analyse1!$E$3,Data!A1003<Analyse1!$E$4),B1003,\"\")","v":0.97917195023097603},{"$f":"+B1003/Analyse1!$H$3*Analyse1!$H$4","v":1.4983591802916557E-14}]
[5326.8969999999999,0.97158371293787504,{"$f":"+IF(AND(A1004>Analyse1!$E$3,Data!A1004<Analyse1!$E$4),B1004,\"\")","v":0.97158371293787504},{"$f":"+B1004/Analyse1!$H$3*Analyse1!$H$4","v":1.4867474250655514E-14}]
[5327.8969999999999,0.96433095408548797,{"$f":"+IF(AND(A1005>Analyse1!$E$3,Data!A1005<Analyse1!$E$4),B1005,\"\")","v":0.96433095408548797},{"$f":"+B1005/Analyse1!$H$3*Analyse1!$H$4","v":1.4756490293176419E-14}]
[5328.8969999999999,0.95961249995574804,{"$f":"+IF(AND(A1006>Analyse1!$E$3,Data!A1006<Analyse1!$E$4),B1006,\"\")","v":0.95961249995574804},{"$f":"+B1006/Analyse1!$H$3*Analyse1!$H$4","v":1.4684287049809272E-14}]
[5329.8969999999999,0.95945120480920698,{"$f":"+IF(AND(A1007>Analyse1!$E$3,Data!A1007<Analyse1!$E$4),B1007,\"\")","v":0.95945120480920698},{"$f":"+B1007/Analyse1!$H$3*Analyse1!$H$4","v":1.4681818861627421E-14}]
[5330.8969999999999,0.96384859788520905,{"$f":"+IF(AND(A1008>Analyse1!$E$3,Data!A1008<Analyse1!$E$4),B1008,\"\")","v":0.96384859788520905},{"$f":"+B1008/Analyse1!$H$3*Analyse1!$H$4","v":1.4749109129523927E-14}]
[5331.8969999999999,0.97151359761081102,{"$f":"+IF(AND(A1009>Analyse1!$E$3,Data!A1009<Analyse1!$E$4),B1009,\"\")","v":0.97151359761081102},{"$f":"+B1009/Analyse1!$H$3*Analyse1!$H$4","v":1.486640132425111E-14}]
[5332.8969999999999,0.98113408839898597,{"$f":"+IF(AND(A1010>Analyse1!$E$3,Data!A1010<Analyse1!$E$4),B1010,\"\")","v":0.98113408839898597},{"$f":"+B1010/Analyse1!$H$3*Analyse1!$H$4","v":1.5013617047577056E-14}]
[5333.8969999999999,0.99139311180501599,{"$f":"+IF(AND(A1011>Analyse1!$E$3,Data!A1011<Analyse1!$E$4),B1011,\"\")","v":0.99139311180501599},{"$f":"+B1011/Analyse1!$H$3*Analyse1!$H$4","v":1.5170603794364749E-14}]
[5334.8969999999999,1.0007761973195599,{"$f":"+IF(AND(A1012>Analyse1!$E$3,Data!A1012<Analyse1!$E$4),B1012,\"\")","v":1.0007761973195599},{"$f":"+B1012/Analyse1!$H$3*Analyse1!$H$4","v":1.5314186668821702E-14}]
[5335.8969999999999,1.00750681838502,{"$f":"+IF(AND(A1013>Analyse1!$E$3,Data!A1013<Analyse1!$E$4),B1013,\"\")","v":1.00750681838502},{"$f":"+B1013/Analyse1!$H$3*Analyse1!$H$4","v":1.5417180712514617E-14}]
[5336.8969999999999,1.00979037238595,{"$f":"+IF(AND(A1014>Analyse1!$E$3,Data!A1014<Analyse1!$E$4),B1014,\"\")","v":1.00979037238595},{"$f":"+B1014/Analyse1!$H$3*Analyse1!$H$4","v":1.5452124361586449E-14}]
[5337.8969999999999,1.0058335625983701,{"$f":"+IF(AND(A1015>Analyse1!$E$3,Data!A1015<Analyse1!$E$4),B1015,\"\")","v":1.0058335625983701},{"$f":"+B1015/Analyse1!$H$3*Analyse1!$H$4","v":1.5391576035334968E-14}]
[5338.8969999999999,0.99505721954967297,{"$f":"+IF(AND(A1016>Analyse1!$E$3,Data!A1016<Analyse1!$E$4),B1016,\"\")","v":0.99505721954967297},{"$f":"+B1016/Analyse1!$H$3*Analyse1!$H$4","v":1.5226673103493645E-14}]
[5339.8969999999999,0.98034564031315696,{"$f":"+IF(AND(A1017>Analyse1!$E$3,Data!A1017<Analyse1!$E$4),B1017,\"\")","v":0.98034564031315696},{"$f":"+B1017/Analyse1!$H$3*Analyse1!$H$4","v":1.5001551971291869E-14}]
[5340.8969999999999,0.96519666701159701,{"$f":"+IF(AND(A1018>Analyse1!$E$3,Data!A1018<Analyse1!$E$4),B1018,\"\")","v":0.96519666701159701},{"$f":"+B1018/Analyse1!$H$3*Analyse1!$H$4","v":1.4769737699926853E-14}]
[5341.8969999999999,0.95310814176776004,{"$f":"+IF(AND(A1019>Analyse1!$E$3,Data!A1019<Analyse1!$E$4),B1019,\"\")","v":0.95310814176776004},{"$f":"+B1019/Analyse1!$H$3*Analyse1!$H$4","v":1.4584755350595688E-14}]
[5342.8969999999999,0.94713481254554699,{"$f":"+IF(AND(A1020>Analyse1!$E$3,Data!A1020<Analyse1!$E$4),B1020,\"\")","v":0.94713481254554699},{"$f":"+B1020/Analyse1!$H$3*Analyse1!$H$4","v":1.4493349620734899E-14}]
[5343.8969999999999,0.94741007037281399,{"$f":"+IF(AND(A1021>Analyse1!$E$3,Data!A1021<Analyse1!$E$4),B1021,\"\")","v":0.94741007037281399},{"$f":"+B1021/Analyse1!$H$3*Analyse1!$H$4","v":1.4497561701078248E-14}]
[5344.8969999999999,0.95288447936863396,{"$f":"+IF(AND(A1022>Analyse1!$E$3,Data!A1022<Analyse1!$E$4),B1022,\"\")","v":0.95288447936863396},{"$f":"+B1022/Analyse1!$H$3*Analyse1!$H$4","v":1.4581332799439706E-14}]
[5345.8969999999999,0.96250525655303498,{"$f":"+IF(AND(A1023>Analyse1!$E$3,Data!A1023<Analyse1!$E$4),B1023,\"\")","v":0.96250525655303498},{"$f":"+B1023/Analyse1!$H$3*Analyse1!$H$4","v":1.472855290528922E-14}]
[5346.8969999999999,0.97516257541069096,{"$f":"+IF(AND(A1024>Analyse1!$E$3,Data!A1024<Analyse1!$E$4),B1024,\"\")","v":0.97516257541069096},{"$f":"+B1024/Analyse1!$H$3*Analyse1!$H$4","v":1.4922239110289004E-14}]
[5347.8969999999999,0.98873299637230905,{"$f":"+IF(AND(A1025>Analyse1!$E$3,Data!A1025<Analyse1!$E$4),B1025,\"\")","v":0.98873299637230905},{"$f":"+B1025/Analyse1!$H$3*Analyse1!$H$4","v":1.5129897885884713E-14}]
[5348.8969999999999,1.0002218579336,{"$f":"+IF(AND(A1026>Analyse1!$E$3,Data!A1026<Analyse1!$E$4),B1026,\"\")","v":1.0002218579336},{"$f":"+B1026/Analyse1!$H$3*Analyse1!$H$4","v":1.5305703996214973E-14}]
[5349.8969999999999,1.00660613801143,{"$f":"+IF(AND(A1027>Analyse1!$E$3,Data!A1027<Analyse1!$E$4),B1027,\"\")","v":1.00660613801143},{"$f":"+B1027/Analyse1!$H$3*Analyse1!$H$4","v":1.5403398223075876E-14}]
[5350.8969999999999,1.0048925869352201,{"$f":"+IF(AND(A1028>Analyse1!$E$3,Data!A1028<Analyse1!$E$4),B1028,\"\")","v":1.0048925869352201},{"$f":"+B1028/Analyse1!$H$3*Analyse1!$H$4","v":1.5377176934921815E-14}]
[5351.8969999999999,0.99481378009625199,{"$f":"+IF(AND(A1029>Analyse1!$E$3,Data!A1029<Analyse1!$E$4),B1029,\"\")","v":0.99481378009625199},{"$f":"+B1029/Analyse1!$H$3*Analyse1!$H$4","v":1.5222947917740595E-14}]
[5352.8969999999999,0.98098015949838602,{"$f":"+IF(AND(A1030>Analyse1!$E$3,Data!A1030<Analyse1!$E$4),B1030,\"\")","v":0.98098015949838602},{"$f":"+B1030/Analyse1!$H$3*Analyse1!$H$4","v":1.5011261579967187E-14}]
[5353.8969999999999,0.96850859098740505,{"$f":"+IF(AND(A1031>Analyse1!$E$3,Data!A1031<Analyse1!$E$4),B1031,\"\")","v":0.96850859098740505},{"$f":"+B1031/Analyse1!$H$3*Analyse1!$H$4","v":1.4820417784179771E-14}]
[5354.8969999999999,0.96251594039567001,{"$f":"+IF(AND(A1032>Analyse1!$E$3,Data!A1032<Analyse1!$E$4),B1032,\"\")","v":0.96251594039567001},{"$f":"+B1032/Analyse1!$H$3*Analyse1!$H$4","v":1.4728716392751143E-14}]
[5355.8969999999999,0.966359790436501,{"$f":"+IF(AND(A1033>Analyse1!$E$3,Data!A1033<Analyse1!$E$4),B1033,\"\")","v":0.966359790436501},{"$f":"+B1033/Analyse1!$H$3*Analyse1!$H$4","v":1.4787536174046806E-14}]
[5356.8969999999999,0.97640211369132202,{"$f":"+IF(AND(A1034>Analyse1!$E$3,Data!A1034<Analyse1!$E$4),B1034,\"\")","v":0.97640211369132202},{"$f":"+B1034/Analyse1!$H$3*Analyse1!$H$4","v":1.4941206908147883E-14}]
[5357.8969999999999,0.98726629961744605,{"$f":"+IF(AND(A1035>Analyse1!$E$3,Data!A1035<Analyse1!$E$4),B1035,\"\")","v":0.98726629961744605},{"$f":"+B1035/Analyse1!$H$3*Analyse1!$H$4","v":1.5107454038848095E-14}]
[5358.8969999999999,0.99357573767218199,{"$f":"+IF(AND(A1036>Analyse1!$E$3,Data!A1036<Analyse1!$E$4),B1036,\"\")","v":0.99357573767218199},{"$f":"+B1036/Analyse1!$H$3*Analyse1!$H$4","v":1.5204003009941121E-14}]
[5359.8969999999999,0.99062543162070604,{"$f":"+IF(AND(A1037>Analyse1!$E$3,Data!A1037<Analyse1!$E$4),B1037,\"\")","v":0.99062543162070604},{"$f":"+B1037/Analyse1!$H$3*Analyse1!$H$4","v":1.5158856514927081E-14}]
[5360.8969999999999,0.980092618248947,{"$f":"+IF(AND(A1038>Analyse1!$E$3,Data!A1038<Analyse1!$E$4),B1038,\"\")","v":0.980092618248947},{"$f":"+B1038/Analyse1!$H$3*Analyse1!$H$4","v":1.499768014946695E-14}]
[5361.8969999999999,0.967182979554296,{"$f":"+IF(AND(A1039>Analyse1!$E$3,Data!A1039<Analyse1!$E$4),B1039,\"\")","v":0.967182979554296},{"$f":"+B1039/Analyse1!$H$3*Analyse1!$H$4","v":1.4800132868340117E-14}]
[5362.8969999999999,0.95713942039657796,{"$f":"+IF(AND(A1040>Analyse1!$E$3,Data!A1040<Analyse1!$E$4),B1040,\"\")","v":0.95713942039657796},{"$f":"+B1040/Analyse1!$H$3*Analyse1!$H$4","v":1.4646443222070948E-14}]
[5363.8969999999999,0.95506160612495505,{"$f":"+IF(AND(A1041>Analyse1!$E$3,Data!A1041<Analyse1!$E$4),B1041,\"\")","v":0.95506160612495505},{"$f":"+B1041/Analyse1!$H$3*Analyse1!$H$4","v":1.4614647865922389E-14}]
[5364.8969999999999,0.96173992856295598,{"$f":"+IF(AND(A1042>Analyse1!$E$3,Data!A1042<Analyse1!$E$4),B1042,\"\")","v":0.96173992856295598},{"$f":"+B1042/Analyse1!$H$3*Analyse1!$H$4","v":1.4716841619854638E-14}]
[5365.8969999999999,0.97300267965426501,{"$f":"+IF(AND(A1043>Analyse1!$E$3,Data!A1043<Analyse1!$E$4),B1043,\"\")","v":0.97300267965426501},{"$f":"+B1043/Analyse1!$H$3*Analyse1!$H$4","v":1.4889187717892086E-14}]
[5366.8969999999999,0.98440353161482697,{"$f":"+IF(AND(A1044>Analyse1!$E$3,Data!A1044<Analyse1!$E$4),B1044,\"\")","v":0.98440353161482697},{"$f":"+B1044/Analyse1!$H$3*Analyse1!$H$4","v":1.506364707811196E-14}]
[5367.8969999999999,0.99150175863330803,{"$f":"+IF(AND(A1045>Analyse1!$E$3,Data!A1045<Analyse1!$E$4),B1045,\"\")","v":0.99150175863330803},{"$f":"+B1045/Analyse1!$H$3*Analyse1!$H$4","v":1.5172266341709394E-14}]
[5368.8969999999999,0.99171754322502603,{"$f":"+IF(AND(A1046>Analyse1!$E$3,Data!A1046<Analyse1!$E$4),B1046,\"\")","v":0.99171754322502603},{"$f":"+B1046/Analyse1!$H$3*Analyse1!$H$4","v":1.5175568344221723E-14}]
[5369.8969999999999,0.98701585509781198,{"$f":"+IF(AND(A1047>Analyse1!$E$3,Data!A1047<Analyse1!$E$4),B1047,\"\")","v":0.98701585509781198},{"$f":"+B1047/Analyse1!$H$3*Analyse1!$H$4","v":1.5103621659406888E-14}]
[5370.8969999999999,0.98004249291394496,{"$f":"+IF(AND(A1048>Analyse1!$E$3,Data!A1048<Analyse1!$E$4),B1048,\"\")","v":0.98004249291394496},{"$f":"+B1048/Analyse1!$H$3*Analyse1!$H$4","v":1.4996913116099136E-14}]
[5371.8969999999999,0.97344325533570297,{"$f":"+IF(AND(A1049>Analyse1!$E$3,Data!A1049<Analyse1!$E$4),B1049,\"\")","v":0.97344325533570297},{"$f":"+B1049/Analyse1!$H$3*Analyse1!$H$4","v":1.4895929543132689E-14}]
[5372.8969999999999,0.96945485138919896,{"$f":"+IF(AND(A1050>Analyse1!$E$3,Data!A1050<Analyse1!$E$4),B1050,\"\")","v":0.96945485138919896},{"$f":"+B1050/Analyse1!$H$3*Analyse1!$H$4","v":1.4834897753296942E-14}]
[5373.8969999999999,0.96803243328444,{"$f":"+IF(AND(A1051>Analyse1!$E$3,Data!A1051<Analyse1!$E$4),B1051,\"\")","v":0.96803243328444},{"$f":"+B1051/Analyse1!$H$3*Analyse1!$H$4","v":1.4813131471848867E-14}]
[5374.8969999999999,0.96834048474529399,{"$f":"+IF(AND(A1052>Analyse1!$E$3,Data!A1052<Analyse1!$E$4),B1052,\"\")","v":0.96834048474529399},{"$f":"+B1052/Analyse1!$H$3*Analyse1!$H$4","v":1.4817845370508486E-14}]
[5375.8969999999999,0.969542716476268,{"$f":"+IF(AND(A1053>Analyse1!$E$3,Data!A1053<Analyse1!$E$4),B1053,\"\")","v":0.969542716476268},{"$f":"+B1053/Analyse1!$H$3*Analyse1!$H$4","v":1.483624229201464E-14}]
[5376.8969999999999,0.97084613997819802,{"$f":"+IF(AND(A1054>Analyse1!$E$3,Data!A1054<Analyse1!$E$4),B1054,\"\")","v":0.97084613997819802},{"$f":"+B1054/Analyse1!$H$3*Analyse1!$H$4","v":1.4856187681274046E-14}]
[5377.8969999999999,0.97207592128418097,{"$f":"+IF(AND(A1055>Analyse1!$E$3,Data!A1055<Analyse1!$E$4),B1055,\"\")","v":0.97207592128418097},{"$f":"+B1055/Analyse1!$H$3*Analyse1!$H$4","v":1.4875006174891392E-14}]
[5378.8969999999999,0.97351831033289904,{"$f":"+IF(AND(A1056>Analyse1!$E$3,Data!A1056<Analyse1!$E$4),B1056,\"\")","v":0.97351831033289904},{"$f":"+B1056/Analyse1!$H$3*Analyse1!$H$4","v":1.4897078057896096E-14}]
[5379.8969999999999,0.97547059497237099,{"$f":"+IF(AND(A1057>Analyse1!$E$3,Data!A1057<Analyse1!$E$4),B1057,\"\")","v":0.97547059497237099},{"$f":"+B1057/Analyse1!$H$3*Analyse1!$H$4","v":1.4926952520817603E-14}]
[5380.8969999999999,0.97822548323348502,{"$f":"+IF(AND(A1058>Analyse1!$E$3,Data!A1058<Analyse1!$E$4),B1058,\"\")","v":0.97822548323348502},{"$f":"+B1058/Analyse1!$H$3*Analyse1!$H$4","v":1.496910867240818E-14}]
[5381.8969999999999,0.98180215477439103,{"$f":"+IF(AND(A1059>Analyse1!$E$3,Data!A1059<Analyse1!$E$4),B1059,\"\")","v":0.98180215477439103},{"$f":"+B1059/Analyse1!$H$3*Analyse1!$H$4","v":1.5023840005724459E-14}]
[5382.8969999999999,0.98579654356787205,{"$f":"+IF(AND(A1060>Analyse1!$E$3,Data!A1060<Analyse1!$E$4),B1060,\"\")","v":0.98579654356787205},{"$f":"+B1060/Analyse1!$H$3*Analyse1!$H$4","v":1.5084963377538315E-14}]
[5383.8969999999999,0.98976825976095995,{"$f":"+IF(AND(A1061>Analyse1!$E$3,Data!A1061<Analyse1!$E$4),B1061,\"\")","v":0.98976825976095995},{"$f":"+B1061/Analyse1!$H$3*Analyse1!$H$4","v":1.5145739806213814E-14}]
[5384.8969999999999,0.99327691913069105,{"$f":"+IF(AND(A1062>Analyse1!$E$3,Data!A1062<Analyse1!$E$4),B1062,\"\")","v":0.99327691913069105},{"$f":"+B1062/Analyse1!$H$3*Analyse1!$H$4","v":1.51994303962671E-14}]
[5385.8969999999999,0.99591991901598598,{"$f":"+IF(AND(A1063>Analyse1!$E$3,Data!A1063<Analyse1!$E$4),B1063,\"\")","v":0.99591991901598598},{"$f":"+B1063/Analyse1!$H$3*Analyse1!$H$4","v":1.5239874397350949E-14}]
[5386.8969999999999,0.99742249250334103,{"$f":"+IF(AND(A1064>Analyse1!$E$3,Data!A1064<Analyse1!$E$4),B1064,\"\")","v":0.99742249250334103},{"$f":"+B1064/Analyse1!$H$3*Analyse1!$H$4","v":1.5262867241236133E-14}]
[5387.8969999999999,0.99753688328967105,{"$f":"+IF(AND(A1065>Analyse1!$E$3,Data!A1065<Analyse1!$E$4),B1065,\"\")","v":0.99753688328967105},{"$f":"+B1065/Analyse1!$H$3*Analyse1!$H$4","v":1.5264617684401892E-14}]
[5388.8969999999999,0.99601533507189,{"$f":"+IF(AND(A1066>Analyse1!$E$3,Data!A1066<Analyse1!$E$4),B1066,\"\")","v":0.99601533507189},{"$f":"+B1066/Analyse1!$H$3*Analyse1!$H$4","v":1.5241334483327446E-14}]
[5389.8969999999999,0.99264837065216704,{"$f":"+IF(AND(A1067>Analyse1!$E$3,Data!A1067<Analyse1!$E$4),B1067,\"\")","v":0.99264837065216704},{"$f":"+B1067/Analyse1!$H$3*Analyse1!$H$4","v":1.5189812153191075E-14}]
[5390.8969999999999,0.98753032045574496,{"$f":"+IF(AND(A1068>Analyse1!$E$3,Data!A1068<Analyse1!$E$4),B1068,\"\")","v":0.98753032045574496},{"$f":"+B1068/Analyse1!$H$3*Analyse1!$H$4","v":1.5111494167313382E-14}]
[5391.8969999999999,0.98090031394073895,{"$f":"+IF(AND(A1069>Analyse1!$E$3,Data!A1069<Analyse1!$E$4),B1069,\"\")","v":0.98090031394073895},{"$f":"+B1069/Analyse1!$H$3*Analyse1!$H$4","v":1.5010039758567201E-14}]
[5392.8969999999999,0.97299837035659098,{"$f":"+IF(AND(A1070>Analyse1!$E$3,Data!A1070<Analyse1!$E$4),B1070,\"\")","v":0.97299837035659098},{"$f":"+B1070/Analyse1!$H$3*Analyse1!$H$4","v":1.488912177568726E-14}]
[5393.8969999999999,0.96410218990527297,{"$f":"+IF(AND(A1071>Analyse1!$E$3,Data!A1071<Analyse1!$E$4),B1071,\"\")","v":0.96410218990527297},{"$f":"+B1071/Analyse1!$H$3*Analyse1!$H$4","v":1.475298967298947E-14}]
[5394.8969999999999,0.95535624598362501,{"$f":"+IF(AND(A1072>Analyse1!$E$3,Data!A1072<Analyse1!$E$4),B1072,\"\")","v":0.95535624598362501},{"$f":"+B1072/Analyse1!$H$3*Analyse1!$H$4","v":1.4619156536100429E-14}]
[5395.8969999999999,0.94877184701381001,{"$f":"+IF(AND(A1073>Analyse1!$E$3,Data!A1073<Analyse1!$E$4),B1073,\"\")","v":0.94877184701381001},{"$f":"+B1073/Analyse1!$H$3*Analyse1!$H$4","v":1.4518400028106119E-14}]
[5396.8969999999999,0.94639799473661301,{"$f":"+IF(AND(A1074>Analyse1!$E$3,Data!A1074<Analyse1!$E$4),B1074,\"\")","v":0.94639799473661301},{"$f":"+B1074/Analyse1!$H$3*Analyse1!$H$4","v":1.4482074606903486E-14}]
[5397.8969999999999,0.95027319980486902,{"$f":"+IF(AND(A1075>Analyse1!$E$3,Data!A1075<Analyse1!$E$4),B1075,\"\")","v":0.95027319980486902},{"$f":"+B1075/Analyse1!$H$3*Analyse1!$H$4","v":1.4541374192519316E-14}]
[5398.8969999999999,0.96072766115650599,{"$f":"+IF(AND(A1076>Analyse1!$E$3,Data!A1076<Analyse1!$E$4),B1076,\"\")","v":0.96072766115650599},{"$f":"+B1076/Analyse1!$H$3*Analyse1!$H$4","v":1.4701351591152259E-14}]
[5399.8969999999999,0.97450676816356396,{"$f":"+IF(AND(A1077>Analyse1!$E$3,Data!A1077<Analyse1!$E$4),B1077,\"\")","v":0.97450676816356396},{"$f":"+B1077/Analyse1!$H$3*Analyse1!$H$4","v":1.4912203745111286E-14}]
[5400.8969999999999,0.98790415134507603,{"$f":"+IF(AND(A1078>Analyse1!$E$3,Data!A1078<Analyse1!$E$4),B1078,\"\")","v":0.98790415134507603},{"$f":"+B1078/Analyse1!$H$3*Analyse1!$H$4","v":1.5117214643117183E-14}]
[5401.8969999999999,0.99721344122007405,{"$f":"+IF(AND(A1079>Analyse1!$E$3,Data!A1079<Analyse1!$E$4),B1079,\"\")","v":0.99721344122007405},{"$f":"+B1079/Analyse1!$H$3*Analyse1!$H$4","v":1.5259668273890704E-14}]
[5402.8969999999999,0.99958064398925595,{"$f":"+IF(AND(A1080>Analyse1!$E$3,Data!A1080<Analyse1!$E$4),B1080,\"\")","v":0.99958064398925595},{"$f":"+B1080/Analyse1!$H$3*Analyse1!$H$4","v":1.5295891942266612E-14}]
[5403.8969999999999,0.99618655278396095,{"$f":"+IF(AND(A1081>Analyse1!$E$3,Data!A1081<Analyse1!$E$4),B1081,\"\")","v":0.99618655278396095},{"$f":"+B1081/Analyse1!$H$3*Analyse1!$H$4","v":1.5243954509673682E-14}]
[5404.8969999999999,0.98940462660552597,{"$f":"+IF(AND(A1082>Analyse1!$E$3,Data!A1082<Analyse1!$E$4),B1082,\"\")","v":0.98940462660552597},{"$f":"+B1082/Analyse1!$H$3*Analyse1!$H$4","v":1.5140175379285793E-14}]
[5405.8969999999999,0.98160850267384003,{"$f":"+IF(AND(A1083>Analyse1!$E$3,Data!A1083<Analyse1!$E$4),B1083,\"\")","v":0.98160850267384003},{"$f":"+B1083/Analyse1!$H$3*Analyse1!$H$4","v":1.5020876681432185E-14}]
[5406.8969999999999,0.97503686976273696,{"$f":"+IF(AND(A1084>Analyse1!$E$3,Data!A1084<Analyse1!$E$4),B1084,\"\")","v":0.97503686976273696},{"$f":"+B1084/Analyse1!$H$3*Analyse1!$H$4","v":1.4920315523613732E-14}]
[5407.8969999999999,0.97035568327291799,{"$f":"+IF(AND(A1085>Analyse1!$E$3,Data!A1085<Analyse1!$E$4),B1085,\"\")","v":0.97035568327291799},{"$f":"+B1085/Analyse1!$H$3*Analyse1!$H$4","v":1.4848682561190503E-14}]
[5408.8969999999999,0.96721434948240903,{"$f":"+IF(AND(A1086>Analyse1!$E$3,Data!A1086<Analyse1!$E$4),B1086,\"\")","v":0.96721434948240903},{"$f":"+B1086/Analyse1!$H$3*Analyse1!$H$4","v":1.4800612900675215E-14}]
[5409.8969999999999,0.96524524740979301,{"$f":"+IF(AND(A1087>Analyse1!$E$3,Data!A1087<Analyse1!$E$4),B1087,\"\")","v":0.96524524740979301},{"$f":"+B1087/Analyse1!$H$3*Analyse1!$H$4","v":1.4770481092194188E-14}]
[5410.8969999999999,0.96409347425644298,{"$f":"+IF(AND(A1088>Analyse1!$E$3,Data!A1088<Analyse1!$E$4),B1088,\"\")","v":0.96409347425644298},{"$f":"+B1088/Analyse1!$H$3*Analyse1!$H$4","v":1.475285630343744E-14}]
[5411.8969999999999,0.96393557815684805,{"$f":"+IF(AND(A1089>Analyse1!$E$3,Data!A1089<Analyse1!$E$4),B1089,\"\")","v":0.96393557815684805},{"$f":"+B1089/Analyse1!$H$3*Analyse1!$H$4","v":1.4750440128522456E-14}]
[5412.8969999999999,0.965660702453637,{"$f":"+IF(AND(A1090>Analyse1!$E$3,Data!A1090<Analyse1!$E$4),B1090,\"\")","v":0.965660702453637},{"$f":"+B1090/Analyse1!$H$3*Analyse1!$H$4","v":1.4776838513674606E-14}]
[5413.8969999999999,0.97020791734160805,{"$f":"+IF(AND(A1091>Analyse1!$E$3,Data!A1091<Analyse1!$E$4),B1091,\"\")","v":0.97020791734160805},{"$f":"+B1091/Analyse1!$H$3*Analyse1!$H$4","v":1.4846421401241423E-14}]
[5414.8969999999999,0.97851526699673397,{"$f":"+IF(AND(A1092>Analyse1!$E$3,Data!A1092<Analyse1!$E$4),B1092,\"\")","v":0.97851526699673397},{"$f":"+B1092/Analyse1!$H$3*Analyse1!$H$4","v":1.4973543033113274E-14}]
[5415.8969999999999,0.99046993473617195,{"$f":"+IF(AND(A1093>Analyse1!$E$3,Data!A1093<Analyse1!$E$4),B1093,\"\")","v":0.99046993473617195},{"$f":"+B1093/Analyse1!$H$3*Analyse1!$H$4","v":1.5156477053542456E-14}]
[5416.8969999999999,1.0029262512914801,{"$f":"+IF(AND(A1094>Analyse1!$E$3,Data!A1094<Analyse1!$E$4),B1094,\"\")","v":1.0029262512914801},{"$f":"+B1094/Analyse1!$H$3*Analyse1!$H$4","v":1.5347087459190433E-14}]
[5417.8969999999999,1.01219465719638,{"$f":"+IF(AND(A1095>Analyse1!$E$3,Data!A1095<Analyse1!$E$4),B1095,\"\")","v":1.01219465719638},{"$f":"+B1095/Analyse1!$H$3*Analyse1!$H$4","v":1.5488915470818017E-14}]
[5418.8969999999999,1.01458559298458,{"$f":"+IF(AND(A1096>Analyse1!$E$3,Data!A1096<Analyse1!$E$4),B1096,\"\")","v":1.01458559298458},{"$f":"+B1096/Analyse1!$H$3*Analyse1!$H$4","v":1.5525502309185806E-14}]
[5419.8969999999999,1.0072336982982699,{"$f":"+IF(AND(A1097>Analyse1!$E$3,Data!A1097<Analyse1!$E$4),B1097,\"\")","v":1.0072336982982699},{"$f":"+B1097/Analyse1!$H$3*Analyse1!$H$4","v":1.5413001344537342E-14}]
[5420.8969999999999,0.99277639632858306,{"$f":"+IF(AND(A1098>Analyse1!$E$3,Data!A1098<Analyse1!$E$4),B1098,\"\")","v":0.99277639632858306},{"$f":"+B1098/Analyse1!$H$3*Analyse1!$H$4","v":1.5191771241658895E-14}]
[5421.8969999999999,0.97610463002270997,{"$f":"+IF(AND(A1099>Analyse1!$E$3,Data!A1099<Analyse1!$E$4),B1099,\"\")","v":0.97610463002270997},{"$f":"+B1099/Analyse1!$H$3*Analyse1!$H$4","v":1.4936654721111209E-14}]
[5422.8969999999999,0.96211613193845102,{"$f":"+IF(AND(A1100>Analyse1!$E$3,Data!A1100<Analyse1!$E$4),B1100,\"\")","v":0.96211613193845102},{"$f":"+B1100/Analyse1!$H$3*Analyse1!$H$4","v":1.4722598400174955E-14}]
[5423.8969999999999,0.95547497413586702,{"$f":"+IF(AND(A1101>Analyse1!$E$3,Data!A1101<Analyse1!$E$4),B1101,\"\")","v":0.95547497413586702},{"$f":"+B1101/Analyse1!$H$3*Analyse1!$H$4","v":1.4620973350979868E-14}]
[5424.8969999999999,0.95662223774544797,{"$f":"+IF(AND(A1102>Analyse1!$E$3,Data!A1102<Analyse1!$E$4),B1102,\"\")","v":0.95662223774544797},{"$f":"+B1102/Analyse1!$H$3*Analyse1!$H$4","v":1.4638529133304153E-14}]
[5425.8969999999999,0.96233107572621901,{"$f":"+IF(AND(A1103>Analyse1!$E$3,Data!A1103<Analyse1!$E$4),B1103,\"\")","v":0.96233107572621901},{"$f":"+B1103/Analyse1!$H$3*Analyse1!$H$4","v":1.4725887536445383E-14}]
[5426.8969999999999,0.96925268459026603,{"$f":"+IF(AND(A1104>Analyse1!$E$3,Data!A1104<Analyse1!$E$4),B1104,\"\")","v":0.96925268459026603},{"$f":"+B1104/Analyse1!$H$3*Analyse1!$H$4","v":1.4831804134458494E-14}]
[5427.8969999999999,0.97405644525153801,{"$f":"+IF(AND(A1105>Analyse1!$E$3,Data!A1105<Analyse1!$E$4),B1105,\"\")","v":0.97405644525153801},{"$f":"+B1105/Analyse1!$H$3*Analyse1!$H$4","v":1.490531276473577E-14}]
[5428.8969999999999,0.97513631917643895,{"$f":"+IF(AND(A1106>Analyse1!$E$3,Data!A1106<Analyse1!$E$4),B1106,\"\")","v":0.97513631917643895},{"$f":"+B1106/Analyse1!$H$3*Analyse1!$H$4","v":1.4921837329277792E-14}]
[5429.8969999999999,0.97400614406450203,{"$f":"+IF(AND(A1107>Analyse1!$E$3,Data!A1107<Analyse1!$E$4),B1107,\"\")","v":0.97400614406450203},{"$f":"+B1107/Analyse1!$H$3*Analyse1!$H$4","v":1.4904543040425784E-14}]
[5430.8969999999999,0.97250812934740005,{"$f":"+IF(AND(A1108>Analyse1!$E$3,Data!A1108<Analyse1!$E$4),B1108,\"\")","v":0.97250812934740005},{"$f":"+B1108/Analyse1!$H$3*Analyse1!$H$4","v":1.4881619956251933E-14}]
[5431.8969999999999,0.97248448445680602,{"$f":"+IF(AND(A1109>Analyse1!$E$3,Data!A1109<Analyse1!$E$4),B1109,\"\")","v":0.97248448445680602},{"$f":"+B1109/Analyse1!$H$3*Analyse1!$H$4","v":1.4881258134828433E-14}]
[5432.8969999999999,0.97517509335175101,{"$f":"+IF(AND(A1110>Analyse1!$E$3,Data!A1110<Analyse1!$E$4),B1110,\"\")","v":0.97517509335175101},{"$f":"+B1110/Analyse1!$H$3*Analyse1!$H$4","v":1.4922430663691868E-14}]
[5433.8969999999999,0.97939583996413804,{"$f":"+IF(AND(A1111>Analyse1!$E$3,Data!A1111<Analyse1!$E$4),B1111,\"\")","v":0.97939583996413804},{"$f":"+B1111/Analyse1!$H$3*Analyse1!$H$4","v":1.4987017832808215E-14}]
[5434.8969999999999,0.98335291129597002,{"$f":"+IF(AND(A1112>Analyse1!$E$3,Data!A1112<Analyse1!$E$4),B1112,\"\")","v":0.98335291129597002},{"$f":"+B1112/Analyse1!$H$3*Analyse1!$H$4","v":1.504757016129067E-14}]
[5435.8969999999999,0.98525249434419904,{"$f":"+IF(AND(A1113>Analyse1!$E$3,Data!A1113<Analyse1!$E$4),B1113,\"\")","v":0.98525249434419904},{"$f":"+B1113/Analyse1!$H$3*Analyse1!$H$4","v":1.5076638168175152E-14}]
[5436.8969999999999,0.98356072050832999,{"$f":"+IF(AND(A1114>Analyse1!$E$3,Data!A1114<Analyse1!$E$4),B1114,\"\")","v":0.98356072050832999},{"$f":"+B1114/Analyse1!$H$3*Analyse1!$H$4","v":1.5050750122083208E-14}]
[5437.8969999999999,0.97924797113224604,{"$f":"+IF(AND(A1115>Analyse1!$E$3,Data!A1115<Analyse1!$E$4),B1115,\"\")","v":0.97924797113224604},{"$f":"+B1115/Analyse1!$H$3*Analyse1!$H$4","v":1.4984755098242625E-14}]
[5438.8969999999999,0.97468424789736896,{"$f":"+IF(AND(A1116>Analyse1!$E$3,Data!A1116<Analyse1!$E$4),B1116,\"\")","v":0.97468424789736896},{"$f":"+B1116/Analyse1!$H$3*Analyse1!$H$4","v":1.4914919594849421E-14}]
[5439.8969999999999,0.97225484693231801,{"$f":"+IF(AND(A1117>Analyse1!$E$3,Data!A1117<Analyse1!$E$4),B1117,\"\")","v":0.97225484693231801},{"$f":"+B1117/Analyse1!$H$3*Analyse1!$H$4","v":1.4877744150457507E-14}]
[5440.8969999999999,0.97426800751076703,{"$f":"+IF(AND(A1118>Analyse1!$E$3,Data!A1118<Analyse1!$E$4),B1118,\"\")","v":0.97426800751076703},{"$f":"+B1118/Analyse1!$H$3*Analyse1!$H$4","v":1.4908550155811406E-14}]
[5441.8969999999999,0.98066413445504297,{"$f":"+IF(AND(A1119>Analyse1!$E$3,Data!A1119<Analyse1!$E$4),B1119,\"\")","v":0.98066413445504297},{"$f":"+B1119/Analyse1!$H$3*Analyse1!$H$4","v":1.5006425667084028E-14}]
[5442.8969999999999,0.98862840887699499,{"$f":"+IF(AND(A1120>Analyse1!$E$3,Data!A1120<Analyse1!$E$4),B1120,\"\")","v":0.98862840887699499},{"$f":"+B1120/Analyse1!$H$3*Analyse1!$H$4","v":1.5128297455707863E-14}]
[5443.8969999999999,0.995190919131689,{"$f":"+IF(AND(A1121>Analyse1!$E$3,Data!A1121<Analyse1!$E$4),B1121,\"\")","v":0.995190919131689},{"$f":"+B1121/Analyse1!$H$3*Analyse1!$H$4","v":1.5228719015818519E-14}]
[5444.8969999999999,0.99738576202970397,{"$f":"+IF(AND(A1122>Analyse1!$E$3,Data!A1122<Analyse1!$E$4),B1122,\"\")","v":0.99738576202970397},{"$f":"+B1122/Analyse1!$H$3*Analyse1!$H$4","v":1.5262305180176709E-14}]
[5445.8969999999999,0.99366480891471698,{"$f":"+IF(AND(A1123>Analyse1!$E$3,Data!A1123<Analyse1!$E$4),B1123,\"\")","v":0.99366480891471698},{"$f":"+B1123/Analyse1!$H$3*Analyse1!$H$4","v":1.5205366005622534E-14}]
[5446.8969999999999,0.985982109245225,{"$f":"+IF(AND(A1124>Analyse1!$E$3,Data!A1124<Analyse1!$E$4),B1124,\"\")","v":0.985982109245225},{"$f":"+B1124/Analyse1!$H$3*Analyse1!$H$4","v":1.5087802960883644E-14}]
[5447.8969999999999,0.97682299339892098,{"$f":"+IF(AND(A1125>Analyse1!$E$3,Data!A1125<Analyse1!$E$4),B1125,\"\")","v":0.97682299339892098},{"$f":"+B1125/Analyse1!$H$3*Analyse1!$H$4","v":1.4947647339509612E-14}]
[5448.8969999999999,0.96867279175349796,{"$f":"+IF(AND(A1126>Analyse1!$E$3,Data!A1126<Analyse1!$E$4),B1126,\"\")","v":0.96867279175349796},{"$f":"+B1126/Analyse1!$H$3*Analyse1!$H$4","v":1.4822930435050011E-14}]
[5449.8969999999999,0.96360308086072199,{"$f":"+IF(AND(A1127>Analyse1!$E$3,Data!A1127<Analyse1!$E$4),B1127,\"\")","v":0.96360308086072199},{"$f":"+B1127/Analyse1!$H$3*Analyse1!$H$4","v":1.4745352152136336E-14}]
[5450.8969999999999,0.96134940189538898,{"$f":"+IF(AND(A1128>Analyse1!$E$3,Data!A1128<Analyse1!$E$4),B1128,\"\")","v":0.96134940189538898},{"$f":"+B1128/Analyse1!$H$3*Analyse1!$H$4","v":1.4710865660092312E-14}]
[5451.8969999999999,0.96082826239701802,{"$f":"+IF(AND(A1129>Analyse1!$E$3,Data!A1129<Analyse1!$E$4),B1129,\"\")","v":0.96082826239701802},{"$f":"+B1129/Analyse1!$H$3*Analyse1!$H$4","v":1.4702891022426145E-14}]
[5452.8969999999999,0.96095528782489503,{"$f":"+IF(AND(A1130>Analyse1!$E$3,Data!A1130<Analyse1!$E$4),B1130,\"\")","v":0.96095528782489503},{"$f":"+B1130/Analyse1!$H$3*Analyse1!$H$4","v":1.4704834804781687E-14}]
[5453.8969999999999,0.96073316601290504,{"$f":"+IF(AND(A1131>Analyse1!$E$3,Data!A1131<Analyse1!$E$4),B1131,\"\")","v":0.96073316601290504},{"$f":"+B1131/Analyse1!$H$3*Analyse1!$H$4","v":1.4701435828166194E-14}]
[5454.8969999999999,0.96042703413099295,{"$f":"+IF(AND(A1132>Analyse1!$E$3,Data!A1132<Analyse1!$E$4),B1132,\"\")","v":0.96042703413099295},{"$f":"+B1132/Analyse1!$H$3*Analyse1!$H$4","v":1.4696751303496807E-14}]
[5455.8969999999999,0.96125367656523197,{"$f":"+IF(AND(A1133>Analyse1!$E$3,Data!A1133<Analyse1!$E$4),B1133,\"\")","v":0.96125367656523197},{"$f":"+B1133/Analyse1!$H$3*Analyse1!$H$4","v":1.4709400841505615E-14}]
[5456.8969999999999,0.96445321913100401,{"$f":"+IF(AND(A1134>Analyse1!$E$3,Data!A1134<Analyse1!$E$4),B1134,\"\")","v":0.96445321913100401},{"$f":"+B1134/Analyse1!$H$3*Analyse1!$H$4","v":1.4758361230689838E-14}]
[5457.8969999999999,0.97124457438954204,{"$f":"+IF(AND(A1135>Analyse1!$E$3,Data!A1135<Analyse1!$E$4),B1135,\"\")","v":0.97124457438954204},{"$f":"+B1135/Analyse1!$H$3*Analyse1!$H$4","v":1.4862284647775592E-14}]
[5458.8969999999999,0.98154251007007298,{"$f":"+IF(AND(A1136>Analyse1!$E$3,Data!A1136<Analyse1!$E$4),B1136,\"\")","v":0.98154251007007298},{"$f":"+B1136/Analyse1!$H$3*Analyse1!$H$4","v":1.5019866842213831E-14}]
[5459.8969999999999,0.99322213432801199,{"$f":"+IF(AND(A1137>Analyse1!$E$3,Data!A1137<Analyse1!$E$4),B1137,\"\")","v":0.99322213432801199},{"$f":"+B1137/Analyse1!$H$3*Analyse1!$H$4","v":1.5198592062284849E-14}]
[5460.8969999999999,1.00398095202475,{"$f":"+IF(AND(A1138>Analyse1!$E$3,Data!A1138<Analyse1!$E$4),B1138,\"\")","v":1.00398095202475},{"$f":"+B1138/Analyse1!$H$3*Analyse1!$H$4","v":1.5363226815774154E-14}]
[5461.8969999999999,1.0115165338194001,{"$f":"+IF(AND(A1139>Analyse1!$E$3,Data!A1139<Analyse1!$E$4),B1139,\"\")","v":1.0115165338194001},{"$f":"+B1139/Analyse1!$H$3*Analyse1!$H$4","v":1.5478538617324321E-14}]
[5462.8969999999999,1.0140718187984401,{"$f":"+IF(AND(A1140>Analyse1!$E$3,Data!A1140<Analyse1!$E$4),B1140,\"\")","v":1.0140718187984401},{"$f":"+B1140/Analyse1!$H$3*Analyse1!$H$4","v":1.5517640377803703E-14}]
[5463.8969999999999,1.0117571095042499,{"$f":"+IF(AND(A1141>Analyse1!$E$3,Data!A1141<Analyse1!$E$4),B1141,\"\")","v":1.0117571095042499},{"$f":"+B1141/Analyse1!$H$3*Analyse1!$H$4","v":1.5482219980805624E-14}]
[5464.8969999999999,1.00508205395252,{"$f":"+IF(AND(A1142>Analyse1!$E$3,Data!A1142<Analyse1!$E$4),B1142,\"\")","v":1.00508205395252},{"$f":"+B1142/Analyse1!$H$3*Analyse1!$H$4","v":1.5380076217776752E-14}]
[5465.8969999999999,0.99455630015898,{"$f":"+IF(AND(A1143>Analyse1!$E$3,Data!A1143<Analyse1!$E$4),B1143,\"\")","v":0.99455630015898},{"$f":"+B1143/Analyse1!$H$3*Analyse1!$H$4","v":1.5219007880164344E-14}]
[5466.8969999999999,0.98087257282435603,{"$f":"+IF(AND(A1144>Analyse1!$E$3,Data!A1144<Analyse1!$E$4),B1144,\"\")","v":0.98087257282435603},{"$f":"+B1144/Analyse1!$H$3*Analyse1!$H$4","v":1.5009615255430707E-14}]
[5467.8969999999999,0.96619572314963797,{"$f":"+IF(AND(A1145>Analyse1!$E$3,Data!A1145<Analyse1!$E$4),B1145,\"\")","v":0.96619572314963797},{"$f":"+B1145/Analyse1!$H$3*Analyse1!$H$4","v":1.4785025565716997E-14}]
[5468.8969999999999,0.95340007058837395,{"$f":"+IF(AND(A1146>Analyse1!$E$3,Data!A1146<Analyse1!$E$4),B1146,\"\")","v":0.95340007058837395},{"$f":"+B1146/Analyse1!$H$3*Analyse1!$H$4","v":1.4589222535631527E-14}]
[5469.8969999999999,0.94536449432414904,{"$f":"+IF(AND(A1147>Analyse1!$E$3,Data!A1147<Analyse1!$E$4),B1147,\"\")","v":0.94536449432414904},{"$f":"+B1147/Analyse1!$H$3*Analyse1!$H$4","v":1.4466259664180857E-14}]
[5470.8969999999999,0.94484161354492302,{"$f":"+IF(AND(A1148>Analyse1!$E$3,Data!A1148<Analyse1!$E$4),B1148,\"\")","v":0.94484161354492302},{"$f":"+B1148/Analyse1!$H$3*Analyse1!$H$4","v":1.4458258380896891E-14}]
[5471.8969999999999,0.95162440418385996,{"$f":"+IF(AND(A1149>Analyse1!$E$3,Data!A1149<Analyse1!$E$4),B1149,\"\")","v":0.95162440418385996},{"$f":"+B1149/Analyse1!$H$3*Analyse1!$H$4","v":1.4562050739526548E-14}]
[5472.8969999999999,0.96251494050837405,{"$f":"+IF(AND(A1150>Analyse1!$E$3,Data!A1150<Analyse1!$E$4),B1150,\"\")","v":0.96251494050837405},{"$f":"+B1150/Analyse1!$H$3*Analyse1!$H$4","v":1.4728701092166716E-14}]
[5473.8969999999999,0.97418278489173904,{"$f":"+IF(AND(A1151>Analyse1!$E$3,Data!A1151<Analyse1!$E$4),B1151,\"\")","v":0.97418278489173904},{"$f":"+B1151/Analyse1!$H$3*Analyse1!$H$4","v":1.4907246052956346E-14}]
[5474.8969999999999,0.983305721668429,{"$f":"+IF(AND(A1152>Analyse1!$E$3,Data!A1152<Analyse1!$E$4),B1152,\"\")","v":0.983305721668429},{"$f":"+B1152/Analyse1!$H$3*Analyse1!$H$4","v":1.5046848051025728E-14}]
[5475.8969999999999,0.98796308601057703,{"$f":"+IF(AND(A1153>Analyse1!$E$3,Data!A1153<Analyse1!$E$4),B1153,\"\")","v":0.98796308601057703},{"$f":"+B1153/Analyse1!$H$3*Analyse1!$H$4","v":1.5118116479582883E-14}]
[5476.8969999999999,0.98920818418921097,{"$f":"+IF(AND(A1154>Analyse1!$E$3,Data!A1154<Analyse1!$E$4),B1154,\"\")","v":0.98920818418921097},{"$f":"+B1154/Analyse1!$H$3*Analyse1!$H$4","v":1.513716935671933E-14}]
[5477.8969999999999,0.98847401774681698,{"$f":"+IF(AND(A1155>Analyse1!$E$3,Data!A1155<Analyse1!$E$4),B1155,\"\")","v":0.98847401774681698},{"$f":"+B1155/Analyse1!$H$3*Analyse1!$H$4","v":1.5125934914918137E-14}]
[5478.8969999999999,0.98719358822588299,{"$f":"+IF(AND(A1156>Analyse1!$E$3,Data!A1156<Analyse1!$E$4),B1156,\"\")","v":0.98719358822588299},{"$f":"+B1156/Analyse1!$H$3*Analyse1!$H$4","v":1.5106341386662395E-14}]
[5479.8969999999999,0.98652493311631995,{"$f":"+IF(AND(A1157>Analyse1!$E$3,Data!A1157<Analyse1!$E$4),B1157,\"\")","v":0.98652493311631995},{"$f":"+B1157/Analyse1!$H$3*Analyse1!$H$4","v":1.5096109419522954E-14}]
[5480.8969999999999,0.98630872107307799,{"$f":"+IF(AND(A1158>Analyse1!$E$3,Data!A1158<Analyse1!$E$4),B1158,\"\")","v":0.98630872107307799},{"$f":"+B1158/Analyse1!$H$3*Analyse1!$H$4","v":1.5092800876015302E-14}]
[5481.8969999999999,0.98599155753979395,{"$f":"+IF(AND(A1159>Analyse1!$E$3,Data!A1159<Analyse1!$E$4),B1159,\"\")","v":0.98599155753979395},{"$f":"+B1159/Analyse1!$H$3*Analyse1!$H$4","v":1.5087947541607202E-14}]
[5482.8969999999999,0.98501997634944805,{"$f":"+IF(AND(A1160>Analyse1!$E$3,Data!A1160<Analyse1!$E$4),B1160,\"\")","v":0.98501997634944805},{"$f":"+B1160/Analyse1!$H$3*Analyse1!$H$4","v":1.507308010595803E-14}]
[5483.8969999999999,0.98289593463448599,{"$f":"+IF(AND(A1161>Analyse1!$E$3,Data!A1161<Analyse1!$E$4),B1161,\"\")","v":0.98289593463448599},{"$f":"+B1161/Analyse1!$H$3*Analyse1!$H$4","v":1.5040577363184554E-14}]
[5484.8969999999999,0.97977678569931603,{"$f":"+IF(AND(A1162>Analyse1!$E$3,Data!A1162<Analyse1!$E$4),B1162,\"\")","v":0.97977678569931603},{"$f":"+B1162/Analyse1!$H$3*Analyse1!$H$4","v":1.4992847182182065E-14}]
[5485.8969999999999,0.976248050334107,{"$f":"+IF(AND(A1163>Analyse1!$E$3,Data!A1163<Analyse1!$E$4),B1163,\"\")","v":0.976248050334107},{"$f":"+B1163/Analyse1!$H$3*Analyse1!$H$4","v":1.4938849383041333E-14}]
[5486.8969999999999,0.97290262884237999,{"$f":"+IF(AND(A1164>Analyse1!$E$3,Data!A1164<Analyse1!$E$4),B1164,\"\")","v":0.97290262884237999},{"$f":"+B1164/Analyse1!$H$3*Analyse1!$H$4","v":1.4887656709447164E-14}]
[5487.8969999999999,0.97033028196594295,{"$f":"+IF(AND(A1165>Analyse1!$E$3,Data!A1165<Analyse1!$E$4),B1165,\"\")","v":0.97033028196594295},{"$f":"+B1165/Analyse1!$H$3*Analyse1!$H$4","v":1.4848293862540705E-14}]
[5488.8969999999999,0.96898631741358898,{"$f":"+IF(AND(A1166>Analyse1!$E$3,Data!A1166<Analyse1!$E$4),B1166,\"\")","v":0.96898631741358898},{"$f":"+B1166/Analyse1!$H$3*Analyse1!$H$4","v":1.4827728101598195E-14}]
[5489.8969999999999,0.96914384934868902,{"$f":"+IF(AND(A1167>Analyse1!$E$3,Data!A1167<Analyse1!$E$4),B1167,\"\")","v":0.96914384934868902},{"$f":"+B1167/Analyse1!$H$3*Analyse1!$H$4","v":1.483013870395553E-14}]
[5490.8969999999999,0.97106302706663805,{"$f":"+IF(AND(A1168>Analyse1!$E$3,Data!A1168<Analyse1!$E$4),B1168,\"\")","v":0.97106302706663805},{"$f":"+B1168/Analyse1!$H$3*Analyse1!$H$4","v":1.4859506554531947E-14}]
[5491.8969999999999,0.97500358332322901,{"$f":"+IF(AND(A1169>Analyse1!$E$3,Data!A1169<Analyse1!$E$4),B1169,\"\")","v":0.97500358332322901},{"$f":"+B1169/Analyse1!$H$3*Analyse1!$H$4","v":1.4919806164228958E-14}]
[5492.8969999999999,0.98075343009323601,{"$f":"+IF(AND(A1170>Analyse1!$E$3,Data!A1170<Analyse1!$E$4),B1170,\"\")","v":0.98075343009323601},{"$f":"+B1170/Analyse1!$H$3*Analyse1!$H$4","v":1.500779209653715E-14}]
[5493.8969999999999,0.98672279163948096,{"$f":"+IF(AND(A1171>Analyse1!$E$3,Data!A1171<Analyse1!$E$4),B1171,\"\")","v":0.98672279163948096},{"$f":"+B1171/Analyse1!$H$3*Analyse1!$H$4","v":1.5099137111794033E-14}]
[5494.8969999999999,0.99107178442230603,{"$f":"+IF(AND(A1172>Analyse1!$E$3,Data!A1172<Analyse1!$E$4),B1172,\"\")","v":0.99107178442230603},{"$f":"+B1172/Analyse1!$H$3*Analyse1!$H$4","v":1.5165686743445868E-14}]
[5495.8969999999999,0.991960524902054,{"$f":"+IF(AND(A1173>Analyse1!$E$3,Data!A1173<Analyse1!$E$4),B1173,\"\")","v":0.991960524902054},{"$f":"+B1173/Analyse1!$H$3*Analyse1!$H$4","v":1.5179286524938926E-14}]
[5496.8969999999999,0.98793825750229902,{"$f":"+IF(AND(A1174>Analyse1!$E$3,Data!A1174<Analyse1!$E$4),B1174,\"\")","v":0.98793825750229902},{"$f":"+B1174/Analyse1!$H$3*Analyse1!$H$4","v":1.5117736546075775E-14}]
[5497.8969999999999,0.98018520247655605,{"$f":"+IF(AND(A1175>Analyse1!$E$3,Data!A1175<Analyse1!$E$4),B1175,\"\")","v":0.98018520247655605},{"$f":"+B1175/Analyse1!$H$3*Analyse1!$H$4","v":1.4999096901931678E-14}]
[5498.8969999999999,0.97097133660179902,{"$f":"+IF(AND(A1176>Analyse1!$E$3,Data!A1176<Analyse1!$E$4),B1176,\"\")","v":0.97097133660179902},{"$f":"+B1176/Analyse1!$H$3*Analyse1!$H$4","v":1.4858103478701349E-14}]
[5499.8969999999999,0.96257012674726705,{"$f":"+IF(AND(A1177>Analyse1!$E$3,Data!A1177<Analyse1!$E$4),B1177,\"\")","v":0.96257012674726705},{"$f":"+B1177/Analyse1!$H$3*Analyse1!$H$4","v":1.4729545569049983E-14}]
[5500.8969999999999,0.95717737940612302,{"$f":"+IF(AND(A1178>Analyse1!$E$3,Data!A1178<Analyse1!$E$4),B1178,\"\")","v":0.95717737940612302},{"$f":"+B1178/Analyse1!$H$3*Analyse1!$H$4","v":1.4647024082566526E-14}]
[5501.8969999999999,0.95556114820728399,{"$f":"+IF(AND(A1179>Analyse1!$E$3,Data!A1179<Analyse1!$E$4),B1179,\"\")","v":0.95556114820728399},{"$f":"+B1179/Analyse1!$H$3*Analyse1!$H$4","v":1.462229201325344E-14}]
[5502.8969999999999,0.95723635689221798,{"$f":"+IF(AND(A1180>Analyse1!$E$3,Data!A1180<Analyse1!$E$4),B1180,\"\")","v":0.95723635689221798},{"$f":"+B1180/Analyse1!$H$3*Analyse1!$H$4","v":1.4647926574286186E-14}]
[5503.8969999999999,0.96167537985497897,{"$f":"+IF(AND(A1181>Analyse1!$E$3,Data!A1181<Analyse1!$E$4),B1181,\"\")","v":0.96167537985497897},{"$f":"+B1181/Analyse1!$H$3*Analyse1!$H$4","v":1.4715853875575908E-14}]
[5504.8969999999999,0.96834726226146395,{"$f":"+IF(AND(A1182>Analyse1!$E$3,Data!A1182<Analyse1!$E$4),B1182,\"\")","v":0.96834726226146395},{"$f":"+B1182/Analyse1!$H$3*Analyse1!$H$4","v":1.481794908215556E-14}]
[5505.8969999999999,0.976393800293753,{"$f":"+IF(AND(A1183>Analyse1!$E$3,Data!A1183<Analyse1!$E$4),B1183,\"\")","v":0.976393800293753},{"$f":"+B1183/Analyse1!$H$3*Analyse1!$H$4","v":1.4941079693968961E-14}]
[5506.8969999999999,0.98435829467259195,{"$f":"+IF(AND(A1184>Analyse1!$E$3,Data!A1184<Analyse1!$E$4),B1184,\"\")","v":0.98435829467259195},{"$f":"+B1184/Analyse1!$H$3*Analyse1!$H$4","v":1.5062954848441063E-14}]
[5507.8969999999999,0.990720188766957,{"$f":"+IF(AND(A1185>Analyse1!$E$3,Data!A1185<Analyse1!$E$4),B1185,\"\")","v":0.990720188766957},{"$f":"+B1185/Analyse1!$H$3*Analyse1!$H$4","v":1.5160306518064426E-14}]
[5508.8969999999999,0.99395892594582702,{"$f":"+IF(AND(A1186>Analyse1!$E$3,Data!A1186<Analyse1!$E$4),B1186,\"\")","v":0.99395892594582702},{"$f":"+B1186/Analyse1!$H$3*Analyse1!$H$4","v":1.5209866675331667E-14}]
[5509.8969999999999,0.99311887234387897,{"$f":"+IF(AND(A1187>Analyse1!$E$3,Data!A1187<Analyse1!$E$4),B1187,\"\")","v":0.99311887234387897},{"$f":"+B1187/Analyse1!$H$3*Analyse1!$H$4","v":1.519701191548975E-14}]
[5510.8969999999999,0.989545317494401,{"$f":"+IF(AND(A1188>Analyse1!$E$3,Data!A1188<Analyse1!$E$4),B1188,\"\")","v":0.989545317494401},{"$f":"+B1188/Analyse1!$H$3*Analyse1!$H$4","v":1.5142328274748938E-14}]
[5511.8969999999999,0.98516927725910897,{"$f":"+IF(AND(A1189>Analyse1!$E$3,Data!A1189<Analyse1!$E$4),B1189,\"\")","v":0.98516927725910897},{"$f":"+B1189/Analyse1!$H$3*Analyse1!$H$4","v":1.5075364754620236E-14}]
[5512.8969999999999,0.98192176762567995,{"$f":"+IF(AND(A1190>Analyse1!$E$3,Data!A1190<Analyse1!$E$4),B1190,\"\")","v":0.98192176762567995},{"$f":"+B1190/Analyse1!$H$3*Analyse1!$H$4","v":1.5025670358542138E-14}]
[5513.8969999999999,0.98154683193095205,{"$f":"+IF(AND(A1191>Analyse1!$E$3,Data!A1191<Analyse1!$E$4),B1191,\"\")","v":0.98154683193095205},{"$f":"+B1191/Analyse1!$H$3*Analyse1!$H$4","v":1.5019932976664707E-14}]
[5514.8969999999999,0.98396233700518798,{"$f":"+IF(AND(A1192>Analyse1!$E$3,Data!A1192<Analyse1!$E$4),B1192,\"\")","v":0.98396233700518798},{"$f":"+B1192/Analyse1!$H$3*Analyse1!$H$4","v":1.5056895781840739E-14}]
[5515.8969999999999,0.98805436150271497,{"$f":"+IF(AND(A1193>Analyse1!$E$3,Data!A1193<Analyse1!$E$4),B1193,\"\")","v":0.98805436150271497},{"$f":"+B1193/Analyse1!$H$3*Analyse1!$H$4","v":1.5119513205372956E-14}]
[5516.8969999999999,0.99269731143406403,{"$f":"+IF(AND(A1194>Analyse1!$E$3,Data!A1194<Analyse1!$E$4),B1194,\"\")","v":0.99269731143406403},{"$f":"+B1194/Analyse1!$H$3*Analyse1!$H$4","v":1.5190561060161183E-14}]
[5517.8969999999999,0.99676912319473598,{"$f":"+IF(AND(A1195>Analyse1!$E$3,Data!A1195<Analyse1!$E$4),B1195,\"\")","v":0.99676912319473598},{"$f":"+B1195/Analyse1!$H$3*Analyse1!$H$4","v":1.5252869182147143E-14}]
[5518.8969999999999,0.99925856068985497,{"$f":"+IF(AND(A1196>Analyse1!$E$3,Data!A1196<Analyse1!$E$4),B1196,\"\")","v":0.99925856068985497},{"$f":"+B1196/Analyse1!$H$3*Analyse1!$H$4","v":1.5290963324076903E-14}]
[5519.8969999999999,0.99928470420774296,{"$f":"+IF(AND(A1197>Analyse1!$E$3,Data!A1197<Analyse1!$E$4),B1197,\"\")","v":0.99928470420774296},{"$f":"+B1197/Analyse1!$H$3*Analyse1!$H$4","v":1.5291363380267475E-14}]
[5520.8969999999999,0.99597409428719896,{"$f":"+IF(AND(A1198>Analyse1!$E$3,Data!A1198<Analyse1!$E$4),B1198,\"\")","v":0.99597409428719896},{"$f":"+B1198/Analyse1!$H$3*Analyse1!$H$4","v":1.5240703404094326E-14}]
[5521.8969999999999,0.98845585365518096,{"$f":"+IF(AND(A1199>Analyse1!$E$3,Data!A1199<Analyse1!$E$4),B1199,\"\")","v":0.98845585365518096},{"$f":"+B1199/Analyse1!$H$3*Analyse1!$H$4","v":1.5125656962374172E-14}]
[5522.8969999999999,0.97683322675881401,{"$f":"+IF(AND(A1200>Analyse1!$E$3,Data!A1200<Analyse1!$E$4),B1200,\"\")","v":0.97683322675881401},{"$f":"+B1200/Analyse1!$H$3*Analyse1!$H$4","v":1.4947803933545391E-14}]
[5523.8969999999999,0.96364331741208697,{"$f":"+IF(AND(A1201>Analyse1!$E$3,Data!A1201<Analyse1!$E$4),B1201,\"\")","v":0.96364331741208697},{"$f":"+B1201/Analyse1!$H$3*Analyse1!$H$4","v":1.4745967864280732E-14}]
[5524.8969999999999,0.95179710826803099,{"$f":"+IF(AND(A1202>Analyse1!$E$3,Data!A1202<Analyse1!$E$4),B1202,\"\")","v":0.95179710826803099},{"$f":"+B1202/Analyse1!$H$3*Analyse1!$H$4","v":1.4564693510798036E-14}]
[5525.8969999999999,0.94420558197967797,{"$f":"+IF(AND(A1203>Analyse1!$E$3,Data!A1203<Analyse1!$E$4),B1203,\"\")","v":0.94420558197967797},{"$f":"+B1203/Analyse1!$H$3*Analyse1!$H$4","v":1.4448525629315155E-14}]
[5526.8969999999999,0.94317868340774103,{"$f":"+IF(AND(A1204>Analyse1!$E$3,Data!A1204<Analyse1!$E$4),B1204,\"\")","v":0.94317868340774103},{"$f":"+B1204/Analyse1!$H$3*Analyse1!$H$4","v":1.4432811709996622E-14}]
[5527.8969999999999,0.94759099940570601,{"$f":"+IF(AND(A1205>Analyse1!$E$3,Data!A1205<Analyse1!$E$4),B1205,\"\")","v":0.94759099940570601},{"$f":"+B1205/Analyse1!$H$3*Analyse1!$H$4","v":1.4500330333057044E-14}]
[5528.8969999999999,0.955098561967892,{"$f":"+IF(AND(A1206>Analyse1!$E$3,Data!A1206<Analyse1!$E$4),B1206,\"\")","v":0.955098561967892},{"$f":"+B1206/Analyse1!$H$3*Analyse1!$H$4","v":1.4615213375652492E-14}]
[5529.8969999999999,0.96335596268461998,{"$f":"+IF(AND(A1207>Analyse1!$E$3,Data!A1207<Analyse1!$E$4),B1207,\"\")","v":0.96335596268461998},{"$f":"+B1207/Analyse1!$H$3*Analyse1!$H$4","v":1.4741570673431884E-14}]
[5530.8969999999999,0.97012057707922805,{"$f":"+IF(AND(A1208>Analyse1!$E$3,Data!A1208<Analyse1!$E$4),B1208,\"\")","v":0.97012057707922805},{"$f":"+B1208/Analyse1!$H$3*Analyse1!$H$4","v":1.4845084893553314E-14}]
[5531.8969999999999,0.97466379364772704,{"$f":"+IF(AND(A1209>Analyse1!$E$3,Data!A1209<Analyse1!$E$4),B1209,\"\")","v":0.97466379364772704},{"$f":"+B1209/Analyse1!$H$3*Analyse1!$H$4","v":1.4914606597599863E-14}]
[5532.8969999999999,0.97741036747628096,{"$f":"+IF(AND(A1210>Analyse1!$E$3,Data!A1210<Analyse1!$E$4),B1210,\"\")","v":0.97741036747628096},{"$f":"+B1210/Analyse1!$H$3*Analyse1!$H$4","v":1.4956635519173766E-14}]
[5533.8969999999999,0.97881403035068204,{"$f":"+IF(AND(A1211>Analyse1!$E$3,Data!A1211<Analyse1!$E$4),B1211,\"\")","v":0.97881403035068204},{"$f":"+B1211/Analyse1!$H$3*Analyse1!$H$4","v":1.4978114802290459E-14}]
[5534.8969999999999,0.979329546254185,{"$f":"+IF(AND(A1212>Analyse1!$E$3,Data!A1212<Analyse1!$E$4),B1212,\"\")","v":0.979329546254185},{"$f":"+B1212/Analyse1!$H$3*Analyse1!$H$4","v":1.4986003385969943E-14}]
[5535.8969999999999,0.97947702448774998,{"$f":"+IF(AND(A1213>Analyse1!$E$3,Data!A1213<Analyse1!$E$4),B1213,\"\")","v":0.97947702448774998},{"$f":"+B1213/Analyse1!$H$3*Analyse1!$H$4","v":1.4988260143479216E-14}]
[5536.8969999999999,0.97987987267739196,{"$f":"+IF(AND(A1214>Analyse1!$E$3,Data!A1214<Analyse1!$E$4),B1214,\"\")","v":0.97987987267739196},{"$f":"+B1214/Analyse1!$H$3*Analyse1!$H$4","v":1.4994424650980388E-14}]
[5537.8969999999999,0.98117062384717602,{"$f":"+IF(AND(A1215>Analyse1!$E$3,Data!A1215<Analyse1!$E$4),B1215,\"\")","v":0.98117062384717602},{"$f":"+B1215/Analyse1!$H$3*Analyse1!$H$4","v":1.5014176124296818E-14}]
[5538.8969999999999,0.98398177126205999,{"$f":"+IF(AND(A1216>Analyse1!$E$3,Data!A1216<Analyse1!$E$4),B1216,\"\")","v":0.98398177126205999},{"$f":"+B1216/Analyse1!$H$3*Analyse1!$H$4","v":1.50571931708457E-14}]
[5539.8969999999999,0.98853148572264604,{"$f":"+IF(AND(A1217>Analyse1!$E$3,Data!A1217<Analyse1!$E$4),B1217,\"\")","v":0.98853148572264604},{"$f":"+B1217/Analyse1!$H$3*Analyse1!$H$4","v":1.5126814307645183E-14}]
[5540.8969999999999,0.99360228474970602,{"$f":"+IF(AND(A1218>Analyse1!$E$3,Data!A1218<Analyse1!$E$4),B1218,\"\")","v":0.99360228474970602},{"$f":"+B1218/Analyse1!$H$3*Analyse1!$H$4","v":1.5204409241525968E-14}]
[5541.8969999999999,0.99766594128224195,{"$f":"+IF(AND(A1219>Analyse1!$E$3,Data!A1219<Analyse1!$E$4),B1219,\"\")","v":0.99766594128224195},{"$f":"+B1219/Analyse1!$H$3*Analyse1!$H$4","v":1.5266592569690559E-14}]
[5542.8969999999999,0.99919422825925797,{"$f":"+IF(AND(A1220>Analyse1!$E$3,Data!A1220<Analyse1!$E$4),B1220,\"\")","v":0.99919422825925797},{"$f":"+B1220/Analyse1!$H$3*Analyse1!$H$4","v":1.5289978889341484E-14}]
[5543.8969999999999,0.99689896686204205,{"$f":"+IF(AND(A1221>Analyse1!$E$3,Data!A1221<Analyse1!$E$4),B1221,\"\")","v":0.99689896686204205},{"$f":"+B1221/Analyse1!$H$3*Analyse1!$H$4","v":1.5254856090073427E-14}]
[5544.8969999999999,0.99144768307533704,{"$f":"+IF(AND(A1222>Analyse1!$E$3,Data!A1222<Analyse1!$E$4),B1222,\"\")","v":0.99144768307533704},{"$f":"+B1222/Analyse1!$H$3*Analyse1!$H$4","v":1.5171438860808863E-14}]
[5545.8969999999999,0.98446092743906899,{"$f":"+IF(AND(A1223>Analyse1!$E$3,Data!A1223<Analyse1!$E$4),B1223,\"\")","v":0.98446092743906899},{"$f":"+B1223/Analyse1!$H$3*Analyse1!$H$4","v":1.5064525366753126E-14}]
[5546.8969999999999,0.97756565095062797,{"$f":"+IF(AND(A1224>Analyse1!$E$3,Data!A1224<Analyse1!$E$4),B1224,\"\")","v":0.97756565095062797},{"$f":"+B1224/Analyse1!$H$3*Analyse1!$H$4","v":1.4959011714889754E-14}]
[5547.8969999999999,0.972346966312859,{"$f":"+IF(AND(A1225>Analyse1!$E$3,Data!A1225<Analyse1!$E$4),B1225,\"\")","v":0.972346966312859},{"$f":"+B1225/Analyse1!$H$3*Analyse1!$H$4","v":1.4879153789688736E-14}]
[5548.8969999999999,0.96939043933073699,{"$f":"+IF(AND(A1226>Analyse1!$E$3,Data!A1226<Analyse1!$E$4),B1226,\"\")","v":0.96939043933073699},{"$f":"+B1226/Analyse1!$H$3*Analyse1!$H$4","v":1.4833912100071323E-14}]
[5549.8969999999999,0.96826093640607303,{"$f":"+IF(AND(A1227>Analyse1!$E$3,Data!A1227<Analyse1!$E$4),B1227,\"\")","v":0.96826093640607303},{"$f":"+B1227/Analyse1!$H$3*Analyse1!$H$4","v":1.481662809723671E-14}]
[5550.8969999999999,0.96847725456348299,{"$f":"+IF(AND(A1228>Analyse1!$E$3,Data!A1228<Analyse1!$E$4),B1228,\"\")","v":0.96847725456348299},{"$f":"+B1228/Analyse1!$H$3*Analyse1!$H$4","v":1.4819938264536157E-14}]
[5551.8969999999999,0.96955876072932101,{"$f":"+IF(AND(A1229>Analyse1!$E$3,Data!A1229<Analyse1!$E$4),B1229,\"\")","v":0.96955876072932101},{"$f":"+B1229/Analyse1!$H$3*Analyse1!$H$4","v":1.4836487806133454E-14}]
[5552.8969999999999,0.97112661852645099,{"$f":"+IF(AND(A1230>Analyse1!$E$3,Data!A1230<Analyse1!$E$4),B1230,\"\")","v":0.97112661852645099},{"$f":"+B1230/Analyse1!$H$3*Analyse1!$H$4","v":1.4860479650703424E-14}]
[5553.8969999999999,0.97302041466130396,{"$f":"+IF(AND(A1231>Analyse1!$E$3,Data!A1231<Analyse1!$E$4),B1231,\"\")","v":0.97302041466130396},{"$f":"+B1231/Analyse1!$H$3*Analyse1!$H$4","v":1.4889459104450936E-14}]
[5554.8969999999999,0.97510798711886304,{"$f":"+IF(AND(A1232>Analyse1!$E$3,Data!A1232<Analyse1!$E$4),B1232,\"\")","v":0.97510798711886304},{"$f":"+B1232/Analyse1!$H$3*Analyse1!$H$4","v":1.4921403783376531E-14}]
[5555.8969999999999,0.97725717388411204,{"$f":"+IF(AND(A1233>Analyse1!$E$3,Data!A1233<Analyse1!$E$4),B1233,\"\")","v":0.97725717388411204},{"$f":"+B1233/Analyse1!$H$3*Analyse1!$H$4","v":1.495429130348076E-14}]
[5556.8969999999999,0.97929293572893605,{"$f":"+IF(AND(A1234>Analyse1!$E$3,Data!A1234<Analyse1!$E$4),B1234,\"\")","v":0.97929293572893605},{"$f":"+B1234/Analyse1!$H$3*Analyse1!$H$4","v":1.4985443160397824E-14}]
[5557.8969999999999,0.98083230960687795,{"$f":"+IF(AND(A1235>Analyse1!$E$3,Data!A1235<Analyse1!$E$4),B1235,\"\")","v":0.98083230960687795},{"$f":"+B1235/Analyse1!$H$3*Analyse1!$H$4","v":1.5008999135233208E-14}]
[5558.8969999999999,0.98142939391869299,{"$f":"+IF(AND(A1236>Analyse1!$E$3,Data!A1236<Analyse1!$E$4),B1236,\"\")","v":0.98142939391869299},{"$f":"+B1236/Analyse1!$H$3*Analyse1!$H$4","v":1.5018135903906013E-14}]
[5559.8969999999999,0.98063827333947096,{"$f":"+IF(AND(A1237>Analyse1!$E$3,Data!A1237<Analyse1!$E$4),B1237,\"\")","v":0.98063827333947096},{"$f":"+B1237/Analyse1!$H$3*Analyse1!$H$4","v":1.5006029932300972E-14}]
[5560.8969999999999,0.97808961131690797,{"$f":"+IF(AND(A1238>Analyse1!$E$3,Data!A1238<Analyse1!$E$4),B1238,\"\")","v":0.97808961131690797},{"$f":"+B1238/Analyse1!$H$3*Analyse1!$H$4","v":1.4967029518348479E-14}]
[5561.8969999999999,0.97433298432719495,{"$f":"+IF(AND(A1239>Analyse1!$E$3,Data!A1239<Analyse1!$E$4),B1239,\"\")","v":0.97433298432719495},{"$f":"+B1239/Analyse1!$H$3*Analyse1!$H$4","v":1.4909544451137962E-14}]
[5562.8969999999999,0.97052472712386895,{"$f":"+IF(AND(A1240>Analyse1!$E$3,Data!A1240<Analyse1!$E$4),B1240,\"\")","v":0.97052472712386895},{"$f":"+B1240/Analyse1!$H$3*Analyse1!$H$4","v":1.4851269322442032E-14}]
[5563.8969999999999,0.96783193087044295,{"$f":"+IF(AND(A1241>Analyse1!$E$3,Data!A1241<Analyse1!$E$4),B1241,\"\")","v":0.96783193087044295},{"$f":"+B1241/Analyse1!$H$3*Analyse1!$H$4","v":1.48100633219431E-14}]
[5564.8969999999999,0.96740195219199798,{"$f":"+IF(AND(A1242>Analyse1!$E$3,Data!A1242<Analyse1!$E$4),B1242,\"\")","v":0.96740195219199798},{"$f":"+B1242/Analyse1!$H$3*Analyse1!$H$4","v":1.480348365531738E-14}]
[5565.8969999999999,0.96951576034833997,{"$f":"+IF(AND(A1243>Analyse1!$E$3,Data!A1243<Analyse1!$E$4),B1243,\"\")","v":0.96951576034833997},{"$f":"+B1243/Analyse1!$H$3*Analyse1!$H$4","v":1.483582980101409E-14}]
[5566.8969999999999,0.97326784364435803,{"$f":"+IF(AND(A1244>Analyse1!$E$3,Data!A1244<Analyse1!$E$4),B1244,\"\")","v":0.97326784364435803},{"$f":"+B1244/Analyse1!$H$3*Analyse1!$H$4","v":1.4893245339219422E-14}]
[5567.8969999999999,0.97766694663628295,{"$f":"+IF(AND(A1245>Analyse1!$E$3,Data!A1245<Analyse1!$E$4),B1245,\"\")","v":0.97766694663628295},{"$f":"+B1245/Analyse1!$H$3*Analyse1!$H$4","v":1.4960561772777843E-14}]
[5568.8969999999999,0.98172206363566805,{"$f":"+IF(AND(A1246>Analyse1!$E$3,Data!A1246<Analyse1!$E$4),B1246,\"\")","v":0.98172206363566805},{"$f":"+B1246/Analyse1!$H$3*Analyse1!$H$4","v":1.5022614426366951E-14}]
[5569.8969999999999,0.98475638253218001,{"$f":"+IF(AND(A1247>Analyse1!$E$3,Data!A1247<Analyse1!$E$4),B1247,\"\")","v":0.98475638253218001},{"$f":"+B1247/Analyse1!$H$3*Analyse1!$H$4","v":1.5069046511900535E-14}]
[5570.8969999999999,0.98702130263619603,{"$f":"+IF(AND(A1248>Analyse1!$E$3,Data!A1248<Analyse1!$E$4),B1248,\"\")","v":0.98702130263619603},{"$f":"+B1248/Analyse1!$H$3*Analyse1!$H$4","v":1.5103705019322844E-14}]
[5571.8969999999999,0.98893880487970598,{"$f":"+IF(AND(A1249>Analyse1!$E$3,Data!A1249<Analyse1!$E$4),B1249,\"\")","v":0.98893880487970598},{"$f":"+B1249/Analyse1!$H$3*Analyse1!$H$4","v":1.5133047231271574E-14}]
[5572.8969999999999,0.99093087019470205,{"$f":"+IF(AND(A1250>Analyse1!$E$3,Data!A1250<Analyse1!$E$4),B1250,\"\")","v":0.99093087019470205},{"$f":"+B1250/Analyse1!$H$3*Analyse1!$H$4","v":1.5163530430384464E-14}]
[5573.8969999999999,0.99325004854971299,{"$f":"+IF(AND(A1251>Analyse1!$E$3,Data!A1251<Analyse1!$E$4),B1251,\"\")","v":0.99325004854971299},{"$f":"+B1251/Analyse1!$H$3*Analyse1!$H$4","v":1.519901921433242E-14}]
[5574.8969999999999,0.99498876677713299,{"$f":"+IF(AND(A1252>Analyse1!$E$3,Data!A1252<Analyse1!$E$4),B1252,\"\")","v":0.99498876677713299},{"$f":"+B1252/Analyse1!$H$3*Analyse1!$H$4","v":1.5225625618012393E-14}]
[5575.8969999999999,0.99475344560227996,{"$f":"+IF(AND(A1253>Analyse1!$E$3,Data!A1253<Analyse1!$E$4),B1253,\"\")","v":0.99475344560227996},{"$f":"+B1253/Analyse1!$H$3*Analyse1!$H$4","v":1.5222024660667006E-14}]
[5576.8969999999999,0.99114885380850204,{"$f":"+IF(AND(A1254>Analyse1!$E$3,Data!A1254<Analyse1!$E$4),B1254,\"\")","v":0.99114885380850204},{"$f":"+B1254/Analyse1!$H$3*Analyse1!$H$4","v":1.5166866083012315E-14}]
[5577.8969999999999,0.98292621479281495,{"$f":"+IF(AND(A1255>Analyse1!$E$3,Data!A1255<Analyse1!$E$4),B1255,\"\")","v":0.98292621479281495},{"$f":"+B1255/Analyse1!$H$3*Analyse1!$H$4","v":1.5041040719525617E-14}]
[5578.8969999999999,0.97157596530675805,{"$f":"+IF(AND(A1256>Analyse1!$E$3,Data!A1256<Analyse1!$E$4),B1256,\"\")","v":0.97157596530675805},{"$f":"+B1256/Analyse1!$H$3*Analyse1!$H$4","v":1.4867355694009697E-14}]
[5579.8969999999999,0.96101800188731101,{"$f":"+IF(AND(A1257>Analyse1!$E$3,Data!A1257<Analyse1!$E$4),B1257,\"\")","v":0.96101800188731101},{"$f":"+B1257/Analyse1!$H$3*Analyse1!$H$4","v":1.470579447474703E-14}]
[5580.8969999999999,0.95525644517682595,{"$f":"+IF(AND(A1258>Analyse1!$E$3,Data!A1258<Analyse1!$E$4),B1258,\"\")","v":0.95525644517682595},{"$f":"+B1258/Analyse1!$H$3*Analyse1!$H$4","v":1.4617629353310598E-14}]
[5581.8969999999999,0.95826270987205597,{"$f":"+IF(AND(A1259>Analyse1!$E$3,Data!A1259<Analyse1!$E$4),B1259,\"\")","v":0.95826270987205597},{"$f":"+B1259/Analyse1!$H$3*Analyse1!$H$4","v":1.4663632144785805E-14}]
[5582.8969999999999,0.97067418051943499,{"$f":"+IF(AND(A1260>Analyse1!$E$3,Data!A1260<Analyse1!$E$4),B1260,\"\")","v":0.97067418051943499},{"$f":"+B1260/Analyse1!$H$3*Analyse1!$H$4","v":1.4853556304490687E-14}]
[5583.8969999999999,0.98696388745712804,{"$f":"+IF(AND(A1261>Analyse1!$E$3,Data!A1261<Analyse1!$E$4),B1261,\"\")","v":0.98696388745712804},{"$f":"+B1261/Analyse1!$H$3*Analyse1!$H$4","v":1.5102826434508148E-14}]
[5584.8969999999999,1.0009381507030299,{"$f":"+IF(AND(A1262>Analyse1!$E$3,Data!A1262<Analyse1!$E$4),B1262,\"\")","v":1.0009381507030299},{"$f":"+B1262/Analyse1!$H$3*Analyse1!$H$4","v":1.5316664929548479E-14}]
[5585.8969999999999,1.0064032902750399,{"$f":"+IF(AND(A1263>Analyse1!$E$3,Data!A1263<Analyse1!$E$4),B1263,\"\")","v":1.0064032902750399},{"$f":"+B1263/Analyse1!$H$3*Analyse1!$H$4","v":1.5400294184322011E-14}]
[5586.8969999999999,0.99914350638968397,{"$f":"+IF(AND(A1264>Analyse1!$E$3,Data!A1264<Analyse1!$E$4),B1264,\"\")","v":0.99914350638968397},{"$f":"+B1264/Analyse1!$H$3*Analyse1!$H$4","v":1.5289202727617287E-14}]
[5587.8969999999999,0.98309614487674302,{"$f":"+IF(AND(A1265>Analyse1!$E$3,Data!A1265<Analyse1!$E$4),B1265,\"\")","v":0.98309614487674302},{"$f":"+B1265/Analyse1!$H$3*Analyse1!$H$4","v":1.5043641042188059E-14}]
[5588.8969999999999,0.96429907764997103,{"$f":"+IF(AND(A1266>Analyse1!$E$3,Data!A1266<Analyse1!$E$4),B1266,\"\")","v":0.96429907764997103},{"$f":"+B1266/Analyse1!$H$3*Analyse1!$H$4","v":1.4756002510108484E-14}]
[5589.8969999999999,0.94879017867848503,{"$f":"+IF(AND(A1267>Analyse1!$E$3,Data!A1267<Analyse1!$E$4),B1267,\"\")","v":0.94879017867848503},{"$f":"+B1267/Analyse1!$H$3*Analyse1!$H$4","v":1.4518680544904517E-14}]
[5590.8969999999999,0.94206124243084499,{"$f":"+IF(AND(A1268>Analyse1!$E$3,Data!A1268<Analyse1!$E$4),B1268,\"\")","v":0.94206124243084499},{"$f":"+B1268/Analyse1!$H$3*Analyse1!$H$4","v":1.4415712282814588E-14}]
[5591.8969999999999,0.94419637784789801,{"$f":"+IF(AND(A1269>Analyse1!$E$3,Data!A1269<Analyse1!$E$4),B1269,\"\")","v":0.94419637784789801},{"$f":"+B1269/Analyse1!$H$3*Analyse1!$H$4","v":1.444838478484605E-14}]
[5592.8969999999999,0.952191049358036,{"$f":"+IF(AND(A1270>Analyse1!$E$3,Data!A1270<Analyse1!$E$4),B1270,\"\")","v":0.952191049358036},{"$f":"+B1270/Analyse1!$H$3*Analyse1!$H$4","v":1.4570721719107758E-14}]
[5593.8969999999999,0.96300456649605803,{"$f":"+IF(AND(A1271>Analyse1!$E$3,Data!A1271<Analyse1!$E$4),B1271,\"\")","v":0.96300456649605803},{"$f":"+B1271/Analyse1!$H$3*Analyse1!$H$4","v":1.4736193500352863E-14}]
[5594.8969999999999,0.97363740077783201,{"$f":"+IF(AND(A1272>Analyse1!$E$3,Data!A1272<Analyse1!$E$4),B1272,\"\")","v":0.97363740077783201},{"$f":"+B1272/Analyse1!$H$3*Analyse1!$H$4","v":1.4898900416690262E-14}]
[5595.8969999999999,0.98241039400672403,{"$f":"+IF(AND(A1273>Analyse1!$E$3,Data!A1273<Analyse1!$E$4),B1273,\"\")","v":0.98241039400672403},{"$f":"+B1273/Analyse1!$H$3*Analyse1!$H$4","v":1.5033147470438547E-14}]
[5596.8969999999999,0.98921328719091495,{"$f":"+IF(AND(A1274>Analyse1!$E$3,Data!A1274<Analyse1!$E$4),B1274,\"\")","v":0.98921328719091495},{"$f":"+B1274/Analyse1!$H$3*Analyse1!$H$4","v":1.5137247444428522E-14}]
[5597.8969999999999,0.99402715300980404,{"$f":"+IF(AND(A1275>Analyse1!$E$3,Data!A1275<Analyse1!$E$4),B1275,\"\")","v":0.99402715300980404},{"$f":"+B1275/Analyse1!$H$3*Analyse1!$H$4","v":1.5210910706950731E-14}]
[5598.8969999999999,0.99683304007128604,{"$f":"+IF(AND(A1276>Analyse1!$E$3,Data!A1276<Analyse1!$E$4),B1276,\"\")","v":0.99683304007128604},{"$f":"+B1276/Analyse1!$H$3*Analyse1!$H$4","v":1.5253847257946106E-14}]
[5599.8969999999999,0.99760229384617405,{"$f":"+IF(AND(A1277>Analyse1!$E$3,Data!A1277<Analyse1!$E$4),B1277,\"\")","v":0.99760229384617405},{"$f":"+B1277/Analyse1!$H$3*Analyse1!$H$4","v":1.5265618616953127E-14}]
[5600.8969999999999,0.99628173789270402,{"$f":"+IF(AND(A1278>Analyse1!$E$3,Data!A1278<Analyse1!$E$4),B1278,\"\")","v":0.99628173789270402},{"$f":"+B1278/Analyse1!$H$3*Analyse1!$H$4","v":1.5245411061625345E-14}]
[5601.8969999999999,0.99281438135909095,{"$f":"+IF(AND(A1279>Analyse1!$E$3,Data!A1279<Analyse1!$E$4),B1279,\"\")","v":0.99281438135909095},{"$f":"+B1279/Analyse1!$H$3*Analyse1!$H$4","v":1.5192352500335287E-14}]
[5602.8969999999999,0.98714323339354804,{"$f":"+IF(AND(A1280>Analyse1!$E$3,Data!A1280<Analyse1!$E$4),B1280,\"\")","v":0.98714323339354804},{"$f":"+B1280/Analyse1!$H$3*Analyse1!$H$4","v":1.5105570841455465E-14}]
[5603.8969999999999,0.97945566686382901,{"$f":"+IF(AND(A1281>Analyse1!$E$3,Data!A1281<Analyse1!$E$4),B1281,\"\")","v":0.97945566686382901},{"$f":"+B1281/Analyse1!$H$3*Analyse1!$H$4","v":1.498793332251724E-14}]
[5604.8969999999999,0.97135305110544501,{"$f":"+IF(AND(A1282>Analyse1!$E$3,Data!A1282<Analyse1!$E$4),B1282,\"\")","v":0.97135305110544501},{"$f":"+B1282/Analyse1!$H$3*Analyse1!$H$4","v":1.4863944592007888E-14}]
[5605.8969999999999,0.96494417089650797,{"$f":"+IF(AND(A1283>Analyse1!$E$3,Data!A1283<Analyse1!$E$4),B1283,\"\")","v":0.96494417089650797},{"$f":"+B1283/Analyse1!$H$3*Analyse1!$H$4","v":1.4765873926337931E-14}]
[5606.8969999999999,0.96233846710786397,{"$f":"+IF(AND(A1284>Analyse1!$E$3,Data!A1284<Analyse1!$E$4),B1284,\"\")","v":0.96233846710786397},{"$f":"+B1284/Analyse1!$H$3*Analyse1!$H$4","v":1.4726000641651674E-14}]
[5607.8969999999999,0.96545581794407198,{"$f":"+IF(AND(A1285>Analyse1!$E$3,Data!A1285<Analyse1!$E$4),B1285,\"\")","v":0.96545581794407198},{"$f":"+B1285/Analyse1!$H$3*Analyse1!$H$4","v":1.4773703307588137E-14}]
[5608.8969999999999,0.97337937527041296,{"$f":"+IF(AND(A1286>Analyse1!$E$3,Data!A1286<Analyse1!$E$4),B1286,\"\")","v":0.97337937527041296},{"$f":"+B1286/Analyse1!$H$3*Analyse1!$H$4","v":1.4894952030631007E-14}]
[5609.8969999999999,0.98300841627935298,{"$f":"+IF(AND(A1287>Analyse1!$E$3,Data!A1287<Analyse1!$E$4),B1287,\"\")","v":0.98300841627935298},{"$f":"+B1287/Analyse1!$H$3*Analyse1!$H$4","v":1.5042298592077613E-14}]
[5610.8969999999999,0.99118603224675506,{"$f":"+IF(AND(A1288>Analyse1!$E$3,Data!A1288<Analyse1!$E$4),B1288,\"\")","v":0.99118603224675506},{"$f":"+B1288/Analyse1!$H$3*Analyse1!$H$4","v":1.5167434998964741E-14}]
[5611.8969999999999,0.99478730088350797,{"$f":"+IF(AND(A1289>Analyse1!$E$3,Data!A1289<Analyse1!$E$4),B1289,\"\")","v":0.99478730088350797},{"$f":"+B1289/Analyse1!$H$3*Analyse1!$H$4","v":1.5222542724643589E-14}]
[5612.8969999999999,0.99277334737153,{"$f":"+IF(AND(A1290>Analyse1!$E$3,Data!A1290<Analyse1!$E$4),B1290,\"\")","v":0.99277334737153},{"$f":"+B1290/Analyse1!$H$3*Analyse1!$H$4","v":1.5191724585575765E-14}]
[5613.8969999999999,0.98743845018925203,{"$f":"+IF(AND(A1291>Analyse1!$E$3,Data!A1291<Analyse1!$E$4),B1291,\"\")","v":0.98743845018925203},{"$f":"+B1291/Analyse1!$H$3*Analyse1!$H$4","v":1.5110088340102307E-14}]
[5614.8969999999999,0.98137559831860199,{"$f":"+IF(AND(A1292>Analyse1!$E$3,Data!A1292<Analyse1!$E$4),B1292,\"\")","v":0.98137559831860199},{"$f":"+B1292/Analyse1!$H$3*Analyse1!$H$4","v":1.5017312707007486E-14}]
[5615.8969999999999,0.977177717963163,{"$f":"+IF(AND(A1293>Analyse1!$E$3,Data!A1293<Analyse1!$E$4),B1293,\"\")","v":0.977177717963163},{"$f":"+B1293/Analyse1!$H$3*Analyse1!$H$4","v":1.4953075444421948E-14}]
[5616.8969999999999,0.97659789002420605,{"$f":"+IF(AND(A1294>Analyse1!$E$3,Data!A1294<Analyse1!$E$4),B1294,\"\")","v":0.97659789002420605},{"$f":"+B1294/Analyse1!$H$3*Analyse1!$H$4","v":1.4944202738099828E-14}]
[5617.8969999999999,0.97844417660237104,{"$f":"+IF(AND(A1295>Analyse1!$E$3,Data!A1295<Analyse1!$E$4),B1295,\"\")","v":0.97844417660237104},{"$f":"+B1295/Analyse1!$H$3*Analyse1!$H$4","v":1.497245518592771E-14}]
[5618.8969999999999,0.98087947197107095,{"$f":"+IF(AND(A1296>Analyse1!$E$3,Data!A1296<Analyse1!$E$4),B1296,\"\")","v":0.98087947197107095},{"$f":"+B1296/Analyse1!$H$3*Analyse1!$H$4","v":1.5009720828305974E-14}]
[5619.8969999999999,0.98206667040371498,{"$f":"+IF(AND(A1297>Analyse1!$E$3,Data!A1297<Analyse1!$E$4),B1297,\"\")","v":0.98206667040371498},{"$f":"+B1297/Analyse1!$H$3*Analyse1!$H$4","v":1.502788770563493E-14}]
[5620.8969999999999,0.98041807423264604,{"$f":"+IF(AND(A1298>Analyse1!$E$3,Data!A1298<Analyse1!$E$4),B1298,\"\")","v":0.98041807423264604},{"$f":"+B1298/Analyse1!$H$3*Analyse1!$H$4","v":1.5002660377514141E-14}]
[5621.8969999999999,0.97640484093864599,{"$f":"+IF(AND(A1299>Analyse1!$E$3,Data!A1299<Analyse1!$E$4),B1299,\"\")","v":0.97640484093864599},{"$f":"+B1299/Analyse1!$H$3*Analyse1!$H$4","v":1.4941248641329309E-14}]
[5622.8969999999999,0.97151258052201905,{"$f":"+IF(AND(A1300>Analyse1!$E$3,Data!A1300<Analyse1!$E$4),B1300,\"\")","v":0.97151258052201905},{"$f":"+B1300/Analyse1!$H$3*Analyse1!$H$4","v":1.4866385760444076E-14}]
[5623.8969999999999,0.96723401627271399,{"$f":"+IF(AND(A1301>Analyse1!$E$3,Data!A1301<Analyse1!$E$4),B1301,\"\")","v":0.96723401627271399},{"$f":"+B1301/Analyse1!$H$3*Analyse1!$H$4","v":1.4800913847978634E-14}]
[5624.8969999999999,0.965014480967051,{"$f":"+IF(AND(A1302>Analyse1!$E$3,Data!A1302<Analyse1!$E$4),B1302,\"\")","v":0.965014480967051},{"$f":"+B1302/Analyse1!$H$3*Analyse1!$H$4","v":1.4766949832767237E-14}]
[5625.8969999999999,0.96514520814254601,{"$f":"+IF(AND(A1303>Analyse1!$E$3,Data!A1303<Analyse1!$E$4),B1303,\"\")","v":0.96514520814254601},{"$f":"+B1303/Analyse1!$H$3*Analyse1!$H$4","v":1.4768950260408882E-14}]
[5626.8969999999999,0.96672654583416096,{"$f":"+IF(AND(A1304>Analyse1!$E$3,Data!A1304<Analyse1!$E$4),B1304,\"\")","v":0.96672654583416096},{"$f":"+B1304/Analyse1!$H$3*Analyse1!$H$4","v":1.4793148378490326E-14}]
[5627.8969999999999,0.96880409203975204,{"$f":"+IF(AND(A1305>Analyse1!$E$3,Data!A1305<Analyse1!$E$4),B1305,\"\")","v":0.96880409203975204},{"$f":"+B1305/Analyse1!$H$3*Analyse1!$H$4","v":1.4824939632609614E-14}]
[5628.8969999999999,0.970425847284762,{"$f":"+IF(AND(A1306>Analyse1!$E$3,Data!A1306<Analyse1!$E$4),B1306,\"\")","v":0.970425847284762},{"$f":"+B1306/Analyse1!$H$3*Analyse1!$H$4","v":1.4849756232584456E-14}]
[5629.8969999999999,0.97108993619648099,{"$f":"+IF(AND(A1307>Analyse1!$E$3,Data!A1307<Analyse1!$E$4),B1307,\"\")","v":0.97108993619648099},{"$f":"+B1307/Analyse1!$H$3*Analyse1!$H$4","v":1.4859918326353273E-14}]
[5630.8969999999999,0.97127114068659803,{"$f":"+IF(AND(A1308>Analyse1!$E$3,Data!A1308<Analyse1!$E$4),B1308,\"\")","v":0.97127114068659803},{"$f":"+B1308/Analyse1!$H$3*Analyse1!$H$4","v":1.4862691173463657E-14}]
[5631.8969999999999,0.97157221218211698,{"$f":"+IF(AND(A1309>Analyse1!$E$3,Data!A1309<Analyse1!$E$4),B1309,\"\")","v":0.97157221218211698},{"$f":"+B1309/Analyse1!$H$3*Analyse1!$H$4","v":1.4867298262536508E-14}]
[5632.8969999999999,0.97259590211003799,{"$f":"+IF(AND(A1310>Analyse1!$E$3,Data!A1310<Analyse1!$E$4),B1310,\"\")","v":0.97259590211003799},{"$f":"+B1310/Analyse1!$H$3*Analyse1!$H$4","v":1.4882963082192656E-14}]
[5633.8969999999999,0.97480897351603901,{"$f":"+IF(AND(A1311>Analyse1!$E$3,Data!A1311<Analyse1!$E$4),B1311,\"\")","v":0.97480897351603901},{"$f":"+B1311/Analyse1!$H$3*Analyse1!$H$4","v":1.4916828184813706E-14}]
[5634.8969999999999,0.97801072163271696,{"$f":"+IF(AND(A1312>Analyse1!$E$3,Data!A1312<Analyse1!$E$4),B1312,\"\")","v":0.97801072163271696},{"$f":"+B1312/Analyse1!$H$3*Analyse1!$H$4","v":1.4965822324019533E-14}]
[5635.8969999999999,0.981795990203705,{"$f":"+IF(AND(A1313>Analyse1!$E$3,Data!A1313<Analyse1!$E$4),B1313,\"\")","v":0.981795990203705},{"$f":"+B1313/Analyse1!$H$3*Analyse1!$H$4","v":1.5023745673558616E-14}]
[5636.8969999999999,0.98575957008637505,{"$f":"+IF(AND(A1314>Analyse1!$E$3,Data!A1314<Analyse1!$E$4),B1314,\"\")","v":0.98575957008637505},{"$f":"+B1314/Analyse1!$H$3*Analyse1!$H$4","v":1.5084397597897513E-14}]
[5637.8969999999999,0.98947625642446402,{"$f":"+IF(AND(A1315>Analyse1!$E$3,Data!A1315<Analyse1!$E$4),B1315,\"\")","v":0.98947625642446402},{"$f":"+B1315/Analyse1!$H$3*Analyse1!$H$4","v":1.5141271480912918E-14}]
[5638.8969999999999,0.99227735043382903,{"$f":"+IF(AND(A1316>Analyse1!$E$3,Data!A1316<Analyse1!$E$4),B1316,\"\")","v":0.99227735043382903},{"$f":"+B1316/Analyse1!$H$3*Analyse1!$H$4","v":1.5184134687143468E-14}]
[5639.8969999999999,0.99333165231838705,{"$f":"+IF(AND(A1317>Analyse1!$E$3,Data!A1317<Analyse1!$E$4),B1317,\"\")","v":0.99333165231838705},{"$f":"+B1317/Analyse1!$H$3*Analyse1!$H$4","v":1.5200267940420933E-14}]
[5640.8969999999999,0.991805000252448,{"$f":"+IF(AND(A1318>Analyse1!$E$3,Data!A1318<Analyse1!$E$4),B1318,\"\")","v":0.991805000252448},{"$f":"+B1318/Analyse1!$H$3*Analyse1!$H$4","v":1.5176906638684587E-14}]
[5641.8969999999999,0.98690535570478899,{"$f":"+IF(AND(A1319>Analyse1!$E$3,Data!A1319<Analyse1!$E$4),B1319,\"\")","v":0.98690535570478899},{"$f":"+B1319/Analyse1!$H$3*Analyse1!$H$4","v":1.5101930763544178E-14}]
[5642.8969999999999,0.97973701058173202,{"$f":"+IF(AND(A1320>Analyse1!$E$3,Data!A1320<Analyse1!$E$4),B1320,\"\")","v":0.97973701058173202},{"$f":"+B1320/Analyse1!$H$3*Analyse1!$H$4","v":1.4992238531039993E-14}]
[5643.8969999999999,0.97402879375933604,{"$f":"+IF(AND(A1321>Analyse1!$E$3,Data!A1321<Analyse1!$E$4),B1321,\"\")","v":0.97402879375933604},{"$f":"+B1321/Analyse1!$H$3*Analyse1!$H$4","v":1.4904889633056195E-14}]
[5644.8969999999999,0.97370213771714897,{"$f":"+IF(AND(A1322>Analyse1!$E$3,Data!A1322<Analyse1!$E$4),B1322,\"\")","v":0.97370213771714897},{"$f":"+B1322/Analyse1!$H$3*Analyse1!$H$4","v":1.4899891041343129E-14}]
[5645.8969999999999,0.98267721711478895,{"$f":"+IF(AND(A1323>Analyse1!$E$3,Data!A1323<Analyse1!$E$4),B1323,\"\")","v":0.98267721711478895},{"$f":"+B1323/Analyse1!$H$3*Analyse1!$H$4","v":1.503723048010185E-14}]
[5646.8969999999999,1.0031088093735401,{"$f":"+IF(AND(A1324>Analyse1!$E$3,Data!A1324<Analyse1!$E$4),B1324,\"\")","v":1.0031088093735401},{"$f":"+B1324/Analyse1!$H$3*Analyse1!$H$4","v":1.5349881019383071E-14}]
[5647.8969999999999,1.0318748257477599,{"$f":"+IF(AND(A1325>Analyse1!$E$3,Data!A1325<Analyse1!$E$4),B1325,\"\")","v":1.0318748257477599},{"$f":"+B1325/Analyse1!$H$3*Analyse1!$H$4","v":1.5790067492295873E-14}]
[5648.8969999999999,1.0648715133417199,{"$f":"+IF(AND(A1326>Analyse1!$E$3,Data!A1326<Analyse1!$E$4),B1326,\"\")","v":1.0648715133417199},{"$f":"+B1326/Analyse1!$H$3*Analyse1!$H$4","v":1.6294993003734013E-14}]
[5649.8969999999999,1.0979951192597099,{"$f":"+IF(AND(A1327>Analyse1!$E$3,Data!A1327<Analyse1!$E$4),B1327,\"\")","v":1.0979951192597099},{"$f":"+B1327/Analyse1!$H$3*Analyse1!$H$4","v":1.6801860658591528E-14}]
[5650.8969999999999,1.12769841720743,{"$f":"+IF(AND(A1328>Analyse1!$E$3,Data!A1328<Analyse1!$E$4),B1328,\"\")","v":1.12769841720743},{"$f":"+B1328/Analyse1!$H$3*Analyse1!$H$4","v":1.7256389703815979E-14}]
[5651.8969999999999,1.15429338027739,{"$f":"+IF(AND(A1329>Analyse1!$E$3,Data!A1329<Analyse1!$E$4),B1329,\"\")","v":1.15429338027739},{"$f":"+B1329/Analyse1!$H$3*Analyse1!$H$4","v":1.7663354048086584E-14}]
[5652.8969999999999,1.1797271076486,{"$f":"+IF(AND(A1330>Analyse1!$E$3,Data!A1330<Analyse1!$E$4),B1330,\"\")","v":1.1797271076486},{"$f":"+B1330/Analyse1!$H$3*Analyse1!$H$4","v":1.8052548804806263E-14}]
[5653.8969999999999,1.2059525883365501,{"$f":"+IF(AND(A1331>Analyse1!$E$3,Data!A1331<Analyse1!$E$4),B1331,\"\")","v":1.2059525883365501},{"$f":"+B1331/Analyse1!$H$3*Analyse1!$H$4","v":1.8453859215476033E-14}]
[5654.8969999999999,1.2348181202326101,{"$f":"+IF(AND(A1332>Analyse1!$E$3,Data!A1332<Analyse1!$E$4),B1332,\"\")","v":1.2348181202326101},{"$f":"+B1332/Analyse1!$H$3*Analyse1!$H$4","v":1.8895568505660058E-14}]
[5655.8969999999999,1.2661797071982099,{"$f":"+IF(AND(A1333>Analyse1!$E$3,Data!A1333<Analyse1!$E$4),B1333,\"\")","v":1.2661797071982099},{"$f":"+B1333/Analyse1!$H$3*Analyse1!$H$4","v":1.9375473201942841E-14}]
[5656.8969999999999,1.29810778403739,{"$f":"+IF(AND(A1334>Analyse1!$E$3,Data!A1334<Analyse1!$E$4),B1334,\"\")","v":1.29810778403739},{"$f":"+B1334/Analyse1!$H$3*Analyse1!$H$4","v":1.986404650134912E-14}]
[5657.8969999999999,1.3286095950307999,{"$f":"+IF(AND(A1335>Analyse1!$E$3,Data!A1335<Analyse1!$E$4),B1335,\"\")","v":1.3286095950307999},{"$f":"+B1335/Analyse1!$H$3*Analyse1!$H$4","v":2.0330794639985197E-14}]
[5658.8969999999999,1.3557032509107101,{"$f":"+IF(AND(A1336>Analyse1!$E$3,Data!A1336<Analyse1!$E$4),B1336,\"\")","v":1.3557032509107101},{"$f":"+B1336/Analyse1!$H$3*Analyse1!$H$4","v":2.074539013575844E-14}]
[5659.8969999999999,1.37855635132341,{"$f":"+IF(AND(A1337>Analyse1!$E$3,Data!A1337<Analyse1!$E$4),B1337,\"\")","v":1.37855635132341},{"$f":"+B1337/Analyse1!$H$3*Analyse1!$H$4","v":2.1095095341196755E-14}]
[5660.8969999999999,1.39848514401623,{"$f":"+IF(AND(A1338>Analyse1!$E$3,Data!A1338<Analyse1!$E$4),B1338,\"\")","v":1.39848514401623},{"$f":"+B1338/Analyse1!$H$3*Analyse1!$H$4","v":2.1400051886126097E-14}]
[5661.8969999999999,1.41704143197667,{"$f":"+IF(AND(A1339>Analyse1!$E$3,Data!A1339<Analyse1!$E$4),B1339,\"\")","v":1.41704143197667},{"$f":"+B1339/Analyse1!$H$3*Analyse1!$H$4","v":2.1684005939457605E-14}]
[5662.8969999999999,1.43577701819223,{"$f":"+IF(AND(A1340>Analyse1!$E$3,Data!A1340<Analyse1!$E$4),B1340,\"\")","v":1.43577701819223},{"$f":"+B1340/Analyse1!$H$3*Analyse1!$H$4","v":2.1970703670102449E-14}]
[5663.8969999999999,1.4555768543668099,{"$f":"+IF(AND(A1341>Analyse1!$E$3,Data!A1341<Analyse1!$E$4),B1341,\"\")","v":1.4555768543668099},{"$f":"+B1341/Analyse1!$H$3*Analyse1!$H$4","v":2.227368688253469E-14}]
[5664.8969999999999,1.47454382851126,{"$f":"+IF(AND(A1342>Analyse1!$E$3,Data!A1342<Analyse1!$E$4),B1342,\"\")","v":1.47454382851126},{"$f":"+B1342/Analyse1!$H$3*Analyse1!$H$4","v":2.256392538277959E-14}]
[5665.8969999999999,1.49005542658656,{"$f":"+IF(AND(A1343>Analyse1!$E$3,Data!A1343<Analyse1!$E$4),B1343,\"\")","v":1.49005542658656},{"$f":"+B1343/Analyse1!$H$3*Analyse1!$H$4","v":2.2801288650504301E-14}]
[5666.8969999999999,1.4994891326334101,{"$f":"+IF(AND(A1344>Analyse1!$E$3,Data!A1344<Analyse1!$E$4),B1344,\"\")","v":1.4994891326334101},{"$f":"+B1344/Analyse1!$H$3*Analyse1!$H$4","v":2.2945646135991259E-14}]
[5667.8969999999999,1.50063439845744,{"$f":"+IF(AND(A1345>Analyse1!$E$3,Data!A1345<Analyse1!$E$4),B1345,\"\")","v":1.50063439845744},{"$f":"+B1345/Analyse1!$H$3*Analyse1!$H$4","v":2.2963171347583614E-14}]
[5668.8969999999999,1.4954171809008101,{"$f":"+IF(AND(A1346>Analyse1!$E$3,Data!A1346<Analyse1!$E$4),B1346,\"\")","v":1.4954171809008101},{"$f":"+B1346/Analyse1!$H$3*Analyse1!$H$4","v":2.2883335872111598E-14}]
[5669.8969999999999,1.4881517558597199,{"$f":"+IF(AND(A1347>Analyse1!$E$3,Data!A1347<Analyse1!$E$4),B1347,\"\")","v":1.4881517558597199},{"$f":"+B1347/Analyse1!$H$3*Analyse1!$H$4","v":2.2772158092698385E-14}]
[5670.8969999999999,1.48318131164324,{"$f":"+IF(AND(A1348>Analyse1!$E$3,Data!A1348<Analyse1!$E$4),B1348,\"\")","v":1.48318131164324},{"$f":"+B1348/Analyse1!$H$3*Analyse1!$H$4","v":2.2696098819144508E-14}]
[5671.8969999999999,1.48475066853506,{"$f":"+IF(AND(A1349>Analyse1!$E$3,Data!A1349<Analyse1!$E$4),B1349,\"\")","v":1.48475066853506},{"$f":"+B1349/Analyse1!$H$3*Analyse1!$H$4","v":2.2720113603324728E-14}]
[5672.8969999999999,1.49387973504935,{"$f":"+IF(AND(A1350>Analyse1!$E$3,Data!A1350<Analyse1!$E$4),B1350,\"\")","v":1.49387973504935},{"$f":"+B1350/Analyse1!$H$3*Analyse1!$H$4","v":2.2859809400533307E-14}]
[5673.8969999999999,1.5077161369302201,{"$f":"+IF(AND(A1351>Analyse1!$E$3,Data!A1351<Analyse1!$E$4),B1351,\"\")","v":1.5077161369302201},{"$f":"+B1351/Analyse1!$H$3*Analyse1!$H$4","v":2.3071538298358823E-14}]
[5674.8969999999999,1.52317829786708,{"$f":"+IF(AND(A1352>Analyse1!$E$3,Data!A1352<Analyse1!$E$4),B1352,\"\")","v":1.52317829786708},{"$f":"+B1352/Analyse1!$H$3*Analyse1!$H$4","v":2.3308145063712203E-14}]
[5675.8969999999999,1.5371870207906999,{"$f":"+IF(AND(A1353>Analyse1!$E$3,Data!A1353<Analyse1!$E$4),B1353,\"\")","v":1.5371870207906999},{"$f":"+B1353/Analyse1!$H$3*Analyse1!$H$4","v":2.3522510871390993E-14}]
[5676.8969999999999,1.54768985146375,{"$f":"+IF(AND(A1354>Analyse1!$E$3,Data!A1354<Analyse1!$E$4),B1354,\"\")","v":1.54768985146375},{"$f":"+B1354/Analyse1!$H$3*Analyse1!$H$4","v":2.3683228432329103E-14}]
[5677.8969999999999,1.5552589923544999,{"$f":"+IF(AND(A1355>Analyse1!$E$3,Data!A1355<Analyse1!$E$4),B1355,\"\")","v":1.5552589923544999},{"$f":"+B1355/Analyse1!$H$3*Analyse1!$H$4","v":2.3799053765539486E-14}]
[5678.8969999999999,1.56088004710496,{"$f":"+IF(AND(A1356>Analyse1!$E$3,Data!A1356<Analyse1!$E$4),B1356,\"\")","v":1.56088004710496},{"$f":"+B1356/Analyse1!$H$3*Analyse1!$H$4","v":2.3885068882560422E-14}]
[5679.8969999999999,1.5655386193571701,{"$f":"+IF(AND(A1357>Analyse1!$E$3,Data!A1357<Analyse1!$E$4),B1357,\"\")","v":1.5655386193571701},{"$f":"+B1357/Analyse1!$H$3*Analyse1!$H$4","v":2.3956355794930659E-14}]
[5680.8969999999999,1.5701455385652501,{"$f":"+IF(AND(A1358>Analyse1!$E$3,Data!A1358<Analyse1!$E$4),B1358,\"\")","v":1.5701455385652501},{"$f":"+B1358/Analyse1!$H$3*Analyse1!$H$4","v":2.4026852296455855E-14}]
[5681.8969999999999,1.5751735944312499,{"$f":"+IF(AND(A1359>Analyse1!$E$3,Data!A1359<Analyse1!$E$4),B1359,\"\")","v":1.5751735944312499},{"$f":"+B1359/Analyse1!$H$3*Analyse1!$H$4","v":2.4103793161276003E-14}]
[5682.8969999999999,1.5809365526825201,{"$f":"+IF(AND(A1360>Analyse1!$E$3,Data!A1360<Analyse1!$E$4),B1360,\"\")","v":1.5809365526825201},{"$f":"+B1360/Analyse1!$H$3*Analyse1!$H$4","v":2.4191979729522686E-14}]
[5683.8969999999999,1.58774795483769,{"$f":"+IF(AND(A1361>Analyse1!$E$3,Data!A1361<Analyse1!$E$4),B1361,\"\")","v":1.58774795483769},{"$f":"+B1361/Analyse1!$H$3*Analyse1!$H$4","v":2.4296209910416345E-14}]
[5684.8969999999999,1.5958141931577301,{"$f":"+IF(AND(A1362>Analyse1!$E$3,Data!A1362<Analyse1!$E$4),B1362,\"\")","v":1.5958141931577301},{"$f":"+B1362/Analyse1!$H$3*Analyse1!$H$4","v":2.4419641982121439E-14}]
[5685.8969999999999,1.6037125358745301,{"$f":"+IF(AND(A1363>Analyse1!$E$3,Data!A1363<Analyse1!$E$4),B1363,\"\")","v":1.6037125358745301},{"$f":"+B1363/Analyse1!$H$3*Analyse1!$H$4","v":2.4540504863416345E-14}]
[5686.8969999999999,1.60875279258112,{"$f":"+IF(AND(A1364>Analyse1!$E$3,Data!A1364<Analyse1!$E$4),B1364,\"\")","v":1.60875279258112},{"$f":"+B1364/Analyse1!$H$3*Analyse1!$H$4","v":2.4617632429269965E-14}]
[5687.8969999999999,1.6082113885579401,{"$f":"+IF(AND(A1365>Analyse1!$E$3,Data!A1365<Analyse1!$E$4),B1365,\"\")","v":1.6082113885579401},{"$f":"+B1365/Analyse1!$H$3*Analyse1!$H$4","v":2.4609347697582267E-14}]
[5688.8969999999999,1.5994034550982501,{"$f":"+IF(AND(A1366>Analyse1!$E$3,Data!A1366<Analyse1!$E$4),B1366,\"\")","v":1.5994034550982501},{"$f":"+B1366/Analyse1!$H$3*Analyse1!$H$4","v":2.4474565977623768E-14}]
[5689.8969999999999,1.58224561103648,{"$f":"+IF(AND(A1367>Analyse1!$E$3,Data!A1367<Analyse1!$E$4),B1367,\"\")","v":1.58224561103648},{"$f":"+B1367/Analyse1!$H$3*Analyse1!$H$4","v":2.4212011345029344E-14}]
[5690.8969999999999,1.5608560356366901,{"$f":"+IF(AND(A1368>Analyse1!$E$3,Data!A1368<Analyse1!$E$4),B1368,\"\")","v":1.5608560356366901},{"$f":"+B1368/Analyse1!$H$3*Analyse1!$H$4","v":2.3884701451652032E-14}]
[5691.8969999999999,1.5397348651609399,{"$f":"+IF(AND(A1369>Analyse1!$E$3,Data!A1369<Analyse1!$E$4),B1369,\"\")","v":1.5397348651609399},{"$f":"+B1369/Analyse1!$H$3*Analyse1!$H$4","v":2.3561498773374939E-14}]
[5692.8969999999999,1.52338215253943,{"$f":"+IF(AND(A1370>Analyse1!$E$3,Data!A1370<Analyse1!$E$4),B1370,\"\")","v":1.52338215253943},{"$f":"+B1370/Analyse1!$H$3*Analyse1!$H$4","v":2.3311264510911328E-14}]
[5693.8969999999999,1.5148307514403501,{"$f":"+IF(AND(A1371>Analyse1!$E$3,Data!A1371<Analyse1!$E$4),B1371,\"\")","v":1.5148307514403501},{"$f":"+B1371/Analyse1!$H$3*Analyse1!$H$4","v":2.3180408328418147E-14}]
[5694.8969999999999,1.51190683771251,{"$f":"+IF(AND(A1372>Analyse1!$E$3,Data!A1372<Analyse1!$E$4),B1372,\"\")","v":1.51190683771251},{"$f":"+B1372/Analyse1!$H$3*Analyse1!$H$4","v":2.3135665696897133E-14}]
[5695.8969999999999,1.51128214339018,{"$f":"+IF(AND(A1373>Analyse1!$E$3,Data!A1373<Analyse1!$E$4),B1373,\"\")","v":1.51128214339018},{"$f":"+B1373/Analyse1!$H$3*Analyse1!$H$4","v":2.3126106431310343E-14}]
[5696.8969999999999,1.5096284005076701,{"$f":"+IF(AND(A1374>Analyse1!$E$3,Data!A1374<Analyse1!$E$4),B1374,\"\")","v":1.5096284005076701},{"$f":"+B1374/Analyse1!$H$3*Analyse1!$H$4","v":2.310080034662046E-14}]
[5697.8969999999999,1.50400145107215,{"$f":"+IF(AND(A1375>Analyse1!$E$3,Data!A1375<Analyse1!$E$4),B1375,\"\")","v":1.50400145107215},{"$f":"+B1375/Analyse1!$H$3*Analyse1!$H$4","v":2.3014695027306933E-14}]
[5698.8969999999999,1.4946700552949299,{"$f":"+IF(AND(A1376>Analyse1!$E$3,Data!A1376<Analyse1!$E$4),B1376,\"\")","v":1.4946700552949299},{"$f":"+B1376/Analyse1!$H$3*Analyse1!$H$4","v":2.2871903125185608E-14}]
[5699.8969999999999,1.48350364786622,{"$f":"+IF(AND(A1377>Analyse1!$E$3,Data!A1377<Analyse1!$E$4),B1377,\"\")","v":1.48350364786622},{"$f":"+B1377/Analyse1!$H$3*Analyse1!$H$4","v":2.2701031307648992E-14}]
[5700.8969999999999,1.47238337242685,{"$f":"+IF(AND(A1378>Analyse1!$E$3,Data!A1378<Analyse1!$E$4),B1378,\"\")","v":1.47238337242685},{"$f":"+B1378/Analyse1!$H$3*Analyse1!$H$4","v":2.2530865416070689E-14}]
[5701.8969999999999,1.4631600015015001,{"$f":"+IF(AND(A1379>Analyse1!$E$3,Data!A1379<Analyse1!$E$4),B1379,\"\")","v":1.4631600015015001},{"$f":"+B1379/Analyse1!$H$3*Analyse1!$H$4","v":2.2389726543618579E-14}]
[5702.8969999999999,1.4569302521187699,{"$f":"+IF(AND(A1380>Analyse1!$E$3,Data!A1380<Analyse1!$E$4),B1380,\"\")","v":1.4569302521187699},{"$f":"+B1380/Analyse1!$H$3*Analyse1!$H$4","v":2.2294396993212975E-14}]
[5703.8969999999999,1.4540045875933501,{"$f":"+IF(AND(A1381>Analyse1!$E$3,Data!A1381<Analyse1!$E$4),B1381,\"\")","v":1.4540045875933501},{"$f":"+B1381/Analyse1!$H$3*Analyse1!$H$4","v":2.2249627570446292E-14}]
[5704.8969999999999,1.4546566569505599,{"$f":"+IF(AND(A1382>Analyse1!$E$3,Data!A1382<Analyse1!$E$4),B1382,\"\")","v":1.4546566569505599},{"$f":"+B1382/Analyse1!$H$3*Analyse1!$H$4","v":2.2259605737277278E-14}]
[5705.8969999999999,1.45915711119993,{"$f":"+IF(AND(A1383>Analyse1!$E$3,Data!A1383<Analyse1!$E$4),B1383,\"\")","v":1.45915711119993},{"$f":"+B1383/Analyse1!$H$3*Analyse1!$H$4","v":2.2328473079100492E-14}]
[5706.8969999999999,1.46718684135087,{"$f":"+IF(AND(A1384>Analyse1!$E$3,Data!A1384<Analyse1!$E$4),B1384,\"\")","v":1.46718684135087},{"$f":"+B1384/Analyse1!$H$3*Analyse1!$H$4","v":2.2451346491518886E-14}]
[5707.8969999999999,1.4771327258259599,{"$f":"+IF(AND(A1385>Analyse1!$E$3,Data!A1385<Analyse1!$E$4),B1385,\"\")","v":1.4771327258259599},{"$f":"+B1385/Analyse1!$H$3*Analyse1!$H$4","v":2.2603541489607385E-14}]
[5708.8969999999999,1.48720988718099,{"$f":"+IF(AND(A1386>Analyse1!$E$3,Data!A1386<Analyse1!$E$4),B1386,\"\")","v":1.48720988718099},{"$f":"+B1386/Analyse1!$H$3*Analyse1!$H$4","v":2.2757745327084833E-14}]
[5709.8969999999999,1.4956334479717599,{"$f":"+IF(AND(A1387>Analyse1!$E$3,Data!A1387<Analyse1!$E$4),B1387,\"\")","v":1.4956334479717599},{"$f":"+B1387/Analyse1!$H$3*Analyse1!$H$4","v":2.288664525767024E-14}]
[5710.8969999999999,1.50096284814956,{"$f":"+IF(AND(A1388>Analyse1!$E$3,Data!A1388<Analyse1!$E$4),B1388,\"\")","v":1.50096284814956},{"$f":"+B1388/Analyse1!$H$3*Analyse1!$H$4","v":2.2968197386282291E-14}]
[5711.8969999999999,1.50346810695694,{"$f":"+IF(AND(A1389>Analyse1!$E$3,Data!A1389<Analyse1!$E$4),B1389,\"\")","v":1.50346810695694},{"$f":"+B1389/Analyse1!$H$3*Analyse1!$H$4","v":2.3006533630821967E-14}]
[5712.8969999999999,1.5039494486209399,{"$f":"+IF(AND(A1390>Analyse1!$E$3,Data!A1390<Analyse1!$E$4),B1390,\"\")","v":1.5039494486209399},{"$f":"+B1390/Analyse1!$H$3*Analyse1!$H$4","v":2.3013899269726765E-14}]
[5713.8969999999999,1.5032072583759299,{"$f":"+IF(AND(A1391>Analyse1!$E$3,Data!A1391<Analyse1!$E$4),B1391,\"\")","v":1.5032072583759299},{"$f":"+B1391/Analyse1!$H$3*Analyse1!$H$4","v":2.3002542045218125E-14}]
[5714.8969999999999,1.5020500431778001,{"$f":"+IF(AND(A1392>Analyse1!$E$3,Data!A1392<Analyse1!$E$4),B1392,\"\")","v":1.5020500431778001},{"$f":"+B1392/Analyse1!$H$3*Analyse1!$H$4","v":2.2984833980610251E-14}]
[5715.8969999999999,1.50138668273749,{"$f":"+IF(AND(A1393>Analyse1!$E$3,Data!A1393<Analyse1!$E$4),B1393,\"\")","v":1.50138668273749},{"$f":"+B1393/Analyse1!$H$3*Analyse1!$H$4","v":2.2974683034136073E-14}]
[5716.8969999999999,1.5021937594130099,{"$f":"+IF(AND(A1394>Analyse1!$E$3,Data!A1394<Analyse1!$E$4),B1394,\"\")","v":1.5021937594130099},{"$f":"+B1394/Analyse1!$H$3*Analyse1!$H$4","v":2.2987033170858017E-14}]
[5717.8969999999999,1.5054491239989001,{"$f":"+IF(AND(A1395>Analyse1!$E$3,Data!A1395<Analyse1!$E$4),B1395,\"\")","v":1.5054491239989001},{"$f":"+B1395/Analyse1!$H$3*Analyse1!$H$4","v":2.3036847765846307E-14}]
[5718.8969999999999,1.512102985304,{"$f":"+IF(AND(A1396>Analyse1!$E$3,Data!A1396<Analyse1!$E$4),B1396,\"\")","v":1.512102985304},{"$f":"+B1396/Analyse1!$H$3*Analyse1!$H$4","v":2.3138667207963008E-14}]
[5719.8969999999999,1.52182913254604,{"$f":"+IF(AND(A1397>Analyse1!$E$3,Data!A1397<Analyse1!$E$4),B1397,\"\")","v":1.52182913254604},{"$f":"+B1397/Analyse1!$H$3*Analyse1!$H$4","v":2.3287499718999923E-14}]
[5720.8969999999999,1.53251599404023,{"$f":"+IF(AND(A1398>Analyse1!$E$3,Data!A1398<Analyse1!$E$4),B1398,\"\")","v":1.53251599404023},{"$f":"+B1398/Analyse1!$H$3*Analyse1!$H$4","v":2.3451033376439231E-14}]
[5721.8969999999999,1.54191896128378,{"$f":"+IF(AND(A1399>Analyse1!$E$3,Data!A1399<Analyse1!$E$4),B1399,\"\")","v":1.54191896128378},{"$f":"+B1399/Analyse1!$H$3*Analyse1!$H$4","v":2.3594920487258036E-14}]
[5722.8969999999999,1.5477940362992499,{"$f":"+IF(AND(A1400>Analyse1!$E$3,Data!A1400<Analyse1!$E$4),B1400,\"\")","v":1.5477940362992499},{"$f":"+B1400/Analyse1!$H$3*Analyse1!$H$4","v":2.3684822700881034E-14}]
[5723.8969999999999,1.5488579837677201,{"$f":"+IF(AND(A1401>Analyse1!$E$3,Data!A1401<Analyse1!$E$4),B1401,\"\")","v":1.5488579837677201},{"$f":"+B1401/Analyse1!$H$3*Analyse1!$H$4","v":2.3701103553864558E-14}]
[5724.8969999999999,1.5467332084879799,{"$f":"+IF(AND(A1402>Analyse1!$E$3,Data!A1402<Analyse1!$E$4),B1402,\"\")","v":1.5467332084879799},{"$f":"+B1402/Analyse1!$H$3*Analyse1!$H$4","v":2.3668589585856137E-14}]
[5725.8969999999999,1.5435892863367899,{"$f":"+IF(AND(A1403>Analyse1!$E$3,Data!A1403<Analyse1!$E$4),B1403,\"\")","v":1.5435892863367899},{"$f":"+B1403/Analyse1!$H$3*Analyse1!$H$4","v":2.3620480317445754E-14}]
[5726.8969999999999,1.5415957931908799,{"$f":"+IF(AND(A1404>Analyse1!$E$3,Data!A1404<Analyse1!$E$4),B1404,\"\")","v":1.5415957931908799},{"$f":"+B1404/Analyse1!$H$3*Analyse1!$H$4","v":2.3589975269222937E-14}]
[5727.8969999999999,1.5424755301349,{"$f":"+IF(AND(A1405>Analyse1!$E$3,Data!A1405<Analyse1!$E$4),B1405,\"\")","v":1.5424755301349},{"$f":"+B1405/Analyse1!$H$3*Analyse1!$H$4","v":2.3603437275829675E-14}]
[5728.8969999999999,1.5448135842517501,{"$f":"+IF(AND(A1406>Analyse1!$E$3,Data!A1406<Analyse1!$E$4),B1406,\"\")","v":1.5448135842517501},{"$f":"+B1406/Analyse1!$H$3*Analyse1!$H$4","v":2.3639214902518988E-14}]
[5729.8969999999999,1.5458504981071,{"$f":"+IF(AND(A1407>Analyse1!$E$3,Data!A1407<Analyse1!$E$4),B1407,\"\")","v":1.5458504981071},{"$f":"+B1407/Analyse1!$H$3*Analyse1!$H$4","v":2.3655082078799605E-14}]
[5730.8969999999999,1.5428216890890001,{"$f":"+IF(AND(A1408>Analyse1!$E$3,Data!A1408<Analyse1!$E$4),B1408,\"\")","v":1.5428216890890001},{"$f":"+B1408/Analyse1!$H$3*Analyse1!$H$4","v":2.3608734307128353E-14}]
[5731.8969999999999,1.5331354222415099,{"$f":"+IF(AND(A1409>Analyse1!$E$3,Data!A1409<Analyse1!$E$4),B1409,\"\")","v":1.5331354222415099},{"$f":"+B1409/Analyse1!$H$3*Analyse1!$H$4","v":2.3460512058214175E-14}]
[5732.8969999999999,1.5175471523580999,{"$f":"+IF(AND(A1410>Analyse1!$E$3,Data!A1410<Analyse1!$E$4),B1410,\"\")","v":1.5175471523580999},{"$f":"+B1410/Analyse1!$H$3*Analyse1!$H$4","v":2.3221975534785764E-14}]
[5733.8969999999999,1.4998437227172201,{"$f":"+IF(AND(A1411>Analyse1!$E$3,Data!A1411<Analyse1!$E$4),B1411,\"\")","v":1.4998437227172201},{"$f":"+B1411/Analyse1!$H$3*Analyse1!$H$4","v":2.2951072183042465E-14}]
[5734.8969999999999,1.48392146948862,{"$f":"+IF(AND(A1412>Analyse1!$E$3,Data!A1412<Analyse1!$E$4),B1412,\"\")","v":1.48392146948862},{"$f":"+B1412/Analyse1!$H$3*Analyse1!$H$4","v":2.270742494324588E-14}]
[5735.8969999999999,1.47365684543043,{"$f":"+IF(AND(A1413>Analyse1!$E$3,Data!A1413<Analyse1!$E$4),B1413,\"\")","v":1.47365684543043},{"$f":"+B1413/Analyse1!$H$3*Analyse1!$H$4","v":2.2550352493547912E-14}]
[5736.8969999999999,1.47074228091382,{"$f":"+IF(AND(A1414>Analyse1!$E$3,Data!A1414<Analyse1!$E$4),B1414,\"\")","v":1.47074228091382},{"$f":"+B1414/Analyse1!$H$3*Analyse1!$H$4","v":2.2505752926546581E-14}]
[5737.8969999999999,1.4727428964762199,{"$f":"+IF(AND(A1415>Analyse1!$E$3,Data!A1415<Analyse1!$E$4),B1415,\"\")","v":1.4727428964762199},{"$f":"+B1415/Analyse1!$H$3*Analyse1!$H$4","v":2.2536366964187768E-14}]
[5738.8969999999999,1.47676519455558,{"$f":"+IF(AND(A1416>Analyse1!$E$3,Data!A1416<Analyse1!$E$4),B1416,\"\")","v":1.47676519455558},{"$f":"+B1416/Analyse1!$H$3*Analyse1!$H$4","v":2.2597917412519717E-14}]
[5739.8969999999999,1.4799156775898501,{"$f":"+IF(AND(A1417>Analyse1!$E$3,Data!A1417<Analyse1!$E$4),B1417,\"\")","v":1.4799156775898501},{"$f":"+B1417/Analyse1!$H$3*Analyse1!$H$4","v":2.264612707759068E-14}]
[5740.8969999999999,1.4797727670490799,{"$f":"+IF(AND(A1418>Analyse1!$E$3,Data!A1418<Analyse1!$E$4),B1418,\"\")","v":1.4797727670490799},{"$f":"+B1418/Analyse1!$H$3*Analyse1!$H$4","v":2.2643940216328234E-14}]
[5741.8969999999999,1.47590748129432,{"$f":"+IF(AND(A1419>Analyse1!$E$3,Data!A1419<Analyse1!$E$4),B1419,\"\")","v":1.47590748129432},{"$f":"+B1419/Analyse1!$H$3*Analyse1!$H$4","v":2.2584792419113161E-14}]
[5742.8969999999999,1.46841665976466,{"$f":"+IF(AND(A1420>Analyse1!$E$3,Data!A1420<Analyse1!$E$4),B1420,\"\")","v":1.46841665976466},{"$f":"+B1420/Analyse1!$H$3*Analyse1!$H$4","v":2.2470165552971366E-14}]
[5743.8969999999999,1.4573971448190699,{"$f":"+IF(AND(A1421>Analyse1!$E$3,Data!A1421<Analyse1!$E$4),B1421,\"\")","v":1.4573971448190699},{"$f":"+B1421/Analyse1!$H$3*Analyse1!$H$4","v":2.2301541529609677E-14}]
[5744.8969999999999,1.44303796316538,{"$f":"+IF(AND(A1422>Analyse1!$E$3,Data!A1422<Analyse1!$E$4),B1422,\"\")","v":1.44303796316538},{"$f":"+B1422/Analyse1!$H$3*Analyse1!$H$4","v":2.2081812894131437E-14}]
[5745.8969999999999,1.4264667114113201,{"$f":"+IF(AND(A1423>Analyse1!$E$3,Data!A1423<Analyse1!$E$4),B1423,\"\")","v":1.4264667114113201},{"$f":"+B1423/Analyse1!$H$3*Analyse1!$H$4","v":2.1828234478320376E-14}]
[5746.8969999999999,1.40935878535972,{"$f":"+IF(AND(A1424>Analyse1!$E$3,Data!A1424<Analyse1!$E$4),B1424,\"\")","v":1.40935878535972},{"$f":"+B1424/Analyse1!$H$3*Analyse1!$H$4","v":2.1566443706545112E-14}]
[5747.8969999999999,1.3933964354637101,{"$f":"+IF(AND(A1425>Analyse1!$E$3,Data!A1425<Analyse1!$E$4),B1425,\"\")","v":1.3933964354637101},{"$f":"+B1425/Analyse1!$H$3*Analyse1!$H$4","v":2.1322182895151644E-14}]
[5748.8969999999999,1.380229063127,{"$f":"+IF(AND(A1426>Analyse1!$E$3,Data!A1426<Analyse1!$E$4),B1426,\"\")","v":1.380229063127},{"$f":"+B1426/Analyse1!$H$3*Analyse1!$H$4","v":2.1120691694179498E-14}]
[5749.8969999999999,1.37040518074659,{"$f":"+IF(AND(A1427>Analyse1!$E$3,Data!A1427<Analyse1!$E$4),B1427,\"\")","v":1.37040518074659},{"$f":"+B1427/Analyse1!$H$3*Analyse1!$H$4","v":2.0970363609849464E-14}]
[5750.8969999999999,1.3631374901284199,{"$f":"+IF(AND(A1428>Analyse1!$E$3,Data!A1428<Analyse1!$E$4),B1428,\"\")","v":1.3631374901284199},{"$f":"+B1428/Analyse1!$H$3*Analyse1!$H$4","v":2.085915116187558E-14}]
[5751.8969999999999,1.3575583080106901,{"$f":"+IF(AND(A1429>Analyse1!$E$3,Data!A1429<Analyse1!$E$4),B1429,\"\")","v":1.3575583080106901},{"$f":"+B1429/Analyse1!$H$3*Analyse1!$H$4","v":2.0773776792821736E-14}]
[5752.8969999999999,1.35280077388982,{"$f":"+IF(AND(A1430>Analyse1!$E$3,Data!A1430<Analyse1!$E$4),B1430,\"\")","v":1.35280077388982},{"$f":"+B1430/Analyse1!$H$3*Analyse1!$H$4","v":2.0700975535352351E-14}]
[5753.8969999999999,1.3483789053731401,{"$f":"+IF(AND(A1431>Analyse1!$E$3,Data!A1431<Analyse1!$E$4),B1431,\"\")","v":1.3483789053731401},{"$f":"+B1431/Analyse1!$H$3*Analyse1!$H$4","v":2.063331073669827E-14}]
[5754.8969999999999,1.3447915794743699,{"$f":"+IF(AND(A1432>Analyse1!$E$3,Data!A1432<Analyse1!$E$4),B1432,\"\")","v":1.3447915794743699},{"$f":"+B1432/Analyse1!$H$3*Analyse1!$H$4","v":2.0578416367105141E-14}]
[5755.8969999999999,1.34269474147236,{"$f":"+IF(AND(A1433>Analyse1!$E$3,Data!A1433<Analyse1!$E$4),B1433,\"\")","v":1.34269474147236},{"$f":"+B1433/Analyse1!$H$3*Analyse1!$H$4","v":2.0546329903954774E-14}]
[5756.8969999999999,1.3427443366459499,{"$f":"+IF(AND(A1434>Analyse1!$E$3,Data!A1434<Analyse1!$E$4),B1434,\"\")","v":1.3427443366459499},{"$f":"+B1434/Analyse1!$H$3*Analyse1!$H$4","v":2.0547088824628814E-14}]
[5757.8969999999999,1.34546529470091,{"$f":"+IF(AND(A1435>Analyse1!$E$3,Data!A1435<Analyse1!$E$4),B1435,\"\")","v":1.34546529470091},{"$f":"+B1435/Analyse1!$H$3*Analyse1!$H$4","v":2.0588725765718436E-14}]
[5758.8969999999999,1.3506055040279299,{"$f":"+IF(AND(A1436>Analyse1!$E$3,Data!A1436<Analyse1!$E$4),B1436,\"\")","v":1.3506055040279299},{"$f":"+B1436/Analyse1!$H$3*Analyse1!$H$4","v":2.0667382837460985E-14}]
[5759.8969999999999,1.35762747644723,{"$f":"+IF(AND(A1437>Analyse1!$E$3,Data!A1437<Analyse1!$E$4),B1437,\"\")","v":1.35762747644723},{"$f":"+B1437/Analyse1!$H$3*Analyse1!$H$4","v":2.0774835229614693E-14}]
[5760.8969999999999,1.36599328634742,{"$f":"+IF(AND(A1438>Analyse1!$E$3,Data!A1438<Analyse1!$E$4),B1438,\"\")","v":1.36599328634742},{"$f":"+B1438/Analyse1!$H$3*Analyse1!$H$4","v":2.09028514382241E-14}]
[5761.8969999999999,1.37511509205736,{"$f":"+IF(AND(A1439>Analyse1!$E$3,Data!A1439<Analyse1!$E$4),B1439,\"\")","v":1.37511509205736},{"$f":"+B1439/Analyse1!$H$3*Analyse1!$H$4","v":2.104243612836051E-14}]
[5762.8969999999999,1.3836338884260699,{"$f":"+IF(AND(A1440>Analyse1!$E$3,Data!A1440<Analyse1!$E$4),B1440,\"\")","v":1.3836338884260699},{"$f":"+B1440/Analyse1!$H$3*Analyse1!$H$4","v":2.1172793383192828E-14}]
[5763.8969999999999,1.38958436345061,{"$f":"+IF(AND(A1441>Analyse1!$E$3,Data!A1441<Analyse1!$E$4),B1441,\"\")","v":1.38958436345061},{"$f":"+B1441/Analyse1!$H$3*Analyse1!$H$4","v":2.1263849391057558E-14}]
[5764.8969999999999,1.39098485944176,{"$f":"+IF(AND(A1442>Analyse1!$E$3,Data!A1442<Analyse1!$E$4),B1442,\"\")","v":1.39098485944176},{"$f":"+B1442/Analyse1!$H$3*Analyse1!$H$4","v":2.1285280213547993E-14}]
[5765.8969999999999,1.3858858296774199,{"$f":"+IF(AND(A1443>Analyse1!$E$3,Data!A1443<Analyse1!$E$4),B1443,\"\")","v":1.3858858296774199},{"$f":"+B1443/Analyse1!$H$3*Analyse1!$H$4","v":2.1207253284200423E-14}]
[5766.8969999999999,1.37456290650358,{"$f":"+IF(AND(A1444>Analyse1!$E$3,Data!A1444<Analyse1!$E$4),B1444,\"\")","v":1.37456290650358},{"$f":"+B1444/Analyse1!$H$3*Analyse1!$H$4","v":2.1033986414359454E-14}]
[5767.8969999999999,1.36092431889778,{"$f":"+IF(AND(A1445>Analyse1!$E$3,Data!A1445<Analyse1!$E$4),B1445,\"\")","v":1.36092431889778},{"$f":"+B1445/Analyse1!$H$3*Analyse1!$H$4","v":2.0825284531707057E-14}]
[5768.8969999999999,1.3492132629607201,{"$f":"+IF(AND(A1446>Analyse1!$E$3,Data!A1446<Analyse1!$E$4),B1446,\"\")","v":1.3492132629607201},{"$f":"+B1446/Analyse1!$H$3*Analyse1!$H$4","v":2.0646078334367929E-14}]
[5769.8969999999999,1.34367285950087,{"$f":"+IF(AND(A1447>Analyse1!$E$3,Data!A1447<Analyse1!$E$4),B1447,\"\")","v":1.34367285950087},{"$f":"+B1447/Analyse1!$H$3*Analyse1!$H$4","v":2.0561297368321794E-14}]
[5770.8969999999999,1.34674816632704,{"$f":"+IF(AND(A1448>Analyse1!$E$3,Data!A1448<Analyse1!$E$4),B1448,\"\")","v":1.34674816632704},{"$f":"+B1448/Analyse1!$H$3*Analyse1!$H$4","v":2.0608356663822636E-14}]
[5771.8969999999999,1.35442674533401,{"$f":"+IF(AND(A1449>Analyse1!$E$3,Data!A1449<Analyse1!$E$4),B1449,\"\")","v":1.35442674533401},{"$f":"+B1449/Analyse1!$H$3*Analyse1!$H$4","v":2.0725856652910089E-14}]
[5772.8969999999999,1.3612470501957601,{"$f":"+IF(AND(A1450>Analyse1!$E$3,Data!A1450<Analyse1!$E$4),B1450,\"\")","v":1.3612470501957601},{"$f":"+B1450/Analyse1!$H$3*Analyse1!$H$4","v":2.083022306577129E-14}]
[5773.8969999999999,1.36174753458625,{"$f":"+IF(AND(A1451>Analyse1!$E$3,Data!A1451<Analyse1!$E$4),B1451,\"\")","v":1.36174753458625},{"$f":"+B1451/Analyse1!$H$3*Analyse1!$H$4","v":2.0837881632593046E-14}]
[5774.8969999999999,1.3512993116755201,{"$f":"+IF(AND(A1452>Analyse1!$E$3,Data!A1452<Analyse1!$E$4),B1452,\"\")","v":1.3512993116755201},{"$f":"+B1452/Analyse1!$H$3*Analyse1!$H$4","v":2.06779996965109E-14}]
[5775.8969999999999,1.33233112524455,{"$f":"+IF(AND(A1453>Analyse1!$E$3,Data!A1453<Analyse1!$E$4),B1453,\"\")","v":1.33233112524455},{"$f":"+B1453/Analyse1!$H$3*Analyse1!$H$4","v":2.0387742645483004E-14}]
[5776.8969999999999,1.3108268209852101,{"$f":"+IF(AND(A1454>Analyse1!$E$3,Data!A1454<Analyse1!$E$4),B1454,\"\")","v":1.3108268209852101},{"$f":"+B1454/Analyse1!$H$3*Analyse1!$H$4","v":2.0058677135639035E-14}]
[5777.8969999999999,1.2927973527547401,{"$f":"+IF(AND(A1455>Analyse1!$E$3,Data!A1455<Analyse1!$E$4),B1455,\"\")","v":1.2927973527547401},{"$f":"+B1455/Analyse1!$H$3*Analyse1!$H$4","v":1.9782784640633139E-14}]
[5778.8969999999999,1.2840455982375001,{"$f":"+IF(AND(A1456>Analyse1!$E$3,Data!A1456<Analyse1!$E$4),B1456,\"\")","v":1.2840455982375001},{"$f":"+B1456/Analyse1!$H$3*Analyse1!$H$4","v":1.9648862588214541E-14}]
[5779.8969999999999,1.28510668220654,{"$f":"+IF(AND(A1457>Analyse1!$E$3,Data!A1457<Analyse1!$E$4),B1457,\"\")","v":1.28510668220654},{"$f":"+B1457/Analyse1!$H$3*Analyse1!$H$4","v":1.9665099623044796E-14}]
[5780.8969999999999,1.2909654116971001,{"$f":"+IF(AND(A1458>Analyse1!$E$3,Data!A1458<Analyse1!$E$4),B1458,\"\")","v":1.2909654116971001},{"$f":"+B1458/Analyse1!$H$3*Analyse1!$H$4","v":1.9754751712393921E-14}]
[5781.8969999999999,1.2963419562343399,{"$f":"+IF(AND(A1459>Analyse1!$E$3,Data!A1459<Analyse1!$E$4),B1459,\"\")","v":1.2963419562343399},{"$f":"+B1459/Analyse1!$H$3*Analyse1!$H$4","v":1.9837025258564437E-14}]
[5782.8969999999999,1.29597051498398,{"$f":"+IF(AND(A1460>Analyse1!$E$3,Data!A1460<Analyse1!$E$4),B1460,\"\")","v":1.29597051498398},{"$f":"+B1460/Analyse1!$H$3*Analyse1!$H$4","v":1.9831341349754704E-14}]
[5783.8969999999999,1.2874861770703001,{"$f":"+IF(AND(A1461>Analyse1!$E$3,Data!A1461<Analyse1!$E$4),B1461,\"\")","v":1.2874861770703001},{"$f":"+B1461/Analyse1!$H$3*Analyse1!$H$4","v":1.9701511388850902E-14}]
[5784.8969999999999,1.2749606232172599,{"$f":"+IF(AND(A1462>Analyse1!$E$3,Data!A1462<Analyse1!$E$4),B1462,\"\")","v":1.2749606232172599},{"$f":"+B1462/Analyse1!$H$3*Analyse1!$H$4","v":1.9509841492674717E-14}]
[5785.8969999999999,1.2633309445868,{"$f":"+IF(AND(A1463>Analyse1!$E$3,Data!A1463<Analyse1!$E$4),B1463,\"\")","v":1.2633309445868},{"$f":"+B1463/Analyse1!$H$3*Analyse1!$H$4","v":1.9331880556031459E-14}]
[5786.8969999999999,1.2575342323408401,{"$f":"+IF(AND(A1464>Analyse1!$E$3,Data!A1464<Analyse1!$E$4),B1464,\"\")","v":1.2575342323408401},{"$f":"+B1464/Analyse1!$H$3*Analyse1!$H$4","v":1.9243177473726105E-14}]
[5787.8969999999999,1.26116944079029,{"$f":"+IF(AND(A1465>Analyse1!$E$3,Data!A1465<Analyse1!$E$4),B1465,\"\")","v":1.26116944079029},{"$f":"+B1465/Analyse1!$H$3*Analyse1!$H$4","v":1.92988045569082E-14}]
[5788.8969999999999,1.2711065994114901,{"$f":"+IF(AND(A1466>Analyse1!$E$3,Data!A1466<Analyse1!$E$4),B1466,\"\")","v":1.2711065994114901},{"$f":"+B1466/Analyse1!$H$3*Analyse1!$H$4","v":1.9450866029283682E-14}]
[5789.8969999999999,1.2821052641319399,{"$f":"+IF(AND(A1467>Analyse1!$E$3,Data!A1467<Analyse1!$E$4),B1467,\"\")","v":1.2821052641319399},{"$f":"+B1467/Analyse1!$H$3*Analyse1!$H$4","v":1.9619170996056358E-14}]
[5790.8969999999999,1.2889242454049701,{"$f":"+IF(AND(A1468>Analyse1!$E$3,Data!A1468<Analyse1!$E$4),B1468,\"\")","v":1.2889242454049701},{"$f":"+B1468/Analyse1!$H$3*Analyse1!$H$4","v":1.9723517154953898E-14}]
[5791.8969999999999,1.2867007419072201,{"$f":"+IF(AND(A1469>Analyse1!$E$3,Data!A1469<Analyse1!$E$4),B1469,\"\")","v":1.2867007419072201},{"$f":"+B1469/Analyse1!$H$3*Analyse1!$H$4","v":1.9689492417240788E-14}]
[5792.8969999999999,1.2753182368621501,{"$f":"+IF(AND(A1470>Analyse1!$E$3,Data!A1470<Analyse1!$E$4),B1470,\"\")","v":1.2753182368621501},{"$f":"+B1470/Analyse1!$H$3*Analyse1!$H$4","v":1.9515313807192022E-14}]
[5793.8969999999999,1.25789585799607,{"$f":"+IF(AND(A1471>Analyse1!$E$3,Data!A1471<Analyse1!$E$4),B1471,\"\")","v":1.25789585799607},{"$f":"+B1471/Analyse1!$H$3*Analyse1!$H$4","v":1.9248711181265571E-14}]
[5794.8969999999999,1.23761502121314,{"$f":"+IF(AND(A1472>Analyse1!$E$3,Data!A1472<Analyse1!$E$4),B1472,\"\")","v":1.23761502121314},{"$f":"+B1472/Analyse1!$H$3*Analyse1!$H$4","v":1.8938367548867487E-14}]
[5795.8969999999999,1.2176188658220799,{"$f":"+IF(AND(A1473>Analyse1!$E$3,Data!A1473<Analyse1!$E$4),B1473,\"\")","v":1.2176188658220799},{"$f":"+B1473/Analyse1!$H$3*Analyse1!$H$4","v":1.8632380199110729E-14}]
[5796.8969999999999,1.19923702450131,{"$f":"+IF(AND(A1474>Analyse1!$E$3,Data!A1474<Analyse1!$E$4),B1474,\"\")","v":1.19923702450131},{"$f":"+B1474/Analyse1!$H$3*Analyse1!$H$4","v":1.8351095582173495E-14}]
[5797.8969999999999,1.1812355340198299,{"$f":"+IF(AND(A1475>Analyse1!$E$3,Data!A1475<Analyse1!$E$4),B1475,\"\")","v":1.1812355340198299},{"$f":"+B1475/Analyse1!$H$3*Analyse1!$H$4","v":1.8075631211329379E-14}]
[5798.8969999999999,1.16218647914675,{"$f":"+IF(AND(A1476>Analyse1!$E$3,Data!A1476<Analyse1!$E$4),B1476,\"\")","v":1.16218647914675},{"$f":"+B1476/Analyse1!$H$3*Analyse1!$H$4","v":1.7784136686407315E-14}]
[5799.8969999999999,1.14066229677246,{"$f":"+IF(AND(A1477>Analyse1!$E$3,Data!A1477<Analyse1!$E$4),B1477,\"\")","v":1.14066229677246},{"$f":"+B1477/Analyse1!$H$3*Analyse1!$H$4","v":1.7454766995504898E-14}]
[5800.8969999999999,1.11586006306017,{"$f":"+IF(AND(A1478>Analyse1!$E$3,Data!A1478<Analyse1!$E$4),B1478,\"\")","v":""},{"$f":"+B1478/Analyse1!$H$3*Analyse1!$H$4","v":1.7075235549921896E-14}]
[5801.8969999999999,1.0888882691291899,{"$f":"+IF(AND(A1479>Analyse1!$E$3,Data!A1479<Analyse1!$E$4),B1479,\"\")","v":""},{"$f":"+B1479/Analyse1!$H$3*Analyse1!$H$4","v":1.6662504823353538E-14}]
[5802.8969999999999,1.06121976046721,{"$f":"+IF(AND(A1480>Analyse1!$E$3,Data!A1480<Analyse1!$E$4),B1480,\"\")","v":""},{"$f":"+B1480/Analyse1!$H$3*Analyse1!$H$4","v":1.6239112752646473E-14}]
[5803.8969999999999,1.0343273825619499,{"$f":"+IF(AND(A1481>Analyse1!$E$3,Data!A1481<Analyse1!$E$4),B1481,\"\")","v":""},{"$f":"+B1481/Analyse1!$H$3*Analyse1!$H$4","v":1.5827597274647804E-14}]
[5804.8969999999999,1.0095515842574401,{"$f":"+IF(AND(A1482>Analyse1!$E$3,Data!A1482<Analyse1!$E$4),B1482,\"\")","v":""},{"$f":"+B1482/Analyse1!$H$3*Analyse1!$H$4","v":1.5448470351844716E-14}]
[5805.8969999999999,0.98729107913269598,{"$f":"+IF(AND(A1483>Analyse1!$E$3,Data!A1483<Analyse1!$E$4),B1483,\"\")","v":""},{"$f":"+B1483/Analyse1!$H$3*Analyse1!$H$4","v":1.5107833222648749E-14}]
[5806.8969999999999,0.96753645885304995,{"$f":"+IF(AND(A1484>Analyse1!$E$3,Data!A1484<Analyse1!$E$4),B1484,\"\")","v":""},{"$f":"+B1484/Analyse1!$H$3*Analyse1!$H$4","v":1.4805541917815095E-14}]
[5807.8969999999999,0.95027667103090296,{"$f":"+IF(AND(A1485>Analyse1!$E$3,Data!A1485<Analyse1!$E$4),B1485,\"\")","v":""},{"$f":"+B1485/Analyse1!$H$3*Analyse1!$H$4","v":1.4541427310292898E-14}]
[5808.8969999999999,0.93548287935587604,{"$f":"+IF(AND(A1486>Analyse1!$E$3,Data!A1486<Analyse1!$E$4),B1486,\"\")","v":""},{"$f":"+B1486/Analyse1!$H$3*Analyse1!$H$4","v":1.431504813794865E-14}]
[5809.8969999999999,0.92277576111172399,{"$f":"+IF(AND(A1487>Analyse1!$E$3,Data!A1487<Analyse1!$E$4),B1487,\"\")","v":""},{"$f":"+B1487/Analyse1!$H$3*Analyse1!$H$4","v":1.4120599887345829E-14}]
[5810.8969999999999,0.91145524163952696,{"$f":"+IF(AND(A1488>Analyse1!$E$3,Data!A1488<Analyse1!$E$4),B1488,\"\")","v":""},{"$f":"+B1488/Analyse1!$H$3*Analyse1!$H$4","v":1.3947369799690276E-14}]
[5811.8969999999999,0.90080942390601004,{"$f":"+IF(AND(A1489>Analyse1!$E$3,Data!A1489<Analyse1!$E$4),B1489,\"\")","v":""},{"$f":"+B1489/Analyse1!$H$3*Analyse1!$H$4","v":1.3784464206561674E-14}]
[5812.8969999999999,0.89012979221508404,{"$f":"+IF(AND(A1490>Analyse1!$E$3,Data!A1490<Analyse1!$E$4),B1490,\"\")","v":""},{"$f":"+B1490/Analyse1!$H$3*Analyse1!$H$4","v":1.3621041181806338E-14}]
[5813.8969999999999,0.87909374253803896,{"$f":"+IF(AND(A1491>Analyse1!$E$3,Data!A1491<Analyse1!$E$4),B1491,\"\")","v":""},{"$f":"+B1491/Analyse1!$H$3*Analyse1!$H$4","v":1.3452164138873741E-14}]
[5814.8969999999999,0.86811598829049796,{"$f":"+IF(AND(A1492>Analyse1!$E$3,Data!A1492<Analyse1!$E$4),B1492,\"\")","v":""},{"$f":"+B1492/Analyse1!$H$3*Analyse1!$H$4","v":1.3284179150620057E-14}]
[5815.8969999999999,0.85769428042243601,{"$f":"+IF(AND(A1493>Analyse1!$E$3,Data!A1493<Analyse1!$E$4),B1493,\"\")","v":""},{"$f":"+B1493/Analyse1!$H$3*Analyse1!$H$4","v":1.3124702955915492E-14}]
[5816.8969999999999,0.84832636988383103,{"$f":"+IF(AND(A1494>Analyse1!$E$3,Data!A1494<Analyse1!$E$4),B1494,\"\")","v":""},{"$f":"+B1494/Analyse1!$H$3*Analyse1!$H$4","v":1.2981352293630297E-14}]
[5817.8969999999999,0.84049987537169002,{"$f":"+IF(AND(A1495>Analyse1!$E$3,Data!A1495<Analyse1!$E$4),B1495,\"\")","v":""},{"$f":"+B1495/Analyse1!$H$3*Analyse1!$H$4","v":1.2861588855768308E-14}]
[5818.8969999999999,0.83465911705171403,{"$f":"+IF(AND(A1496>Analyse1!$E$3,Data!A1496<Analyse1!$E$4),B1496,\"\")","v":""},{"$f":"+B1496/Analyse1!$H$3*Analyse1!$H$4","v":1.277221176682559E-14}]
[5819.8969999999999,0.83123685141024295,{"$f":"+IF(AND(A1497>Analyse1!$E$3,Data!A1497<Analyse1!$E$4),B1497,\"\")","v":""},{"$f":"+B1497/Analyse1!$H$3*Analyse1!$H$4","v":1.2719843200302773E-14}]
[5820.8969999999999,0.83066583481784095,{"$f":"+IF(AND(A1498>Analyse1!$E$3,Data!A1498<Analyse1!$E$4),B1498,\"\")","v":""},{"$f":"+B1498/Analyse1!$H$3*Analyse1!$H$4","v":1.2711105327928849E-14}]
[5821.8969999999999,0.83335350217220505,{"$f":"+IF(AND(A1499>Analyse1!$E$3,Data!A1499<Analyse1!$E$4),B1499,\"\")","v":""},{"$f":"+B1499/Analyse1!$H$3*Analyse1!$H$4","v":1.2752232844429212E-14}]
[5822.8969999999999,0.83944585422632401,{"$f":"+IF(AND(A1500>Analyse1!$E$3,Data!A1500<Analyse1!$E$4),B1500,\"\")","v":""},{"$f":"+B1500/Analyse1!$H$3*Analyse1!$H$4","v":1.2845459898448727E-14}]
[5823.8969999999999,0.84893464823736797,{"$f":"+IF(AND(A1501>Analyse1!$E$3,Data!A1501<Analyse1!$E$4),B1501,\"\")","v":""},{"$f":"+B1501/Analyse1!$H$3*Analyse1!$H$4","v":1.2990660356989135E-14}]
[5824.8969999999999,0.86180964744829502,{"$f":"+IF(AND(A1502>Analyse1!$E$3,Data!A1502<Analyse1!$E$4),B1502,\"\")","v":""},{"$f":"+B1502/Analyse1!$H$3*Analyse1!$H$4","v":1.3187677574030428E-14}]
[5825.8969999999999,0.87801834883028995,{"$f":"+IF(AND(A1503>Analyse1!$E$3,Data!A1503<Analyse1!$E$4),B1503,\"\")","v":""},{"$f":"+B1503/Analyse1!$H$3*Analyse1!$H$4","v":1.3435708131999223E-14}]
[5826.8969999999999,0.89605992446296001,{"$f":"+IF(AND(A1504>Analyse1!$E$3,Data!A1504<Analyse1!$E$4),B1504,\"\")","v":""},{"$f":"+B1504/Analyse1!$H$3*Analyse1!$H$4","v":1.371178589821547E-14}]
[5827.8969999999999,0.91265763303259995,{"$f":"+IF(AND(A1505>Analyse1!$E$3,Data!A1505<Analyse1!$E$4),B1505,\"\")","v":""},{"$f":"+B1505/Analyse1!$H$3*Analyse1!$H$4","v":1.3965769164395217E-14}]
[5828.8969999999999,0.92442609412473598,{"$f":"+IF(AND(A1506>Analyse1!$E$3,Data!A1506<Analyse1!$E$4),B1506,\"\")","v":""},{"$f":"+B1506/Analyse1!$H$3*Analyse1!$H$4","v":1.4145853793158812E-14}]
[5829.8969999999999,0.92798343580328002,{"$f":"+IF(AND(A1507>Analyse1!$E$3,Data!A1507<Analyse1!$E$4),B1507,\"\")","v":""},{"$f":"+B1507/Analyse1!$H$3*Analyse1!$H$4","v":1.4200289334947192E-14}]
[5830.8969999999999,0.92169380497337206,{"$f":"+IF(AND(A1508>Analyse1!$E$3,Data!A1508<Analyse1!$E$4),B1508,\"\")","v":""},{"$f":"+B1508/Analyse1!$H$3*Analyse1!$H$4","v":1.4104043460130055E-14}]
[5831.8969999999999,0.90848826725049403,{"$f":"+IF(AND(A1509>Analyse1!$E$3,Data!A1509<Analyse1!$E$4),B1509,\"\")","v":""},{"$f":"+B1509/Analyse1!$H$3*Analyse1!$H$4","v":1.3901968240623464E-14}]
[5832.8969999999999,0.89203535367851805,{"$f":"+IF(AND(A1510>Analyse1!$E$3,Data!A1510<Analyse1!$E$4),B1510,\"\")","v":""},{"$f":"+B1510/Analyse1!$H$3*Analyse1!$H$4","v":1.3650200672247961E-14}]
[5833.8969999999999,0.876003595301315,{"$f":"+IF(AND(A1511>Analyse1!$E$3,Data!A1511<Analyse1!$E$4),B1511,\"\")","v":""},{"$f":"+B1511/Analyse1!$H$3*Analyse1!$H$4","v":1.3404877750824062E-14}]
[5834.8969999999999,0.86372268505412297,{"$f":"+IF(AND(A1512>Analyse1!$E$3,Data!A1512<Analyse1!$E$4),B1512,\"\")","v":""},{"$f":"+B1512/Analyse1!$H$3*Analyse1!$H$4","v":1.321695146671352E-14}]
[5835.8969999999999,0.85648770078176395,{"$f":"+IF(AND(A1513>Analyse1!$E$3,Data!A1513<Analyse1!$E$4),B1513,\"\")","v":""},{"$f":"+B1513/Analyse1!$H$3*Analyse1!$H$4","v":1.3106239501351382E-14}]
[5836.8969999999999,0.85483780535805998,{"$f":"+IF(AND(A1514>Analyse1!$E$3,Data!A1514<Analyse1!$E$4),B1514,\"\")","v":""},{"$f":"+B1514/Analyse1!$H$3*Analyse1!$H$4","v":1.3080992291665229E-14}]
[5837.8969999999999,0.85931090545349298,{"$f":"+IF(AND(A1515>Analyse1!$E$3,Data!A1515<Analyse1!$E$4),B1515,\"\")","v":""},{"$f":"+B1515/Analyse1!$H$3*Analyse1!$H$4","v":1.3149441051770892E-14}]
[5838.8969999999999,0.87035132865620402,{"$f":"+IF(AND(A1516>Analyse1!$E$3,Data!A1516<Analyse1!$E$4),B1516,\"\")","v":""},{"$f":"+B1516/Analyse1!$H$3*Analyse1!$H$4","v":1.3318385019744904E-14}]
[5839.8969999999999,0.88693424727690995,{"$f":"+IF(AND(A1517>Analyse1!$E$3,Data!A1517<Analyse1!$E$4),B1517,\"\")","v":""},{"$f":"+B1517/Analyse1!$H$3*Analyse1!$H$4","v":1.3572141965555116E-14}]
[5840.8969999999999,0.90686754777848999,{"$f":"+IF(AND(A1518>Analyse1!$E$3,Data!A1518<Analyse1!$E$4),B1518,\"\")","v":""},{"$f":"+B1518/Analyse1!$H$3*Analyse1!$H$4","v":1.3877167490367273E-14}]
[5841.8969999999999,0.92792691442637099,{"$f":"+IF(AND(A1519>Analyse1!$E$3,Data!A1519<Analyse1!$E$4),B1519,\"\")","v":""},{"$f":"+B1519/Analyse1!$H$3*Analyse1!$H$4","v":1.4199424427369371E-14}]
[5842.8969999999999,0.94790077666887096,{"$f":"+IF(AND(A1520>Analyse1!$E$3,Data!A1520<Analyse1!$E$4),B1520,\"\")","v":""},{"$f":"+B1520/Analyse1!$H$3*Analyse1!$H$4","v":1.4505070640476996E-14}]
[5843.8969999999999,0.96548855561572,{"$f":"+IF(AND(A1521>Analyse1!$E$3,Data!A1521<Analyse1!$E$4),B1521,\"\")","v":""},{"$f":"+B1521/Analyse1!$H$3*Analyse1!$H$4","v":1.477420426955752E-14}]
[5844.8969999999999,0.98089293775285702,{"$f":"+IF(AND(A1522>Analyse1!$E$3,Data!A1522<Analyse1!$E$4),B1522,\"\")","v":""},{"$f":"+B1522/Analyse1!$H$3*Analyse1!$H$4","v":1.5009926885860565E-14}]
[5845.8969999999999,0.99445720616669397,{"$f":"+IF(AND(A1523>Analyse1!$E$3,Data!A1523<Analyse1!$E$4),B1523,\"\")","v":""},{"$f":"+B1523/Analyse1!$H$3*Analyse1!$H$4","v":1.5217491513268635E-14}]
[5846.8969999999999,1.0065246538821699,{"$f":"+IF(AND(A1524>Analyse1!$E$3,Data!A1524<Analyse1!$E$4),B1524,\"\")","v":""},{"$f":"+B1524/Analyse1!$H$3*Analyse1!$H$4","v":1.5402151327746652E-14}]
[5847.8969999999999,1.0177727220067201,{"$f":"+IF(AND(A1525>Analyse1!$E$3,Data!A1525<Analyse1!$E$4),B1525,\"\")","v":""},{"$f":"+B1525/Analyse1!$H$3*Analyse1!$H$4","v":1.5574272742488876E-14}]
[5848.8969999999999,1.0300933313871801,{"$f":"+IF(AND(A1526>Analyse1!$E$3,Data!A1526<Analyse1!$E$4),B1526,\"\")","v":""},{"$f":"+B1526/Analyse1!$H$3*Analyse1!$H$4","v":1.5762806515005999E-14}]
[5849.8969999999999,1.0456542375982401,{"$f":"+IF(AND(A1527>Analyse1!$E$3,Data!A1527<Analyse1!$E$4),B1527,\"\")","v":""},{"$f":"+B1527/Analyse1!$H$3*Analyse1!$H$4","v":1.6000924311063161E-14}]
[5850.8969999999999,1.06662319621457,{"$f":"+IF(AND(A1528>Analyse1!$E$3,Data!A1528<Analyse1!$E$4),B1528,\"\")","v":""},{"$f":"+B1528/Analyse1!$H$3*Analyse1!$H$4","v":1.632179779642518E-14}]
[5851.8969999999999,1.09482011055248,{"$f":"+IF(AND(A1529>Analyse1!$E$3,Data!A1529<Analyse1!$E$4),B1529,\"\")","v":""},{"$f":"+B1529/Analyse1!$H$3*Analyse1!$H$4","v":1.675327569409309E-14}]
[5852.8969999999999,1.1290770756659601,{"$f":"+IF(AND(A1530>Analyse1!$E$3,Data!A1530<Analyse1!$E$4),B1530,\"\")","v":""},{"$f":"+B1530/Analyse1!$H$3*Analyse1!$H$4","v":1.7277486361633205E-14}]
[5853.8969999999999,1.1667044899685399,{"$f":"+IF(AND(A1531>Analyse1!$E$3,Data!A1531<Analyse1!$E$4),B1531,\"\")","v":""},{"$f":"+B1531/Analyse1!$H$3*Analyse1!$H$4","v":1.7853272684327693E-14}]
[5854.8969999999999,1.2050006659966901,{"$f":"+IF(AND(A1532>Analyse1!$E$3,Data!A1532<Analyse1!$E$4),B1532,\"\")","v":""},{"$f":"+B1532/Analyse1!$H$3*Analyse1!$H$4","v":1.8439292605632709E-14}]
[5855.8969999999999,1.2413190130113501,{"$f":"+IF(AND(A1533>Analyse1!$E$3,Data!A1533<Analyse1!$E$4),B1533,\"\")","v":""},{"$f":"+B1533/Analyse1!$H$3*Analyse1!$H$4","v":1.8995047176110319E-14}]
[5856.8969999999999,1.2744354668979101,{"$f":"+IF(AND(A1534>Analyse1!$E$3,Data!A1534<Analyse1!$E$4),B1534,\"\")","v":""},{"$f":"+B1534/Analyse1!$H$3*Analyse1!$H$4","v":1.9501805388372505E-14}]
[5857.8969999999999,1.3046405237149701,{"$f":"+IF(AND(A1535>Analyse1!$E$3,Data!A1535<Analyse1!$E$4),B1535,\"\")","v":""},{"$f":"+B1535/Analyse1!$H$3*Analyse1!$H$4","v":1.9964012502887958E-14}]
[5858.8969999999999,1.3322982056355599,{"$f":"+IF(AND(A1536>Analyse1!$E$3,Data!A1536<Analyse1!$E$4),B1536,\"\")","v":""},{"$f":"+B1536/Analyse1!$H$3*Analyse1!$H$4","v":2.0387238899452184E-14}]
[5859.8969999999999,1.35777617587473,{"$f":"+IF(AND(A1537>Analyse1!$E$3,Data!A1537<Analyse1!$E$4),B1537,\"\")","v":""},{"$f":"+B1537/Analyse1!$H$3*Analyse1!$H$4","v":2.0777110674210979E-14}]
[5860.8969999999999,1.3822343054111601,{"$f":"+IF(AND(A1538>Analyse1!$E$3,Data!A1538<Analyse1!$E$4),B1538,\"\")","v":""},{"$f":"+B1538/Analyse1!$H$3*Analyse1!$H$4","v":2.115137653134698E-14}]
[5861.8969999999999,1.40861006349643,{"$f":"+IF(AND(A1539>Analyse1!$E$3,Data!A1539<Analyse1!$E$4),B1539,\"\")","v":""},{"$f":"+B1539/Analyse1!$H$3*Analyse1!$H$4","v":2.1554986533194906E-14}]
[5862.8969999999999,1.44008300979406,{"$f":"+IF(AND(A1540>Analyse1!$E$3,Data!A1540<Analyse1!$E$4),B1540,\"\")","v":""},{"$f":"+B1540/Analyse1!$H$3*Analyse1!$H$4","v":2.2036595284392855E-14}]
[5863.8969999999999,1.4798327039675601,{"$f":"+IF(AND(A1541>Analyse1!$E$3,Data!A1541<Analyse1!$E$4),B1541,\"\")","v":""},{"$f":"+B1541/Analyse1!$H$3*Analyse1!$H$4","v":2.2644857389578773E-14}]
[5864.8969999999999,1.52958381486928,{"$f":"+IF(AND(A1542>Analyse1!$E$3,Data!A1542<Analyse1!$E$4),B1542,\"\")","v":""},{"$f":"+B1542/Analyse1!$H$3*Analyse1!$H$4","v":2.3406164264553246E-14}]
[5865.8969999999999,1.58365572401219,{"$f":"+IF(AND(A1543>Analyse1!$E$3,Data!A1543<Analyse1!$E$4),B1543,\"\")","v":""},{"$f":"+B1543/Analyse1!$H$3*Analyse1!$H$4","v":2.4233589329589717E-14}]
[5866.8969999999999,1.63401762500119,{"$f":"+IF(AND(A1544>Analyse1!$E$3,Data!A1544<Analyse1!$E$4),B1544,\"\")","v":""},{"$f":"+B1544/Analyse1!$H$3*Analyse1!$H$4","v":2.5004242703249038E-14}]
[5867.8969999999999,1.6726377537602499,{"$f":"+IF(AND(A1545>Analyse1!$E$3,Data!A1545<Analyse1!$E$4),B1545,\"\")","v":""},{"$f":"+B1545/Analyse1!$H$3*Analyse1!$H$4","v":2.5595219849362474E-14}]
[5868.8969999999999,1.69220167571137,{"$f":"+IF(AND(A1546>Analyse1!$E$3,Data!A1546<Analyse1!$E$4),B1546,\"\")","v":""},{"$f":"+B1546/Analyse1!$H$3*Analyse1!$H$4","v":2.5894593029436266E-14}]
[5869.8969999999999,1.6945280041366899,{"$f":"+IF(AND(A1547>Analyse1!$E$3,Data!A1547<Analyse1!$E$4),B1547,\"\")","v":""},{"$f":"+B1547/Analyse1!$H$3*Analyse1!$H$4","v":2.5930191225969872E-14}]
[5870.8969999999999,1.6877280296292301,{"$f":"+IF(AND(A1548>Analyse1!$E$3,Data!A1548<Analyse1!$E$4),B1548,\"\")","v":""},{"$f":"+B1548/Analyse1!$H$3*Analyse1!$H$4","v":2.5826135914473272E-14}]
[5871.8969999999999,1.68003747065818,{"$f":"+IF(AND(A1549>Analyse1!$E$3,Data!A1549<Analyse1!$E$4),B1549,\"\")","v":""},{"$f":"+B1549/Analyse1!$H$3*Analyse1!$H$4","v":2.5708452604272962E-14}]
[5872.8969999999999,1.6795889701856701,{"$f":"+IF(AND(A1550>Analyse1!$E$3,Data!A1550<Analyse1!$E$4),B1550,\"\")","v":""},{"$f":"+B1550/Analyse1!$H$3*Analyse1!$H$4","v":2.5701589511430163E-14}]
[5873.8969999999999,1.6895028922125299,{"$f":"+IF(AND(A1551>Analyse1!$E$3,Data!A1551<Analyse1!$E$4),B1551,\"\")","v":""},{"$f":"+B1551/Analyse1!$H$3*Analyse1!$H$4","v":2.5853295410257604E-14}]
[5874.8969999999999,1.7057387004765101,{"$f":"+IF(AND(A1552>Analyse1!$E$3,Data!A1552<Analyse1!$E$4),B1552,\"\")","v":""},{"$f":"+B1552/Analyse1!$H$3*Analyse1!$H$4","v":2.6101740766112125E-14}]
[5875.8969999999999,1.7237058411409001,{"$f":"+IF(AND(A1553>Analyse1!$E$3,Data!A1553<Analyse1!$E$4),B1553,\"\")","v":""},{"$f":"+B1553/Analyse1!$H$3*Analyse1!$H$4","v":2.6376679505439059E-14}]
[5876.8969999999999,1.7388142927811101,{"$f":"+IF(AND(A1554>Analyse1!$E$3,Data!A1554<Analyse1!$E$4),B1554,\"\")","v":""},{"$f":"+B1554/Analyse1!$H$3*Analyse1!$H$4","v":2.6607873701818574E-14}]
[5877.8969999999999,1.7475449632332101,{"$f":"+IF(AND(A1555>Analyse1!$E$3,Data!A1555<Analyse1!$E$4),B1555,\"\")","v":""},{"$f":"+B1555/Analyse1!$H$3*Analyse1!$H$4","v":2.6741473119356212E-14}]
[5878.8969999999999,1.7496946055076401,{"$f":"+IF(AND(A1556>Analyse1!$E$3,Data!A1556<Analyse1!$E$4),B1556,\"\")","v":""},{"$f":"+B1556/Analyse1!$H$3*Analyse1!$H$4","v":2.6774367609802712E-14}]
[5879.8969999999999,1.74569977294266,{"$f":"+IF(AND(A1557>Analyse1!$E$3,Data!A1557<Analyse1!$E$4),B1557,\"\")","v":""},{"$f":"+B1557/Analyse1!$H$3*Analyse1!$H$4","v":2.6713237447260226E-14}]
[5880.8969999999999,1.7359970188765299,{"$f":"+IF(AND(A1558>Analyse1!$E$3,Data!A1558<Analyse1!$E$4),B1558,\"\")","v":""},{"$f":"+B1558/Analyse1!$H$3*Analyse1!$H$4","v":2.6564762905830922E-14}]
[5881.8969999999999,1.7209907744263899,{"$f":"+IF(AND(A1559>Analyse1!$E$3,Data!A1559<Analyse1!$E$4),B1559,\"\")","v":""},{"$f":"+B1559/Analyse1!$H$3*Analyse1!$H$4","v":2.6335132715461762E-14}]
[5882.8969999999999,1.7008540518835,{"$f":"+IF(AND(A1560>Analyse1!$E$3,Data!A1560<Analyse1!$E$4),B1560,\"\")","v":""},{"$f":"+B1560/Analyse1!$H$3*Analyse1!$H$4","v":2.6026994363704367E-14}]
[5883.8969999999999,1.6756584372555301,{"$f":"+IF(AND(A1561>Analyse1!$E$3,Data!A1561<Analyse1!$E$4),B1561,\"\")","v":""},{"$f":"+B1561/Analyse1!$H$3*Analyse1!$H$4","v":2.5641443281772287E-14}]
[5884.8969999999999,1.6454750853242801,{"$f":"+IF(AND(A1562>Analyse1!$E$3,Data!A1562<Analyse1!$E$4),B1562,\"\")","v":""},{"$f":"+B1562/Analyse1!$H$3*Analyse1!$H$4","v":2.5179568302127556E-14}]
[5885.8969999999999,1.61044584400975,{"$f":"+IF(AND(A1563>Analyse1!$E$3,Data!A1563<Analyse1!$E$4),B1563,\"\")","v":""},{"$f":"+B1563/Analyse1!$H$3*Analyse1!$H$4","v":2.4643540025481182E-14}]
[5886.8969999999999,1.5721306459856099,{"$f":"+IF(AND(A1564>Analyse1!$E$3,Data!A1564<Analyse1!$E$4),B1564,\"\")","v":""},{"$f":"+B1564/Analyse1!$H$3*Analyse1!$H$4","v":2.4057229023714633E-14}]
[5887.8969999999999,1.5334008266828001,{"$f":"+IF(AND(A1565>Analyse1!$E$3,Data!A1565<Analyse1!$E$4),B1565,\"\")","v":""},{"$f":"+B1565/Analyse1!$H$3*Analyse1!$H$4","v":2.3464573359000045E-14}]
[5888.8969999999999,1.49717703735051,{"$f":"+IF(AND(A1566>Analyse1!$E$3,Data!A1566<Analyse1!$E$4),B1566,\"\")","v":""},{"$f":"+B1566/Analyse1!$H$3*Analyse1!$H$4","v":2.2910265739401822E-14}]
[5889.8969999999999,1.46636792061778,{"$f":"+IF(AND(A1567>Analyse1!$E$3,Data!A1567<Analyse1!$E$4),B1567,\"\")","v":""},{"$f":"+B1567/Analyse1!$H$3*Analyse1!$H$4","v":2.2438815113367512E-14}]
[5890.8969999999999,1.4424571039067799,{"$f":"+IF(AND(A1568>Analyse1!$E$3,Data!A1568<Analyse1!$E$4),B1568,\"\")","v":""},{"$f":"+B1568/Analyse1!$H$3*Analyse1!$H$4","v":2.2072924406237401E-14}]
[5891.8969999999999,1.4241755713026201,{"$f":"+IF(AND(A1569>Analyse1!$E$3,Data!A1569<Analyse1!$E$4),B1569,\"\")","v":""},{"$f":"+B1569/Analyse1!$H$3*Analyse1!$H$4","v":2.1793174744282903E-14}]
[5892.8969999999999,1.4099401220069701,{"$f":"+IF(AND(A1570>Analyse1!$E$3,Data!A1570<Analyse1!$E$4),B1570,\"\")","v":""},{"$f":"+B1570/Analyse1!$H$3*Analyse1!$H$4","v":2.1575339499587812E-14}]
[5893.8969999999999,1.39816755522151,{"$f":"+IF(AND(A1571>Analyse1!$E$3,Data!A1571<Analyse1!$E$4),B1571,\"\")","v":""},{"$f":"+B1571/Analyse1!$H$3*Analyse1!$H$4","v":2.1395192044236079E-14}]
[5894.8969999999999,1.38755265614915,{"$f":"+IF(AND(A1572>Analyse1!$E$3,Data!A1572<Analyse1!$E$4),B1572,\"\")","v":""},{"$f":"+B1572/Analyse1!$H$3*Analyse1!$H$4","v":2.1232759578016144E-14}]
[5895.8969999999999,1.3779924933829699,{"$f":"+IF(AND(A1573>Analyse1!$E$3,Data!A1573<Analyse1!$E$4),B1573,\"\")","v":""},{"$f":"+B1573/Analyse1!$H$3*Analyse1!$H$4","v":2.1086467012727589E-14}]
[5896.8969999999999,1.3697090963944201,{"$f":"+IF(AND(A1574>Analyse1!$E$3,Data!A1574<Analyse1!$E$4),B1574,\"\")","v":""},{"$f":"+B1574/Analyse1!$H$3*Analyse1!$H$4","v":2.0959711911962436E-14}]
[5897.8969999999999,1.36292449995981,{"$f":"+IF(AND(A1575>Analyse1!$E$3,Data!A1575<Analyse1!$E$4),B1575,\"\")","v":""},{"$f":"+B1575/Analyse1!$H$3*Analyse1!$H$4","v":2.0855891920489293E-14}]
[5898.8969999999999,1.35788065112437,{"$f":"+IF(AND(A1576>Analyse1!$E$3,Data!A1576<Analyse1!$E$4),B1576,\"\")","v":""},{"$f":"+B1576/Analyse1!$H$3*Analyse1!$H$4","v":2.0778709386769837E-14}]
[5899.8969999999999,1.3550279860021399,{"$f":"+IF(AND(A1577>Analyse1!$E$3,Data!A1577<Analyse1!$E$4),B1577,\"\")","v":""},{"$f":"+B1577/Analyse1!$H$3*Analyse1!$H$4","v":2.073505702343178E-14}]
[5900.8969999999999,1.3549412809002399,{"$f":"+IF(AND(A1578>Analyse1!$E$3,Data!A1578<Analyse1!$E$4),B1578,\"\")","v":""},{"$f":"+B1578/Analyse1!$H$3*Analyse1!$H$4","v":2.0733730235165644E-14}]
[5901.8969999999999,1.35819697202667,{"$f":"+IF(AND(A1579>Analyse1!$E$3,Data!A1579<Analyse1!$E$4),B1579,\"\")","v":""},{"$f":"+B1579/Analyse1!$H$3*Analyse1!$H$4","v":2.0783549826978193E-14}]
[5902.8969999999999,1.3653426887940301,{"$f":"+IF(AND(A1580>Analyse1!$E$3,Data!A1580<Analyse1!$E$4),B1580,\"\")","v":""},{"$f":"+B1580/Analyse1!$H$3*Analyse1!$H$4","v":2.0892895793390039E-14}]
[5903.8969999999999,1.37591654064314,{"$f":"+IF(AND(A1581>Analyse1!$E$3,Data!A1581<Analyse1!$E$4),B1581,\"\")","v":""},{"$f":"+B1581/Analyse1!$H$3*Analyse1!$H$4","v":2.1054700142313848E-14}]
[5904.8969999999999,1.3882057226289199,{"$f":"+IF(AND(A1582>Analyse1!$E$3,Data!A1582<Analyse1!$E$4),B1582,\"\")","v":""},{"$f":"+B1582/Analyse1!$H$3*Analyse1!$H$4","v":2.1242753003124706E-14}]
[5905.8969999999999,1.4004196473775701,{"$f":"+IF(AND(A1583>Analyse1!$E$3,Data!A1583<Analyse1!$E$4),B1583,\"\")","v":""},{"$f":"+B1583/Analyse1!$H$3*Analyse1!$H$4","v":2.1429654254434185E-14}]
[5906.8969999999999,1.4107684794895401,{"$f":"+IF(AND(A1584>Analyse1!$E$3,Data!A1584<Analyse1!$E$4),B1584,\"\")","v":""},{"$f":"+B1584/Analyse1!$H$3*Analyse1!$H$4","v":2.158801528179623E-14}]
[5907.8969999999999,1.4178655913048399,{"$f":"+IF(AND(A1585>Analyse1!$E$3,Data!A1585<Analyse1!$E$4),B1585,\"\")","v":""},{"$f":"+B1585/Analyse1!$H$3*Analyse1!$H$4","v":2.1696617480209927E-14}]
[5908.8969999999999,1.42139119218224,{"$f":"+IF(AND(A1586>Analyse1!$E$3,Data!A1586<Analyse1!$E$4),B1586,\"\")","v":""},{"$f":"+B1586/Analyse1!$H$3*Analyse1!$H$4","v":2.1750567314449462E-14}]
[5909.8969999999999,1.4211999170349101,{"$f":"+IF(AND(A1587>Analyse1!$E$3,Data!A1587<Analyse1!$E$4),B1587,\"\")","v":""},{"$f":"+B1587/Analyse1!$H$3*Analyse1!$H$4","v":2.1747640363029993E-14}]
[5910.8969999999999,1.417146400776,{"$f":"+IF(AND(A1588>Analyse1!$E$3,Data!A1588<Analyse1!$E$4),B1588,\"\")","v":""},{"$f":"+B1588/Analyse1!$H$3*Analyse1!$H$4","v":2.1685612204466355E-14}]
[5911.8969999999999,1.4093267402348799,{"$f":"+IF(AND(A1589>Analyse1!$E$3,Data!A1589<Analyse1!$E$4),B1589,\"\")","v":""},{"$f":"+B1589/Analyse1!$H$3*Analyse1!$H$4","v":2.1565953342141022E-14}]
[5912.8969999999999,1.39930500242579,{"$f":"+IF(AND(A1590>Analyse1!$E$3,Data!A1590<Analyse1!$E$4),B1590,\"\")","v":""},{"$f":"+B1590/Analyse1!$H$3*Analyse1!$H$4","v":2.1412597612892612E-14}]
[5913.8969999999999,1.3891969705491201,{"$f":"+IF(AND(A1591>Analyse1!$E$3,Data!A1591<Analyse1!$E$4),B1591,\"\")","v":""},{"$f":"+B1591/Analyse1!$H$3*Analyse1!$H$4","v":2.1257921385152257E-14}]
[5914.8969999999999,1.3811194192387299,{"$f":"+IF(AND(A1592>Analyse1!$E$3,Data!A1592<Analyse1!$E$4),B1592,\"\")","v":""},{"$f":"+B1592/Analyse1!$H$3*Analyse1!$H$4","v":2.1134316198572468E-14}]
[5915.8969999999999,1.3770520458196001,{"$f":"+IF(AND(A1593>Analyse1!$E$3,Data!A1593<Analyse1!$E$4),B1593,\"\")","v":""},{"$f":"+B1593/Analyse1!$H$3*Analyse1!$H$4","v":2.1072075993460482E-14}]
[5916.8969999999999,1.3767873924138401,{"$f":"+IF(AND(A1594>Analyse1!$E$3,Data!A1594<Analyse1!$E$4),B1594,\"\")","v":""},{"$f":"+B1594/Analyse1!$H$3*Analyse1!$H$4","v":2.1068026185252413E-14}]
[5917.8969999999999,1.3783618986123201,{"$f":"+IF(AND(A1595>Analyse1!$E$3,Data!A1595<Analyse1!$E$4),B1595,\"\")","v":""},{"$f":"+B1595/Analyse1!$H$3*Analyse1!$H$4","v":2.1092119765714579E-14}]
[5918.8969999999999,1.3797624414538801,{"$f":"+IF(AND(A1596>Analyse1!$E$3,Data!A1596<Analyse1!$E$4),B1596,\"\")","v":""},{"$f":"+B1596/Analyse1!$H$3*Analyse1!$H$4","v":2.1113551305124468E-14}]
[5919.8969999999999,1.3789890060641301,{"$f":"+IF(AND(A1597>Analyse1!$E$3,Data!A1597<Analyse1!$E$4),B1597,\"\")","v":""},{"$f":"+B1597/Analyse1!$H$3*Analyse1!$H$4","v":2.1101715957754466E-14}]
[5920.8969999999999,1.3750084257044299,{"$f":"+IF(AND(A1598>Analyse1!$E$3,Data!A1598<Analyse1!$E$4),B1598,\"\")","v":""},{"$f":"+B1598/Analyse1!$H$3*Analyse1!$H$4","v":2.104080388686193E-14}]
[5921.8969999999999,1.3684002365487999,{"$f":"+IF(AND(A1599>Analyse1!$E$3,Data!A1599<Analyse1!$E$4),B1599,\"\")","v":""},{"$f":"+B1599/Analyse1!$H$3*Analyse1!$H$4","v":2.0939683334091742E-14}]
[5922.8969999999999,1.3598969500314599,{"$f":"+IF(AND(A1600>Analyse1!$E$3,Data!A1600<Analyse1!$E$4),B1600,\"\")","v":""},{"$f":"+B1600/Analyse1!$H$3*Analyse1!$H$4","v":2.0809563415798525E-14}]
[5923.8969999999999,1.3502310758326601,{"$f":"+IF(AND(A1601>Analyse1!$E$3,Data!A1601<Analyse1!$E$4),B1601,\"\")","v":""},{"$f":"+B1601/Analyse1!$H$3*Analyse1!$H$4","v":2.0661653221497106E-14}]
[5924.8969999999999,1.34004807999034,{"$f":"+IF(AND(A1602>Analyse1!$E$3,Data!A1602<Analyse1!$E$4),B1602,\"\")","v":""},{"$f":"+B1602/Analyse1!$H$3*Analyse1!$H$4","v":2.0505829871986198E-14}]
[5925.8969999999999,1.32967325571774,{"$f":"+IF(AND(A1603>Analyse1!$E$3,Data!A1603<Analyse1!$E$4),B1603,\"\")","v":""},{"$f":"+B1603/Analyse1!$H$3*Analyse1!$H$4","v":2.0347071104549118E-14}]
[5926.8969999999999,1.31935829876952,{"$f":"+IF(AND(A1604>Analyse1!$E$3,Data!A1604<Analyse1!$E$4),B1604,\"\")","v":""},{"$f":"+B1604/Analyse1!$H$3*Analyse1!$H$4","v":2.0189228445412154E-14}]
[5927.8969999999999,1.3093549049003601,{"$f":"+IF(AND(A1605>Analyse1!$E$3,Data!A1605<Analyse1!$E$4),B1605,\"\")","v":""},{"$f":"+B1605/Analyse1!$H$3*Analyse1!$H$4","v":2.0036153420801884E-14}]
[5928.8969999999999,1.3000435991489001,{"$f":"+IF(AND(A1606>Analyse1!$E$3,Data!A1606<Analyse1!$E$4),B1606,\"\")","v":""},{"$f":"+B1606/Analyse1!$H$3*Analyse1!$H$4","v":1.989366894246372E-14}]
[5929.8969999999999,1.2929263007634799,{"$f":"+IF(AND(A1607>Analyse1!$E$3,Data!A1607<Analyse1!$E$4),B1607,\"\")","v":""},{"$f":"+B1607/Analyse1!$H$3*Analyse1!$H$4","v":1.9784757842915233E-14}]
[5930.8969999999999,1.29008237107663,{"$f":"+IF(AND(A1608>Analyse1!$E$3,Data!A1608<Analyse1!$E$4),B1608,\"\")","v":""},{"$f":"+B1608/Analyse1!$H$3*Analyse1!$H$4","v":1.9741239151909118E-14}]
[5931.8969999999999,1.29359594496372,{"$f":"+IF(AND(A1609>Analyse1!$E$3,Data!A1609<Analyse1!$E$4),B1609,\"\")","v":""},{"$f":"+B1609/Analyse1!$H$3*Analyse1!$H$4","v":1.97950049454259E-14}]
[5932.8969999999999,1.3054094274158501,{"$f":"+IF(AND(A1610>Analyse1!$E$3,Data!A1610<Analyse1!$E$4),B1610,\"\")","v":""},{"$f":"+B1610/Analyse1!$H$3*Analyse1!$H$4","v":1.9975778504954318E-14}]
[5933.8969999999999,1.3237327202666,{"$f":"+IF(AND(A1611>Analyse1!$E$3,Data!A1611<Analyse1!$E$4),B1611,\"\")","v":""},{"$f":"+B1611/Analyse1!$H$3*Analyse1!$H$4","v":2.0256167195108456E-14}]
[5934.8969999999999,1.3427600301057201,{"$f":"+IF(AND(A1612>Analyse1!$E$3,Data!A1612<Analyse1!$E$4),B1612,\"\")","v":""},{"$f":"+B1612/Analyse1!$H$3*Analyse1!$H$4","v":2.0547328970800398E-14}]
[5935.8969999999999,1.35648710024702,{"$f":"+IF(AND(A1613>Analyse1!$E$3,Data!A1613<Analyse1!$E$4),B1613,\"\")","v":""},{"$f":"+B1613/Analyse1!$H$3*Analyse1!$H$4","v":2.0757384840557206E-14}]
[5936.8969999999999,1.3589235045424499,{"$f":"+IF(AND(A1614>Analyse1!$E$3,Data!A1614<Analyse1!$E$4),B1614,\"\")","v":""},{"$f":"+B1614/Analyse1!$H$3*Analyse1!$H$4","v":2.0794667452075013E-14}]
[5937.8969999999999,1.3472490217061199,{"$f":"+IF(AND(A1615>Analyse1!$E$3,Data!A1615<Analyse1!$E$4),B1615,\"\")","v":""},{"$f":"+B1615/Analyse1!$H$3*Analyse1!$H$4","v":2.0616020907626453E-14}]
[5938.8969999999999,1.3258372584942,{"$f":"+IF(AND(A1616>Analyse1!$E$3,Data!A1616<Analyse1!$E$4),B1616,\"\")","v":""},{"$f":"+B1616/Analyse1!$H$3*Analyse1!$H$4","v":2.0288371489490613E-14}]
[5939.8969999999999,1.3000541762148501,{"$f":"+IF(AND(A1617>Analyse1!$E$3,Data!A1617<Analyse1!$E$4),B1617,\"\")","v":""},{"$f":"+B1617/Analyse1!$H$3*Analyse1!$H$4","v":1.9893830795995811E-14}]
[5940.8969999999999,1.2752657361762301,{"$f":"+IF(AND(A1618>Analyse1!$E$3,Data!A1618<Analyse1!$E$4),B1618,\"\")","v":""},{"$f":"+B1618/Analyse1!$H$3*Analyse1!$H$4","v":1.9514510425470346E-14}]
[5941.8969999999999,1.2560407643936899,{"$f":"+IF(AND(A1619>Analyse1!$E$3,Data!A1619<Analyse1!$E$4),B1619,\"\")","v":""},{"$f":"+B1619/Analyse1!$H$3*Analyse1!$H$4","v":1.9220323965631272E-14}]
[5942.8969999999999,1.24284117225827,{"$f":"+IF(AND(A1620>Analyse1!$E$3,Data!A1620<Analyse1!$E$4),B1620,\"\")","v":""},{"$f":"+B1620/Analyse1!$H$3*Analyse1!$H$4","v":1.9018339727341493E-14}]
[5943.8969999999999,1.2348100211787501,{"$f":"+IF(AND(A1621>Analyse1!$E$3,Data!A1621<Analyse1!$E$4),B1621,\"\")","v":""},{"$f":"+B1621/Analyse1!$H$3*Analyse1!$H$4","v":1.8895444571434816E-14}]
[5944.8969999999999,1.2310897571796,{"$f":"+IF(AND(A1622>Analyse1!$E$3,Data!A1622<Analyse1!$E$4),B1622,\"\")","v":""},{"$f":"+B1622/Analyse1!$H$3*Analyse1!$H$4","v":1.8838515941944155E-14}]
[5945.8969999999999,1.23084974544923,{"$f":"+IF(AND(A1623>Analyse1!$E$3,Data!A1623<Analyse1!$E$4),B1623,\"\")","v":""},{"$f":"+B1623/Analyse1!$H$3*Analyse1!$H$4","v":1.8834843208268593E-14}]
[5946.8969999999999,1.2336072657075201,{"$f":"+IF(AND(A1624>Analyse1!$E$3,Data!A1624<Analyse1!$E$4),B1624,\"\")","v":""},{"$f":"+B1624/Analyse1!$H$3*Analyse1!$H$4","v":1.8877039635493402E-14}]
[5947.8969999999999,1.23912186820504,{"$f":"+IF(AND(A1625>Analyse1!$E$3,Data!A1625<Analyse1!$E$4),B1625,\"\")","v":""},{"$f":"+B1625/Analyse1!$H$3*Analyse1!$H$4","v":1.8961425787239977E-14}]
[5948.8969999999999,1.24715802222262,{"$f":"+IF(AND(A1626>Analyse1!$E$3,Data!A1626<Analyse1!$E$4),B1626,\"\")","v":""},{"$f":"+B1626/Analyse1!$H$3*Analyse1!$H$4","v":1.9084397499651042E-14}]
[5949.8969999999999,1.2574560706332401,{"$f":"+IF(AND(A1627>Analyse1!$E$3,Data!A1627<Analyse1!$E$4),B1627,\"\")","v":""},{"$f":"+B1627/Analyse1!$H$3*Analyse1!$H$4","v":1.9241981419119945E-14}]
[5950.8969999999999,1.26855186985084,{"$f":"+IF(AND(A1628>Analyse1!$E$3,Data!A1628<Analyse1!$E$4),B1628,\"\")","v":""},{"$f":"+B1628/Analyse1!$H$3*Analyse1!$H$4","v":1.9411772767988159E-14}]
[5951.8969999999999,1.27724211240583,{"$f":"+IF(AND(A1629>Analyse1!$E$3,Data!A1629<Analyse1!$E$4),B1629,\"\")","v":""},{"$f":"+B1629/Analyse1!$H$3*Analyse1!$H$4","v":1.9544753545349673E-14}]
[5952.8969999999999,1.2801878845766399,{"$f":"+IF(AND(A1630>Analyse1!$E$3,Data!A1630<Analyse1!$E$4),B1630,\"\")","v":""},{"$f":"+B1630/Analyse1!$H$3*Analyse1!$H$4","v":1.958983066152053E-14}]
[5953.8969999999999,1.2740510628080699,{"$f":"+IF(AND(A1631>Analyse1!$E$3,Data!A1631<Analyse1!$E$4),B1631,\"\")","v":""},{"$f":"+B1631/Analyse1!$H$3*Analyse1!$H$4","v":1.9495923118186785E-14}]
[5954.8969999999999,1.2573073857329999,{"$f":"+IF(AND(A1632>Analyse1!$E$3,Data!A1632<Analyse1!$E$4),B1632,\"\")","v":""},{"$f":"+B1632/Analyse1!$H$3*Analyse1!$H$4","v":1.9239706196824277E-14}]
[5955.8969999999999,1.23411527122926,{"$f":"+IF(AND(A1633>Analyse1!$E$3,Data!A1633<Analyse1!$E$4),B1633,\"\")","v":""},{"$f":"+B1633/Analyse1!$H$3*Analyse1!$H$4","v":1.8884813292990007E-14}]
[5956.8969999999999,1.2097430232036199,{"$f":"+IF(AND(A1634>Analyse1!$E$3,Data!A1634<Analyse1!$E$4),B1634,\"\")","v":""},{"$f":"+B1634/Analyse1!$H$3*Analyse1!$H$4","v":1.8511861621274443E-14}]
[5957.8969999999999,1.1894589455628599,{"$f":"+IF(AND(A1635>Analyse1!$E$3,Data!A1635<Analyse1!$E$4),B1635,\"\")","v":""},{"$f":"+B1635/Analyse1!$H$3*Analyse1!$H$4","v":1.8201468396268232E-14}]
[5958.8969999999999,1.17775302422559,{"$f":"+IF(AND(A1636>Analyse1!$E$3,Data!A1636<Analyse1!$E$4),B1636,\"\")","v":""},{"$f":"+B1636/Analyse1!$H$3*Analyse1!$H$4","v":1.802234077016198E-14}]
[5959.8969999999999,1.1734358002882599,{"$f":"+IF(AND(A1637>Analyse1!$E$3,Data!A1637<Analyse1!$E$4),B1637,\"\")","v":""},{"$f":"+B1637/Analyse1!$H$3*Analyse1!$H$4","v":1.795627727520231E-14}]
[5960.8969999999999,1.17280048570812,{"$f":"+IF(AND(A1638>Analyse1!$E$3,Data!A1638<Analyse1!$E$4),B1638,\"\")","v":""},{"$f":"+B1638/Analyse1!$H$3*Analyse1!$H$4","v":1.7946555495148244E-14}]
[5961.8969999999999,1.1721290105177,{"$f":"+IF(AND(A1639>Analyse1!$E$3,Data!A1639<Analyse1!$E$4),B1639,\"\")","v":""},{"$f":"+B1639/Analyse1!$H$3*Analyse1!$H$4","v":1.7936280374259959E-14}]
[5962.8969999999999,1.16784184618882,{"$f":"+IF(AND(A1640>Analyse1!$E$3,Data!A1640<Analyse1!$E$4),B1640,\"\")","v":""},{"$f":"+B1640/Analyse1!$H$3*Analyse1!$H$4","v":1.7870676860718941E-14}]
[5963.8969999999999,1.15918852006673,{"$f":"+IF(AND(A1641>Analyse1!$E$3,Data!A1641<Analyse1!$E$4),B1641,\"\")","v":""},{"$f":"+B1641/Analyse1!$H$3*Analyse1!$H$4","v":1.7738260990022966E-14}]
[5964.8969999999999,1.1480622479570901,{"$f":"+IF(AND(A1642>Analyse1!$E$3,Data!A1642<Analyse1!$E$4),B1642,\"\")","v":""},{"$f":"+B1642/Analyse1!$H$3*Analyse1!$H$4","v":1.756800333554288E-14}]
[5965.8969999999999,1.1364576602409,{"$f":"+IF(AND(A1643>Analyse1!$E$3,Data!A1643<Analyse1!$E$4),B1643,\"\")","v":""},{"$f":"+B1643/Analyse1!$H$3*Analyse1!$H$4","v":1.7390426347824309E-14}]
[5966.8969999999999,1.1263651686229701,{"$f":"+IF(AND(A1644>Analyse1!$E$3,Data!A1644<Analyse1!$E$4),B1644,\"\")","v":""},{"$f":"+B1644/Analyse1!$H$3*Analyse1!$H$4","v":1.723598792192603E-14}]
[5967.8969999999999,1.1192543100066299,{"$f":"+IF(AND(A1645>Analyse1!$E$3,Data!A1645<Analyse1!$E$4),B1645,\"\")","v":""},{"$f":"+B1645/Analyse1!$H$3*Analyse1!$H$4","v":1.7127175365714265E-14}]
[5968.8969999999999,1.11557735428392,{"$f":"+IF(AND(A1646>Analyse1!$E$3,Data!A1646<Analyse1!$E$4),B1646,\"\")","v":""},{"$f":"+B1646/Analyse1!$H$3*Analyse1!$H$4","v":1.7070909452854438E-14}]
[5969.8969999999999,1.1156689013596599,{"$f":"+IF(AND(A1647>Analyse1!$E$3,Data!A1647<Analyse1!$E$4),B1647,\"\")","v":""},{"$f":"+B1647/Analyse1!$H$3*Analyse1!$H$4","v":1.7072310334500725E-14}]
[5970.8969999999999,1.1198635511386299,{"$f":"+IF(AND(A1648>Analyse1!$E$3,Data!A1648<Analyse1!$E$4),B1648,\"\")","v":""},{"$f":"+B1648/Analyse1!$H$3*Analyse1!$H$4","v":1.7136498161806702E-14}]
[5971.8969999999999,1.1278822894915399,{"$f":"+IF(AND(A1649>Analyse1!$E$3,Data!A1649<Analyse1!$E$4),B1649,\"\")","v":""},{"$f":"+B1649/Analyse1!$H$3*Analyse1!$H$4","v":1.7259203374334545E-14}]
[5972.8969999999999,1.1367601526437101,{"$f":"+IF(AND(A1650>Analyse1!$E$3,Data!A1650<Analyse1!$E$4),B1650,\"\")","v":""},{"$f":"+B1650/Analyse1!$H$3*Analyse1!$H$4","v":1.739505518005967E-14}]
[5973.8969999999999,1.14279745991801,{"$f":"+IF(AND(A1651>Analyse1!$E$3,Data!A1651<Analyse1!$E$4),B1651,\"\")","v":""},{"$f":"+B1651/Analyse1!$H$3*Analyse1!$H$4","v":1.7487439921846389E-14}]
[5974.8969999999999,1.14229451243326,{"$f":"+IF(AND(A1652>Analyse1!$E$3,Data!A1652<Analyse1!$E$4),B1652,\"\")","v":""},{"$f":"+B1652/Analyse1!$H$3*Analyse1!$H$4","v":1.7479743663995029E-14}]
[5975.8969999999999,1.1320270247823101,{"$f":"+IF(AND(A1653>Analyse1!$E$3,Data!A1653<Analyse1!$E$4),B1653,\"\")","v":""},{"$f":"+B1653/Analyse1!$H$3*Analyse1!$H$4","v":1.7322627394715635E-14}]
[5976.8969999999999,1.11381905609481,{"$f":"+IF(AND(A1654>Analyse1!$E$3,Data!A1654<Analyse1!$E$4),B1654,\"\")","v":""},{"$f":"+B1654/Analyse1!$H$3*Analyse1!$H$4","v":1.704400343054935E-14}]
[5977.8969999999999,1.09253803689245,{"$f":"+IF(AND(A1655>Analyse1!$E$3,Data!A1655<Analyse1!$E$4),B1655,\"\")","v":""},{"$f":"+B1655/Analyse1!$H$3*Analyse1!$H$4","v":1.6718354697655221E-14}]
[5978.8969999999999,1.0730933322963001,{"$f":"+IF(AND(A1656>Analyse1!$E$3,Data!A1656<Analyse1!$E$4),B1656,\"\")","v":""},{"$f":"+B1656/Analyse1!$H$3*Analyse1!$H$4","v":1.6420805818392208E-14}]
[5979.8969999999999,1.0602960661026,{"$f":"+IF(AND(A1657>Analyse1!$E$3,Data!A1657<Analyse1!$E$4),B1657,\"\")","v":""},{"$f":"+B1657/Analyse1!$H$3*Analyse1!$H$4","v":1.6224978096004494E-14}]
[5980.8969999999999,1.0554355932458499,{"$f":"+IF(AND(A1658>Analyse1!$E$3,Data!A1658<Analyse1!$E$4),B1658,\"\")","v":""},{"$f":"+B1658/Analyse1!$H$3*Analyse1!$H$4","v":1.6150601638184681E-14}]
[5981.8969999999999,1.0553913256885601,{"$f":"+IF(AND(A1659>Analyse1!$E$3,Data!A1659<Analyse1!$E$4),B1659,\"\")","v":""},{"$f":"+B1659/Analyse1!$H$3*Analyse1!$H$4","v":1.614992424234181E-14}]
[5982.8969999999999,1.0567639780145599,{"$f":"+IF(AND(A1660>Analyse1!$E$3,Data!A1660<Analyse1!$E$4),B1660,\"\")","v":""},{"$f":"+B1660/Analyse1!$H$3*Analyse1!$H$4","v":1.6170928992462821E-14}]
[5983.8969999999999,1.0561568516117601,{"$f":"+IF(AND(A1661>Analyse1!$E$3,Data!A1661<Analyse1!$E$4),B1661,\"\")","v":""},{"$f":"+B1661/Analyse1!$H$3*Analyse1!$H$4","v":1.6161638556610182E-14}]
[5984.8969999999999,1.0516712864132001,{"$f":"+IF(AND(A1662>Analyse1!$E$3,Data!A1662<Analyse1!$E$4),B1662,\"\")","v":""},{"$f":"+B1662/Analyse1!$H$3*Analyse1!$H$4","v":1.6092999051644032E-14}]
[5985.8969999999999,1.0454181737092201,{"$f":"+IF(AND(A1663>Analyse1!$E$3,Data!A1663<Analyse1!$E$4),B1663,\"\")","v":""},{"$f":"+B1663/Analyse1!$H$3*Analyse1!$H$4","v":1.5997311988476051E-14}]
[5986.8969999999999,1.04017213448992,{"$f":"+IF(AND(A1664>Analyse1!$E$3,Data!A1664<Analyse1!$E$4),B1664,\"\")","v":""},{"$f":"+B1664/Analyse1!$H$3*Analyse1!$H$4","v":1.5917035475014302E-14}]
[5987.8969999999999,1.03870778974542,{"$f":"+IF(AND(A1665>Analyse1!$E$3,Data!A1665<Analyse1!$E$4),B1665,\"\")","v":""},{"$f":"+B1665/Analyse1!$H$3*Analyse1!$H$4","v":1.5894627619167167E-14}]
[5988.8969999999999,1.0431506309232099,{"$f":"+IF(AND(A1666>Analyse1!$E$3,Data!A1666<Analyse1!$E$4),B1666,\"\")","v":""},{"$f":"+B1666/Analyse1!$H$3*Analyse1!$H$4","v":1.596261334796331E-14}]
[5989.8969999999999,1.05163048868786,{"$f":"+IF(AND(A1667>Analyse1!$E$3,Data!A1667<Analyse1!$E$4),B1667,\"\")","v":""},{"$f":"+B1667/Analyse1!$H$3*Analyse1!$H$4","v":1.6092374752242035E-14}]
[5990.8969999999999,1.0607580942650201,{"$f":"+IF(AND(A1668>Analyse1!$E$3,Data!A1668<Analyse1!$E$4),B1668,\"\")","v":""},{"$f":"+B1668/Analyse1!$H$3*Analyse1!$H$4","v":1.6232048193739137E-14}]
[5991.8969999999999,1.06714123427612,{"$f":"+IF(AND(A1669>Analyse1!$E$3,Data!A1669<Analyse1!$E$4),B1669,\"\")","v":""},{"$f":"+B1669/Analyse1!$H$3*Analyse1!$H$4","v":1.6329724974946589E-14}]
[5992.8969999999999,1.0676020896090399,{"$f":"+IF(AND(A1670>Analyse1!$E$3,Data!A1670<Analyse1!$E$4),B1670,\"\")","v":""},{"$f":"+B1670/Analyse1!$H$3*Analyse1!$H$4","v":1.6336777125681751E-14}]
[5993.8969999999999,1.0624397672463299,{"$f":"+IF(AND(A1671>Analyse1!$E$3,Data!A1671<Analyse1!$E$4),B1671,\"\")","v":""},{"$f":"+B1671/Analyse1!$H$3*Analyse1!$H$4","v":1.6257781673432869E-14}]
[5994.8969999999999,1.0547745090063101,{"$f":"+IF(AND(A1672>Analyse1!$E$3,Data!A1672<Analyse1!$E$4),B1672,\"\")","v":""},{"$f":"+B1672/Analyse1!$H$3*Analyse1!$H$4","v":1.6140485522838169E-14}]
[5995.8969999999999,1.04780799399533,{"$f":"+IF(AND(A1673>Analyse1!$E$3,Data!A1673<Analyse1!$E$4),B1673,\"\")","v":""},{"$f":"+B1673/Analyse1!$H$3*Analyse1!$H$4","v":1.6033881757086103E-14}]
[5996.8969999999999,1.04472282346993,{"$f":"+IF(AND(A1674>Analyse1!$E$3,Data!A1674<Analyse1!$E$4),B1674,\"\")","v":""},{"$f":"+B1674/Analyse1!$H$3*Analyse1!$H$4","v":1.5986671524211195E-14}]
[5997.8969999999999,1.0472488232194399,{"$f":"+IF(AND(A1675>Analyse1!$E$3,Data!A1675<Analyse1!$E$4),B1675,\"\")","v":""},{"$f":"+B1675/Analyse1!$H$3*Analyse1!$H$4","v":1.6025325153057483E-14}]
[5998.8969999999999,1.0546663306782,{"$f":"+IF(AND(A1676>Analyse1!$E$3,Data!A1676<Analyse1!$E$4),B1676,\"\")","v":""},{"$f":"+B1676/Analyse1!$H$3*Analyse1!$H$4","v":1.6138830144628099E-14}]
[5999.8969999999999,1.06602004606913,{"$f":"+IF(AND(A1677>Analyse1!$E$3,Data!A1677<Analyse1!$E$4),B1677,\"\")","v":""},{"$f":"+B1677/Analyse1!$H$3*Analyse1!$H$4","v":1.6312568206491552E-14}]
[6000.8969999999999,1.0803546640344299,{"$f":"+IF(AND(A1678>Analyse1!$E$3,Data!A1678<Analyse1!$E$4),B1678,\"\")","v":""},{"$f":"+B1678/Analyse1!$H$3*Analyse1!$H$4","v":1.6531920960818454E-14}]
[6001.8969999999999,1.0962799857715699,{"$f":"+IF(AND(A1679>Analyse1!$E$3,Data!A1679<Analyse1!$E$4),B1679,\"\")","v":""},{"$f":"+B1679/Analyse1!$H$3*Analyse1!$H$4","v":1.677561515588106E-14}]
[6002.8969999999999,1.11078687521452,{"$f":"+IF(AND(A1680>Analyse1!$E$3,Data!A1680<Analyse1!$E$4),B1680,\"\")","v":""},{"$f":"+B1680/Analyse1!$H$3*Analyse1!$H$4","v":1.6997604061600762E-14}]
[6003.8969999999999,1.1204895566551001,{"$f":"+IF(AND(A1681>Analyse1!$E$3,Data!A1681<Analyse1!$E$4),B1681,\"\")","v":""},{"$f":"+B1681/Analyse1!$H$3*Analyse1!$H$4","v":1.7146077491691456E-14}]
[6004.8969999999999,1.12200225438515,{"$f":"+IF(AND(A1682>Analyse1!$E$3,Data!A1682<Analyse1!$E$4),B1682,\"\")","v":""},{"$f":"+B1682/Analyse1!$H$3*Analyse1!$H$4","v":1.7169225259867331E-14}]
[6005.8969999999999,1.11248726145154,{"$f":"+IF(AND(A1683>Analyse1!$E$3,Data!A1683<Analyse1!$E$4),B1683,\"\")","v":""},{"$f":"+B1683/Analyse1!$H$3*Analyse1!$H$4","v":1.7023623897316845E-14}]
[6006.8969999999999,1.0939417362998001,{"$f":"+IF(AND(A1684>Analyse1!$E$3,Data!A1684<Analyse1!$E$4),B1684,\"\")","v":""},{"$f":"+B1684/Analyse1!$H$3*Analyse1!$H$4","v":1.6739834539810387E-14}]
[6007.8969999999999,1.0708799456973599,{"$f":"+IF(AND(A1685>Analyse1!$E$3,Data!A1685<Analyse1!$E$4),B1685,\"\")","v":""},{"$f":"+B1685/Analyse1!$H$3*Analyse1!$H$4","v":1.6386935892591387E-14}]
[6008.8969999999999,1.0478377989262699,{"$f":"+IF(AND(A1686>Analyse1!$E$3,Data!A1686<Analyse1!$E$4),B1686,\"\")","v":""},{"$f":"+B1686/Analyse1!$H$3*Analyse1!$H$4","v":1.6034337841350786E-14}]
[6009.8969999999999,1.0292638413838,{"$f":"+IF(AND(A1687>Analyse1!$E$3,Data!A1687<Analyse1!$E$4),B1687,\"\")","v":""},{"$f":"+B1687/Analyse1!$H$3*Analyse1!$H$4","v":1.5750113402614131E-14}]
[6010.8969999999999,1.01725942512856,{"$f":"+IF(AND(A1688>Analyse1!$E$3,Data!A1688<Analyse1!$E$4),B1688,\"\")","v":""},{"$f":"+B1688/Analyse1!$H$3*Analyse1!$H$4","v":1.5566418115020995E-14}]
[6011.8969999999999,1.01137411334177,{"$f":"+IF(AND(A1689>Analyse1!$E$3,Data!A1689<Analyse1!$E$4),B1689,\"\")","v":""},{"$f":"+B1689/Analyse1!$H$3*Analyse1!$H$4","v":1.5476359255159502E-14}]
[6012.8969999999999,1.01102909659661,{"$f":"+IF(AND(A1690>Analyse1!$E$3,Data!A1690<Analyse1!$E$4),B1690,\"\")","v":""},{"$f":"+B1690/Analyse1!$H$3*Analyse1!$H$4","v":1.5471079702295034E-14}]
[6013.8969999999999,1.0156426849237099,{"$f":"+IF(AND(A1691>Analyse1!$E$3,Data!A1691<Analyse1!$E$4),B1691,\"\")","v":""},{"$f":"+B1691/Analyse1!$H$3*Analyse1!$H$4","v":1.5541678256740616E-14}]
[6014.8969999999999,1.02393674524734,{"$f":"+IF(AND(A1692>Analyse1!$E$3,Data!A1692<Analyse1!$E$4),B1692,\"\")","v":""},{"$f":"+B1692/Analyse1!$H$3*Analyse1!$H$4","v":1.566859653115475E-14}]
[6015.8969999999999,1.0330348934483899,{"$f":"+IF(AND(A1693>Analyse1!$E$3,Data!A1693<Analyse1!$E$4),B1693,\"\")","v":""},{"$f":"+B1693/Analyse1!$H$3*Analyse1!$H$4","v":1.5807819206778593E-14}]
[6016.8969999999999,1.03983743958399,{"$f":"+IF(AND(A1694>Analyse1!$E$3,Data!A1694<Analyse1!$E$4),B1694,\"\")","v":""},{"$f":"+B1694/Analyse1!$H$3*Analyse1!$H$4","v":1.5911913870123775E-14}]
[6017.8969999999999,1.04124469371128,{"$f":"+IF(AND(A1695>Analyse1!$E$3,Data!A1695<Analyse1!$E$4),B1695,\"\")","v":""},{"$f":"+B1695/Analyse1!$H$3*Analyse1!$H$4","v":1.5933448107702077E-14}]
[6018.8969999999999,1.0351033080429399,{"$f":"+IF(AND(A1696>Analyse1!$E$3,Data!A1696<Analyse1!$E$4),B1696,\"\")","v":""},{"$f":"+B1696/Analyse1!$H$3*Analyse1!$H$4","v":1.583947072616354E-14}]
[6019.8969999999999,1.0241951942779199,{"$f":"+IF(AND(A1697>Analyse1!$E$3,Data!A1697<Analyse1!$E$4),B1697,\"\")","v":""},{"$f":"+B1697/Analyse1!$H$3*Analyse1!$H$4","v":1.5672551398096307E-14}]
[6020.8969999999999,1.0129058831809801,{"$f":"+IF(AND(A1698>Analyse1!$E$3,Data!A1698<Analyse1!$E$4),B1698,\"\")","v":""},{"$f":"+B1698/Analyse1!$H$3*Analyse1!$H$4","v":1.5499798870644127E-14}]
[6021.8969999999999,1.0056217565677401,{"$f":"+IF(AND(A1699>Analyse1!$E$3,Data!A1699<Analyse1!$E$4),B1699,\"\")","v":""},{"$f":"+B1699/Analyse1!$H$3*Analyse1!$H$4","v":1.5388334913994018E-14}]
[6022.8969999999999,1.0063280590517201,{"$f":"+IF(AND(A1700>Analyse1!$E$3,Data!A1700<Analyse1!$E$4),B1700,\"\")","v":""},{"$f":"+B1700/Analyse1!$H$3*Analyse1!$H$4","v":1.5399142972891993E-14}]
[6023.8969999999999,1.01374681449907,{"$f":"+IF(AND(A1701>Analyse1!$E$3,Data!A1701<Analyse1!$E$4),B1701,\"\")","v":""},{"$f":"+B1701/Analyse1!$H$3*Analyse1!$H$4","v":1.5512667061569711E-14}]
[6024.8969999999999,1.0228959389830199,{"$f":"+IF(AND(A1702>Analyse1!$E$3,Data!A1702<Analyse1!$E$4),B1702,\"\")","v":""},{"$f":"+B1702/Analyse1!$H$3*Analyse1!$H$4","v":1.5652669792029091E-14}]
[6025.8969999999999,1.0287161477501201,{"$f":"+IF(AND(A1703>Analyse1!$E$3,Data!A1703<Analyse1!$E$4),B1703,\"\")","v":""},{"$f":"+B1703/Analyse1!$H$3*Analyse1!$H$4","v":1.5741732425362713E-14}]
[6026.8969999999999,1.0262253050855199,{"$f":"+IF(AND(A1704>Analyse1!$E$3,Data!A1704<Analyse1!$E$4),B1704,\"\")","v":""},{"$f":"+B1704/Analyse1!$H$3*Analyse1!$H$4","v":1.5703616781095271E-14}]
[6027.8969999999999,1.01439683818382,{"$f":"+IF(AND(A1705>Analyse1!$E$3,Data!A1705<Analyse1!$E$4),B1705,\"\")","v":""},{"$f":"+B1705/Analyse1!$H$3*Analyse1!$H$4","v":1.5522613924888482E-14}]
[6028.8969999999999,0.997976587608983,{"$f":"+IF(AND(A1706>Analyse1!$E$3,Data!A1706<Analyse1!$E$4),B1706,\"\")","v":""},{"$f":"+B1706/Analyse1!$H$3*Analyse1!$H$4","v":1.5271346175789942E-14}]
[6029.8969999999999,0.98216726485064498,{"$f":"+IF(AND(A1707>Analyse1!$E$3,Data!A1707<Analyse1!$E$4),B1707,\"\")","v":""},{"$f":"+B1707/Analyse1!$H$3*Analyse1!$H$4","v":1.5029427032951325E-14}]
[6030.8969999999999,0.97217082342371097,{"$f":"+IF(AND(A1708>Analyse1!$E$3,Data!A1708<Analyse1!$E$4),B1708,\"\")","v":""},{"$f":"+B1708/Analyse1!$H$3*Analyse1!$H$4","v":1.4876458396760703E-14}]
[6031.8969999999999,0.971189387039048,{"$f":"+IF(AND(A1709>Analyse1!$E$3,Data!A1709<Analyse1!$E$4),B1709,\"\")","v":""},{"$f":"+B1709/Analyse1!$H$3*Analyse1!$H$4","v":1.4861440153882266E-14}]
[6032.8969999999999,0.97608543704864703,{"$f":"+IF(AND(A1710>Analyse1!$E$3,Data!A1710<Analyse1!$E$4),B1710,\"\")","v":""},{"$f":"+B1710/Analyse1!$H$3*Analyse1!$H$4","v":1.4936361024290361E-14}]
[6033.8969999999999,0.98246814299917296,{"$f":"+IF(AND(A1711>Analyse1!$E$3,Data!A1711<Analyse1!$E$4),B1711,\"\")","v":""},{"$f":"+B1711/Analyse1!$H$3*Analyse1!$H$4","v":1.5034031163368761E-14}]
[6034.8969999999999,0.98594667443728701,{"$f":"+IF(AND(A1712>Analyse1!$E$3,Data!A1712<Analyse1!$E$4),B1712,\"\")","v":""},{"$f":"+B1712/Analyse1!$H$3*Analyse1!$H$4","v":1.5087260726501179E-14}]
[6035.8969999999999,0.982819187954593,{"$f":"+IF(AND(A1713>Analyse1!$E$3,Data!A1713<Analyse1!$E$4),B1713,\"\")","v":""},{"$f":"+B1713/Analyse1!$H$3*Analyse1!$H$4","v":1.5039402961769694E-14}]
[6036.8969999999999,0.97447633211539697,{"$f":"+IF(AND(A1714>Analyse1!$E$3,Data!A1714<Analyse1!$E$4),B1714,\"\")","v":""},{"$f":"+B1714/Analyse1!$H$3*Analyse1!$H$4","v":1.4911738003295743E-14}]
[6037.8969999999999,0.96459140042002001,{"$f":"+IF(AND(A1715>Analyse1!$E$3,Data!A1715<Analyse1!$E$4),B1715,\"\")","v":""},{"$f":"+B1715/Analyse1!$H$3*Analyse1!$H$4","v":1.4760475723480332E-14}]
[6038.8969999999999,0.95684845731187496,{"$f":"+IF(AND(A1716>Analyse1!$E$3,Data!A1716<Analyse1!$E$4),B1716,\"\")","v":""},{"$f":"+B1716/Analyse1!$H$3*Analyse1!$H$4","v":1.4641990815024486E-14}]
[6039.8969999999999,0.95479508792206003,{"$f":"+IF(AND(A1717>Analyse1!$E$3,Data!A1717<Analyse1!$E$4),B1717,\"\")","v":""},{"$f":"+B1717/Analyse1!$H$3*Analyse1!$H$4","v":1.4610569522012228E-14}]
[6040.8969999999999,0.95914146652341303,{"$f":"+IF(AND(A1718>Analyse1!$E$3,Data!A1718<Analyse1!$E$4),B1718,\"\")","v":""},{"$f":"+B1718/Analyse1!$H$3*Analyse1!$H$4","v":1.4677079150651243E-14}]
[6041.8969999999999,0.96791844479006905,{"$f":"+IF(AND(A1719>Analyse1!$E$3,Data!A1719<Analyse1!$E$4),B1719,\"\")","v":""},{"$f":"+B1719/Analyse1!$H$3*Analyse1!$H$4","v":1.4811387184678997E-14}]
[6042.8969999999999,0.97905204531351597,{"$f":"+IF(AND(A1720>Analyse1!$E$3,Data!A1720<Analyse1!$E$4),B1720,\"\")","v":""},{"$f":"+B1720/Analyse1!$H$3*Analyse1!$H$4","v":1.4981756980812065E-14}]
[6043.8969999999999,0.99047058251794395,{"$f":"+IF(AND(A1721>Analyse1!$E$3,Data!A1721<Analyse1!$E$4),B1721,\"\")","v":""},{"$f":"+B1721/Analyse1!$H$3*Analyse1!$H$4","v":1.5156486966099334E-14}]
[6044.8969999999999,1.00039700642091,{"$f":"+IF(AND(A1722>Analyse1!$E$3,Data!A1722<Analyse1!$E$4),B1722,\"\")","v":""},{"$f":"+B1722/Analyse1!$H$3*Analyse1!$H$4","v":1.5308384172498751E-14}]
[6045.8969999999999,1.00763605591238,{"$f":"+IF(AND(A1723>Analyse1!$E$3,Data!A1723<Analyse1!$E$4),B1723,\"\")","v":""},{"$f":"+B1723/Analyse1!$H$3*Analyse1!$H$4","v":1.5419158345100114E-14}]
[6046.8969999999999,1.01106066793224,{"$f":"+IF(AND(A1724>Analyse1!$E$3,Data!A1724<Analyse1!$E$4),B1724,\"\")","v":""},{"$f":"+B1724/Analyse1!$H$3*Analyse1!$H$4","v":1.5471562816630206E-14}]
[6047.8969999999999,1.0095437794203901,{"$f":"+IF(AND(A1725>Analyse1!$E$3,Data!A1725<Analyse1!$E$4),B1725,\"\")","v":""},{"$f":"+B1725/Analyse1!$H$3*Analyse1!$H$4","v":1.5448350919816035E-14}]
[6048.8969999999999,1.00251828381716,{"$f":"+IF(AND(A1726>Analyse1!$E$3,Data!A1726<Analyse1!$E$4),B1726,\"\")","v":""},{"$f":"+B1726/Analyse1!$H$3*Analyse1!$H$4","v":1.5340844614812962E-14}]
[6049.8969999999999,0.99189779431080405,{"$f":"+IF(AND(A1727>Analyse1!$E$3,Data!A1727<Analyse1!$E$4),B1727,\"\")","v":""},{"$f":"+B1727/Analyse1!$H$3*Analyse1!$H$4","v":1.5178326602044254E-14}]
[6050.8969999999999,0.98028266663094998,{"$f":"+IF(AND(A1728>Analyse1!$E$3,Data!A1728<Analyse1!$E$4),B1728,\"\")","v":""},{"$f":"+B1728/Analyse1!$H$3*Analyse1!$H$4","v":1.5000588328544248E-14}]
[6051.8969999999999,0.97027328098340504,{"$f":"+IF(AND(A1729>Analyse1!$E$3,Data!A1729<Analyse1!$E$4),B1729,\"\")","v":""},{"$f":"+B1729/Analyse1!$H$3*Analyse1!$H$4","v":1.4847421615889326E-14}]
[6052.8969999999999,0.96424263365806195,{"$f":"+IF(AND(A1730>Analyse1!$E$3,Data!A1730<Analyse1!$E$4),B1730,\"\")","v":""},{"$f":"+B1730/Analyse1!$H$3*Analyse1!$H$4","v":1.4755138786699852E-14}]
[6053.8969999999999,0.96211477920387201,{"$f":"+IF(AND(A1731>Analyse1!$E$3,Data!A1731<Analyse1!$E$4),B1731,\"\")","v":""},{"$f":"+B1731/Analyse1!$H$3*Analyse1!$H$4","v":1.4722577700212354E-14}]
[6054.8969999999999,0.96232147170131899,{"$f":"+IF(AND(A1732>Analyse1!$E$3,Data!A1732<Analyse1!$E$4),B1732,\"\")","v":""},{"$f":"+B1732/Analyse1!$H$3*Analyse1!$H$4","v":1.4725740572688166E-14}]
[6055.8969999999999,0.96327325115239204,{"$f":"+IF(AND(A1733>Analyse1!$E$3,Data!A1733<Analyse1!$E$4),B1733,\"\")","v":""},{"$f":"+B1733/Analyse1!$H$3*Analyse1!$H$4","v":1.4740304996003108E-14}]
[6056.8969999999999,0.96341761226571798,{"$f":"+IF(AND(A1734>Analyse1!$E$3,Data!A1734<Analyse1!$E$4),B1734,\"\")","v":""},{"$f":"+B1734/Analyse1!$H$3*Analyse1!$H$4","v":1.4742514054375113E-14}]
[6057.8969999999999,0.96255750149247299,{"$f":"+IF(AND(A1735>Analyse1!$E$3,Data!A1735<Analyse1!$E$4),B1735,\"\")","v":""},{"$f":"+B1735/Analyse1!$H$3*Analyse1!$H$4","v":1.4729352373499193E-14}]
[6058.8969999999999,0.96221107934724004,{"$f":"+IF(AND(A1736>Analyse1!$E$3,Data!A1736<Analyse1!$E$4),B1736,\"\")","v":""},{"$f":"+B1736/Analyse1!$H$3*Analyse1!$H$4","v":1.472405131476846E-14}]
[6059.8969999999999,0.96400666572887705,{"$f":"+IF(AND(A1737>Analyse1!$E$3,Data!A1737<Analyse1!$E$4),B1737,\"\")","v":""},{"$f":"+B1737/Analyse1!$H$3*Analyse1!$H$4","v":1.4751527932519793E-14}]
[6060.8969999999999,0.96957063860206805,{"$f":"+IF(AND(A1738>Analyse1!$E$3,Data!A1738<Analyse1!$E$4),B1738,\"\")","v":""},{"$f":"+B1738/Analyse1!$H$3*Analyse1!$H$4","v":1.4836669565013176E-14}]
[6061.8969999999999,0.97931170821914704,{"$f":"+IF(AND(A1739>Analyse1!$E$3,Data!A1739<Analyse1!$E$4),B1739,\"\")","v":""},{"$f":"+B1739/Analyse1!$H$3*Analyse1!$H$4","v":1.4985730422844812E-14}]
[6062.8969999999999,0.99034162353689703,{"$f":"+IF(AND(A1740>Analyse1!$E$3,Data!A1740<Analyse1!$E$4),B1740,\"\")","v":""},{"$f":"+B1740/Analyse1!$H$3*Analyse1!$H$4","v":1.5154513595915605E-14}]
[6063.8969999999999,0.99921956917860699,{"$f":"+IF(AND(A1741>Analyse1!$E$3,Data!A1741<Analyse1!$E$4),B1741,\"\")","v":""},{"$f":"+B1741/Analyse1!$H$3*Analyse1!$H$4","v":1.5290366663921163E-14}]
[6064.8969999999999,1.00250472976757,{"$f":"+IF(AND(A1742>Analyse1!$E$3,Data!A1742<Analyse1!$E$4),B1742,\"\")","v":""},{"$f":"+B1742/Analyse1!$H$3*Analyse1!$H$4","v":1.5340637206557153E-14}]
[6065.8969999999999,0.99752768922165402,{"$f":"+IF(AND(A1743>Analyse1!$E$3,Data!A1743<Analyse1!$E$4),B1743,\"\")","v":""},{"$f":"+B1743/Analyse1!$H$3*Analyse1!$H$4","v":1.52644769939316E-14}]
[6066.8969999999999,0.98642671077392097,{"$f":"+IF(AND(A1744>Analyse1!$E$3,Data!A1744<Analyse1!$E$4),B1744,\"\")","v":""},{"$f":"+B1744/Analyse1!$H$3*Analyse1!$H$4","v":1.5094606390883206E-14}]
[6067.8969999999999,0.97318900040304002,{"$f":"+IF(AND(A1745>Analyse1!$E$3,Data!A1745<Analyse1!$E$4),B1745,\"\")","v":""},{"$f":"+B1745/Analyse1!$H$3*Analyse1!$H$4","v":1.4892038855573675E-14}]
[6068.8969999999999,0.96180562108998802,{"$f":"+IF(AND(A1746>Analyse1!$E$3,Data!A1746<Analyse1!$E$4),B1746,\"\")","v":""},{"$f":"+B1746/Analyse1!$H$3*Analyse1!$H$4","v":1.4717846867206054E-14}]
[6069.8969999999999,0.95607329106697003,{"$f":"+IF(AND(A1747>Analyse1!$E$3,Data!A1747<Analyse1!$E$4),B1747,\"\")","v":""},{"$f":"+B1747/Analyse1!$H$3*Analyse1!$H$4","v":1.4630128981573972E-14}]
[6070.8969999999999,0.95658491443162397,{"$f":"+IF(AND(A1748>Analyse1!$E$3,Data!A1748<Analyse1!$E$4),B1748,\"\")","v":""},{"$f":"+B1748/Analyse1!$H$3*Analyse1!$H$4","v":1.4637958000420967E-14}]
[6071.8969999999999,0.96130644828294398,{"$f":"+IF(AND(A1749>Analyse1!$E$3,Data!A1749<Analyse1!$E$4),B1749,\"\")","v":""},{"$f":"+B1749/Analyse1!$H$3*Analyse1!$H$4","v":1.4710208370639542E-14}]
[6072.8969999999999,0.96812630561242397,{"$f":"+IF(AND(A1750>Analyse1!$E$3,Data!A1750<Analyse1!$E$4),B1750,\"\")","v":""},{"$f":"+B1750/Analyse1!$H$3*Analyse1!$H$4","v":1.481456793522363E-14}]
[6073.8969999999999,0.97494346685484001,{"$f":"+IF(AND(A1751>Analyse1!$E$3,Data!A1751<Analyse1!$E$4),B1751,\"\")","v":""},{"$f":"+B1751/Analyse1!$H$3*Analyse1!$H$4","v":1.4918886243450218E-14}]
[6074.8969999999999,0.98048809120294,{"$f":"+IF(AND(A1752>Analyse1!$E$3,Data!A1752<Analyse1!$E$4),B1752,\"\")","v":""},{"$f":"+B1752/Analyse1!$H$3*Analyse1!$H$4","v":1.5003731798832851E-14}]
[6075.8969999999999,0.98490697336949296,{"$f":"+IF(AND(A1753>Analyse1!$E$3,Data!A1753<Analyse1!$E$4),B1753,\"\")","v":""},{"$f":"+B1753/Analyse1!$H$3*Analyse1!$H$4","v":1.5071350899434332E-14}]
[6076.8969999999999,0.98848510639013998,{"$f":"+IF(AND(A1754>Analyse1!$E$3,Data!A1754<Analyse1!$E$4),B1754,\"\")","v":""},{"$f":"+B1754/Analyse1!$H$3*Analyse1!$H$4","v":1.5126104596765293E-14}]
[6077.8969999999999,0.99150748216192996,{"$f":"+IF(AND(A1755>Analyse1!$E$3,Data!A1755<Analyse1!$E$4),B1755,\"\")","v":""},{"$f":"+B1755/Analyse1!$H$3*Analyse1!$H$4","v":1.5172353924913268E-14}]
[6078.8969999999999,0.99410745277954604,{"$f":"+IF(AND(A1756>Analyse1!$E$3,Data!A1756<Analyse1!$E$4),B1756,\"\")","v":""},{"$f":"+B1756/Analyse1!$H$3*Analyse1!$H$4","v":1.5212139478844573E-14}]
[6079.8969999999999,0.99584707153867102,{"$f":"+IF(AND(A1757>Analyse1!$E$3,Data!A1757<Analyse1!$E$4),B1757,\"\")","v":""},{"$f":"+B1757/Analyse1!$H$3*Analyse1!$H$4","v":1.5238759662739013E-14}]
[6080.8969999999999,0.99615387533222599,{"$f":"+IF(AND(A1758>Analyse1!$E$3,Data!A1758<Analyse1!$E$4),B1758,\"\")","v":""},{"$f":"+B1758/Analyse1!$H$3*Analyse1!$H$4","v":1.524345446920802E-14}]
[6081.8969999999999,0.99445540105313301,{"$f":"+IF(AND(A1759>Analyse1!$E$3,Data!A1759<Analyse1!$E$4),B1759,\"\")","v":""},{"$f":"+B1759/Analyse1!$H$3*Analyse1!$H$4","v":1.521746389086304E-14}]
[6082.8969999999999,0.99030700115129899,{"$f":"+IF(AND(A1760>Analyse1!$E$3,Data!A1760<Analyse1!$E$4),B1760,\"\")","v":""},{"$f":"+B1760/Analyse1!$H$3*Analyse1!$H$4","v":1.5153983793470875E-14}]
[6083.8969999999999,0.98440679826161304,{"$f":"+IF(AND(A1761>Analyse1!$E$3,Data!A1761<Analyse1!$E$4),B1761,\"\")","v":""},{"$f":"+B1761/Analyse1!$H$3*Analyse1!$H$4","v":1.5063697065350662E-14}]
[6084.8969999999999,0.97805441627232204,{"$f":"+IF(AND(A1762>Analyse1!$E$3,Data!A1762<Analyse1!$E$4),B1762,\"\")","v":""},{"$f":"+B1762/Analyse1!$H$3*Analyse1!$H$4","v":1.4966490952898929E-14}]
[6085.8969999999999,0.97255485455117097,{"$f":"+IF(AND(A1763>Analyse1!$E$3,Data!A1763<Analyse1!$E$4),B1763,\"\")","v":""},{"$f":"+B1763/Analyse1!$H$3*Analyse1!$H$4","v":1.4882334959760815E-14}]
[6086.8969999999999,0.96917258387227501,{"$f":"+IF(AND(A1764>Analyse1!$E$3,Data!A1764<Analyse1!$E$4),B1764,\"\")","v":""},{"$f":"+B1764/Analyse1!$H$3*Analyse1!$H$4","v":1.4830578408516064E-14}]
[6087.8969999999999,0.96806102855246701,{"$f":"+IF(AND(A1765>Analyse1!$E$3,Data!A1765<Analyse1!$E$4),B1765,\"\")","v":""},{"$f":"+B1765/Analyse1!$H$3*Analyse1!$H$4","v":1.48135690454778E-14}]
[6088.8969999999999,0.96815303806593001,{"$f":"+IF(AND(A1766>Analyse1!$E$3,Data!A1766<Analyse1!$E$4),B1766,\"\")","v":""},{"$f":"+B1766/Analyse1!$H$3*Analyse1!$H$4","v":1.4814977003489046E-14}]
[6089.8969999999999,0.96831896689623798,{"$f":"+IF(AND(A1767>Analyse1!$E$3,Data!A1767<Analyse1!$E$4),B1767,\"\")","v":""},{"$f":"+B1767/Analyse1!$H$3*Analyse1!$H$4","v":1.4817516097731977E-14}]
[6090.8969999999999,0.96743208557868399,{"$f":"+IF(AND(A1768>Analyse1!$E$3,Data!A1768<Analyse1!$E$4),B1768,\"\")","v":""},{"$f":"+B1768/Analyse1!$H$3*Analyse1!$H$4","v":1.4803944765713398E-14}]
[6091.8969999999999,0.96511026190030402,{"$f":"+IF(AND(A1769>Analyse1!$E$3,Data!A1769<Analyse1!$E$4),B1769,\"\")","v":""},{"$f":"+B1769/Analyse1!$H$3*Analyse1!$H$4","v":1.4768415502209695E-14}]
[6092.8969999999999,0.96269949158135204,{"$f":"+IF(AND(A1770>Analyse1!$E$3,Data!A1770<Analyse1!$E$4),B1770,\"\")","v":""},{"$f":"+B1770/Analyse1!$H$3*Analyse1!$H$4","v":1.473152514972233E-14}]
[6093.8969999999999,0.96179031879515398,{"$f":"+IF(AND(A1771>Analyse1!$E$3,Data!A1771<Analyse1!$E$4),B1771,\"\")","v":""},{"$f":"+B1771/Analyse1!$H$3*Analyse1!$H$4","v":1.4717612706761213E-14}]
[6094.8969999999999,0.96397328771503599,{"$f":"+IF(AND(A1772>Analyse1!$E$3,Data!A1772<Analyse1!$E$4),B1772,\"\")","v":""},{"$f":"+B1772/Analyse1!$H$3*Analyse1!$H$4","v":1.4751017171836271E-14}]
[6095.8969999999999,0.97033224594030199,{"$f":"+IF(AND(A1773>Analyse1!$E$3,Data!A1773<Analyse1!$E$4),B1773,\"\")","v":""},{"$f":"+B1773/Analyse1!$H$3*Analyse1!$H$4","v":1.4848323915883329E-14}]
[6096.8969999999999,0.979276222822002,{"$f":"+IF(AND(A1774>Analyse1!$E$3,Data!A1774<Analyse1!$E$4),B1774,\"\")","v":""},{"$f":"+B1774/Analyse1!$H$3*Analyse1!$H$4","v":1.4985187414330668E-14}]
[6097.8969999999999,0.98833484199663801,{"$f":"+IF(AND(A1775>Analyse1!$E$3,Data!A1775<Analyse1!$E$4),B1775,\"\")","v":""},{"$f":"+B1775/Analyse1!$H$3*Analyse1!$H$4","v":1.5123805204575582E-14}]
[6098.8969999999999,0.99503719953044001,{"$f":"+IF(AND(A1776>Analyse1!$E$3,Data!A1776<Analyse1!$E$4),B1776,\"\")","v":""},{"$f":"+B1776/Analyse1!$H$3*Analyse1!$H$4","v":1.5226366750972004E-14}]
[6099.8969999999999,0.99709270024456198,{"$f":"+IF(AND(A1777>Analyse1!$E$3,Data!A1777<Analyse1!$E$4),B1777,\"\")","v":""},{"$f":"+B1777/Analyse1!$H$3*Analyse1!$H$4","v":1.5257820658167511E-14}]
[6100.8969999999999,0.99461266271548099,{"$f":"+IF(AND(A1778>Analyse1!$E$3,Data!A1778<Analyse1!$E$4),B1778,\"\")","v":""},{"$f":"+B1778/Analyse1!$H$3*Analyse1!$H$4","v":1.5219870357423194E-14}]
[6101.8969999999999,0.98941680442871205,{"$f":"+IF(AND(A1779>Analyse1!$E$3,Data!A1779<Analyse1!$E$4),B1779,\"\")","v":""},{"$f":"+B1779/Analyse1!$H$3*Analyse1!$H$4","v":1.5140361728099835E-14}]
[6102.8969999999999,0.98336138157639896,{"$f":"+IF(AND(A1780>Analyse1!$E$3,Data!A1780<Analyse1!$E$4),B1780,\"\")","v":""},{"$f":"+B1780/Analyse1!$H$3*Analyse1!$H$4","v":1.5047699776139599E-14}]
[6103.8969999999999,0.97828682011092505,{"$f":"+IF(AND(A1781>Analyse1!$E$3,Data!A1781<Analyse1!$E$4),B1781,\"\")","v":""},{"$f":"+B1781/Analyse1!$H$3*Analyse1!$H$4","v":1.4970047268263393E-14}]
[6104.8969999999999,0.97519971822804397,{"$f":"+IF(AND(A1782>Analyse1!$E$3,Data!A1782<Analyse1!$E$4),B1782,\"\")","v":""},{"$f":"+B1782/Analyse1!$H$3*Analyse1!$H$4","v":1.4922807481159408E-14}]
[6105.8969999999999,0.97387685714404104,{"$f":"+IF(AND(A1783>Analyse1!$E$3,Data!A1783<Analyse1!$E$4),B1783,\"\")","v":""},{"$f":"+B1783/Analyse1!$H$3*Analyse1!$H$4","v":1.4902564652011793E-14}]
[6106.8969999999999,0.97399622176843004,{"$f":"+IF(AND(A1784>Analyse1!$E$3,Data!A1784<Analyse1!$E$4),B1784,\"\")","v":""},{"$f":"+B1784/Analyse1!$H$3*Analyse1!$H$4","v":1.4904391206384731E-14}]
[6107.8969999999999,0.97523576398785905,{"$f":"+IF(AND(A1785>Analyse1!$E$3,Data!A1785<Analyse1!$E$4),B1785,\"\")","v":""},{"$f":"+B1785/Analyse1!$H$3*Analyse1!$H$4","v":1.4923359064516313E-14}]
[6108.8969999999999,0.97717250743712802,{"$f":"+IF(AND(A1786>Analyse1!$E$3,Data!A1786<Analyse1!$E$4),B1786,\"\")","v":""},{"$f":"+B1786/Analyse1!$H$3*Analyse1!$H$4","v":1.495299571134221E-14}]
[6109.8969999999999,0.979059722130729,{"$f":"+IF(AND(A1787>Analyse1!$E$3,Data!A1787<Analyse1!$E$4),B1787,\"\")","v":""},{"$f":"+B1787/Analyse1!$H$3*Analyse1!$H$4","v":1.4981874453841634E-14}]
[6110.8969999999999,0.98008589337170104,{"$f":"+IF(AND(A1788>Analyse1!$E$3,Data!A1788<Analyse1!$E$4),B1788,\"\")","v":""},{"$f":"+B1788/Analyse1!$H$3*Analyse1!$H$4","v":1.4997577243316958E-14}]
[6111.8969999999999,0.97943950646308198,{"$f":"+IF(AND(A1789>Analyse1!$E$3,Data!A1789<Analyse1!$E$4),B1789,\"\")","v":""},{"$f":"+B1789/Analyse1!$H$3*Analyse1!$H$4","v":1.4987686031070515E-14}]
[6112.8969999999999,0.976541515023026,{"$f":"+IF(AND(A1790>Analyse1!$E$3,Data!A1790<Analyse1!$E$4),B1790,\"\")","v":""},{"$f":"+B1790/Analyse1!$H$3*Analyse1!$H$4","v":1.4943340070408649E-14}]
[6113.8969999999999,0.97255335122002795,{"$f":"+IF(AND(A1791>Analyse1!$E$3,Data!A1791<Analyse1!$E$4),B1791,\"\")","v":""},{"$f":"+B1791/Analyse1!$H$3*Analyse1!$H$4","v":1.4882311955323048E-14}]
[6114.8969999999999,0.96942538405620304,{"$f":"+IF(AND(A1792>Analyse1!$E$3,Data!A1792<Analyse1!$E$4),B1792,\"\")","v":""},{"$f":"+B1792/Analyse1!$H$3*Analyse1!$H$4","v":1.4834446835060338E-14}]
[6115.8969999999999,0.96911189755784,{"$f":"+IF(AND(A1793>Analyse1!$E$3,Data!A1793<Analyse1!$E$4),B1793,\"\")","v":""},{"$f":"+B1793/Analyse1!$H$3*Analyse1!$H$4","v":1.4829649767777015E-14}]
[6116.8969999999999,0.97343820982396501,{"$f":"+IF(AND(A1794>Analyse1!$E$3,Data!A1794<Analyse1!$E$4),B1794,\"\")","v":""},{"$f":"+B1794/Analyse1!$H$3*Analyse1!$H$4","v":1.4895852335152725E-14}]
[6117.8969999999999,0.98149951900661303,{"$f":"+IF(AND(A1795>Analyse1!$E$3,Data!A1795<Analyse1!$E$4),B1795,\"\")","v":""},{"$f":"+B1795/Analyse1!$H$3*Analyse1!$H$4","v":1.5019208979674054E-14}]
[6118.8969999999999,0.98978596254722995,{"$f":"+IF(AND(A1796>Analyse1!$E$3,Data!A1796<Analyse1!$E$4),B1796,\"\")","v":""},{"$f":"+B1796/Analyse1!$H$3*Analyse1!$H$4","v":1.5146010699720496E-14}]
[6119.8969999999999,0.99468374104744595,{"$f":"+IF(AND(A1797>Analyse1!$E$3,Data!A1797<Analyse1!$E$4),B1797,\"\")","v":""},{"$f":"+B1797/Analyse1!$H$3*Analyse1!$H$4","v":1.5220958020026217E-14}]
[6120.8969999999999,0.99259942121905398,{"$f":"+IF(AND(A1798>Analyse1!$E$3,Data!A1798<Analyse1!$E$4),B1798,\"\")","v":""},{"$f":"+B1798/Analyse1!$H$3*Analyse1!$H$4","v":1.5189063113837388E-14}]
[6121.8969999999999,0.98266780006582499,{"$f":"+IF(AND(A1799>Analyse1!$E$3,Data!A1799<Analyse1!$E$4),B1799,\"\")","v":""},{"$f":"+B1799/Analyse1!$H$3*Analyse1!$H$4","v":1.5037086377508196E-14}]
[6122.8969999999999,0.96947054850310699,{"$f":"+IF(AND(A1800>Analyse1!$E$3,Data!A1800<Analyse1!$E$4),B1800,\"\")","v":""},{"$f":"+B1800/Analyse1!$H$3*Analyse1!$H$4","v":1.4835137955385272E-14}]
[6123.8969999999999,0.95823634665880397,{"$f":"+IF(AND(A1801>Analyse1!$E$3,Data!A1801<Analyse1!$E$4),B1801,\"\")","v":""},{"$f":"+B1801/Analyse1!$H$3*Analyse1!$H$4","v":1.4663228726748872E-14}]
[6124.8969999999999,0.95419387466081995,{"$f":"+IF(AND(A1802>Analyse1!$E$3,Data!A1802<Analyse1!$E$4),B1802,\"\")","v":""},{"$f":"+B1802/Analyse1!$H$3*Analyse1!$H$4","v":1.4601369570879236E-14}]
[6125.8969999999999,0.96095264182320195,{"$f":"+IF(AND(A1803>Analyse1!$E$3,Data!A1803<Analyse1!$E$4),B1803,\"\")","v":""},{"$f":"+B1803/Analyse1!$H$3*Analyse1!$H$4","v":1.4704794314846013E-14}]
[6126.8969999999999,0.97486211155939595,{"$f":"+IF(AND(A1804>Analyse1!$E$3,Data!A1804<Analyse1!$E$4),B1804,\"\")","v":""},{"$f":"+B1804/Analyse1!$H$3*Analyse1!$H$4","v":1.4917641319575867E-14}]
[6127.8969999999999,0.99023777304424199,{"$f":"+IF(AND(A1805>Analyse1!$E$3,Data!A1805<Analyse1!$E$4),B1805,\"\")","v":""},{"$f":"+B1805/Analyse1!$H$3*Analyse1!$H$4","v":1.5152924443581221E-14}]
[6128.8969999999999,1.0013950154312901,{"$f":"+IF(AND(A1806>Analyse1!$E$3,Data!A1806<Analyse1!$E$4),B1806,\"\")","v":""},{"$f":"+B1806/Analyse1!$H$3*Analyse1!$H$4","v":1.5323656014817808E-14}]
[6129.8969999999999,1.0031813094081199,{"$f":"+IF(AND(A1807>Analyse1!$E$3,Data!A1807<Analyse1!$E$4),B1807,\"\")","v":""},{"$f":"+B1807/Analyse1!$H$3*Analyse1!$H$4","v":1.5350990437318893E-14}]
[6130.8969999999999,0.99625665100140703,{"$f":"+IF(AND(A1808>Analyse1!$E$3,Data!A1808<Analyse1!$E$4),B1808,\"\")","v":""},{"$f":"+B1808/Analyse1!$H$3*Analyse1!$H$4","v":1.5245027174261425E-14}]
[6131.8969999999999,0.98486124856319601,{"$f":"+IF(AND(A1809>Analyse1!$E$3,Data!A1809<Analyse1!$E$4),B1809,\"\")","v":""},{"$f":"+B1809/Analyse1!$H$3*Analyse1!$H$4","v":1.5070651204316781E-14}]
[6132.8969999999999,0.973287795535977,{"$f":"+IF(AND(A1810>Analyse1!$E$3,Data!A1810<Analyse1!$E$4),B1810,\"\")","v":""},{"$f":"+B1810/Analyse1!$H$3*Analyse1!$H$4","v":1.4893550649231258E-14}]
[6133.8969999999999,0.96576415193406995,{"$f":"+IF(AND(A1811>Analyse1!$E$3,Data!A1811<Analyse1!$E$4),B1811,\"\")","v":""},{"$f":"+B1811/Analyse1!$H$3*Analyse1!$H$4","v":1.4778421529596034E-14}]
[6134.8969999999999,0.96408449346144598,{"$f":"+IF(AND(A1812>Analyse1!$E$3,Data!A1812<Analyse1!$E$4),B1812,\"\")","v":""},{"$f":"+B1812/Analyse1!$H$3*Analyse1!$H$4","v":1.4752718876536812E-14}]
[6135.8969999999999,0.96693082467589997,{"$f":"+IF(AND(A1813>Analyse1!$E$3,Data!A1813<Analyse1!$E$4),B1813,\"\")","v":""},{"$f":"+B1813/Analyse1!$H$3*Analyse1!$H$4","v":1.4796274316460532E-14}]
[6136.8969999999999,0.97278204170669902,{"$f":"+IF(AND(A1814>Analyse1!$E$3,Data!A1814<Analyse1!$E$4),B1814,\"\")","v":""},{"$f":"+B1814/Analyse1!$H$3*Analyse1!$H$4","v":1.4885811447828612E-14}]
[6137.8969999999999,0.980116954557682,{"$f":"+IF(AND(A1815>Analyse1!$E$3,Data!A1815<Analyse1!$E$4),B1815,\"\")","v":""},{"$f":"+B1815/Analyse1!$H$3*Analyse1!$H$4","v":1.4998052551184533E-14}]
[6138.8969999999999,0.98735574170469897,{"$f":"+IF(AND(A1816>Analyse1!$E$3,Data!A1816<Analyse1!$E$4),B1816,\"\")","v":""},{"$f":"+B1816/Analyse1!$H$3*Analyse1!$H$4","v":1.5108822709309993E-14}]
[6139.8969999999999,0.99275798470924104,{"$f":"+IF(AND(A1817>Analyse1!$E$3,Data!A1817<Analyse1!$E$4),B1817,\"\")","v":""},{"$f":"+B1817/Analyse1!$H$3*Analyse1!$H$4","v":1.5191489501369472E-14}]
[6140.8969999999999,0.99455601490569601,{"$f":"+IF(AND(A1818>Analyse1!$E$3,Data!A1818<Analyse1!$E$4),B1818,\"\")","v":""},{"$f":"+B1818/Analyse1!$H$3*Analyse1!$H$4","v":1.5219003515130431E-14}]
[6141.8969999999999,0.99098216362845404,{"$f":"+IF(AND(A1819>Analyse1!$E$3,Data!A1819<Analyse1!$E$4),B1819,\"\")","v":""},{"$f":"+B1819/Analyse1!$H$3*Analyse1!$H$4","v":1.5164315338360363E-14}]
[6142.8969999999999,0.98090381320820796,{"$f":"+IF(AND(A1820>Analyse1!$E$3,Data!A1820<Analyse1!$E$4),B1820,\"\")","v":""},{"$f":"+B1820/Analyse1!$H$3*Analyse1!$H$4","v":1.5010093305439486E-14}]
[6143.8969999999999,0.96719585545256803,{"$f":"+IF(AND(A1821>Analyse1!$E$3,Data!A1821<Analyse1!$E$4),B1821,\"\")","v":""},{"$f":"+B1821/Analyse1!$H$3*Analyse1!$H$4","v":1.4800329899314869E-14}]
[6144.8969999999999,0.95429217520312204,{"$f":"+IF(AND(A1822>Analyse1!$E$3,Data!A1822<Analyse1!$E$4),B1822,\"\")","v":""},{"$f":"+B1822/Analyse1!$H$3*Analyse1!$H$4","v":1.4602873796158067E-14}]
[6145.8969999999999,0.94663014954882096,{"$f":"+IF(AND(A1823>Analyse1!$E$3,Data!A1823<Analyse1!$E$4),B1823,\"\")","v":""},{"$f":"+B1823/Analyse1!$H$3*Analyse1!$H$4","v":1.4485627111589091E-14}]
[6146.8969999999999,0.94835641643454804,{"$f":"+IF(AND(A1824>Analyse1!$E$3,Data!A1824<Analyse1!$E$4),B1824,\"\")","v":""},{"$f":"+B1824/Analyse1!$H$3*Analyse1!$H$4","v":1.4512042980990296E-14}]
[6147.8969999999999,0.95874507853402002,{"$f":"+IF(AND(A1825>Analyse1!$E$3,Data!A1825<Analyse1!$E$4),B1825,\"\")","v":""},{"$f":"+B1825/Analyse1!$H$3*Analyse1!$H$4","v":1.4671013499130851E-14}]
[6148.8969999999999,0.97303292735950497,{"$f":"+IF(AND(A1826>Analyse1!$E$3,Data!A1826<Analyse1!$E$4),B1826,\"\")","v":""},{"$f":"+B1826/Analyse1!$H$3*Analyse1!$H$4","v":1.4889650577625951E-14}]
[6149.8969999999999,0.98633491376199101,{"$f":"+IF(AND(A1827>Analyse1!$E$3,Data!A1827<Analyse1!$E$4),B1827,\"\")","v":""},{"$f":"+B1827/Analyse1!$H$3*Analyse1!$H$4","v":1.5093201684636094E-14}]
[6150.8969999999999,0.99380204983488796,{"$f":"+IF(AND(A1828>Analyse1!$E$3,Data!A1828<Analyse1!$E$4),B1828,\"\")","v":""},{"$f":"+B1828/Analyse1!$H$3*Analyse1!$H$4","v":1.5207466108598332E-14}]
[6151.8969999999999,0.99351645711928904,{"$f":"+IF(AND(A1829>Analyse1!$E$3,Data!A1829<Analyse1!$E$4),B1829,\"\")","v":""},{"$f":"+B1829/Analyse1!$H$3*Analyse1!$H$4","v":1.520309588059965E-14}]
[6152.8969999999999,0.98861022578669699,{"$f":"+IF(AND(A1830>Analyse1!$E$3,Data!A1830<Analyse1!$E$4),B1830,\"\")","v":""},{"$f":"+B1830/Analyse1!$H$3*Analyse1!$H$4","v":1.5128019212440502E-14}]
[6153.8969999999999,0.98271500230744802,{"$f":"+IF(AND(A1831>Analyse1!$E$3,Data!A1831<Analyse1!$E$4),B1831,\"\")","v":""},{"$f":"+B1831/Analyse1!$H$3*Analyse1!$H$4","v":1.503780868079772E-14}]
[6154.8969999999999,0.97946242854577004,{"$f":"+IF(AND(A1832>Analyse1!$E$3,Data!A1832<Analyse1!$E$4),B1832,\"\")","v":""},{"$f":"+B1832/Analyse1!$H$3*Analyse1!$H$4","v":1.4988036791864053E-14}]
[6155.8969999999999,0.98129880825345195,{"$f":"+IF(AND(A1833>Analyse1!$E$3,Data!A1833<Analyse1!$E$4),B1833,\"\")","v":""},{"$f":"+B1833/Analyse1!$H$3*Analyse1!$H$4","v":1.501613764169801E-14}]
[6156.8969999999999,0.986150865702488,{"$f":"+IF(AND(A1834>Analyse1!$E$3,Data!A1834<Analyse1!$E$4),B1834,\"\")","v":""},{"$f":"+B1834/Analyse1!$H$3*Analyse1!$H$4","v":1.5090385324348137E-14}]
[6157.8969999999999,0.99086830349827704,{"$f":"+IF(AND(A1835>Analyse1!$E$3,Data!A1835<Analyse1!$E$4),B1835,\"\")","v":""},{"$f":"+B1835/Analyse1!$H$3*Analyse1!$H$4","v":1.516257301545906E-14}]
[6158.8969999999999,0.99230082424621302,{"$f":"+IF(AND(A1836>Analyse1!$E$3,Data!A1836<Analyse1!$E$4),B1836,\"\")","v":""},{"$f":"+B1836/Analyse1!$H$3*Analyse1!$H$4","v":1.5184493890675327E-14}]
[6159.8969999999999,0.98777173332014401,{"$f":"+IF(AND(A1837>Analyse1!$E$3,Data!A1837<Analyse1!$E$4),B1837,\"\")","v":""},{"$f":"+B1837/Analyse1!$H$3*Analyse1!$H$4","v":1.511518834157488E-14}]
[6160.8969999999999,0.97889610055666798,{"$f":"+IF(AND(A1838>Analyse1!$E$3,Data!A1838<Analyse1!$E$4),B1838,\"\")","v":""},{"$f":"+B1838/Analyse1!$H$3*Analyse1!$H$4","v":1.4979370665946871E-14}]
[6161.8969999999999,0.969572839877612,{"$f":"+IF(AND(A1839>Analyse1!$E$3,Data!A1839<Analyse1!$E$4),B1839,\"\")","v":""},{"$f":"+B1839/Analyse1!$H$3*Analyse1!$H$4","v":1.4836703249611873E-14}]
[6162.8969999999999,0.96372206507803704,{"$f":"+IF(AND(A1840>Analyse1!$E$3,Data!A1840<Analyse1!$E$4),B1840,\"\")","v":""},{"$f":"+B1840/Analyse1!$H$3*Analyse1!$H$4","v":1.474717288540266E-14}]
[6163.8969999999999,0.965126858638505,{"$f":"+IF(AND(A1841>Analyse1!$E$3,Data!A1841<Analyse1!$E$4),B1841,\"\")","v":""},{"$f":"+B1841/Analyse1!$H$3*Analyse1!$H$4","v":1.4768669470626994E-14}]
[6164.8969999999999,0.97373657388282198,{"$f":"+IF(AND(A1842>Analyse1!$E$3,Data!A1842<Analyse1!$E$4),B1842,\"\")","v":""},{"$f":"+B1842/Analyse1!$H$3*Analyse1!$H$4","v":1.4900417994193017E-14}]
[6165.8969999999999,0.98524466747647299,{"$f":"+IF(AND(A1843>Analyse1!$E$3,Data!A1843<Analyse1!$E$4),B1843,\"\")","v":""},{"$f":"+B1843/Analyse1!$H$3*Analyse1!$H$4","v":1.5076518399026255E-14}]
[6166.8969999999999,0.99512284230591497,{"$f":"+IF(AND(A1844>Analyse1!$E$3,Data!A1844<Analyse1!$E$4),B1844,\"\")","v":""},{"$f":"+B1844/Analyse1!$H$3*Analyse1!$H$4","v":1.5227677283190867E-14}]
[6167.8969999999999,0.99885092961251798,{"$f":"+IF(AND(A1845>Analyse1!$E$3,Data!A1845<Analyse1!$E$4),B1845,\"\")","v":""},{"$f":"+B1845/Analyse1!$H$3*Analyse1!$H$4","v":1.5284725627350032E-14}]
[6168.8969999999999,0.99410368993395204,{"$f":"+IF(AND(A1846>Analyse1!$E$3,Data!A1846<Analyse1!$E$4),B1846,\"\")","v":""},{"$f":"+B1846/Analyse1!$H$3*Analyse1!$H$4","v":1.5212081898618357E-14}]
[6169.8969999999999,0.98370791677217595,{"$f":"+IF(AND(A1847>Analyse1!$E$3,Data!A1847<Analyse1!$E$4),B1847,\"\")","v":""},{"$f":"+B1847/Analyse1!$H$3*Analyse1!$H$4","v":1.5053002564804698E-14}]
[6170.8969999999999,0.97122879687814301,{"$f":"+IF(AND(A1848>Analyse1!$E$3,Data!A1848<Analyse1!$E$4),B1848,\"\")","v":""},{"$f":"+B1848/Analyse1!$H$3*Analyse1!$H$4","v":1.4862043215420007E-14}]
[6171.8969999999999,0.96023151700280196,{"$f":"+IF(AND(A1849>Analyse1!$E$3,Data!A1849<Analyse1!$E$4),B1849,\"\")","v":""},{"$f":"+B1849/Analyse1!$H$3*Analyse1!$H$4","v":1.4693759439975182E-14}]
[6172.8969999999999,0.95376413430551099,{"$f":"+IF(AND(A1850>Analyse1!$E$3,Data!A1850<Analyse1!$E$4),B1850,\"\")","v":""},{"$f":"+B1850/Analyse1!$H$3*Analyse1!$H$4","v":1.4594793551147797E-14}]
[6173.8969999999999,0.952111349995311,{"$f":"+IF(AND(A1851>Analyse1!$E$3,Data!A1851<Analyse1!$E$4),B1851,\"\")","v":""},{"$f":"+B1851/Analyse1!$H$3*Analyse1!$H$4","v":1.456950213482765E-14}]
[6174.8969999999999,0.95463862769679897,{"$f":"+IF(AND(A1852>Analyse1!$E$3,Data!A1852<Analyse1!$E$4),B1852,\"\")","v":""},{"$f":"+B1852/Analyse1!$H$3*Analyse1!$H$4","v":1.460817531929007E-14}]
[6175.8969999999999,0.96071081113939905,{"$f":"+IF(AND(A1853>Analyse1!$E$3,Data!A1853<Analyse1!$E$4),B1853,\"\")","v":""},{"$f":"+B1853/Analyse1!$H$3*Analyse1!$H$4","v":1.4701093746982863E-14}]
[6176.8969999999999,0.96964382250396197,{"$f":"+IF(AND(A1854>Analyse1!$E$3,Data!A1854<Analyse1!$E$4),B1854,\"\")","v":""},{"$f":"+B1854/Analyse1!$H$3*Analyse1!$H$4","v":1.4837789447697995E-14}]
[6177.8969999999999,0.98009188923277102,{"$f":"+IF(AND(A1855>Analyse1!$E$3,Data!A1855<Analyse1!$E$4),B1855,\"\")","v":""},{"$f":"+B1855/Analyse1!$H$3*Analyse1!$H$4","v":1.4997668993836118E-14}]
[6178.8969999999999,0.99023359111356202,{"$f":"+IF(AND(A1856>Analyse1!$E$3,Data!A1856<Analyse1!$E$4),B1856,\"\")","v":""},{"$f":"+B1856/Analyse1!$H$3*Analyse1!$H$4","v":1.5152860450385499E-14}]
[6179.8969999999999,0.99823707169146003,{"$f":"+IF(AND(A1857>Analyse1!$E$3,Data!A1857<Analyse1!$E$4),B1857,\"\")","v":""},{"$f":"+B1857/Analyse1!$H$3*Analyse1!$H$4","v":1.5275332183724578E-14}]
[6180.8969999999999,1.0022933360089701,{"$f":"+IF(AND(A1858>Analyse1!$E$3,Data!A1858<Analyse1!$E$4),B1858,\"\")","v":""},{"$f":"+B1858/Analyse1!$H$3*Analyse1!$H$4","v":1.5337402393930222E-14}]
[6181.8969999999999,1.00183090512534,{"$f":"+IF(AND(A1859>Analyse1!$E$3,Data!A1859<Analyse1!$E$4),B1859,\"\")","v":""},{"$f":"+B1859/Analyse1!$H$3*Analyse1!$H$4","v":1.5330326133631157E-14}]
[6182.8969999999999,0.99812303753645004,{"$f":"+IF(AND(A1860>Analyse1!$E$3,Data!A1860<Analyse1!$E$4),B1860,\"\")","v":""},{"$f":"+B1860/Analyse1!$H$3*Analyse1!$H$4","v":1.5273587197841499E-14}]
[6183.8969999999999,0.99259339828627102,{"$f":"+IF(AND(A1861>Analyse1!$E$3,Data!A1861<Analyse1!$E$4),B1861,\"\")","v":""},{"$f":"+B1861/Analyse1!$H$3*Analyse1!$H$4","v":1.518897094905851E-14}]
[6184.8969999999999,0.98666554952661301,{"$f":"+IF(AND(A1862>Analyse1!$E$3,Data!A1862<Analyse1!$E$4),B1862,\"\")","v":""},{"$f":"+B1862/Analyse1!$H$3*Analyse1!$H$4","v":1.509826117529182E-14}]
[6185.8969999999999,0.98139557734037597,{"$f":"+IF(AND(A1863>Analyse1!$E$3,Data!A1863<Analyse1!$E$4),B1863,\"\")","v":""},{"$f":"+B1863/Analyse1!$H$3*Analyse1!$H$4","v":1.5017618432173337E-14}]
[6186.8969999999999,0.97664676622156898,{"$f":"+IF(AND(A1864>Analyse1!$E$3,Data!A1864<Analyse1!$E$4),B1864,\"\")","v":""},{"$f":"+B1864/Analyse1!$H$3*Analyse1!$H$4","v":1.4944950656777433E-14}]
[6187.8969999999999,0.97204080768529499,{"$f":"+IF(AND(A1865>Analyse1!$E$3,Data!A1865<Analyse1!$E$4),B1865,\"\")","v":""},{"$f":"+B1865/Analyse1!$H$3*Analyse1!$H$4","v":1.4874468855749116E-14}]
[6188.8969999999999,0.96719939324665904,{"$f":"+IF(AND(A1866>Analyse1!$E$3,Data!A1866<Analyse1!$E$4),B1866,\"\")","v":""},{"$f":"+B1866/Analyse1!$H$3*Analyse1!$H$4","v":1.4800384035733431E-14}]
[6189.8969999999999,0.96191480774183102,{"$f":"+IF(AND(A1867>Analyse1!$E$3,Data!A1867<Analyse1!$E$4),B1867,\"\")","v":""},{"$f":"+B1867/Analyse1!$H$3*Analyse1!$H$4","v":1.4719517675097514E-14}]
[6190.8969999999999,0.95727313861696794,{"$f":"+IF(AND(A1868>Analyse1!$E$3,Data!A1868<Analyse1!$E$4),B1868,\"\")","v":""},{"$f":"+B1868/Analyse1!$H$3*Analyse1!$H$4","v":1.4648489419605983E-14}]
[6191.8969999999999,0.95495353360898105,{"$f":"+IF(AND(A1869>Analyse1!$E$3,Data!A1869<Analyse1!$E$4),B1869,\"\")","v":""},{"$f":"+B1869/Analyse1!$H$3*Analyse1!$H$4","v":1.4612994106882329E-14}]
[6192.8969999999999,0.95663823212194299,{"$f":"+IF(AND(A1870>Analyse1!$E$3,Data!A1870<Analyse1!$E$4),B1870,\"\")","v":""},{"$f":"+B1870/Analyse1!$H$3*Analyse1!$H$4","v":1.4638773884196463E-14}]
[6193.8969999999999,0.96388308507342702,{"$f":"+IF(AND(A1871>Analyse1!$E$3,Data!A1871<Analyse1!$E$4),B1871,\"\")","v":""},{"$f":"+B1871/Analyse1!$H$3*Analyse1!$H$4","v":1.4749636863136561E-14}]
[6194.8969999999999,0.97551920695321104,{"$f":"+IF(AND(A1872>Analyse1!$E$3,Data!A1872<Analyse1!$E$4),B1872,\"\")","v":""},{"$f":"+B1872/Analyse1!$H$3*Analyse1!$H$4","v":1.4927696396372316E-14}]
[6195.8969999999999,0.98775051068443698,{"$f":"+IF(AND(A1873>Analyse1!$E$3,Data!A1873<Analyse1!$E$4),B1873,\"\")","v":""},{"$f":"+B1873/Analyse1!$H$3*Analyse1!$H$4","v":1.5114863586244276E-14}]
[6196.8969999999999,0.99667403580193603,{"$f":"+IF(AND(A1874>Analyse1!$E$3,Data!A1874<Analyse1!$E$4),B1874,\"\")","v":""},{"$f":"+B1874/Analyse1!$H$3*Analyse1!$H$4","v":1.5251414125475041E-14}]
[6197.8969999999999,0.99840549565849002,{"$f":"+IF(AND(A1875>Analyse1!$E$3,Data!A1875<Analyse1!$E$4),B1875,\"\")","v":""},{"$f":"+B1875/Analyse1!$H$3*Analyse1!$H$4","v":1.5277909459320769E-14}]
[6198.8969999999999,0.99166924191392403,{"$f":"+IF(AND(A1876>Analyse1!$E$3,Data!A1876<Analyse1!$E$4),B1876,\"\")","v":""},{"$f":"+B1876/Analyse1!$H$3*Analyse1!$H$4","v":1.5174829222631354E-14}]
[6199.8969999999999,0.980455541360995,{"$f":"+IF(AND(A1877>Analyse1!$E$3,Data!A1877<Analyse1!$E$4),B1877,\"\")","v":""},{"$f":"+B1877/Analyse1!$H$3*Analyse1!$H$4","v":1.5003233711091634E-14}]
[6200.8969999999999,0.96938849369851099,{"$f":"+IF(AND(A1878>Analyse1!$E$3,Data!A1878<Analyse1!$E$4),B1878,\"\")","v":""},{"$f":"+B1878/Analyse1!$H$3*Analyse1!$H$4","v":1.4833882327405687E-14}]
[6201.8969999999999,0.96309219862527595,{"$f":"+IF(AND(A1879>Analyse1!$E$3,Data!A1879<Analyse1!$E$4),B1879,\"\")","v":""},{"$f":"+B1879/Analyse1!$H$3*Analyse1!$H$4","v":1.4737534474277528E-14}]
[6202.8969999999999,0.96496518668779097,{"$f":"+IF(AND(A1880>Analyse1!$E$3,Data!A1880<Analyse1!$E$4),B1880,\"\")","v":""},{"$f":"+B1880/Analyse1!$H$3*Analyse1!$H$4","v":1.4766195516471233E-14}]
[6203.8969999999999,0.97284425014125098,{"$f":"+IF(AND(A1881>Analyse1!$E$3,Data!A1881<Analyse1!$E$4),B1881,\"\")","v":""},{"$f":"+B1881/Analyse1!$H$3*Analyse1!$H$4","v":1.4886763380520111E-14}]
[6204.8969999999999,0.98298928963944199,{"$f":"+IF(AND(A1882>Analyse1!$E$3,Data!A1882<Analyse1!$E$4),B1882,\"\")","v":""},{"$f":"+B1882/Analyse1!$H$3*Analyse1!$H$4","v":1.5042005910322463E-14}]
[6205.8969999999999,0.99166010235188795,{"$f":"+IF(AND(A1883>Analyse1!$E$3,Data!A1883<Analyse1!$E$4),B1883,\"\")","v":""},{"$f":"+B1883/Analyse1!$H$3*Analyse1!$H$4","v":1.5174689366228427E-14}]
[6206.8969999999999,0.99541661803094095,{"$f":"+IF(AND(A1884>Analyse1!$E$3,Data!A1884<Analyse1!$E$4),B1884,\"\")","v":""},{"$f":"+B1884/Analyse1!$H$3*Analyse1!$H$4","v":1.5232172730128821E-14}]
[6207.8969999999999,0.99414455801803103,{"$f":"+IF(AND(A1885>Analyse1!$E$3,Data!A1885<Analyse1!$E$4),B1885,\"\")","v":""},{"$f":"+B1885/Analyse1!$H$3*Analyse1!$H$4","v":1.5212707274671526E-14}]
[6208.8969999999999,0.98980025895499102,{"$f":"+IF(AND(A1886>Analyse1!$E$3,Data!A1886<Analyse1!$E$4),B1886,\"\")","v":""},{"$f":"+B1886/Analyse1!$H$3*Analyse1!$H$4","v":1.514622946777047E-14}]
[6209.8969999999999,0.98437134708716001,{"$f":"+IF(AND(A1887>Analyse1!$E$3,Data!A1887<Analyse1!$E$4),B1887,\"\")","v":""},{"$f":"+B1887/Analyse1!$H$3*Analyse1!$H$4","v":1.5063154580522729E-14}]
[6210.8969999999999,0.97981697424146497,{"$f":"+IF(AND(A1888>Analyse1!$E$3,Data!A1888<Analyse1!$E$4),B1888,\"\")","v":""},{"$f":"+B1888/Analyse1!$H$3*Analyse1!$H$4","v":1.4993462159674597E-14}]
[6211.8969999999999,0.97700214256742401,{"$f":"+IF(AND(A1889>Analyse1!$E$3,Data!A1889<Analyse1!$E$4),B1889,\"\")","v":""},{"$f":"+B1889/Analyse1!$H$3*Analyse1!$H$4","v":1.4950388735453446E-14}]
[6212.8969999999999,0.97537787225806105,{"$f":"+IF(AND(A1890>Analyse1!$E$3,Data!A1890<Analyse1!$E$4),B1890,\"\")","v":""},{"$f":"+B1890/Analyse1!$H$3*Analyse1!$H$4","v":1.4925533649186577E-14}]
[6213.8969999999999,0.97430142116307605,{"$f":"+IF(AND(A1891>Analyse1!$E$3,Data!A1891<Analyse1!$E$4),B1891,\"\")","v":""},{"$f":"+B1891/Analyse1!$H$3*Analyse1!$H$4","v":1.4909061461845781E-14}]
[6214.8969999999999,0.97313049165654197,{"$f":"+IF(AND(A1892>Analyse1!$E$3,Data!A1892<Analyse1!$E$4),B1892,\"\")","v":""},{"$f":"+B1892/Analyse1!$H$3*Analyse1!$H$4","v":1.4891143536652194E-14}]
[6215.8969999999999,0.97155228029388296,{"$f":"+IF(AND(A1893>Analyse1!$E$3,Data!A1893<Analyse1!$E$4),B1893,\"\")","v":""},{"$f":"+B1893/Analyse1!$H$3*Analyse1!$H$4","v":1.4866993258622651E-14}]
[6216.8969999999999,0.97016700991692695,{"$f":"+IF(AND(A1894>Analyse1!$E$3,Data!A1894<Analyse1!$E$4),B1894,\"\")","v":""},{"$f":"+B1894/Analyse1!$H$3*Analyse1!$H$4","v":1.4845795423186204E-14}]
[6217.8969999999999,0.96973174842722398,{"$f":"+IF(AND(A1895>Analyse1!$E$3,Data!A1895<Analyse1!$E$4),B1895,\"\")","v":""},{"$f":"+B1895/Analyse1!$H$3*Analyse1!$H$4","v":1.483913491734992E-14}]
[6218.8969999999999,0.97100356372632701,{"$f":"+IF(AND(A1896>Analyse1!$E$3,Data!A1896<Analyse1!$E$4),B1896,\"\")","v":""},{"$f":"+B1896/Analyse1!$H$3*Analyse1!$H$4","v":1.4858596628120912E-14}]
[6219.8969999999999,0.974525478417955,{"$f":"+IF(AND(A1897>Analyse1!$E$3,Data!A1897<Analyse1!$E$4),B1897,\"\")","v":""},{"$f":"+B1897/Analyse1!$H$3*Analyse1!$H$4","v":1.4912490055206524E-14}]
[6220.8969999999999,0.979472810378053,{"$f":"+IF(AND(A1898>Analyse1!$E$3,Data!A1898<Analyse1!$E$4),B1898,\"\")","v":""},{"$f":"+B1898/Analyse1!$H$3*Analyse1!$H$4","v":1.4988195657870228E-14}]
[6221.8969999999999,0.98448268841674702,{"$f":"+IF(AND(A1899>Analyse1!$E$3,Data!A1899<Analyse1!$E$4),B1899,\"\")","v":""},{"$f":"+B1899/Analyse1!$H$3*Analyse1!$H$4","v":1.5064858359958948E-14}]
[6222.8969999999999,0.98819094944031904,{"$f":"+IF(AND(A1900>Analyse1!$E$3,Data!A1900<Analyse1!$E$4),B1900,\"\")","v":""},{"$f":"+B1900/Analyse1!$H$3*Analyse1!$H$4","v":1.5121603316207707E-14}]
[6223.8969999999999,0.98929413147665801,{"$f":"+IF(AND(A1901>Analyse1!$E$3,Data!A1901<Analyse1!$E$4),B1901,\"\")","v":""},{"$f":"+B1901/Analyse1!$H$3*Analyse1!$H$4","v":1.5138484548674501E-14}]
[6224.8969999999999,0.98752308271469602,{"$f":"+IF(AND(A1902>Analyse1!$E$3,Data!A1902<Analyse1!$E$4),B1902,\"\")","v":""},{"$f":"+B1902/Analyse1!$H$3*Analyse1!$H$4","v":1.5111383413162973E-14}]
[6225.8969999999999,0.98347469343488203,{"$f":"+IF(AND(A1903>Analyse1!$E$3,Data!A1903<Analyse1!$E$4),B1903,\"\")","v":""},{"$f":"+B1903/Analyse1!$H$3*Analyse1!$H$4","v":1.5049433709217992E-14}]
[6226.8969999999999,0.97777256848447702,{"$f":"+IF(AND(A1904>Analyse1!$E$3,Data!A1904<Analyse1!$E$4),B1904,\"\")","v":""},{"$f":"+B1904/Analyse1!$H$3*Analyse1!$H$4","v":1.4962178030942137E-14}]
[6227.8969999999999,0.97104311162336598,{"$f":"+IF(AND(A1905>Analyse1!$E$3,Data!A1905<Analyse1!$E$4),B1905,\"\")","v":""},{"$f":"+B1905/Analyse1!$H$3*Analyse1!$H$4","v":1.4859201802263978E-14}]
[6228.8969999999999,0.96414794174701302,{"$f":"+IF(AND(A1906>Analyse1!$E$3,Data!A1906<Analyse1!$E$4),B1906,\"\")","v":""},{"$f":"+B1906/Analyse1!$H$3*Analyse1!$H$4","v":1.4753689781811731E-14}]
[6229.8969999999999,0.95835833544565796,{"$f":"+IF(AND(A1907>Analyse1!$E$3,Data!A1907<Analyse1!$E$4),B1907,\"\")","v":""},{"$f":"+B1907/Analyse1!$H$3*Analyse1!$H$4","v":1.4665095436866867E-14}]
[6230.8969999999999,0.954986659998462,{"$f":"+IF(AND(A1908>Analyse1!$E$3,Data!A1908<Analyse1!$E$4),B1908,\"\")","v":""},{"$f":"+B1908/Analyse1!$H$3*Analyse1!$H$4","v":1.4613501017132129E-14}]
[6231.8969999999999,0.95534528184959,{"$f":"+IF(AND(A1909>Analyse1!$E$3,Data!A1909<Analyse1!$E$4),B1909,\"\")","v":""},{"$f":"+B1909/Analyse1!$H$3*Analyse1!$H$4","v":1.4618988759532878E-14}]
[6232.8969999999999,0.96024235044367601,{"$f":"+IF(AND(A1910>Analyse1!$E$3,Data!A1910<Analyse1!$E$4),B1910,\"\")","v":""},{"$f":"+B1910/Analyse1!$H$3*Analyse1!$H$4","v":1.4693925216635595E-14}]
[6233.8969999999999,0.96854029144605502,{"$f":"+IF(AND(A1911>Analyse1!$E$3,Data!A1911<Analyse1!$E$4),B1911,\"\")","v":""},{"$f":"+B1911/Analyse1!$H$3*Analyse1!$H$4","v":1.48209028743953E-14}]
[6234.8969999999999,0.97863226254547997,{"$f":"+IF(AND(A1912>Analyse1!$E$3,Data!A1912<Analyse1!$E$4),B1912,\"\")","v":""},{"$f":"+B1912/Analyse1!$H$3*Analyse1!$H$4","v":1.4975333335158543E-14}]
[6235.8969999999999,0.98891142143070598,{"$f":"+IF(AND(A1913>Analyse1!$E$3,Data!A1913<Analyse1!$E$4),B1913,\"\")","v":""},{"$f":"+B1913/Analyse1!$H$3*Analyse1!$H$4","v":1.5132628201271916E-14}]
[6236.8969999999999,0.997843069201376,{"$f":"+IF(AND(A1914>Analyse1!$E$3,Data!A1914<Analyse1!$E$4),B1914,\"\")","v":""},{"$f":"+B1914/Analyse1!$H$3*Analyse1!$H$4","v":1.526930303585187E-14}]
[6237.8969999999999,1.00455515942441,{"$f":"+IF(AND(A1915>Analyse1!$E$3,Data!A1915<Analyse1!$E$4),B1915,\"\")","v":""},{"$f":"+B1915/Analyse1!$H$3*Analyse1!$H$4","v":1.5372013514866881E-14}]
[6238.8969999999999,1.00853214789219,{"$f":"+IF(AND(A1916>Analyse1!$E$3,Data!A1916<Analyse1!$E$4),B1916,\"\")","v":""},{"$f":"+B1916/Analyse1!$H$3*Analyse1!$H$4","v":1.5432870621519158E-14}]
[6239.8969999999999,1.0092619254692301,{"$f":"+IF(AND(A1917>Analyse1!$E$3,Data!A1917<Analyse1!$E$4),B1917,\"\")","v":""},{"$f":"+B1917/Analyse1!$H$3*Analyse1!$H$4","v":1.5444037903546293E-14}]
[6240.8969999999999,1.00625446405243,{"$f":"+IF(AND(A1918>Analyse1!$E$3,Data!A1918<Analyse1!$E$4),B1918,\"\")","v":""},{"$f":"+B1918/Analyse1!$H$3*Analyse1!$H$4","v":1.5398016799467768E-14}]
[6241.8969999999999,0.99965030172265901,{"$f":"+IF(AND(A1919>Analyse1!$E$3,Data!A1919<Analyse1!$E$4),B1919,\"\")","v":""},{"$f":"+B1919/Analyse1!$H$3*Analyse1!$H$4","v":1.5296957866431394E-14}]
[6242.8969999999999,0.990297334170122,{"$f":"+IF(AND(A1920>Analyse1!$E$3,Data!A1920<Analyse1!$E$4),B1920,\"\")","v":""},{"$f":"+B1920/Analyse1!$H$3*Analyse1!$H$4","v":1.5153835866337252E-14}]
[6243.8969999999999,0.97908096001175104,{"$f":"+IF(AND(A1921>Analyse1!$E$3,Data!A1921<Analyse1!$E$4),B1921,\"\")","v":""},{"$f":"+B1921/Analyse1!$H$3*Analyse1!$H$4","v":1.4982199442460761E-14}]
[6244.8969999999999,0.96688796572189994,{"$f":"+IF(AND(A1922>Analyse1!$E$3,Data!A1922<Analyse1!$E$4),B1922,\"\")","v":""},{"$f":"+B1922/Analyse1!$H$3*Analyse1!$H$4","v":1.479561847550054E-14}]
[6245.8969999999999,0.95500201660941997,{"$f":"+IF(AND(A1923>Analyse1!$E$3,Data!A1923<Analyse1!$E$4),B1923,\"\")","v":""},{"$f":"+B1923/Analyse1!$H$3*Analyse1!$H$4","v":1.4613736008739083E-14}]
[6246.8969999999999,0.94564894575613401,{"$f":"+IF(AND(A1924>Analyse1!$E$3,Data!A1924<Analyse1!$E$4),B1924,\"\")","v":""},{"$f":"+B1924/Analyse1!$H$3*Analyse1!$H$4","v":1.4470612427904955E-14}]
[6247.8969999999999,0.94119134142764804,{"$f":"+IF(AND(A1925>Analyse1!$E$3,Data!A1925<Analyse1!$E$4),B1925,\"\")","v":""},{"$f":"+B1925/Analyse1!$H$3*Analyse1!$H$4","v":1.4402400788814199E-14}]
[6248.8969999999999,0.94399179188956905,{"$f":"+IF(AND(A1926>Analyse1!$E$3,Data!A1926<Analyse1!$E$4),B1926,\"\")","v":""},{"$f":"+B1926/Analyse1!$H$3*Analyse1!$H$4","v":1.4445254147282868E-14}]
[6249.8969999999999,0.95541883322046295,{"$f":"+IF(AND(A1927>Analyse1!$E$3,Data!A1927<Analyse1!$E$4),B1927,\"\")","v":""},{"$f":"+B1927/Analyse1!$H$3*Analyse1!$H$4","v":1.4620114265341582E-14}]
[6250.8969999999999,0.97146394406668102,{"$f":"+IF(AND(A1928>Analyse1!$E$3,Data!A1928<Analyse1!$E$4),B1928,\"\")","v":""},{"$f":"+B1928/Analyse1!$H$3*Analyse1!$H$4","v":1.4865641510373028E-14}]
[6251.8969999999999,0.98630883228361199,{"$f":"+IF(AND(A1929>Analyse1!$E$3,Data!A1929<Analyse1!$E$4),B1929,\"\")","v":""},{"$f":"+B1929/Analyse1!$H$3*Analyse1!$H$4","v":1.5092802577793262E-14}]
[6252.8969999999999,0.99413384090013401,{"$f":"+IF(AND(A1930>Analyse1!$E$3,Data!A1930<Analyse1!$E$4),B1930,\"\")","v":""},{"$f":"+B1930/Analyse1!$H$3*Analyse1!$H$4","v":1.5212543278021258E-14}]
[6253.8969999999999,0.98968188390205003,{"$f":"+IF(AND(A1931>Analyse1!$E$3,Data!A1931<Analyse1!$E$4),B1931,\"\")","v":""},{"$f":"+B1931/Analyse1!$H$3*Analyse1!$H$4","v":1.5144418056125663E-14}]
[6254.8969999999999,0.97542245462417798,{"$f":"+IF(AND(A1932>Analyse1!$E$3,Data!A1932<Analyse1!$E$4),B1932,\"\")","v":""},{"$f":"+B1932/Analyse1!$H$3*Analyse1!$H$4","v":1.4926215862331414E-14}]
[6255.8969999999999,0.95943819872574398,{"$f":"+IF(AND(A1933>Analyse1!$E$3,Data!A1933<Analyse1!$E$4),B1933,\"\")","v":""},{"$f":"+B1933/Analyse1!$H$3*Analyse1!$H$4","v":1.4681619838518641E-14}]
[6256.8969999999999,0.94993807051062595,{"$f":"+IF(AND(A1934>Analyse1!$E$3,Data!A1934<Analyse1!$E$4),B1934,\"\")","v":""},{"$f":"+B1934/Analyse1!$H$3*Analyse1!$H$4","v":1.4536245940484573E-14}]
[6257.8969999999999,0.95500849042578495,{"$f":"+IF(AND(A1935>Analyse1!$E$3,Data!A1935<Analyse1!$E$4),B1935,\"\")","v":""},{"$f":"+B1935/Analyse1!$H$3*Analyse1!$H$4","v":1.4613835073077882E-14}]
[6258.8969999999999,0.97591705339002999,{"$f":"+IF(AND(A1936>Analyse1!$E$3,Data!A1936<Analyse1!$E$4),B1936,\"\")","v":""},{"$f":"+B1936/Analyse1!$H$3*Analyse1!$H$4","v":1.4933784365505965E-14}]
[6259.8969999999999,1.00365787353328,{"$f":"+IF(AND(A1937>Analyse1!$E$3,Data!A1937<Analyse1!$E$4),B1937,\"\")","v":""},{"$f":"+B1937/Analyse1!$H$3*Analyse1!$H$4","v":1.5358282968847833E-14}]
[6260.8969999999999,1.0283750038364301,{"$f":"+IF(AND(A1938>Analyse1!$E$3,Data!A1938<Analyse1!$E$4),B1938,\"\")","v":""},{"$f":"+B1938/Analyse1!$H$3*Analyse1!$H$4","v":1.5736512135762325E-14}]
[6261.8969999999999,1.04021335145085,{"$f":"+IF(AND(A1939>Analyse1!$E$3,Data!A1939<Analyse1!$E$4),B1939,\"\")","v":""},{"$f":"+B1939/Analyse1!$H$3*Analyse1!$H$4","v":1.5917666189688869E-14}]
[6262.8969999999999,1.0329176273103899,{"$f":"+IF(AND(A1940>Analyse1!$E$3,Data!A1940<Analyse1!$E$4),B1940,\"\")","v":""},{"$f":"+B1940/Analyse1!$H$3*Analyse1!$H$4","v":1.5806024764092933E-14}]
[6263.8969999999999,1.01205648023039,{"$f":"+IF(AND(A1941>Analyse1!$E$3,Data!A1941<Analyse1!$E$4),B1941,\"\")","v":""},{"$f":"+B1941/Analyse1!$H$3*Analyse1!$H$4","v":1.5486801044179802E-14}]
[6264.8969999999999,0.98562255231486895,{"$f":"+IF(AND(A1942>Analyse1!$E$3,Data!A1942<Analyse1!$E$4),B1942,\"\")","v":""},{"$f":"+B1942/Analyse1!$H$3*Analyse1!$H$4","v":1.508230090961155E-14}]
[6265.8969999999999,0.96160848566782597,{"$f":"+IF(AND(A1943>Analyse1!$E$3,Data!A1943<Analyse1!$E$4),B1943,\"\")","v":""},{"$f":"+B1943/Analyse1!$H$3*Analyse1!$H$4","v":1.471483024004994E-14}]
[6266.8969999999999,0.94716080590512297,{"$f":"+IF(AND(A1944>Analyse1!$E$3,Data!A1944<Analyse1!$E$4),B1944,\"\")","v":""},{"$f":"+B1944/Analyse1!$H$3*Analyse1!$H$4","v":1.4493747379156576E-14}]
[6267.8969999999999,0.94292544401731004,{"$f":"+IF(AND(A1945>Analyse1!$E$3,Data!A1945<Analyse1!$E$4),B1945,\"\")","v":""},{"$f":"+B1945/Analyse1!$H$3*Analyse1!$H$4","v":1.4428936562578701E-14}]
[6268.8969999999999,0.94653509632175303,{"$f":"+IF(AND(A1946>Analyse1!$E$3,Data!A1946<Analyse1!$E$4),B1946,\"\")","v":""},{"$f":"+B1946/Analyse1!$H$3*Analyse1!$H$4","v":1.4484172577731578E-14}]
[6269.8969999999999,0.95560597476655396,{"$f":"+IF(AND(A1947>Analyse1!$E$3,Data!A1947<Analyse1!$E$4),B1947,\"\")","v":""},{"$f":"+B1947/Analyse1!$H$3*Analyse1!$H$4","v":1.4622977963117375E-14}]
[6270.8969999999999,0.96775419269770702,{"$f":"+IF(AND(A1948>Analyse1!$E$3,Data!A1948<Analyse1!$E$4),B1948,\"\")","v":""},{"$f":"+B1948/Analyse1!$H$3*Analyse1!$H$4","v":1.4808873748398326E-14}]
[6271.8969999999999,0.98059369838357802,{"$f":"+IF(AND(A1949>Analyse1!$E$3,Data!A1949<Analyse1!$E$4),B1949,\"\")","v":""},{"$f":"+B1949/Analyse1!$H$3*Analyse1!$H$4","v":1.5005347832549671E-14}]
[6272.8969999999999,0.99173633061595701,{"$f":"+IF(AND(A1950>Analyse1!$E$3,Data!A1950<Analyse1!$E$4),B1950,\"\")","v":""},{"$f":"+B1950/Analyse1!$H$3*Analyse1!$H$4","v":1.5175855834684134E-14}]
[6273.8969999999999,0.99879384070710397,{"$f":"+IF(AND(A1951>Analyse1!$E$3,Data!A1951<Analyse1!$E$4),B1951,\"\")","v":""},{"$f":"+B1951/Analyse1!$H$3*Analyse1!$H$4","v":1.5283852035275628E-14}]
[6274.8969999999999,0.99938960320932502,{"$f":"+IF(AND(A1952>Analyse1!$E$3,Data!A1952<Analyse1!$E$4),B1952,\"\")","v":""},{"$f":"+B1952/Analyse1!$H$3*Analyse1!$H$4","v":1.5292968577209511E-14}]
[6275.8969999999999,0.99284158492667596,{"$f":"+IF(AND(A1953>Analyse1!$E$3,Data!A1953<Analyse1!$E$4),B1953,\"\")","v":""},{"$f":"+B1953/Analyse1!$H$3*Analyse1!$H$4","v":1.519276877773394E-14}]
[6276.8969999999999,0.98192656166970305,{"$f":"+IF(AND(A1954>Analyse1!$E$3,Data!A1954<Analyse1!$E$4),B1954,\"\")","v":""},{"$f":"+B1954/Analyse1!$H$3*Analyse1!$H$4","v":1.5025743718485415E-14}]
[6277.8969999999999,0.96984314838372698,{"$f":"+IF(AND(A1955>Analyse1!$E$3,Data!A1955<Analyse1!$E$4),B1955,\"\")","v":""},{"$f":"+B1955/Analyse1!$H$3*Analyse1!$H$4","v":1.4840839593913326E-14}]
[6278.8969999999999,0.95978996001407202,{"$f":"+IF(AND(A1956>Analyse1!$E$3,Data!A1956<Analyse1!$E$4),B1956,\"\")","v":""},{"$f":"+B1956/Analyse1!$H$3*Analyse1!$H$4","v":1.4687002598467116E-14}]
[6279.8969999999999,0.95441909844130501,{"$f":"+IF(AND(A1957>Analyse1!$E$3,Data!A1957<Analyse1!$E$4),B1957,\"\")","v":""},{"$f":"+B1957/Analyse1!$H$3*Analyse1!$H$4","v":1.4604816014775327E-14}]
[6280.8969999999999,0.95387250017841496,{"$f":"+IF(AND(A1958>Analyse1!$E$3,Data!A1958<Analyse1!$E$4),B1958,\"\")","v":""},{"$f":"+B1958/Analyse1!$H$3*Analyse1!$H$4","v":1.4596451799226264E-14}]
[6281.8969999999999,0.95757186734740696,{"$f":"+IF(AND(A1959>Analyse1!$E$3,Data!A1959<Analyse1!$E$4),B1959,\"\")","v":""},{"$f":"+B1959/Analyse1!$H$3*Analyse1!$H$4","v":1.4653060658963529E-14}]
[6282.8969999999999,0.964938840688359,{"$f":"+IF(AND(A1960>Analyse1!$E$3,Data!A1960<Analyse1!$E$4),B1960,\"\")","v":""},{"$f":"+B1960/Analyse1!$H$3*Analyse1!$H$4","v":1.4765792361845493E-14}]
[6283.8969999999999,0.97529259889375497,{"$f":"+IF(AND(A1961>Analyse1!$E$3,Data!A1961<Analyse1!$E$4),B1961,\"\")","v":""},{"$f":"+B1961/Analyse1!$H$3*Analyse1!$H$4","v":1.4924228769811587E-14}]
[6284.8969999999999,0.98680054500473502,{"$f":"+IF(AND(A1962>Analyse1!$E$3,Data!A1962<Analyse1!$E$4),B1962,\"\")","v":""},{"$f":"+B1962/Analyse1!$H$3*Analyse1!$H$4","v":1.5100326917819413E-14}]
[6285.8969999999999,0.99690526698086501,{"$f":"+IF(AND(A1963>Analyse1!$E$3,Data!A1963<Analyse1!$E$4),B1963,\"\")","v":""},{"$f":"+B1963/Analyse1!$H$3*Analyse1!$H$4","v":1.5254952496438756E-14}]
[6286.8969999999999,1.0030380672863499,{"$f":"+IF(AND(A1964>Analyse1!$E$3,Data!A1964<Analyse1!$E$4),B1964,\"\")","v":""},{"$f":"+B1964/Analyse1!$H$3*Analyse1!$H$4","v":1.534879850210151E-14}]
[6287.8969999999999,1.00268545453487,{"$f":"+IF(AND(A1965>Analyse1!$E$3,Data!A1965<Analyse1!$E$4),B1965,\"\")","v":""},{"$f":"+B1965/Analyse1!$H$3*Analyse1!$H$4","v":1.5343402712800733E-14}]
[6288.8969999999999,0.99550600853527904,{"$f":"+IF(AND(A1966>Analyse1!$E$3,Data!A1966<Analyse1!$E$4),B1966,\"\")","v":""},{"$f":"+B1966/Analyse1!$H$3*Analyse1!$H$4","v":1.5233540611253014E-14}]
[6289.8969999999999,0.98399500089078795,{"$f":"+IF(AND(A1967>Analyse1!$E$3,Data!A1967<Analyse1!$E$4),B1967,\"\")","v":""},{"$f":"+B1967/Analyse1!$H$3*Analyse1!$H$4","v":1.5057395614713212E-14}]
[6290.8969999999999,0.97083881012182505,{"$f":"+IF(AND(A1968>Analyse1!$E$3,Data!A1968<Analyse1!$E$4),B1968,\"\")","v":""},{"$f":"+B1968/Analyse1!$H$3*Analyse1!$H$4","v":1.4856075517546478E-14}]
[6291.8969999999999,0.95872327444673,{"$f":"+IF(AND(A1969>Analyse1!$E$3,Data!A1969<Analyse1!$E$4),B1969,\"\")","v":""},{"$f":"+B1969/Analyse1!$H$3*Analyse1!$H$4","v":1.4670679846248425E-14}]
[6292.8969999999999,0.94989683944801595,{"$f":"+IF(AND(A1970>Analyse1!$E$3,Data!A1970<Analyse1!$E$4),B1970,\"\")","v":""},{"$f":"+B1970/Analyse1!$H$3*Analyse1!$H$4","v":1.4535615010021744E-14}]
[6293.8969999999999,0.94538179642266096,{"$f":"+IF(AND(A1971>Analyse1!$E$3,Data!A1971<Analyse1!$E$4),B1971,\"\")","v":""},{"$f":"+B1971/Analyse1!$H$3*Analyse1!$H$4","v":1.4466524426239632E-14}]
[6294.8969999999999,0.94598719192970804,{"$f":"+IF(AND(A1972>Analyse1!$E$3,Data!A1972<Analyse1!$E$4),B1972,\"\")","v":""},{"$f":"+B1972/Analyse1!$H$3*Analyse1!$H$4","v":1.4475788375390518E-14}]
[6295.8969999999999,0.95252207252819898,{"$f":"+IF(AND(A1973>Analyse1!$E$3,Data!A1973<Analyse1!$E$4),B1973,\"\")","v":""},{"$f":"+B1973/Analyse1!$H$3*Analyse1!$H$4","v":1.4575787137962802E-14}]
[6296.8969999999999,0.965287198082033,{"$f":"+IF(AND(A1974>Analyse1!$E$3,Data!A1974<Analyse1!$E$4),B1974,\"\")","v":""},{"$f":"+B1974/Analyse1!$H$3*Analyse1!$H$4","v":1.4771123034345975E-14}]
[6297.8969999999999,0.98129460457557305,{"$f":"+IF(AND(A1975>Analyse1!$E$3,Data!A1975<Analyse1!$E$4),B1975,\"\")","v":""},{"$f":"+B1975/Analyse1!$H$3*Analyse1!$H$4","v":1.5016073315719927E-14}]
[6298.8969999999999,0.99624734470870002,{"$f":"+IF(AND(A1976>Analyse1!$E$3,Data!A1976<Analyse1!$E$4),B1976,\"\")","v":""},{"$f":"+B1976/Analyse1!$H$3*Analyse1!$H$4","v":1.5244884766494241E-14}]
[6299.8969999999999,1.0058451106224899,{"$f":"+IF(AND(A1977>Analyse1!$E$3,Data!A1977<Analyse1!$E$4),B1977,\"\")","v":""},{"$f":"+B1977/Analyse1!$H$3*Analyse1!$H$4","v":1.5391752746769056E-14}]
[6300.8969999999999,1.0060682141931301,{"$f":"+IF(AND(A1978>Analyse1!$E$3,Data!A1978<Analyse1!$E$4),B1978,\"\")","v":""},{"$f":"+B1978/Analyse1!$H$3*Analyse1!$H$4","v":1.5395166746558834E-14}]
[6301.8969999999999,0.99775903882044703,{"$f":"+IF(AND(A1979>Analyse1!$E$3,Data!A1979<Analyse1!$E$4),B1979,\"\")","v":""},{"$f":"+B1979/Analyse1!$H$3*Analyse1!$H$4","v":1.5268017176992671E-14}]
[6302.8969999999999,0.98587391213280395,{"$f":"+IF(AND(A1980>Analyse1!$E$3,Data!A1980<Analyse1!$E$4),B1980,\"\")","v":""},{"$f":"+B1980/Analyse1!$H$3*Analyse1!$H$4","v":1.5086147295230242E-14}]
[6303.8969999999999,0.97549884541341303,{"$f":"+IF(AND(A1981>Analyse1!$E$3,Data!A1981<Analyse1!$E$4),B1981,\"\")","v":""},{"$f":"+B1981/Analyse1!$H$3*Analyse1!$H$4","v":1.4927384817797437E-14}]
[6304.8969999999999,0.97168436587045803,{"$f":"+IF(AND(A1982>Analyse1!$E$3,Data!A1982<Analyse1!$E$4),B1982,\"\")","v":""},{"$f":"+B1982/Analyse1!$H$3*Analyse1!$H$4","v":1.4869014472937446E-14}]
[6305.8969999999999,0.97639626246196298,{"$f":"+IF(AND(A1983>Analyse1!$E$3,Data!A1983<Analyse1!$E$4),B1983,\"\")","v":""},{"$f":"+B1983/Analyse1!$H$3*Analyse1!$H$4","v":1.4941117370827865E-14}]
[6306.8969999999999,0.98616932491936704,{"$f":"+IF(AND(A1984>Analyse1!$E$3,Data!A1984<Analyse1!$E$4),B1984,\"\")","v":""},{"$f":"+B1984/Analyse1!$H$3*Analyse1!$H$4","v":1.5090667792989783E-14}]
[6307.8969999999999,0.99698600552320804,{"$f":"+IF(AND(A1985>Analyse1!$E$3,Data!A1985<Analyse1!$E$4),B1985,\"\")","v":""},{"$f":"+B1985/Analyse1!$H$3*Analyse1!$H$4","v":1.5256187982566544E-14}]
[6308.8969999999999,1.00482875703625,{"$f":"+IF(AND(A1986>Analyse1!$E$3,Data!A1986<Analyse1!$E$4),B1986,\"\")","v":""},{"$f":"+B1986/Analyse1!$H$3*Analyse1!$H$4","v":1.5376200190080663E-14}]
[6309.8969999999999,1.0066545303482901,{"$f":"+IF(AND(A1987>Analyse1!$E$3,Data!A1987<Analyse1!$E$4),B1987,\"\")","v":""},{"$f":"+B1987/Analyse1!$H$3*Analyse1!$H$4","v":1.5404138737570525E-14}]
[6310.8969999999999,1.0032261499641599,{"$f":"+IF(AND(A1988>Analyse1!$E$3,Data!A1988<Analyse1!$E$4),B1988,\"\")","v":""},{"$f":"+B1988/Analyse1!$H$3*Analyse1!$H$4","v":1.535167660136573E-14}]
[6311.8969999999999,0.99623542077438199,{"$f":"+IF(AND(A1989>Analyse1!$E$3,Data!A1989<Analyse1!$E$4),B1989,\"\")","v":""},{"$f":"+B1989/Analyse1!$H$3*Analyse1!$H$4","v":1.5244702302766124E-14}]
[6312.8969999999999,0.98737414766949905,{"$f":"+IF(AND(A1990>Analyse1!$E$3,Data!A1990<Analyse1!$E$4),B1990,\"\")","v":""},{"$f":"+B1990/Analyse1!$H$3*Analyse1!$H$4","v":1.5109104363071867E-14}]
[6313.8969999999999,0.97821362864950001,{"$f":"+IF(AND(A1991>Analyse1!$E$3,Data!A1991<Analyse1!$E$4),B1991,\"\")","v":""},{"$f":"+B1991/Analyse1!$H$3*Analyse1!$H$4","v":1.4968927269900292E-14}]
[6314.8969999999999,0.96920316912655902,{"$f":"+IF(AND(A1992>Analyse1!$E$3,Data!A1992<Analyse1!$E$4),B1992,\"\")","v":""},{"$f":"+B1992/Analyse1!$H$3*Analyse1!$H$4","v":1.4831046433529721E-14}]
[6315.8969999999999,0.96018182803364605,{"$f":"+IF(AND(A1993>Analyse1!$E$3,Data!A1993<Analyse1!$E$4),B1993,\"\")","v":""},{"$f":"+B1993/Analyse1!$H$3*Analyse1!$H$4","v":1.469299908401241E-14}]
[6316.8969999999999,0.95098256450737095,{"$f":"+IF(AND(A1994>Analyse1!$E$3,Data!A1994<Analyse1!$E$4),B1994,\"\")","v":""},{"$f":"+B1994/Analyse1!$H$3*Analyse1!$H$4","v":1.4552229110431516E-14}]
[6317.8969999999999,0.94148424178600598,{"$f":"+IF(AND(A1995>Analyse1!$E$3,Data!A1995<Analyse1!$E$4),B1995,\"\")","v":""},{"$f":"+B1995/Analyse1!$H$3*Analyse1!$H$4","v":1.4406882840620857E-14}]
[6318.8969999999999,0.93290402143622397,{"$f":"+IF(AND(A1996>Analyse1!$E$3,Data!A1996<Analyse1!$E$4),B1996,\"\")","v":""},{"$f":"+B1996/Analyse1!$H$3*Analyse1!$H$4","v":1.4275585657046631E-14}]
[6319.8969999999999,0.927976120204134,{"$f":"+IF(AND(A1997>Analyse1!$E$3,Data!A1997<Analyse1!$E$4),B1997,\"\")","v":""},{"$f":"+B1997/Analyse1!$H$3*Analyse1!$H$4","v":1.4200177389388117E-14}]
[6320.8969999999999,0.92951658655835101,{"$f":"+IF(AND(A1998>Analyse1!$E$3,Data!A1998<Analyse1!$E$4),B1998,\"\")","v":""},{"$f":"+B1998/Analyse1!$H$3*Analyse1!$H$4","v":1.4223750081633101E-14}]
[6321.8969999999999,0.94033347631362996,{"$f":"+IF(AND(A1999>Analyse1!$E$3,Data!A1999<Analyse1!$E$4),B1999,\"\")","v":""},{"$f":"+B1999/Analyse1!$H$3*Analyse1!$H$4","v":1.4389273471709805E-14}]
[6322.8969999999999,0.96081085206820704,{"$f":"+IF(AND(A2000>Analyse1!$E$3,Data!A2000<Analyse1!$E$4),B2000,\"\")","v":""},{"$f":"+B2000/Analyse1!$H$3*Analyse1!$H$4","v":1.4702624604193885E-14}]
[6323.8969999999999,0.98551278257080599,{"$f":"+IF(AND(A2001>Analyse1!$E$3,Data!A2001<Analyse1!$E$4),B2001,\"\")","v":""},{"$f":"+B2001/Analyse1!$H$3*Analyse1!$H$4","v":1.5080621179062731E-14}]
[6324.8969999999999,1.0081478143501901,{"$f":"+IF(AND(A2002>Analyse1!$E$3,Data!A2002<Analyse1!$E$4),B2002,\"\")","v":""},{"$f":"+B2002/Analyse1!$H$3*Analyse1!$H$4","v":1.542698943087829E-14}]
[6325.8969999999999,1.0224244939351299,{"$f":"+IF(AND(A2003>Analyse1!$E$3,Data!A2003<Analyse1!$E$4),B2003,\"\")","v":""},{"$f":"+B2003/Analyse1!$H$3*Analyse1!$H$4","v":1.5645455594202629E-14}]
[6326.8969999999999,1.02350843846467,{"$f":"+IF(AND(A2004>Analyse1!$E$3,Data!A2004<Analyse1!$E$4),B2004,\"\")","v":""},{"$f":"+B2004/Analyse1!$H$3*Analyse1!$H$4","v":1.5662042448394892E-14}]
[6327.8969999999999,1.0145437669289299,{"$f":"+IF(AND(A2005>Analyse1!$E$3,Data!A2005<Analyse1!$E$4),B2005,\"\")","v":""},{"$f":"+B2005/Analyse1!$H$3*Analyse1!$H$4","v":1.5524862273955588E-14}]
[6328.8969999999999,1.0013915387069401,{"$f":"+IF(AND(A2006>Analyse1!$E$3,Data!A2006<Analyse1!$E$4),B2006,\"\")","v":""},{"$f":"+B2006/Analyse1!$H$3*Analyse1!$H$4","v":1.5323602812907294E-14}]
[6329.8969999999999,0.98991509372386099,{"$f":"+IF(AND(A2007>Analyse1!$E$3,Data!A2007<Analyse1!$E$4),B2007,\"\")","v":""},{"$f":"+B2007/Analyse1!$H$3*Analyse1!$H$4","v":1.5147986704894273E-14}]
[6330.8969999999999,0.98556889488440802,{"$f":"+IF(AND(A2008>Analyse1!$E$3,Data!A2008<Analyse1!$E$4),B2008,\"\")","v":""},{"$f":"+B2008/Analyse1!$H$3*Analyse1!$H$4","v":1.5081479827027402E-14}]
[6331.8969999999999,0.98810456253624801,{"$f":"+IF(AND(A2009>Analyse1!$E$3,Data!A2009<Analyse1!$E$4),B2009,\"\")","v":""},{"$f":"+B2009/Analyse1!$H$3*Analyse1!$H$4","v":1.5120281397103088E-14}]
[6332.8969999999999,0.99308675500211896,{"$f":"+IF(AND(A2010>Analyse1!$E$3,Data!A2010<Analyse1!$E$4),B2010,\"\")","v":""},{"$f":"+B2010/Analyse1!$H$3*Analyse1!$H$4","v":1.5196520446000031E-14}]
[6333.8969999999999,0.99598353257413597,{"$f":"+IF(AND(A2011>Analyse1!$E$3,Data!A2011<Analyse1!$E$4),B2011,\"\")","v":""},{"$f":"+B2011/Analyse1!$H$3*Analyse1!$H$4","v":1.5240847831678012E-14}]
[6334.8969999999999,0.99232113299647895,{"$f":"+IF(AND(A2012>Analyse1!$E$3,Data!A2012<Analyse1!$E$4),B2012,\"\")","v":""},{"$f":"+B2012/Analyse1!$H$3*Analyse1!$H$4","v":1.5184804661448469E-14}]
[6335.8969999999999,0.980955220562295,{"$f":"+IF(AND(A2013>Analyse1!$E$3,Data!A2013<Analyse1!$E$4),B2013,\"\")","v":""},{"$f":"+B2013/Analyse1!$H$3*Analyse1!$H$4","v":1.5010879956659556E-14}]
[6336.8969999999999,0.96581144369639604,{"$f":"+IF(AND(A2014>Analyse1!$E$3,Data!A2014<Analyse1!$E$4),B2014,\"\")","v":""},{"$f":"+B2014/Analyse1!$H$3*Analyse1!$H$4","v":1.4779145202759023E-14}]
[6337.8969999999999,0.951241155592638,{"$f":"+IF(AND(A2015>Analyse1!$E$3,Data!A2015<Analyse1!$E$4),B2015,\"\")","v":""},{"$f":"+B2015/Analyse1!$H$3*Analyse1!$H$4","v":1.45561861511378E-14}]
[6338.8969999999999,0.941595452442193,{"$f":"+IF(AND(A2016>Analyse1!$E$3,Data!A2016<Analyse1!$E$4),B2016,\"\")","v":""},{"$f":"+B2016/Analyse1!$H$3*Analyse1!$H$4","v":1.4408584620452324E-14}]
[6339.8969999999999,0.93993322381857303,{"$f":"+IF(AND(A2017>Analyse1!$E$3,Data!A2017<Analyse1!$E$4),B2017,\"\")","v":""},{"$f":"+B2017/Analyse1!$H$3*Analyse1!$H$4","v":1.4383148684329387E-14}]
[6340.8969999999999,0.94501833018017201,{"$f":"+IF(AND(A2018>Analyse1!$E$3,Data!A2018<Analyse1!$E$4),B2018,\"\")","v":""},{"$f":"+B2018/Analyse1!$H$3*Analyse1!$H$4","v":1.4460962553465082E-14}]
[6341.8969999999999,0.95472341425876905,{"$f":"+IF(AND(A2019>Analyse1!$E$3,Data!A2019<Analyse1!$E$4),B2019,\"\")","v":""},{"$f":"+B2019/Analyse1!$H$3*Analyse1!$H$4","v":1.4609472749465262E-14}]
[6342.8969999999999,0.96692111878614195,{"$f":"+IF(AND(A2020>Analyse1!$E$3,Data!A2020<Analyse1!$E$4),B2020,\"\")","v":""},{"$f":"+B2020/Analyse1!$H$3*Analyse1!$H$4","v":1.4796125793935778E-14}]
[6343.8969999999999,0.979567452784326,{"$f":"+IF(AND(A2021>Analyse1!$E$3,Data!A2021<Analyse1!$E$4),B2021,\"\")","v":""},{"$f":"+B2021/Analyse1!$H$3*Analyse1!$H$4","v":1.4989643905220967E-14}]
[6344.8969999999999,0.99126727858500097,{"$f":"+IF(AND(A2022>Analyse1!$E$3,Data!A2022<Analyse1!$E$4),B2022,\"\")","v":""},{"$f":"+B2022/Analyse1!$H$3*Analyse1!$H$4","v":1.5168678255542372E-14}]
[6345.8969999999999,1.0009295941452201,{"$f":"+IF(AND(A2023>Analyse1!$E$3,Data!A2023<Analyse1!$E$4),B2023,\"\")","v":""},{"$f":"+B2023/Analyse1!$H$3*Analyse1!$H$4","v":1.5316533994456404E-14}]
[6346.8969999999999,1.00746514169281,{"$f":"+IF(AND(A2024>Analyse1!$E$3,Data!A2024<Analyse1!$E$4),B2024,\"\")","v":""},{"$f":"+B2024/Analyse1!$H$3*Analyse1!$H$4","v":1.5416542962889922E-14}]
[6347.8969999999999,1.0098176071084499,{"$f":"+IF(AND(A2025>Analyse1!$E$3,Data!A2025<Analyse1!$E$4),B2025,\"\")","v":""},{"$f":"+B2025/Analyse1!$H$3*Analyse1!$H$4","v":1.5452541115727239E-14}]
[6348.8969999999999,1.00766754575323,{"$f":"+IF(AND(A2026>Analyse1!$E$3,Data!A2026<Analyse1!$E$4),B2026,\"\")","v":""},{"$f":"+B2026/Analyse1!$H$3*Analyse1!$H$4","v":1.5419640212376976E-14}]
[6349.8969999999999,1.00142099028447,{"$f":"+IF(AND(A2027>Analyse1!$E$3,Data!A2027<Analyse1!$E$4),B2027,\"\")","v":""},{"$f":"+B2027/Analyse1!$H$3*Analyse1!$H$4","v":1.5324053490048889E-14}]
[6350.8969999999999,0.991514638402058,{"$f":"+IF(AND(A2028>Analyse1!$E$3,Data!A2028<Analyse1!$E$4),B2028,\"\")","v":""},{"$f":"+B2028/Analyse1!$H$3*Analyse1!$H$4","v":1.5172463431911397E-14}]
[6351.8969999999999,0.97839033264202202,{"$f":"+IF(AND(A2029>Analyse1!$E$3,Data!A2029<Analyse1!$E$4),B2029,\"\")","v":""},{"$f":"+B2029/Analyse1!$H$3*Analyse1!$H$4","v":1.4971631249005568E-14}]
[6352.8969999999999,0.96327339786150101,{"$f":"+IF(AND(A2030>Analyse1!$E$3,Data!A2030<Analyse1!$E$4),B2030,\"\")","v":""},{"$f":"+B2030/Analyse1!$H$3*Analyse1!$H$4","v":1.4740307240991236E-14}]
[6353.8969999999999,0.94900612053514199,{"$f":"+IF(AND(A2031>Analyse1!$E$3,Data!A2031<Analyse1!$E$4),B2031,\"\")","v":""},{"$f":"+B2031/Analyse1!$H$3*Analyse1!$H$4","v":1.4521984953933543E-14}]
[6354.8969999999999,0.93863059902208601,{"$f":"+IF(AND(A2032>Analyse1!$E$3,Data!A2032<Analyse1!$E$4),B2032,\"\")","v":""},{"$f":"+B2032/Analyse1!$H$3*Analyse1!$H$4","v":1.4363215517107518E-14}]
[6355.8969999999999,0.93518893168147599,{"$f":"+IF(AND(A2033>Analyse1!$E$3,Data!A2033<Analyse1!$E$4),B2033,\"\")","v":""},{"$f":"+B2033/Analyse1!$H$3*Analyse1!$H$4","v":1.4310550059788235E-14}]
[6356.8969999999999,0.94075946685950895,{"$f":"+IF(AND(A2034>Analyse1!$E$3,Data!A2034<Analyse1!$E$4),B2034,\"\")","v":""},{"$f":"+B2034/Analyse1!$H$3*Analyse1!$H$4","v":1.4395792110698438E-14}]
[6357.8969999999999,0.95294034102293501,{"$f":"+IF(AND(A2035>Analyse1!$E$3,Data!A2035<Analyse1!$E$4),B2035,\"\")","v":""},{"$f":"+B2035/Analyse1!$H$3*Analyse1!$H$4","v":1.4582187611738288E-14}]
[6358.8969999999999,0.96802878740097198,{"$f":"+IF(AND(A2036>Analyse1!$E$3,Data!A2036<Analyse1!$E$4),B2036,\"\")","v":""},{"$f":"+B2036/Analyse1!$H$3*Analyse1!$H$4","v":1.4813075681413251E-14}]
[6359.8969999999999,0.98232189847121698,{"$f":"+IF(AND(A2037>Analyse1!$E$3,Data!A2037<Analyse1!$E$4),B2037,\"\")","v":""},{"$f":"+B2037/Analyse1!$H$3*Analyse1!$H$4","v":1.5031793284404004E-14}]
[6360.8969999999999,0.99236912529188304,{"$f":"+IF(AND(A2038>Analyse1!$E$3,Data!A2038<Analyse1!$E$4),B2038,\"\")","v":""},{"$f":"+B2038/Analyse1!$H$3*Analyse1!$H$4","v":1.5185539054385123E-14}]
[6361.8969999999999,0.99759780899875905,{"$f":"+IF(AND(A2039>Analyse1!$E$3,Data!A2039<Analyse1!$E$4),B2039,\"\")","v":""},{"$f":"+B2039/Analyse1!$H$3*Analyse1!$H$4","v":1.5265549988431908E-14}]
[6362.8969999999999,0.99926584690295295,{"$f":"+IF(AND(A2040>Analyse1!$E$3,Data!A2040<Analyse1!$E$4),B2040,\"\")","v":""},{"$f":"+B2040/Analyse1!$H$3*Analyse1!$H$4","v":1.5291074819961588E-14}]
[6363.8969999999999,0.99866049208135999,{"$f":"+IF(AND(A2041>Analyse1!$E$3,Data!A2041<Analyse1!$E$4),B2041,\"\")","v":""},{"$f":"+B2041/Analyse1!$H$3*Analyse1!$H$4","v":1.5281811493392095E-14}]
[6364.8969999999999,0.99705458096028698,{"$f":"+IF(AND(A2042>Analyse1!$E$3,Data!A2042<Analyse1!$E$4),B2042,\"\")","v":""},{"$f":"+B2042/Analyse1!$H$3*Analyse1!$H$4","v":1.5257237345098482E-14}]
[6365.8969999999999,0.99514001659575402,{"$f":"+IF(AND(A2043>Analyse1!$E$3,Data!A2043<Analyse1!$E$4),B2043,\"\")","v":""},{"$f":"+B2043/Analyse1!$H$3*Analyse1!$H$4","v":1.5227940089481831E-14}]
[6366.8969999999999,0.99284197889970704,{"$f":"+IF(AND(A2044>Analyse1!$E$3,Data!A2044<Analyse1!$E$4),B2044,\"\")","v":""},{"$f":"+B2044/Analyse1!$H$3*Analyse1!$H$4","v":1.5192774806431023E-14}]
[6367.8969999999999,0.99003317395088197,{"$f":"+IF(AND(A2045>Analyse1!$E$3,Data!A2045<Analyse1!$E$4),B2045,\"\")","v":""},{"$f":"+B2045/Analyse1!$H$3*Analyse1!$H$4","v":1.514979360502173E-14}]
[6368.8969999999999,0.98658648956703798,{"$f":"+IF(AND(A2046>Analyse1!$E$3,Data!A2046<Analyse1!$E$4),B2046,\"\")","v":""},{"$f":"+B2046/Analyse1!$H$3*Analyse1!$H$4","v":1.5097051375356324E-14}]
[6369.8969999999999,0.982536022096546,{"$f":"+IF(AND(A2047>Analyse1!$E$3,Data!A2047<Analyse1!$E$4),B2047,\"\")","v":""},{"$f":"+B2047/Analyse1!$H$3*Analyse1!$H$4","v":1.5035069870295312E-14}]
[6370.8969999999999,0.97837307009061503,{"$f":"+IF(AND(A2048>Analyse1!$E$3,Data!A2048<Analyse1!$E$4),B2048,\"\")","v":""},{"$f":"+B2048/Analyse1!$H$3*Analyse1!$H$4","v":1.4971367092108818E-14}]
[6371.8969999999999,0.97466942887247099,{"$f":"+IF(AND(A2049>Analyse1!$E$3,Data!A2049<Analyse1!$E$4),B2049,\"\")","v":""},{"$f":"+B2049/Analyse1!$H$3*Analyse1!$H$4","v":1.4914692829550503E-14}]
[6372.8969999999999,0.97199689376533804,{"$f":"+IF(AND(A2050>Analyse1!$E$3,Data!A2050<Analyse1!$E$4),B2050,\"\")","v":""},{"$f":"+B2050/Analyse1!$H$3*Analyse1!$H$4","v":1.4873796871374007E-14}]
[6373.8969999999999,0.97083442748980697,{"$f":"+IF(AND(A2051>Analyse1!$E$3,Data!A2051<Analyse1!$E$4),B2051,\"\")","v":""},{"$f":"+B2051/Analyse1!$H$3*Analyse1!$H$4","v":1.4856008453156851E-14}]
[6374.8969999999999,0.97105276976402399,{"$f":"+IF(AND(A2052>Analyse1!$E$3,Data!A2052<Analyse1!$E$4),B2052,\"\")","v":""},{"$f":"+B2052/Analyse1!$H$3*Analyse1!$H$4","v":1.4859349594117249E-14}]
[6375.8969999999999,0.97227779629141098,{"$f":"+IF(AND(A2053>Analyse1!$E$3,Data!A2053<Analyse1!$E$4),B2053,\"\")","v":""},{"$f":"+B2053/Analyse1!$H$3*Analyse1!$H$4","v":1.487809532864302E-14}]
[6376.8969999999999,0.97413471169287502,{"$f":"+IF(AND(A2054>Analyse1!$E$3,Data!A2054<Analyse1!$E$4),B2054,\"\")","v":""},{"$f":"+B2054/Analyse1!$H$3*Analyse1!$H$4","v":1.4906510422009945E-14}]
[6377.8969999999999,0.97624434351263301,{"$f":"+IF(AND(A2055>Analyse1!$E$3,Data!A2055<Analyse1!$E$4),B2055,\"\")","v":""},{"$f":"+B2055/Analyse1!$H$3*Analyse1!$H$4","v":1.493879266011352E-14}]
[6378.8969999999999,0.97815039633532197,{"$f":"+IF(AND(A2056>Analyse1!$E$3,Data!A2056<Analyse1!$E$4),B2056,\"\")","v":""},{"$f":"+B2056/Analyse1!$H$3*Analyse1!$H$4","v":1.4967959669486317E-14}]
[6379.8969999999999,0.97933063191493797,{"$f":"+IF(AND(A2057>Analyse1!$E$3,Data!A2057<Analyse1!$E$4),B2057,\"\")","v":""},{"$f":"+B2057/Analyse1!$H$3*Analyse1!$H$4","v":1.4986019999086317E-14}]
[6380.8969999999999,0.979260688161116,{"$f":"+IF(AND(A2058>Analyse1!$E$3,Data!A2058<Analyse1!$E$4),B2058,\"\")","v":""},{"$f":"+B2058/Analyse1!$H$3*Analyse1!$H$4","v":1.4984949698148687E-14}]
[6381.8969999999999,0.97742245458543997,{"$f":"+IF(AND(A2059>Analyse1!$E$3,Data!A2059<Analyse1!$E$4),B2059,\"\")","v":""},{"$f":"+B2059/Analyse1!$H$3*Analyse1!$H$4","v":1.4956820479853731E-14}]
[6382.8969999999999,0.97386031259635197,{"$f":"+IF(AND(A2060>Analyse1!$E$3,Data!A2060<Analyse1!$E$4),B2060,\"\")","v":""},{"$f":"+B2060/Analyse1!$H$3*Analyse1!$H$4","v":1.4902311482229834E-14}]
[6383.8969999999999,0.96961977188733295,{"$f":"+IF(AND(A2061>Analyse1!$E$3,Data!A2061<Analyse1!$E$4),B2061,\"\")","v":""},{"$f":"+B2061/Analyse1!$H$3*Analyse1!$H$4","v":1.4837421417729311E-14}]
[6384.8969999999999,0.96584956914602105,{"$f":"+IF(AND(A2062>Analyse1!$E$3,Data!A2062<Analyse1!$E$4),B2062,\"\")","v":""},{"$f":"+B2062/Analyse1!$H$3*Analyse1!$H$4","v":1.4779728610172143E-14}]
[6385.8969999999999,0.96369844104477598,{"$f":"+IF(AND(A2063>Analyse1!$E$3,Data!A2063<Analyse1!$E$4),B2063,\"\")","v":""},{"$f":"+B2063/Analyse1!$H$3*Analyse1!$H$4","v":1.4746811383144513E-14}]
[6386.8969999999999,0.96406849283549101,{"$f":"+IF(AND(A2064>Analyse1!$E$3,Data!A2064<Analyse1!$E$4),B2064,\"\")","v":""},{"$f":"+B2064/Analyse1!$H$3*Analyse1!$H$4","v":1.4752474030013336E-14}]
[6387.8969999999999,0.96688699145967605,{"$f":"+IF(AND(A2065>Analyse1!$E$3,Data!A2065<Analyse1!$E$4),B2065,\"\")","v":""},{"$f":"+B2065/Analyse1!$H$3*Analyse1!$H$4","v":1.4795603567038886E-14}]
[6388.8969999999999,0.97184038159132402,{"$f":"+IF(AND(A2066>Analyse1!$E$3,Data!A2066<Analyse1!$E$4),B2066,\"\")","v":""},{"$f":"+B2066/Analyse1!$H$3*Analyse1!$H$4","v":1.4871401873715976E-14}]
[6389.8969999999999,0.97861510790442796,{"$f":"+IF(AND(A2067>Analyse1!$E$3,Data!A2067<Analyse1!$E$4),B2067,\"\")","v":""},{"$f":"+B2067/Analyse1!$H$3*Analyse1!$H$4","v":1.4975070829539396E-14}]
[6390.8969999999999,0.98681497563616605,{"$f":"+IF(AND(A2068>Analyse1!$E$3,Data!A2068<Analyse1!$E$4),B2068,\"\")","v":""},{"$f":"+B2068/Analyse1!$H$3*Analyse1!$H$4","v":1.5100547739801468E-14}]
[6391.8969999999999,0.99526382289258597,{"$f":"+IF(AND(A2069>Analyse1!$E$3,Data!A2069<Analyse1!$E$4),B2069,\"\")","v":""},{"$f":"+B2069/Analyse1!$H$3*Analyse1!$H$4","v":1.5229834611699224E-14}]
[6392.8969999999999,1.00235661984109,{"$f":"+IF(AND(A2070>Analyse1!$E$3,Data!A2070<Analyse1!$E$4),B2070,\"\")","v":""},{"$f":"+B2070/Analyse1!$H$3*Analyse1!$H$4","v":1.5338370782687666E-14}]
[6393.8969999999999,1.0064838922989801,{"$f":"+IF(AND(A2071>Analyse1!$E$3,Data!A2071<Analyse1!$E$4),B2071,\"\")","v":""},{"$f":"+B2071/Analyse1!$H$3*Analyse1!$H$4","v":1.5401527581403004E-14}]
[6394.8969999999999,1.0060847797997201,{"$f":"+IF(AND(A2072>Analyse1!$E$3,Data!A2072<Analyse1!$E$4),B2072,\"\")","v":""},{"$f":"+B2072/Analyse1!$H$3*Analyse1!$H$4","v":1.5395420238590599E-14}]
[6395.8969999999999,1.0010456352094399,{"$f":"+IF(AND(A2073>Analyse1!$E$3,Data!A2073<Analyse1!$E$4),B2073,\"\")","v":""},{"$f":"+B2073/Analyse1!$H$3*Analyse1!$H$4","v":1.5318309690684461E-14}]
[6396.8969999999999,0.99291057496950996,{"$f":"+IF(AND(A2074>Analyse1!$E$3,Data!A2074<Analyse1!$E$4),B2074,\"\")","v":""},{"$f":"+B2074/Analyse1!$H$3*Analyse1!$H$4","v":1.5193824484691282E-14}]
[6397.8969999999999,0.98331468298246805,{"$f":"+IF(AND(A2075>Analyse1!$E$3,Data!A2075<Analyse1!$E$4),B2075,\"\")","v":""},{"$f":"+B2075/Analyse1!$H$3*Analyse1!$H$4","v":1.5046985179822714E-14}]
[6398.8969999999999,0.97389221960948202,{"$f":"+IF(AND(A2076>Analyse1!$E$3,Data!A2076<Analyse1!$E$4),B2076,\"\")","v":""},{"$f":"+B2076/Analyse1!$H$3*Analyse1!$H$4","v":1.4902799733205856E-14}]
[6399.8969999999999,0.96601215832215703,{"$f":"+IF(AND(A2077>Analyse1!$E$3,Data!A2077<Analyse1!$E$4),B2077,\"\")","v":""},{"$f":"+B2077/Analyse1!$H$3*Analyse1!$H$4","v":1.4782216599994787E-14}]
[6400.8969999999999,0.96039924936714705,{"$f":"+IF(AND(A2078>Analyse1!$E$3,Data!A2078<Analyse1!$E$4),B2078,\"\")","v":""},{"$f":"+B2078/Analyse1!$H$3*Analyse1!$H$4","v":1.4696326132453345E-14}]
[6401.8969999999999,0.95768234148251097,{"$f":"+IF(AND(A2079>Analyse1!$E$3,Data!A2079<Analyse1!$E$4),B2079,\"\")","v":""},{"$f":"+B2079/Analyse1!$H$3*Analyse1!$H$4","v":1.4654751168321753E-14}]
[6402.8969999999999,0.95849028340631104,{"$f":"+IF(AND(A2080>Analyse1!$E$3,Data!A2080<Analyse1!$E$4),B2080,\"\")","v":""},{"$f":"+B2080/Analyse1!$H$3*Analyse1!$H$4","v":1.4667114545340293E-14}]
[6403.8969999999999,0.96307660616674695,{"$f":"+IF(AND(A2081>Analyse1!$E$3,Data!A2081<Analyse1!$E$4),B2081,\"\")","v":""},{"$f":"+B2081/Analyse1!$H$3*Analyse1!$H$4","v":1.4737295873658151E-14}]
[6404.8969999999999,0.96961441333230403,{"$f":"+IF(AND(A2082>Analyse1!$E$3,Data!A2082<Analyse1!$E$4),B2082,\"\")","v":""},{"$f":"+B2082/Analyse1!$H$3*Analyse1!$H$4","v":1.4837339419464157E-14}]
[6405.8969999999999,0.97556003323062002,{"$f":"+IF(AND(A2083>Analyse1!$E$3,Data!A2083<Analyse1!$E$4),B2083,\"\")","v":""},{"$f":"+B2083/Analyse1!$H$3*Analyse1!$H$4","v":1.4928321132686895E-14}]
[6406.8969999999999,0.97836912746619598,{"$f":"+IF(AND(A2084>Analyse1!$E$3,Data!A2084<Analyse1!$E$4),B2084,\"\")","v":""},{"$f":"+B2084/Analyse1!$H$3*Analyse1!$H$4","v":1.4971306760851458E-14}]
[6407.8969999999999,0.97573330245946699,{"$f":"+IF(AND(A2085>Analyse1!$E$3,Data!A2085<Analyse1!$E$4),B2085,\"\")","v":""},{"$f":"+B2085/Analyse1!$H$3*Analyse1!$H$4","v":1.4930972551976878E-14}]
[6408.8969999999999,0.96868638241846705,{"$f":"+IF(AND(A2086>Analyse1!$E$3,Data!A2086<Analyse1!$E$4),B2086,\"\")","v":""},{"$f":"+B2086/Analyse1!$H$3*Analyse1!$H$4","v":1.4823138403605665E-14}]
[6409.8969999999999,0.960742049420237,{"$f":"+IF(AND(A2087>Analyse1!$E$3,Data!A2087<Analyse1!$E$4),B2087,\"\")","v":""},{"$f":"+B2087/Analyse1!$H$3*Analyse1!$H$4","v":1.470157176481067E-14}]
[6410.8969999999999,0.95547262872760197,{"$f":"+IF(AND(A2088>Analyse1!$E$3,Data!A2088<Analyse1!$E$4),B2088,\"\")","v":""},{"$f":"+B2088/Analyse1!$H$3*Analyse1!$H$4","v":1.462093746081773E-14}]
[6411.8969999999999,0.95640777058026505,{"$f":"+IF(AND(A2089>Analyse1!$E$3,Data!A2089<Analyse1!$E$4),B2089,\"\")","v":""},{"$f":"+B2089/Analyse1!$H$3*Analyse1!$H$4","v":1.4635247290459827E-14}]
[6412.8969999999999,0.96456461524565895,{"$f":"+IF(AND(A2090>Analyse1!$E$3,Data!A2090<Analyse1!$E$4),B2090,\"\")","v":""},{"$f":"+B2090/Analyse1!$H$3*Analyse1!$H$4","v":1.4760065848464101E-14}]
[6413.8969999999999,0.97709325976921002,{"$f":"+IF(AND(A2091>Analyse1!$E$3,Data!A2091<Analyse1!$E$4),B2091,\"\")","v":""},{"$f":"+B2091/Analyse1!$H$3*Analyse1!$H$4","v":1.4951783039035636E-14}]
[6414.8969999999999,0.99081432817666404,{"$f":"+IF(AND(A2092>Analyse1!$E$3,Data!A2092<Analyse1!$E$4),B2092,\"\")","v":""},{"$f":"+B2092/Analyse1!$H$3*Analyse1!$H$4","v":1.5161747068406259E-14}]
[6415.8969999999999,1.0025485589427301,{"$f":"+IF(AND(A2093>Analyse1!$E$3,Data!A2093<Analyse1!$E$4),B2093,\"\")","v":""},{"$f":"+B2093/Analyse1!$H$3*Analyse1!$H$4","v":1.5341307894141192E-14}]
[6416.8969999999999,1.0098118424101299,{"$f":"+IF(AND(A2094>Analyse1!$E$3,Data!A2094<Analyse1!$E$4),B2094,\"\")","v":""},{"$f":"+B2094/Analyse1!$H$3*Analyse1!$H$4","v":1.5452452902531925E-14}]
[6417.8969999999999,1.01245821222846,{"$f":"+IF(AND(A2095>Analyse1!$E$3,Data!A2095<Analyse1!$E$4),B2095,\"\")","v":""},{"$f":"+B2095/Analyse1!$H$3*Analyse1!$H$4","v":1.5492948471372577E-14}]
[6418.8969999999999,1.0108327600623499,{"$f":"+IF(AND(A2096>Analyse1!$E$3,Data!A2096<Analyse1!$E$4),B2096,\"\")","v":""},{"$f":"+B2096/Analyse1!$H$3*Analyse1!$H$4","v":1.5468075299968501E-14}]
[6419.8969999999999,1.00528057757645,{"$f":"+IF(AND(A2097>Analyse1!$E$3,Data!A2097<Analyse1!$E$4),B2097,\"\")","v":""},{"$f":"+B2097/Analyse1!$H$3*Analyse1!$H$4","v":1.5383114087625354E-14}]
[6420.8969999999999,0.99628068981453999,{"$f":"+IF(AND(A2098>Analyse1!$E$3,Data!A2098<Analyse1!$E$4),B2098,\"\")","v":""},{"$f":"+B2098/Analyse1!$H$3*Analyse1!$H$4","v":1.5245395023609361E-14}]
[6421.8969999999999,0.98536819631207695,{"$f":"+IF(AND(A2099>Analyse1!$E$3,Data!A2099<Analyse1!$E$4),B2099,\"\")","v":""},{"$f":"+B2099/Analyse1!$H$3*Analyse1!$H$4","v":1.5078408675446184E-14}]
[6422.8969999999999,0.97457874738586803,{"$f":"+IF(AND(A2100>Analyse1!$E$3,Data!A2100<Analyse1!$E$4),B2100,\"\")","v":""},{"$f":"+B2100/Analyse1!$H$3*Analyse1!$H$4","v":1.4913305193416704E-14}]
[6423.8969999999999,0.96595099998738199,{"$f":"+IF(AND(A2101>Analyse1!$E$3,Data!A2101<Analyse1!$E$4),B2101,\"\")","v":""},{"$f":"+B2101/Analyse1!$H$3*Analyse1!$H$4","v":1.4781280736254616E-14}]
[6424.8969999999999,0.96144491013528599,{"$f":"+IF(AND(A2102>Analyse1!$E$3,Data!A2102<Analyse1!$E$4),B2102,\"\")","v":""},{"$f":"+B2102/Analyse1!$H$3*Analyse1!$H$4","v":1.471232715669676E-14}]
[6425.8969999999999,0.961226969774025,{"$f":"+IF(AND(A2103>Analyse1!$E$3,Data!A2103<Analyse1!$E$4),B2103,\"\")","v":""},{"$f":"+B2103/Analyse1!$H$3*Analyse1!$H$4","v":1.4708992165932631E-14}]
[6426.8969999999999,0.96367941235097598,{"$f":"+IF(AND(A2104>Analyse1!$E$3,Data!A2104<Analyse1!$E$4),B2104,\"\")","v":""},{"$f":"+B2104/Analyse1!$H$3*Analyse1!$H$4","v":1.4746520200191026E-14}]
[6427.8969999999999,0.96710761151142699,{"$f":"+IF(AND(A2105>Analyse1!$E$3,Data!A2105<Analyse1!$E$4),B2105,\"\")","v":""},{"$f":"+B2105/Analyse1!$H$3*Analyse1!$H$4","v":1.4798979563255075E-14}]
[6428.8969999999999,0.96982132253795705,{"$f":"+IF(AND(A2106>Analyse1!$E$3,Data!A2106<Analyse1!$E$4),B2106,\"\")","v":""},{"$f":"+B2106/Analyse1!$H$3*Analyse1!$H$4","v":1.4840505608075913E-14}]
[6429.8969999999999,0.97082787382055302,{"$f":"+IF(AND(A2107>Analyse1!$E$3,Data!A2107<Analyse1!$E$4),B2107,\"\")","v":""},{"$f":"+B2107/Analyse1!$H$3*Analyse1!$H$4","v":1.4855908166884469E-14}]
[6430.8969999999999,0.97059031168881904,{"$f":"+IF(AND(A2108>Analyse1!$E$3,Data!A2108<Analyse1!$E$4),B2108,\"\")","v":""},{"$f":"+B2108/Analyse1!$H$3*Analyse1!$H$4","v":1.4852272917724302E-14}]
[6431.8969999999999,0.96975393874943305,{"$f":"+IF(AND(A2109>Analyse1!$E$3,Data!A2109<Analyse1!$E$4),B2109,\"\")","v":""},{"$f":"+B2109/Analyse1!$H$3*Analyse1!$H$4","v":1.4839474480518449E-14}]
[6432.8969999999999,0.96896405760907001,{"$f":"+IF(AND(A2110>Analyse1!$E$3,Data!A2110<Analyse1!$E$4),B2110,\"\")","v":""},{"$f":"+B2110/Analyse1!$H$3*Analyse1!$H$4","v":1.4827387475189885E-14}]
[6433.8969999999999,0.96885458475902098,{"$f":"+IF(AND(A2111>Analyse1!$E$3,Data!A2111<Analyse1!$E$4),B2111,\"\")","v":""},{"$f":"+B2111/Analyse1!$H$3*Analyse1!$H$4","v":1.4825712287805025E-14}]
[6434.8969999999999,0.97000586372234499,{"$f":"+IF(AND(A2112>Analyse1!$E$3,Data!A2112<Analyse1!$E$4),B2112,\"\")","v":""},{"$f":"+B2112/Analyse1!$H$3*Analyse1!$H$4","v":1.4843329514313262E-14}]
[6435.8969999999999,0.97298249596630404,{"$f":"+IF(AND(A2113>Analyse1!$E$3,Data!A2113<Analyse1!$E$4),B2113,\"\")","v":""},{"$f":"+B2113/Analyse1!$H$3*Analyse1!$H$4","v":1.4888878860860988E-14}]
[6436.8969999999999,0.97834908083696204,{"$f":"+IF(AND(A2114>Analyse1!$E$3,Data!A2114<Analyse1!$E$4),B2114,\"\")","v":""},{"$f":"+B2114/Analyse1!$H$3*Analyse1!$H$4","v":1.4971000001135358E-14}]
[6437.8969999999999,0.98649074831809402,{"$f":"+IF(AND(A2115>Analyse1!$E$3,Data!A2115<Analyse1!$E$4),B2115,\"\")","v":""},{"$f":"+B2115/Analyse1!$H$3*Analyse1!$H$4","v":1.5095586313175431E-14}]
[6438.8969999999999,0.99571615427367999,{"$f":"+IF(AND(A2116>Analyse1!$E$3,Data!A2116<Analyse1!$E$4),B2116,\"\")","v":""},{"$f":"+B2116/Analyse1!$H$3*Analyse1!$H$4","v":1.5236756326289153E-14}]
[6439.8969999999999,1.0029989596278699,{"$f":"+IF(AND(A2117>Analyse1!$E$3,Data!A2117<Analyse1!$E$4),B2117,\"\")","v":""},{"$f":"+B2117/Analyse1!$H$3*Analyse1!$H$4","v":1.5348200064624932E-14}]
[6440.8969999999999,1.0052907840752301,{"$f":"+IF(AND(A2118>Analyse1!$E$3,Data!A2118<Analyse1!$E$4),B2118,\"\")","v":""},{"$f":"+B2118/Analyse1!$H$3*Analyse1!$H$4","v":1.538327027062408E-14}]
[6441.8969999999999,0.99962112711262097,{"$f":"+IF(AND(A2119>Analyse1!$E$3,Data!A2119<Analyse1!$E$4),B2119,\"\")","v":""},{"$f":"+B2119/Analyse1!$H$3*Analyse1!$H$4","v":1.5296511427531957E-14}]
[6442.8969999999999,0.98623444672074001,{"$f":"+IF(AND(A2120>Analyse1!$E$3,Data!A2120<Analyse1!$E$4),B2120,\"\")","v":""},{"$f":"+B2120/Analyse1!$H$3*Analyse1!$H$4","v":1.5091664306920773E-14}]
[6443.8969999999999,0.96966330262237799,{"$f":"+IF(AND(A2121>Analyse1!$E$3,Data!A2121<Analyse1!$E$4),B2121,\"\")","v":""},{"$f":"+B2121/Analyse1!$H$3*Analyse1!$H$4","v":1.4838087538490474E-14}]
[6444.8969999999999,0.954738360238228,{"$f":"+IF(AND(A2122>Analyse1!$E$3,Data!A2122<Analyse1!$E$4),B2122,\"\")","v":""},{"$f":"+B2122/Analyse1!$H$3*Analyse1!$H$4","v":1.4609701457462112E-14}]
[6445.8969999999999,0.94628828177899704,{"$f":"+IF(AND(A2123>Analyse1!$E$3,Data!A2123<Analyse1!$E$4),B2123,\"\")","v":""},{"$f":"+B2123/Analyse1!$H$3*Analyse1!$H$4","v":1.4480395745318431E-14}]
[6446.8969999999999,0.94718786040940695,{"$f":"+IF(AND(A2124>Analyse1!$E$3,Data!A2124<Analyse1!$E$4),B2124,\"\")","v":""},{"$f":"+B2124/Analyse1!$H$3*Analyse1!$H$4","v":1.4494161375542527E-14}]
[6447.8969999999999,0.95470566017581904,{"$f":"+IF(AND(A2125>Analyse1!$E$3,Data!A2125<Analyse1!$E$4),B2125,\"\")","v":""},{"$f":"+B2125/Analyse1!$H$3*Analyse1!$H$4","v":1.4609201071000929E-14}]
[6448.8969999999999,0.96511100572604502,{"$f":"+IF(AND(A2126>Analyse1!$E$3,Data!A2126<Analyse1!$E$4),B2126,\"\")","v":""},{"$f":"+B2126/Analyse1!$H$3*Analyse1!$H$4","v":1.4768426884461071E-14}]
[6449.8969999999999,0.97467322170789406,{"$f":"+IF(AND(A2127>Analyse1!$E$3,Data!A2127<Analyse1!$E$4),B2127,\"\")","v":""},{"$f":"+B2127/Analyse1!$H$3*Analyse1!$H$4","v":1.491475086869035E-14}]
[6450.8969999999999,0.98023828842378302,{"$f":"+IF(AND(A2128>Analyse1!$E$3,Data!A2128<Analyse1!$E$4),B2128,\"\")","v":""},{"$f":"+B2128/Analyse1!$H$3*Analyse1!$H$4","v":1.4999909239502759E-14}]
[6451.8969999999999,0.98247809366748295,{"$f":"+IF(AND(A2129>Analyse1!$E$3,Data!A2129<Analyse1!$E$4),B2129,\"\")","v":""},{"$f":"+B2129/Analyse1!$H$3*Analyse1!$H$4","v":1.5034183431570571E-14}]
[6452.8969999999999,0.983622438616929,{"$f":"+IF(AND(A2130>Analyse1!$E$3,Data!A2130<Analyse1!$E$4),B2130,\"\")","v":""},{"$f":"+B2130/Analyse1!$H$3*Analyse1!$H$4","v":1.5051694551655439E-14}]
[6453.8969999999999,0.98590567433044696,{"$f":"+IF(AND(A2131>Analyse1!$E$3,Data!A2131<Analyse1!$E$4),B2131,\"\")","v":""},{"$f":"+B2131/Analyse1!$H$3*Analyse1!$H$4","v":1.5086633330194922E-14}]
[6454.8969999999999,0.99139893341664298,{"$f":"+IF(AND(A2132>Analyse1!$E$3,Data!A2132<Analyse1!$E$4),B2132,\"\")","v":""},{"$f":"+B2132/Analyse1!$H$3*Analyse1!$H$4","v":1.5170692878465077E-14}]
[6455.8969999999999,0.99924843239365302,{"$f":"+IF(AND(A2133>Analyse1!$E$3,Data!A2133<Analyse1!$E$4),B2133,\"\")","v":""},{"$f":"+B2133/Analyse1!$H$3*Analyse1!$H$4","v":1.5290808337758193E-14}]
[6456.8969999999999,1.00607317231144,{"$f":"+IF(AND(A2134>Analyse1!$E$3,Data!A2134<Analyse1!$E$4),B2134,\"\")","v":""},{"$f":"+B2134/Analyse1!$H$3*Analyse1!$H$4","v":1.5395242617217556E-14}]
[6457.8969999999999,1.00840900884496,{"$f":"+IF(AND(A2135>Analyse1!$E$3,Data!A2135<Analyse1!$E$4),B2135,\"\")","v":""},{"$f":"+B2135/Analyse1!$H$3*Analyse1!$H$4","v":1.5430986309761393E-14}]
[6458.8969999999999,1.00282468104377,{"$f":"+IF(AND(A2136>Analyse1!$E$3,Data!A2136<Analyse1!$E$4),B2136,\"\")","v":""},{"$f":"+B2136/Analyse1!$H$3*Analyse1!$H$4","v":1.5345533199868925E-14}]
[6459.8969999999999,0.98895286511132396,{"$f":"+IF(AND(A2137>Analyse1!$E$3,Data!A2137<Analyse1!$E$4),B2137,\"\")","v":""},{"$f":"+B2137/Analyse1!$H$3*Analyse1!$H$4","v":1.5133262385281213E-14}]
[6460.8969999999999,0.97193903333759801,{"$f":"+IF(AND(A2138>Analyse1!$E$3,Data!A2138<Analyse1!$E$4),B2138,\"\")","v":""},{"$f":"+B2138/Analyse1!$H$3*Analyse1!$H$4","v":1.4872911473226528E-14}]
[6461.8969999999999,0.95750493474251297,{"$f":"+IF(AND(A2139>Analyse1!$E$3,Data!A2139<Analyse1!$E$4),B2139,\"\")","v":""},{"$f":"+B2139/Analyse1!$H$3*Analyse1!$H$4","v":1.4652036435557412E-14}]
[6462.8969999999999,0.95137231834598701,{"$f":"+IF(AND(A2140>Analyse1!$E$3,Data!A2140<Analyse1!$E$4),B2140,\"\")","v":""},{"$f":"+B2140/Analyse1!$H$3*Analyse1!$H$4","v":1.4558193244126386E-14}]
[6463.8969999999999,0.95728125456904101,{"$f":"+IF(AND(A2141>Analyse1!$E$3,Data!A2141<Analyse1!$E$4),B2141,\"\")","v":""},{"$f":"+B2141/Analyse1!$H$3*Analyse1!$H$4","v":1.46486136124129E-14}]
[6464.8969999999999,0.97104444917213195,{"$f":"+IF(AND(A2142>Analyse1!$E$3,Data!A2142<Analyse1!$E$4),B2142,\"\")","v":""},{"$f":"+B2142/Analyse1!$H$3*Analyse1!$H$4","v":1.4859222269848575E-14}]
[6465.8969999999999,0.98649260417100404,{"$f":"+IF(AND(A2143>Analyse1!$E$3,Data!A2143<Analyse1!$E$4),B2143,\"\")","v":""},{"$f":"+B2143/Analyse1!$H$3*Analyse1!$H$4","v":1.5095614712010225E-14}]
[6466.8969999999999,0.99745642158140002,{"$f":"+IF(AND(A2144>Analyse1!$E$3,Data!A2144<Analyse1!$E$4),B2144,\"\")","v":""},{"$f":"+B2144/Analyse1!$H$3*Analyse1!$H$4","v":1.5263386434474631E-14}]
[6467.8969999999999,0.99843191438675605,{"$f":"+IF(AND(A2145>Analyse1!$E$3,Data!A2145<Analyse1!$E$4),B2145,\"\")","v":""},{"$f":"+B2145/Analyse1!$H$3*Analyse1!$H$4","v":1.5278313726865604E-14}]
[6468.8969999999999,0.99028080481545699,{"$f":"+IF(AND(A2146>Analyse1!$E$3,Data!A2146<Analyse1!$E$4),B2146,\"\")","v":""},{"$f":"+B2146/Analyse1!$H$3*Analyse1!$H$4","v":1.5153582929043646E-14}]
[6469.8969999999999,0.97740331574616701,{"$f":"+IF(AND(A2147>Analyse1!$E$3,Data!A2147<Analyse1!$E$4),B2147,\"\")","v":""},{"$f":"+B2147/Analyse1!$H$3*Analyse1!$H$4","v":1.4956527611420173E-14}]
[6470.8969999999999,0.96423766492780105,{"$f":"+IF(AND(A2148>Analyse1!$E$3,Data!A2148<Analyse1!$E$4),B2148,\"\")","v":""},{"$f":"+B2148/Analyse1!$H$3*Analyse1!$H$4","v":1.4755062753653776E-14}]
[6471.8969999999999,0.95514268816161696,{"$f":"+IF(AND(A2149>Analyse1!$E$3,Data!A2149<Analyse1!$E$4),B2149,\"\")","v":""},{"$f":"+B2149/Analyse1!$H$3*Analyse1!$H$4","v":1.4615888608306406E-14}]
[6472.8969999999999,0.95206369691965997,{"$f":"+IF(AND(A2150>Analyse1!$E$3,Data!A2150<Analyse1!$E$4),B2150,\"\")","v":""},{"$f":"+B2150/Analyse1!$H$3*Analyse1!$H$4","v":1.4568772932736495E-14}]
[6473.8969999999999,0.95415226935348196,{"$f":"+IF(AND(A2151>Analyse1!$E$3,Data!A2151<Analyse1!$E$4),B2151,\"\")","v":""},{"$f":"+B2151/Analyse1!$H$3*Analyse1!$H$4","v":1.4600732913607916E-14}]
[6474.8969999999999,0.960404049360013,{"$f":"+IF(AND(A2152>Analyse1!$E$3,Data!A2152<Analyse1!$E$4),B2152,\"\")","v":""},{"$f":"+B2152/Analyse1!$H$3*Analyse1!$H$4","v":1.4696399583427655E-14}]
[6475.8969999999999,0.96981412324680305,{"$f":"+IF(AND(A2153>Analyse1!$E$3,Data!A2153<Analyse1!$E$4),B2153,\"\")","v":""},{"$f":"+B2153/Analyse1!$H$3*Analyse1!$H$4","v":1.4840395442297678E-14}]
[6476.8969999999999,0.98118649071914898,{"$f":"+IF(AND(A2154>Analyse1!$E$3,Data!A2154<Analyse1!$E$4),B2154,\"\")","v":""},{"$f":"+B2154/Analyse1!$H$3*Analyse1!$H$4","v":1.5014418924075524E-14}]
[6477.8969999999999,0.99285580997171097,{"$f":"+IF(AND(A2155>Analyse1!$E$3,Data!A2155<Analyse1!$E$4),B2155,\"\")","v":""},{"$f":"+B2155/Analyse1!$H$3*Analyse1!$H$4","v":1.5192986453769423E-14}]
[6478.8969999999999,1.0030859860577099,{"$f":"+IF(AND(A2156>Analyse1!$E$3,Data!A2156<Analyse1!$E$4),B2156,\"\")","v":""},{"$f":"+B2156/Analyse1!$H$3*Analyse1!$H$4","v":1.5349531769950519E-14}]
[6479.8969999999999,1.01014092403037,{"$f":"+IF(AND(A2157>Analyse1!$E$3,Data!A2157<Analyse1!$E$4),B2157,\"\")","v":""},{"$f":"+B2157/Analyse1!$H$3*Analyse1!$H$4","v":1.5457488611189997E-14}]
[6480.8969999999999,1.0125682529973199,{"$f":"+IF(AND(A2158>Analyse1!$E$3,Data!A2158<Analyse1!$E$4),B2158,\"\")","v":""},{"$f":"+B2158/Analyse1!$H$3*Analyse1!$H$4","v":1.5494632349226603E-14}]
[6481.8969999999999,1.0105077017161099,{"$f":"+IF(AND(A2159>Analyse1!$E$3,Data!A2159<Analyse1!$E$4),B2159,\"\")","v":""},{"$f":"+B2159/Analyse1!$H$3*Analyse1!$H$4","v":1.5463101156692601E-14}]
[6482.8969999999999,1.0046539619402699,{"$f":"+IF(AND(A2160>Analyse1!$E$3,Data!A2160<Analyse1!$E$4),B2160,\"\")","v":""},{"$f":"+B2160/Analyse1!$H$3*Analyse1!$H$4","v":1.5373525421500235E-14}]
[6483.8969999999999,0.99570229515386699,{"$f":"+IF(AND(A2161>Analyse1!$E$3,Data!A2161<Analyse1!$E$4),B2161,\"\")","v":""},{"$f":"+B2161/Analyse1!$H$3*Analyse1!$H$4","v":1.5236544249754505E-14}]
[6484.8969999999999,0.98435681782605,{"$f":"+IF(AND(A2162>Analyse1!$E$3,Data!A2162<Analyse1!$E$4),B2162,\"\")","v":""},{"$f":"+B2162/Analyse1!$H$3*Analyse1!$H$4","v":1.5062932249278847E-14}]
[6485.8969999999999,0.97144904816593902,{"$f":"+IF(AND(A2163>Analyse1!$E$3,Data!A2163<Analyse1!$E$4),B2163,\"\")","v":""},{"$f":"+B2163/Analyse1!$H$3*Analyse1!$H$4","v":1.4865413568696185E-14}]
[6486.8969999999999,0.95790603624687298,{"$f":"+IF(AND(A2164>Analyse1!$E$3,Data!A2164<Analyse1!$E$4),B2164,\"\")","v":""},{"$f":"+B2164/Analyse1!$H$3*Analyse1!$H$4","v":1.4658174214740577E-14}]
[6487.8969999999999,0.94465714709370197,{"$f":"+IF(AND(A2165>Analyse1!$E$3,Data!A2165<Analyse1!$E$4),B2165,\"\")","v":""},{"$f":"+B2165/Analyse1!$H$3*Analyse1!$H$4","v":1.4455435618249556E-14}]
[6488.8969999999999,0.93263715306051898,{"$f":"+IF(AND(A2166>Analyse1!$E$3,Data!A2166<Analyse1!$E$4),B2166,\"\")","v":""},{"$f":"+B2166/Analyse1!$H$3*Analyse1!$H$4","v":1.4271501954683904E-14}]
[6489.8969999999999,0.92310846760079301,{"$f":"+IF(AND(A2167>Analyse1!$E$3,Data!A2167<Analyse1!$E$4),B2167,\"\")","v":""},{"$f":"+B2167/Analyse1!$H$3*Analyse1!$H$4","v":1.4125691064867015E-14}]
[6490.8969999999999,0.91784319724865204,{"$f":"+IF(AND(A2168>Analyse1!$E$3,Data!A2168<Analyse1!$E$4),B2168,\"\")","v":""},{"$f":"+B2168/Analyse1!$H$3*Analyse1!$H$4","v":1.4045120270667008E-14}]
[6491.8969999999999,0.91865750996863305,{"$f":"+IF(AND(A2169>Analyse1!$E$3,Data!A2169<Analyse1!$E$4),B2169,\"\")","v":""},{"$f":"+B2169/Analyse1!$H$3*Analyse1!$H$4","v":1.4057581135577649E-14}]
[6492.8969999999999,0.92736746594927799,{"$f":"+IF(AND(A2170>Analyse1!$E$3,Data!A2170<Analyse1!$E$4),B2170,\"\")","v":""},{"$f":"+B2170/Analyse1!$H$3*Analyse1!$H$4","v":1.4190863573871119E-14}]
[6493.8969999999999,0.94498697582939195,{"$f":"+IF(AND(A2171>Analyse1!$E$3,Data!A2171<Analyse1!$E$4),B2171,\"\")","v":""},{"$f":"+B2171/Analyse1!$H$3*Analyse1!$H$4","v":1.4460482759499146E-14}]
[6494.8969999999999,0.96979965105505195,{"$f":"+IF(AND(A2172>Analyse1!$E$3,Data!A2172<Analyse1!$E$4),B2172,\"\")","v":""},{"$f":"+B2172/Analyse1!$H$3*Analyse1!$H$4","v":1.4840173984346762E-14}]
[6495.8969999999999,0.99950872402792201,{"$f":"+IF(AND(A2173>Analyse1!$E$3,Data!A2173<Analyse1!$E$4),B2173,\"\")","v":""},{"$f":"+B2173/Analyse1!$H$3*Analyse1!$H$4","v":1.5294791400790873E-14}]
[6496.8969999999999,1.0318174271496701,{"$f":"+IF(AND(A2174>Analyse1!$E$3,Data!A2174<Analyse1!$E$4),B2174,\"\")","v":""},{"$f":"+B2174/Analyse1!$H$3*Analyse1!$H$4","v":1.5789189161208433E-14}]
[6497.8969999999999,1.06474980814753,{"$f":"+IF(AND(A2175>Analyse1!$E$3,Data!A2175<Analyse1!$E$4),B2175,\"\")","v":""},{"$f":"+B2175/Analyse1!$H$3*Analyse1!$H$4","v":1.6293130633238611E-14}]
[6498.8969999999999,1.09889278980843,{"$f":"+IF(AND(A2176>Analyse1!$E$3,Data!A2176<Analyse1!$E$4),B2176,\"\")","v":""},{"$f":"+B2176/Analyse1!$H$3*Analyse1!$H$4","v":1.6815597090759901E-14}]
[6499.8969999999999,1.13606159884777,{"$f":"+IF(AND(A2177>Analyse1!$E$3,Data!A2177<Analyse1!$E$4),B2177,\"\")","v":""},{"$f":"+B2177/Analyse1!$H$3*Analyse1!$H$4","v":1.7384365693980872E-14}]
[6500.8969999999999,1.17807918201011,{"$f":"+IF(AND(A2178>Analyse1!$E$3,Data!A2178<Analyse1!$E$4),B2178,\"\")","v":""},{"$f":"+B2178/Analyse1!$H$3*Analyse1!$H$4","v":1.8027331737382229E-14}]
[6501.8969999999999,1.22677078906765,{"$f":"+IF(AND(A2179>Analyse1!$E$3,Data!A2179<Analyse1!$E$4),B2179,\"\")","v":""},{"$f":"+B2179/Analyse1!$H$3*Analyse1!$H$4","v":1.8772425757085399E-14}]
[6502.8969999999999,1.2840151471113499,{"$f":"+IF(AND(A2180>Analyse1!$E$3,Data!A2180<Analyse1!$E$4),B2180,\"\")","v":""},{"$f":"+B2180/Analyse1!$H$3*Analyse1!$H$4","v":1.9648396615671039E-14}]
[6503.8969999999999,1.3517447441271799,{"$f":"+IF(AND(A2181>Analyse1!$E$3,Data!A2181<Analyse1!$E$4),B2181,\"\")","v":""},{"$f":"+B2181/Analyse1!$H$3*Analyse1!$H$4","v":2.0684815841550463E-14}]
[6504.8969999999999,1.43189442784451,{"$f":"+IF(AND(A2182>Analyse1!$E$3,Data!A2182<Analyse1!$E$4),B2182,\"\")","v":""},{"$f":"+B2182/Analyse1!$H$3*Analyse1!$H$4","v":2.1911291072657784E-14}]
[6505.8969999999999,1.5263953448960601,{"$f":"+IF(AND(A2183>Analyse1!$E$3,Data!A2183<Analyse1!$E$4),B2183,\"\")","v":""},{"$f":"+B2183/Analyse1!$H$3*Analyse1!$H$4","v":2.3357373311602324E-14}]
[6506.8969999999999,1.63656208985466,{"$f":"+IF(AND(A2184>Analyse1!$E$3,Data!A2184<Analyse1!$E$4),B2184,\"\")","v":""},{"$f":"+B2184/Analyse1!$H$3*Analyse1!$H$4","v":2.5043178890822905E-14}]
[6507.8969999999999,1.76240824265842,{"$f":"+IF(AND(A2185>Analyse1!$E$3,Data!A2185<Analyse1!$E$4),B2185,\"\")","v":""},{"$f":"+B2185/Analyse1!$H$3*Analyse1!$H$4","v":2.6968915614729469E-14}]
[6508.8969999999999,1.9037823566993499,{"$f":"+IF(AND(A2186>Analyse1!$E$3,Data!A2186<Analyse1!$E$4),B2186,\"\")","v":""},{"$f":"+B2186/Analyse1!$H$3*Analyse1!$H$4","v":2.9132266000520838E-14}]
[6509.8969999999999,2.0605329853695,{"$f":"+IF(AND(A2187>Analyse1!$E$3,Data!A2187<Analyse1!$E$4),B2187,\"\")","v":""},{"$f":"+B2187/Analyse1!$H$3*Analyse1!$H$4","v":3.1530912565396445E-14}]
[6510.8969999999999,2.23203726365147,{"$f":"+IF(AND(A2188>Analyse1!$E$3,Data!A2188<Analyse1!$E$4),B2188,\"\")","v":""},{"$f":"+B2188/Analyse1!$H$3*Analyse1!$H$4","v":3.4155324036358889E-14}]
[6511.8969999999999,2.4154273255921899,{"$f":"+IF(AND(A2189>Analyse1!$E$3,Data!A2189<Analyse1!$E$4),B2189,\"\")","v":""},{"$f":"+B2189/Analyse1!$H$3*Analyse1!$H$4","v":3.6961615442258686E-14}]
[6512.8969999999999,2.6071677370295001,{"$f":"+IF(AND(A2190>Analyse1!$E$3,Data!A2190<Analyse1!$E$4),B2190,\"\")","v":""},{"$f":"+B2190/Analyse1!$H$3*Analyse1!$H$4","v":3.989568647689385E-14}]
[6513.8969999999999,2.8037229535991899,{"$f":"+IF(AND(A2191>Analyse1!$E$3,Data!A2191<Analyse1!$E$4),B2191,\"\")","v":""},{"$f":"+B2191/Analyse1!$H$3*Analyse1!$H$4","v":4.2903435147716551E-14}]
[6514.8969999999999,3.00150879631228,{"$f":"+IF(AND(A2192>Analyse1!$E$3,Data!A2192<Analyse1!$E$4),B2192,\"\")","v":""},{"$f":"+B2192/Analyse1!$H$3*Analyse1!$H$4","v":4.5930015240119866E-14}]
[6515.8969999999999,3.1963701452192601,{"$f":"+IF(AND(A2193>Analyse1!$E$3,Data!A2193<Analyse1!$E$4),B2193,\"\")","v":""},{"$f":"+B2193/Analyse1!$H$3*Analyse1!$H$4","v":4.8911843824465208E-14}]
[6516.8969999999999,3.3837808722978102,{"$f":"+IF(AND(A2194>Analyse1!$E$3,Data!A2194<Analyse1!$E$4),B2194,\"\")","v":""},{"$f":"+B2194/Analyse1!$H$3*Analyse1!$H$4","v":5.1779660690920983E-14}]
[6517.8969999999999,3.5592085454873299,{"$f":"+IF(AND(A2195>Analyse1!$E$3,Data!A2195<Analyse1!$E$4),B2195,\"\")","v":""},{"$f":"+B2195/Analyse1!$H$3*Analyse1!$H$4","v":5.446410916331357E-14}]
[6518.8969999999999,3.7182104368048901,{"$f":"+IF(AND(A2196>Analyse1!$E$3,Data!A2196<Analyse1!$E$4),B2196,\"\")","v":""},{"$f":"+B2196/Analyse1!$H$3*Analyse1!$H$4","v":5.6897205244989559E-14}]
[6519.8969999999999,3.8601384287076601,{"$f":"+IF(AND(A2197>Analyse1!$E$3,Data!A2197<Analyse1!$E$4),B2197,\"\")","v":""},{"$f":"+B2197/Analyse1!$H$3*Analyse1!$H$4","v":5.9069031241002938E-14}]
[6520.8969999999999,3.9894593114138401,{"$f":"+IF(AND(A2198>Analyse1!$E$3,Data!A2198<Analyse1!$E$4),B2198,\"\")","v":""},{"$f":"+B2198/Analyse1!$H$3*Analyse1!$H$4","v":6.1047939355767838E-14}]
[6521.8969999999999,4.1110010401805503,{"$f":"+IF(AND(A2199>Analyse1!$E$3,Data!A2199<Analyse1!$E$4),B2199,\"\")","v":""},{"$f":"+B2199/Analyse1!$H$3*Analyse1!$H$4","v":6.2907808452744727E-14}]
[6522.8969999999999,4.2295905450679898,{"$f":"+IF(AND(A2200>Analyse1!$E$3,Data!A2200<Analyse1!$E$4),B2200,\"\")","v":""},{"$f":"+B2200/Analyse1!$H$3*Analyse1!$H$4","v":6.4722501707513946E-14}]
[6523.8969999999999,4.3489510781011402,{"$f":"+IF(AND(A2201>Analyse1!$E$3,Data!A2201<Analyse1!$E$4),B2201,\"\")","v":""},{"$f":"+B2201/Analyse1!$H$3*Analyse1!$H$4","v":6.6548993473260896E-14}]
[6524.8969999999999,4.46960197424466,{"$f":"+IF(AND(A2202>Analyse1!$E$3,Data!A2202<Analyse1!$E$4),B2202,\"\")","v":""},{"$f":"+B2202/Analyse1!$H$3*Analyse1!$H$4","v":6.8395230774119182E-14}]
[6525.8969999999999,4.59148447183986,{"$f":"+IF(AND(A2203>Analyse1!$E$3,Data!A2203<Analyse1!$E$4),B2203,\"\")","v":""},{"$f":"+B2203/Analyse1!$H$3*Analyse1!$H$4","v":7.0260314421026805E-14}]
[6526.8969999999999,4.7145398092280901,{"$f":"+IF(AND(A2204>Analyse1!$E$3,Data!A2204<Analyse1!$E$4),B2204,\"\")","v":""},{"$f":"+B2204/Analyse1!$H$3*Analyse1!$H$4","v":7.2143345224922362E-14}]
[6527.8969999999999,4.8388190661549997,{"$f":"+IF(AND(A2205>Analyse1!$E$3,Data!A2205<Analyse1!$E$4),B2205,\"\")","v":""},{"$f":"+B2205/Analyse1!$H$3*Analyse1!$H$4","v":7.4045104823860362E-14}]
[6528.8969999999999,4.9651113147087296,{"$f":"+IF(AND(A2206>Analyse1!$E$3,Data!A2206<Analyse1!$E$4),B2206,\"\")","v":""},{"$f":"+B2206/Analyse1!$H$3*Analyse1!$H$4","v":7.5977667842802235E-14}]
[6529.8969999999999,5.0945095745778799,{"$f":"+IF(AND(A2207>Analyse1!$E$3,Data!A2207<Analyse1!$E$4),B2207,\"\")","v":""},{"$f":"+B2207/Analyse1!$H$3*Analyse1!$H$4","v":7.79577600068289E-14}]
[6530.8969999999999,5.2281078097967901,{"$f":"+IF(AND(A2208>Analyse1!$E$3,Data!A2208<Analyse1!$E$4),B2208,\"\")","v":""},{"$f":"+B2208/Analyse1!$H$3*Analyse1!$H$4","v":8.0002121491691679E-14}]
[6531.8969999999999,5.3671639979089196,{"$f":"+IF(AND(A2209>Analyse1!$E$3,Data!A2209<Analyse1!$E$4),B2209,\"\")","v":""},{"$f":"+B2209/Analyse1!$H$3*Analyse1!$H$4","v":8.2130002258548037E-14}]
[6532.8969999999999,5.5159257472764303,{"$f":"+IF(AND(A2210>Analyse1!$E$3,Data!A2210<Analyse1!$E$4),B2210,\"\")","v":""},{"$f":"+B2210/Analyse1!$H$3*Analyse1!$H$4","v":8.440640052331121E-14}]
[6533.8969999999999,5.6812509614720801,{"$f":"+IF(AND(A2211>Analyse1!$E$3,Data!A2211<Analyse1!$E$4),B2211,\"\")","v":""},{"$f":"+B2211/Analyse1!$H$3*Analyse1!$H$4","v":8.6936258045938385E-14}]
[6534.8969999999999,5.8700852523274598,{"$f":"+IF(AND(A2212>Analyse1!$E$3,Data!A2212<Analyse1!$E$4),B2212,\"\")","v":""},{"$f":"+B2212/Analyse1!$H$3*Analyse1!$H$4","v":8.9825858725270343E-14}]
[6535.8969999999999,6.0892829961160801,{"$f":"+IF(AND(A2213>Analyse1!$E$3,Data!A2213<Analyse1!$E$4),B2213,\"\")","v":""},{"$f":"+B2213/Analyse1!$H$3*Analyse1!$H$4","v":9.3180090345441076E-14}]
[6536.8969999999999,6.3368902705885102,{"$f":"+IF(AND(A2214>Analyse1!$E$3,Data!A2214<Analyse1!$E$4),B2214,\"\")","v":""},{"$f":"+B2214/Analyse1!$H$3*Analyse1!$H$4","v":9.6969053384315352E-14}]
[6537.8969999999999,6.5949314240012598,{"$f":"+IF(AND(A2215>Analyse1!$E$3,Data!A2215<Analyse1!$E$4),B2215,\"\")","v":""},{"$f":"+B2215/Analyse1!$H$3*Analyse1!$H$4","v":1.0091767886340344E-13}]
[6538.8969999999999,6.8437329464584602,{"$f":"+IF(AND(A2216>Analyse1!$E$3,Data!A2216<Analyse1!$E$4),B2216,\"\")","v":""},{"$f":"+B2216/Analyse1!$H$3*Analyse1!$H$4","v":1.0472491665403204E-13}]
[6539.8969999999999,7.0636213280642703,{"$f":"+IF(AND(A2217>Analyse1!$E$3,Data!A2217<Analyse1!$E$4),B2217,\"\")","v":""},{"$f":"+B2217/Analyse1!$H$3*Analyse1!$H$4","v":1.0808971662752822E-13}]
[6540.8969999999999,7.2418824963760198,{"$f":"+IF(AND(A2218>Analyse1!$E$3,Data!A2218<Analyse1!$E$4),B2218,\"\")","v":""},{"$f":"+B2218/Analyse1!$H$3*Analyse1!$H$4","v":1.1081752411799422E-13}]
[6541.8969999999999,7.3939785085672902,{"$f":"+IF(AND(A2219>Analyse1!$E$3,Data!A2219<Analyse1!$E$4),B2219,\"\")","v":""},{"$f":"+B2219/Analyse1!$H$3*Analyse1!$H$4","v":1.1314494430296566E-13}]
[6542.8969999999999,7.5425010749167498,{"$f":"+IF(AND(A2220>Analyse1!$E$3,Data!A2220<Analyse1!$E$4),B2220,\"\")","v":""},{"$f":"+B2220/Analyse1!$H$3*Analyse1!$H$4","v":1.1541768251526529E-13}]
[6543.8969999999999,7.7100419061632204,{"$f":"+IF(AND(A2221>Analyse1!$E$3,Data!A2221<Analyse1!$E$4),B2221,\"\")","v":""},{"$f":"+B2221/Analyse1!$H$3*Analyse1!$H$4","v":1.179814440947573E-13}]
[6544.8969999999999,7.9168190531016096,{"$f":"+IF(AND(A2222>Analyse1!$E$3,Data!A2222<Analyse1!$E$4),B2222,\"\")","v":""},{"$f":"+B2222/Analyse1!$H$3*Analyse1!$H$4","v":1.2114561190324658E-13}]
[6545.8969999999999,8.1600257310656996,{"$f":"+IF(AND(A2223>Analyse1!$E$3,Data!A2223<Analyse1!$E$4),B2223,\"\")","v":""},{"$f":"+B2223/Analyse1!$H$3*Analyse1!$H$4","v":1.2486723565431266E-13}]
[6546.8969999999999,8.42391654782719,{"$f":"+IF(AND(A2224>Analyse1!$E$3,Data!A2224<Analyse1!$E$4),B2224,\"\")","v":""},{"$f":"+B2224/Analyse1!$H$3*Analyse1!$H$4","v":1.2890537448984581E-13}]
[6547.8969999999999,8.6926022417557594,{"$f":"+IF(AND(A2225>Analyse1!$E$3,Data!A2225<Analyse1!$E$4),B2225,\"\")","v":""},{"$f":"+B2225/Analyse1!$H$3*Analyse1!$H$4","v":1.3301688601768257E-13}]
[6548.8969999999999,8.9504125762489899,{"$f":"+IF(AND(A2226>Analyse1!$E$3,Data!A2226<Analyse1!$E$4),B2226,\"\")","v":""},{"$f":"+B2226/Analyse1!$H$3*Analyse1!$H$4","v":1.3696197943432784E-13}]
[6549.8969999999999,9.1884797682037007,{"$f":"+IF(AND(A2227>Analyse1!$E$3,Data!A2227<Analyse1!$E$4),B2227,\"\")","v":""},{"$f":"+B2227/Analyse1!$H$3*Analyse1!$H$4","v":1.4060495718208148E-13}]
[6550.8969999999999,9.4058929333105805,{"$f":"+IF(AND(A2228>Analyse1!$E$3,Data!A2228<Analyse1!$E$4),B2228,\"\")","v":""},{"$f":"+B2228/Analyse1!$H$3*Analyse1!$H$4","v":1.4393188062772668E-13}]
[6551.8969999999999,9.6021928813226705,{"$f":"+IF(AND(A2229>Analyse1!$E$3,Data!A2229<Analyse1!$E$4),B2229,\"\")","v":""},{"$f":"+B2229/Analyse1!$H$3*Analyse1!$H$4","v":1.4693572310018834E-13}]
[6552.8969999999999,9.7769172450925907,{"$f":"+IF(AND(A2230>Analyse1!$E$3,Data!A2230<Analyse1!$E$4),B2230,\"\")","v":""},{"$f":"+B2230/Analyse1!$H$3*Analyse1!$H$4","v":1.4960940931447911E-13}]
[6553.8969999999999,9.92844345096238,{"$f":"+IF(AND(A2231>Analyse1!$E$3,Data!A2231<Analyse1!$E$4),B2231,\"\")","v":""},{"$f":"+B2231/Analyse1!$H$3*Analyse1!$H$4","v":1.519281101470163E-13}]
[6554.8969999999999,10.0522666141063,{"$f":"+IF(AND(A2232>Analyse1!$E$3,Data!A2232<Analyse1!$E$4),B2232,\"\")","v":""},{"$f":"+B2232/Analyse1!$H$3*Analyse1!$H$4","v":1.5382289045792776E-13}]
[6555.8969999999999,10.143441849315201,{"$f":"+IF(AND(A2233>Analyse1!$E$3,Data!A2233<Analyse1!$E$4),B2233,\"\")","v":""},{"$f":"+B2233/Analyse1!$H$3*Analyse1!$H$4","v":1.5521808208548902E-13}]
[6556.8969999999999,10.197024271380201,{"$f":"+IF(AND(A2234>Analyse1!$E$3,Data!A2234<Analyse1!$E$4),B2234,\"\")","v":""},{"$f":"+B2234/Analyse1!$H$3*Analyse1!$H$4","v":1.5603801686797963E-13}]
[6557.8969999999999,10.209680405344001,{"$f":"+IF(AND(A2235>Analyse1!$E$3,Data!A2235<Analyse1!$E$4),B2235,\"\")","v":""},{"$f":"+B2235/Analyse1!$H$3*Analyse1!$H$4","v":1.5623168494136744E-13}]
[6558.8969999999999,10.187230733504,{"$f":"+IF(AND(A2236>Analyse1!$E$3,Data!A2236<Analyse1!$E$4),B2236,\"\")","v":""},{"$f":"+B2236/Analyse1!$H$3*Analyse1!$H$4","v":1.5588815312463122E-13}]
[6559.8969999999999,10.138723917392999,{"$f":"+IF(AND(A2237>Analyse1!$E$3,Data!A2237<Analyse1!$E$4),B2237,\"\")","v":""},{"$f":"+B2237/Analyse1!$H$3*Analyse1!$H$4","v":1.5514588683310305E-13}]
[6560.8969999999999,10.073212262478901,{"$f":"+IF(AND(A2238>Analyse1!$E$3,Data!A2238<Analyse1!$E$4),B2238,\"\")","v":""},{"$f":"+B2238/Analyse1!$H$3*Analyse1!$H$4","v":1.5414340724273605E-13}]
[6561.8969999999999,9.9997199576481997,{"$f":"+IF(AND(A2239>Analyse1!$E$3,Data!A2239<Analyse1!$E$4),B2239,\"\")","v":""},{"$f":"+B2239/Analyse1!$H$3*Analyse1!$H$4","v":1.5301880528086512E-13}]
[6562.8969999999999,9.9268602772067407,{"$f":"+IF(AND(A2240>Analyse1!$E$3,Data!A2240<Analyse1!$E$4),B2240,\"\")","v":""},{"$f":"+B2240/Analyse1!$H$3*Analyse1!$H$4","v":1.5190388393291572E-13}]
[6563.8969999999999,9.8629351074674894,{"$f":"+IF(AND(A2241>Analyse1!$E$3,Data!A2241<Analyse1!$E$4),B2241,\"\")","v":""},{"$f":"+B2241/Analyse1!$H$3*Analyse1!$H$4","v":1.5092568122900946E-13}]
[6564.8969999999999,9.8162386046895502,{"$f":"+IF(AND(A2242>Analyse1!$E$3,Data!A2242<Analyse1!$E$4),B2242,\"\")","v":""},{"$f":"+B2242/Analyse1!$H$3*Analyse1!$H$4","v":1.5021111691159479E-13}]
[6565.8969999999999,9.7949032440085393,{"$f":"+IF(AND(A2243>Analyse1!$E$3,Data!A2243<Analyse1!$E$4),B2243,\"\")","v":""},{"$f":"+B2243/Analyse1!$H$3*Analyse1!$H$4","v":1.498846366285997E-13}]
[6566.8969999999999,9.7969754060654406,{"$f":"+IF(AND(A2244>Analyse1!$E$3,Data!A2244<Analyse1!$E$4),B2244,\"\")","v":""},{"$f":"+B2244/Analyse1!$H$3*Analyse1!$H$4","v":1.4991634549281173E-13}]
[6567.8969999999999,9.8046424018868308,{"$f":"+IF(AND(A2245>Analyse1!$E$3,Data!A2245<Analyse1!$E$4),B2245,\"\")","v":""},{"$f":"+B2245/Analyse1!$H$3*Analyse1!$H$4","v":1.5003366823241358E-13}]
[6568.8969999999999,9.7987006062057596,{"$f":"+IF(AND(A2246>Analyse1!$E$3,Data!A2246<Analyse1!$E$4),B2246,\"\")","v":""},{"$f":"+B2246/Analyse1!$H$3*Analyse1!$H$4","v":1.4994274503854503E-13}]
[6569.8969999999999,9.7599470224012599,{"$f":"+IF(AND(A2247>Analyse1!$E$3,Data!A2247<Analyse1!$E$4),B2247,\"\")","v":""},{"$f":"+B2247/Analyse1!$H$3*Analyse1!$H$4","v":1.4934972572208097E-13}]
[6570.8969999999999,9.6750071362665597,{"$f":"+IF(AND(A2248>Analyse1!$E$3,Data!A2248<Analyse1!$E$4),B2248,\"\")","v":""},{"$f":"+B2248/Analyse1!$H$3*Analyse1!$H$4","v":1.4804994933313484E-13}]
[6571.8969999999999,9.5505825526668495,{"$f":"+IF(AND(A2249>Analyse1!$E$3,Data!A2249<Analyse1!$E$4),B2249,\"\")","v":""},{"$f":"+B2249/Analyse1!$H$3*Analyse1!$H$4","v":1.4614596590053531E-13}]
[6572.8969999999999,9.3976942142316897,{"$f":"+IF(AND(A2250>Analyse1!$E$3,Data!A2250<Analyse1!$E$4),B2250,\"\")","v":""},{"$f":"+B2250/Analyse1!$H$3*Analyse1!$H$4","v":1.4380642129450551E-13}]
[6573.8969999999999,9.2273630635906603,{"$f":"+IF(AND(A2251>Analyse1!$E$3,Data!A2251<Analyse1!$E$4),B2251,\"\")","v":""},{"$f":"+B2251/Analyse1!$H$3*Analyse1!$H$4","v":1.4119996138526868E-13}]
[6574.8969999999999,9.0498508312715007,{"$f":"+IF(AND(A2252>Analyse1!$E$3,Data!A2252<Analyse1!$E$4),B2252,\"\")","v":""},{"$f":"+B2252/Analyse1!$H$3*Analyse1!$H$4","v":1.3848361434482559E-13}]
[6575.8969999999999,8.8692742837718193,{"$f":"+IF(AND(A2253>Analyse1!$E$3,Data!A2253<Analyse1!$E$4),B2253,\"\")","v":""},{"$f":"+B2253/Analyse1!$H$3*Analyse1!$H$4","v":1.3572037620644044E-13}]
[6576.8969999999999,8.6867722565385908,{"$f":"+IF(AND(A2254>Analyse1!$E$3,Data!A2254<Analyse1!$E$4),B2254,\"\")","v":""},{"$f":"+B2254/Analyse1!$H$3*Analyse1!$H$4","v":1.3292767378208852E-13}]
[6577.8969999999999,8.5034640182932097,{"$f":"+IF(AND(A2255>Analyse1!$E$3,Data!A2255<Analyse1!$E$4),B2255,\"\")","v":""},{"$f":"+B2255/Analyse1!$H$3*Analyse1!$H$4","v":1.3012263446766302E-13}]
[6578.8969999999999,8.3204651917705998,{"$f":"+IF(AND(A2256>Analyse1!$E$3,Data!A2256<Analyse1!$E$4),B2256,\"\")","v":""},{"$f":"+B2256/Analyse1!$H$3*Analyse1!$H$4","v":1.2732232986704541E-13}]
[6579.8969999999999,8.1388051200963094,{"$f":"+IF(AND(A2257>Analyse1!$E$3,Data!A2257<Analyse1!$E$4),B2257,\"\")","v":""},{"$f":"+B2257/Analyse1!$H$3*Analyse1!$H$4","v":1.2454251130686906E-13}]
[6580.8969999999999,7.9594254994326104,{"$f":"+IF(AND(A2258>Analyse1!$E$3,Data!A2258<Analyse1!$E$4),B2258,\"\")","v":""},{"$f":"+B2258/Analyse1!$H$3*Analyse1!$H$4","v":1.217975889128474E-13}]
[6581.8969999999999,7.7832641064633101,{"$f":"+IF(AND(A2259>Analyse1!$E$3,Data!A2259<Analyse1!$E$4),B2259,\"\")","v":""},{"$f":"+B2259/Analyse1!$H$3*Analyse1!$H$4","v":1.1910191283362297E-13}]
[6582.8969999999999,7.6112531599609197,{"$f":"+IF(AND(A2260>Analyse1!$E$3,Data!A2260<Analyse1!$E$4),B2260,\"\")","v":""},{"$f":"+B2260/Analyse1!$H$3*Analyse1!$H$4","v":1.1646974816896202E-13}]
[6583.8969999999999,7.44335516731193,{"$f":"+IF(AND(A2261>Analyse1!$E$3,Data!A2261<Analyse1!$E$4),B2261,\"\")","v":""},{"$f":"+B2261/Analyse1!$H$3*Analyse1!$H$4","v":1.1390052119530522E-13}]
[6584.8969999999999,7.2774635055390604,{"$f":"+IF(AND(A2262>Analyse1!$E$3,Data!A2262<Analyse1!$E$4),B2262,\"\")","v":""},{"$f":"+B2262/Analyse1!$H$3*Analyse1!$H$4","v":1.1136199571678653E-13}]
[6585.8969999999999,7.1112056574234801,{"$f":"+IF(AND(A2263>Analyse1!$E$3,Data!A2263<Analyse1!$E$4),B2263,\"\")","v":""},{"$f":"+B2263/Analyse1!$H$3*Analyse1!$H$4","v":1.0881786674167901E-13}]
[6586.8969999999999,6.9422091057463797,{"$f":"+IF(AND(A2264>Analyse1!$E$3,Data!A2264<Analyse1!$E$4),B2264,\"\")","v":""},{"$f":"+B2264/Analyse1!$H$3*Analyse1!$H$4","v":1.0623182927825612E-13}]
[6587.8969999999999,6.7697980914933096,{"$f":"+IF(AND(A2265>Analyse1!$E$3,Data!A2265<Analyse1!$E$4),B2265,\"\")","v":""},{"$f":"+B2265/Analyse1!$H$3*Analyse1!$H$4","v":1.035935426532303E-13}]
[6588.8969999999999,6.6014753616944297,{"$f":"+IF(AND(A2266>Analyse1!$E$3,Data!A2266<Analyse1!$E$4),B2266,\"\")","v":""},{"$f":"+B2266/Analyse1!$H$3*Analyse1!$H$4","v":1.0101781622043766E-13}]
[6589.8969999999999,6.4472046558975498,{"$f":"+IF(AND(A2267>Analyse1!$E$3,Data!A2267<Analyse1!$E$4),B2267,\"\")","v":""},{"$f":"+B2267/Analyse1!$H$3*Analyse1!$H$4","v":9.8657118201807729E-14}]
[6590.8969999999999,6.31695020433117,{"$f":"+IF(AND(A2268>Analyse1!$E$3,Data!A2268<Analyse1!$E$4),B2268,\"\")","v":""},{"$f":"+B2268/Analyse1!$H$3*Analyse1!$H$4","v":9.666392432781755E-14}]
[6591.8969999999999,6.2200376665247896,{"$f":"+IF(AND(A2269>Analyse1!$E$3,Data!A2269<Analyse1!$E$4),B2269,\"\")","v":""},{"$f":"+B2269/Analyse1!$H$3*Analyse1!$H$4","v":9.5180938722752985E-14}]
[6592.8969999999999,6.15818604303578,{"$f":"+IF(AND(A2270>Analyse1!$E$3,Data!A2270<Analyse1!$E$4),B2270,\"\")","v":""},{"$f":"+B2270/Analyse1!$H$3*Analyse1!$H$4","v":9.4234466064413065E-14}]
[6593.8969999999999,6.1281183611503698,{"$f":"+IF(AND(A2271>Analyse1!$E$3,Data!A2271<Analyse1!$E$4),B2271,\"\")","v":""},{"$f":"+B2271/Analyse1!$H$3*Analyse1!$H$4","v":9.3774361103558471E-14}]
[6594.8969999999999,6.1264703162991596,{"$f":"+IF(AND(A2272>Analyse1!$E$3,Data!A2272<Analyse1!$E$4),B2272,\"\")","v":""},{"$f":"+B2272/Analyse1!$H$3*Analyse1!$H$4","v":9.3749142211904543E-14}]
[6595.8969999999999,6.1498132286552201,{"$f":"+IF(AND(A2273>Analyse1!$E$3,Data!A2273<Analyse1!$E$4),B2273,\"\")","v":""},{"$f":"+B2273/Analyse1!$H$3*Analyse1!$H$4","v":9.4106342671080253E-14}]
[6596.8969999999999,6.1919271786023096,{"$f":"+IF(AND(A2274>Analyse1!$E$3,Data!A2274<Analyse1!$E$4),B2274,\"\")","v":""},{"$f":"+B2274/Analyse1!$H$3*Analyse1!$H$4","v":9.4750783348804736E-14}]
[6597.8969999999999,6.2427898954784897,{"$f":"+IF(AND(A2275>Analyse1!$E$3,Data!A2275<Analyse1!$E$4),B2275,\"\")","v":""},{"$f":"+B2275/Analyse1!$H$3*Analyse1!$H$4","v":9.5529100361950609E-14}]
[6598.8969999999999,6.2921064336820596,{"$f":"+IF(AND(A2276>Analyse1!$E$3,Data!A2276<Analyse1!$E$4),B2276,\"\")","v":""},{"$f":"+B2276/Analyse1!$H$3*Analyse1!$H$4","v":9.6283757271190001E-14}]
[6599.8969999999999,6.3295838279197998,{"$f":"+IF(AND(A2277>Analyse1!$E$3,Data!A2277<Analyse1!$E$4),B2277,\"\")","v":""},{"$f":"+B2277/Analyse1!$H$3*Analyse1!$H$4","v":9.6857247940487494E-14}]
[6600.8969999999999,6.3472917484964304,{"$f":"+IF(AND(A2278>Analyse1!$E$3,Data!A2278<Analyse1!$E$4),B2278,\"\")","v":""},{"$f":"+B2278/Analyse1!$H$3*Analyse1!$H$4","v":9.7128220013917605E-14}]
[6601.8969999999999,6.3442390333582299,{"$f":"+IF(AND(A2279>Analyse1!$E$3,Data!A2279<Analyse1!$E$4),B2279,\"\")","v":""},{"$f":"+B2279/Analyse1!$H$3*Analyse1!$H$4","v":9.7081506423408199E-14}]
[6602.8969999999999,6.3207019948932501,{"$f":"+IF(AND(A2280>Analyse1!$E$3,Data!A2280<Analyse1!$E$4),B2280,\"\")","v":""},{"$f":"+B2280/Analyse1!$H$3*Analyse1!$H$4","v":9.6721335386517682E-14}]
[6603.8969999999999,6.2769569454895402,{"$f":"+IF(AND(A2281>Analyse1!$E$3,Data!A2281<Analyse1!$E$4),B2281,\"\")","v":""},{"$f":"+B2281/Analyse1!$H$3*Analyse1!$H$4","v":9.6051935120804408E-14}]
[6604.8969999999999,6.2119255442847399,{"$f":"+IF(AND(A2282>Analyse1!$E$3,Data!A2282<Analyse1!$E$4),B2282,\"\")","v":""},{"$f":"+B2282/Analyse1!$H$3*Analyse1!$H$4","v":9.5056804521123138E-14}]
[6605.8969999999999,6.1153123484909901,{"$f":"+IF(AND(A2283>Analyse1!$E$3,Data!A2283<Analyse1!$E$4),B2283,\"\")","v":""},{"$f":"+B2283/Analyse1!$H$3*Analyse1!$H$4","v":9.3578399540049766E-14}]
[6606.8969999999999,5.9729824513231202,{"$f":"+IF(AND(A2284>Analyse1!$E$3,Data!A2284<Analyse1!$E$4),B2284,\"\")","v":""},{"$f":"+B2284/Analyse1!$H$3*Analyse1!$H$4","v":9.1400423465457974E-14}]
[6607.8969999999999,5.7707882757919897,{"$f":"+IF(AND(A2285>Analyse1!$E$3,Data!A2285<Analyse1!$E$4),B2285,\"\")","v":""},{"$f":"+B2285/Analyse1!$H$3*Analyse1!$H$4","v":8.8306385701844466E-14}]
[6608.8969999999999,5.4956257561684296,{"$f":"+IF(AND(A2286>Analyse1!$E$3,Data!A2286<Analyse1!$E$4),B2286,\"\")","v":""},{"$f":"+B2286/Analyse1!$H$3*Analyse1!$H$4","v":8.4095763785511088E-14}]
[6609.8969999999999,5.1537407362024803,{"$f":"+IF(AND(A2287>Analyse1!$E$3,Data!A2287<Analyse1!$E$4),B2287,\"\")","v":""},{"$f":"+B2287/Analyse1!$H$3*Analyse1!$H$4","v":7.8864133547846126E-14}]
[6610.8969999999999,4.7684513810030902,{"$f":"+IF(AND(A2288>Analyse1!$E$3,Data!A2288<Analyse1!$E$4),B2288,\"\")","v":""},{"$f":"+B2288/Analyse1!$H$3*Analyse1!$H$4","v":7.2968316758001604E-14}]
[6611.8969999999999,4.3636616087799602,{"$f":"+IF(AND(A2289>Analyse1!$E$3,Data!A2289<Analyse1!$E$4),B2289,\"\")","v":""},{"$f":"+B2289/Analyse1!$H$3*Analyse1!$H$4","v":6.6774098560108746E-14}]
[6612.8969999999999,3.9632112614317099,{"$f":"+IF(AND(A2290>Analyse1!$E$3,Data!A2290<Analyse1!$E$4),B2290,\"\")","v":""},{"$f":"+B2290/Analyse1!$H$3*Analyse1!$H$4","v":6.0646283582783318E-14}]
[6613.8969999999999,3.5845265561448199,{"$f":"+IF(AND(A2291>Analyse1!$E$3,Data!A2291<Analyse1!$E$4),B2291,\"\")","v":""},{"$f":"+B2291/Analyse1!$H$3*Analyse1!$H$4","v":5.4851533187116781E-14}]
[6614.8969999999999,3.2332399309281201,{"$f":"+IF(AND(A2292>Analyse1!$E$3,Data!A2292<Analyse1!$E$4),B2292,\"\")","v":""},{"$f":"+B2292/Analyse1!$H$3*Analyse1!$H$4","v":4.9476036680267753E-14}]
[6615.8969999999999,2.91371688525996,{"$f":"+IF(AND(A2293>Analyse1!$E$3,Data!A2293<Analyse1!$E$4),B2293,\"\")","v":""},{"$f":"+B2293/Analyse1!$H$3*Analyse1!$H$4","v":4.458659628444449E-14}]
[6616.8969999999999,2.6303229186186901,{"$f":"+IF(AND(A2294>Analyse1!$E$3,Data!A2294<Analyse1!$E$4),B2294,\"\")","v":""},{"$f":"+B2294/Analyse1!$H$3*Analyse1!$H$4","v":4.025001422185528E-14}]
[6617.8969999999999,2.3857183793399401,{"$f":"+IF(AND(A2295>Analyse1!$E$3,Data!A2295<Analyse1!$E$4),B2295,\"\")","v":""},{"$f":"+B2295/Analyse1!$H$3*Analyse1!$H$4","v":3.6506999964932676E-14}]
[6618.8969999999999,2.1755767571043299,{"$f":"+IF(AND(A2296>Analyse1!$E$3,Data!A2296<Analyse1!$E$4),B2296,\"\")","v":""},{"$f":"+B2296/Analyse1!$H$3*Analyse1!$H$4","v":3.3291347915628833E-14}]
[6619.8969999999999,1.9937822552829301,{"$f":"+IF(AND(A2297>Analyse1!$E$3,Data!A2297<Analyse1!$E$4),B2297,\"\")","v":""},{"$f":"+B2297/Analyse1!$H$3*Analyse1!$H$4","v":3.0509472263794772E-14}]
[6620.8969999999999,1.83421907634319,{"$f":"+IF(AND(A2298>Analyse1!$E$3,Data!A2298<Analyse1!$E$4),B2298,\"\")","v":""},{"$f":"+B2298/Analyse1!$H$3*Analyse1!$H$4","v":2.8067787185454009E-14}]
[6621.8969999999999,1.69121347820908,{"$f":"+IF(AND(A2299>Analyse1!$E$3,Data!A2299<Analyse1!$E$4),B2299,\"\")","v":""},{"$f":"+B2299/Analyse1!$H$3*Analyse1!$H$4","v":2.5879471325846327E-14}]
[6622.8969999999999,1.5634391619337999,{"$f":"+IF(AND(A2300>Analyse1!$E$3,Data!A2300<Analyse1!$E$4),B2300,\"\")","v":""},{"$f":"+B2300/Analyse1!$H$3*Analyse1!$H$4","v":2.3924229248585084E-14}]
[6623.8969999999999,1.4520394868466699,{"$f":"+IF(AND(A2301>Analyse1!$E$3,Data!A2301<Analyse1!$E$4),B2301,\"\")","v":""},{"$f":"+B2301/Analyse1!$H$3*Analyse1!$H$4","v":2.2219556991491375E-14}]
[6624.8969999999999,1.35818623427973,{"$f":"+IF(AND(A2302>Analyse1!$E$3,Data!A2302<Analyse1!$E$4),B2302,\"\")","v":""},{"$f":"+B2302/Analyse1!$H$3*Analyse1!$H$4","v":2.0783385514655932E-14}]
[6625.8969999999999,1.2829757976613601,{"$f":"+IF(AND(A2303>Analyse1!$E$3,Data!A2303<Analyse1!$E$4),B2303,\"\")","v":""},{"$f":"+B2303/Analyse1!$H$3*Analyse1!$H$4","v":1.9632492169168501E-14}]
[6626.8969999999999,1.22511234018552,{"$f":"+IF(AND(A2304>Analyse1!$E$3,Data!A2304<Analyse1!$E$4),B2304,\"\")","v":""},{"$f":"+B2304/Analyse1!$H$3*Analyse1!$H$4","v":1.8747047659734902E-14}]
[6627.8969999999999,1.18047235913741,{"$f":"+IF(AND(A2305>Analyse1!$E$3,Data!A2305<Analyse1!$E$4),B2305,\"\")","v":""},{"$f":"+B2305/Analyse1!$H$3*Analyse1!$H$4","v":1.8063952873413629E-14}]
[6628.8969999999999,1.14476911262827,{"$f":"+IF(AND(A2306>Analyse1!$E$3,Data!A2306<Analyse1!$E$4),B2306,\"\")","v":""},{"$f":"+B2306/Analyse1!$H$3*Analyse1!$H$4","v":1.7517610760972942E-14}]
[6629.8969999999999,1.1137184729843701,{"$f":"+IF(AND(A2307>Analyse1!$E$3,Data!A2307<Analyse1!$E$4),B2307,\"\")","v":""},{"$f":"+B2307/Analyse1!$H$3*Analyse1!$H$4","v":1.7042464276707431E-14}]
[6630.8969999999999,1.08405550763309,{"$f":"+IF(AND(A2308>Analyse1!$E$3,Data!A2308<Analyse1!$E$4),B2308,\"\")","v":""},{"$f":"+B2308/Analyse1!$H$3*Analyse1!$H$4","v":1.6588552413338799E-14}]
[6631.8969999999999,1.0550763363120601,{"$f":"+IF(AND(A2309>Analyse1!$E$3,Data!A2309<Analyse1!$E$4),B2309,\"\")","v":""},{"$f":"+B2309/Analyse1!$H$3*Analyse1!$H$4","v":1.6145104177552761E-14}]
[6632.8969999999999,1.0264729683859399,{"$f":"+IF(AND(A2310>Analyse1!$E$3,Data!A2310<Analyse1!$E$4),B2310,\"\")","v":""},{"$f":"+B2310/Analyse1!$H$3*Analyse1!$H$4","v":1.5707406601460513E-14}]
[6633.8969999999999,0.99793741321940099,{"$f":"+IF(AND(A2311>Analyse1!$E$3,Data!A2311<Analyse1!$E$4),B2311,\"\")","v":""},{"$f":"+B2311/Analyse1!$H$3*Analyse1!$H$4","v":1.5270746717173419E-14}]
[6634.8969999999999,0.96957735990979899,{"$f":"+IF(AND(A2312>Analyse1!$E$3,Data!A2312<Analyse1!$E$4),B2312,\"\")","v":""},{"$f":"+B2312/Analyse1!$H$3*Analyse1!$H$4","v":1.4836772416541347E-14}]
[6635.8969999999999,0.94389105218461,{"$f":"+IF(AND(A2313>Analyse1!$E$3,Data!A2313<Analyse1!$E$4),B2313,\"\")","v":""},{"$f":"+B2313/Analyse1!$H$3*Analyse1!$H$4","v":1.4443712597183218E-14}]
[6636.8969999999999,0.92422962560747401,{"$f":"+IF(AND(A2314>Analyse1!$E$3,Data!A2314<Analyse1!$E$4),B2314,\"\")","v":""},{"$f":"+B2314/Analyse1!$H$3*Analyse1!$H$4","v":1.4142847371187591E-14}]
[6637.8969999999999,0.91394527059493402,{"$f":"+IF(AND(A2315>Analyse1!$E$3,Data!A2315<Analyse1!$E$4),B2315,\"\")","v":""},{"$f":"+B2315/Analyse1!$H$3*Analyse1!$H$4","v":1.398547299232816E-14}]
[6638.8969999999999,0.91605020991445496,{"$f":"+IF(AND(A2316>Analyse1!$E$3,Data!A2316<Analyse1!$E$4),B2316,\"\")","v":""},{"$f":"+B2316/Analyse1!$H$3*Analyse1!$H$4","v":1.4017683424342855E-14}]
[6639.8969999999999,0.92850927327442101,{"$f":"+IF(AND(A2317>Analyse1!$E$3,Data!A2317<Analyse1!$E$4),B2317,\"\")","v":""},{"$f":"+B2317/Analyse1!$H$3*Analyse1!$H$4","v":1.4208335862444629E-14}]
[6640.8969999999999,0.945421916171305,{"$f":"+IF(AND(A2318>Analyse1!$E$3,Data!A2318<Analyse1!$E$4),B2318,\"\")","v":""},{"$f":"+B2318/Analyse1!$H$3*Analyse1!$H$4","v":1.4467138351032694E-14}]
[6641.8969999999999,0.96078931842926096,{"$f":"+IF(AND(A2319>Analyse1!$E$3,Data!A2319<Analyse1!$E$4),B2319,\"\")","v":""},{"$f":"+B2319/Analyse1!$H$3*Analyse1!$H$4","v":1.4702295089795598E-14}]
[6642.8969999999999,0.968665304609864,{"$f":"+IF(AND(A2320>Analyse1!$E$3,Data!A2320<Analyse1!$E$4),B2320,\"\")","v":""},{"$f":"+B2320/Analyse1!$H$3*Analyse1!$H$4","v":1.4822815864464165E-14}]
[6643.8969999999999,0.96648620077438696,{"$f":"+IF(AND(A2321>Analyse1!$E$3,Data!A2321<Analyse1!$E$4),B2321,\"\")","v":""},{"$f":"+B2321/Analyse1!$H$3*Analyse1!$H$4","v":1.4789470544105207E-14}]
[6644.8969999999999,0.95706412273263997,{"$f":"+IF(AND(A2322>Analyse1!$E$3,Data!A2322<Analyse1!$E$4),B2322,\"\")","v":""},{"$f":"+B2322/Analyse1!$H$3*Analyse1!$H$4","v":1.4645290993946059E-14}]
[6645.8969999999999,0.94368951085516395,{"$f":"+IF(AND(A2323>Analyse1!$E$3,Data!A2323<Analyse1!$E$4),B2323,\"\")","v":""},{"$f":"+B2323/Analyse1!$H$3*Analyse1!$H$4","v":1.4440628549472165E-14}]
[6646.8969999999999,0.92965277464303298,{"$f":"+IF(AND(A2324>Analyse1!$E$3,Data!A2324<Analyse1!$E$4),B2324,\"\")","v":""},{"$f":"+B2324/Analyse1!$H$3*Analyse1!$H$4","v":1.422583407379486E-14}]
[6647.8969999999999,0.91788087433391496,{"$f":"+IF(AND(A2325>Analyse1!$E$3,Data!A2325<Analyse1!$E$4),B2325,\"\")","v":""},{"$f":"+B2325/Analyse1!$H$3*Analyse1!$H$4","v":1.4045696817070088E-14}]
[6648.8969999999999,0.91003386805440001,{"$f":"+IF(AND(A2326>Analyse1!$E$3,Data!A2326<Analyse1!$E$4),B2326,\"\")","v":""},{"$f":"+B2326/Analyse1!$H$3*Analyse1!$H$4","v":1.392561950180443E-14}]
[6649.8969999999999,0.90749593865063405,{"$f":"+IF(AND(A2327>Analyse1!$E$3,Data!A2327<Analyse1!$E$4),B2327,\"\")","v":""},{"$f":"+B2327/Analyse1!$H$3*Analyse1!$H$4","v":1.3886783321701764E-14}]
[6650.8969999999999,0.91165126896876303,{"$f":"+IF(AND(A2328>Analyse1!$E$3,Data!A2328<Analyse1!$E$4),B2328,\"\")","v":""},{"$f":"+B2328/Analyse1!$H$3*Analyse1!$H$4","v":1.3950369470465973E-14}]
[6651.8969999999999,0.92345146116572596,{"$f":"+IF(AND(A2329>Analyse1!$E$3,Data!A2329<Analyse1!$E$4),B2329,\"\")","v":""},{"$f":"+B2329/Analyse1!$H$3*Analyse1!$H$4","v":1.4130939658402369E-14}]
[6652.8969999999999,0.94030059689904,{"$f":"+IF(AND(A2330>Analyse1!$E$3,Data!A2330<Analyse1!$E$4),B2330,\"\")","v":""},{"$f":"+B2330/Analyse1!$H$3*Analyse1!$H$4","v":1.4388770340746117E-14}]
[6653.8969999999999,0.95786443975559699,{"$f":"+IF(AND(A2331>Analyse1!$E$3,Data!A2331<Analyse1!$E$4),B2331,\"\")","v":""},{"$f":"+B2331/Analyse1!$H$3*Analyse1!$H$4","v":1.4657537692375362E-14}]
[6654.8969999999999,0.97179682313226301,{"$f":"+IF(AND(A2332>Analyse1!$E$3,Data!A2332<Analyse1!$E$4),B2332,\"\")","v":""},{"$f":"+B2332/Analyse1!$H$3*Analyse1!$H$4","v":1.4870735328713354E-14}]
[6655.8969999999999,0.97791606579843604,{"$f":"+IF(AND(A2333>Analyse1!$E$3,Data!A2333<Analyse1!$E$4),B2333,\"\")","v":""},{"$f":"+B2333/Analyse1!$H$3*Analyse1!$H$4","v":1.4964373871189268E-14}]
[6656.8969999999999,0.97600791680303101,{"$f":"+IF(AND(A2334>Analyse1!$E$3,Data!A2334<Analyse1!$E$4),B2334,\"\")","v":""},{"$f":"+B2334/Analyse1!$H$3*Analyse1!$H$4","v":1.4935174785533728E-14}]
[6657.8969999999999,0.96993070903481304,{"$f":"+IF(AND(A2335>Analyse1!$E$3,Data!A2335<Analyse1!$E$4),B2335,\"\")","v":""},{"$f":"+B2335/Analyse1!$H$3*Analyse1!$H$4","v":1.4842179474057525E-14}]
[6658.8969999999999,0.96372829597862997,{"$f":"+IF(AND(A2336>Analyse1!$E$3,Data!A2336<Analyse1!$E$4),B2336,\"\")","v":""},{"$f":"+B2336/Analyse1!$H$3*Analyse1!$H$4","v":1.4747268232569239E-14}]
[6659.8969999999999,0.96143392593106303,{"$f":"+IF(AND(A2337>Analyse1!$E$3,Data!A2337<Analyse1!$E$4),B2337,\"\")","v":""},{"$f":"+B2337/Analyse1!$H$3*Analyse1!$H$4","v":1.4712159073008989E-14}]
[6660.8969999999999,0.96514102298443905,{"$f":"+IF(AND(A2338>Analyse1!$E$3,Data!A2338<Analyse1!$E$4),B2338,\"\")","v":""},{"$f":"+B2338/Analyse1!$H$3*Analyse1!$H$4","v":1.4768886217826074E-14}]
[6661.8969999999999,0.97275749777317599,{"$f":"+IF(AND(A2339>Analyse1!$E$3,Data!A2339<Analyse1!$E$4),B2339,\"\")","v":""},{"$f":"+B2339/Analyse1!$H$3*Analyse1!$H$4","v":1.4885435868972351E-14}]
[6662.8969999999999,0.98164637860882098,{"$f":"+IF(AND(A2340>Analyse1!$E$3,Data!A2340<Analyse1!$E$4),B2340,\"\")","v":""},{"$f":"+B2340/Analyse1!$H$3*Analyse1!$H$4","v":1.5021456270695106E-14}]
[6663.8969999999999,0.989170693802923,{"$f":"+IF(AND(A2341>Analyse1!$E$3,Data!A2341<Analyse1!$E$4),B2341,\"\")","v":""},{"$f":"+B2341/Analyse1!$H$3*Analyse1!$H$4","v":1.5136595667241661E-14}]
[6664.8969999999999,0.99318174278959903,{"$f":"+IF(AND(A2342>Analyse1!$E$3,Data!A2342<Analyse1!$E$4),B2342,\"\")","v":""},{"$f":"+B2342/Analyse1!$H$3*Analyse1!$H$4","v":1.5197973978480745E-14}]
[6665.8969999999999,0.99391294455855295,{"$f":"+IF(AND(A2343>Analyse1!$E$3,Data!A2343<Analyse1!$E$4),B2343,\"\")","v":""},{"$f":"+B2343/Analyse1!$H$3*Analyse1!$H$4","v":1.5209163053932705E-14}]
[6666.8969999999999,0.99232307311744095,{"$f":"+IF(AND(A2344>Analyse1!$E$3,Data!A2344<Analyse1!$E$4),B2344,\"\")","v":""},{"$f":"+B2344/Analyse1!$H$3*Analyse1!$H$4","v":1.518483434977904E-14}]
[6667.8969999999999,0.98937107499017796,{"$f":"+IF(AND(A2345>Analyse1!$E$3,Data!A2345<Analyse1!$E$4),B2345,\"\")","v":""},{"$f":"+B2345/Analyse1!$H$3*Analyse1!$H$4","v":1.5139661962098357E-14}]
[6668.8969999999999,0.98597390998237799,{"$f":"+IF(AND(A2346>Analyse1!$E$3,Data!A2346<Analyse1!$E$4),B2346,\"\")","v":""},{"$f":"+B2346/Analyse1!$H$3*Analyse1!$H$4","v":1.5087677493229513E-14}]
[6669.8969999999999,0.98254100211134299,{"$f":"+IF(AND(A2347>Analyse1!$E$3,Data!A2347<Analyse1!$E$4),B2347,\"\")","v":""},{"$f":"+B2347/Analyse1!$H$3*Analyse1!$H$4","v":1.5035146076020845E-14}]
[6670.8969999999999,0.97914485919586303,{"$f":"+IF(AND(A2348>Analyse1!$E$3,Data!A2348<Analyse1!$E$4),B2348,\"\")","v":""},{"$f":"+B2348/Analyse1!$H$3*Analyse1!$H$4","v":1.4983177247524571E-14}]
[6671.8969999999999,0.97585193238894996,{"$f":"+IF(AND(A2349>Analyse1!$E$3,Data!A2349<Analyse1!$E$4),B2349,\"\")","v":""},{"$f":"+B2349/Analyse1!$H$3*Analyse1!$H$4","v":1.4932787863821301E-14}]
[6672.8969999999999,0.97273142719281003,{"$f":"+IF(AND(A2350>Analyse1!$E$3,Data!A2350<Analyse1!$E$4),B2350,\"\")","v":""},{"$f":"+B2350/Analyse1!$H$3*Analyse1!$H$4","v":1.4885036928894281E-14}]
[6673.8969999999999,0.96997499433391299,{"$f":"+IF(AND(A2351>Analyse1!$E$3,Data!A2351<Analyse1!$E$4),B2351,\"\")","v":""},{"$f":"+B2351/Analyse1!$H$3*Analyse1!$H$4","v":1.4842857141391058E-14}]
[6674.8969999999999,0.96794285638594202,{"$f":"+IF(AND(A2352>Analyse1!$E$3,Data!A2352<Analyse1!$E$4),B2352,\"\")","v":""},{"$f":"+B2352/Analyse1!$H$3*Analyse1!$H$4","v":1.4811760738463637E-14}]
[6675.8969999999999,0.96700751218827596,{"$f":"+IF(AND(A2353>Analyse1!$E$3,Data!A2353<Analyse1!$E$4),B2353,\"\")","v":""},{"$f":"+B2353/Analyse1!$H$3*Analyse1!$H$4","v":1.4797447812475765E-14}]
[6676.8969999999999,0.96754127071445295,{"$f":"+IF(AND(A2354>Analyse1!$E$3,Data!A2354<Analyse1!$E$4),B2354,\"\")","v":""},{"$f":"+B2354/Analyse1!$H$3*Analyse1!$H$4","v":1.4805615550405425E-14}]
[6677.8969999999999,0.96966430041683105,{"$f":"+IF(AND(A2355>Analyse1!$E$3,Data!A2355<Analyse1!$E$4),B2355,\"\")","v":""},{"$f":"+B2355/Analyse1!$H$3*Analyse1!$H$4","v":1.4838102807049571E-14}]
[6678.8969999999999,0.97274750852903202,{"$f":"+IF(AND(A2356>Analyse1!$E$3,Data!A2356<Analyse1!$E$4),B2356,\"\")","v":""},{"$f":"+B2356/Analyse1!$H$3*Analyse1!$H$4","v":1.4885283010471211E-14}]
[6679.8969999999999,0.97602326385948301,{"$f":"+IF(AND(A2357>Analyse1!$E$3,Data!A2357<Analyse1!$E$4),B2357,\"\")","v":""},{"$f":"+B2357/Analyse1!$H$3*Analyse1!$H$4","v":1.4935409630934682E-14}]
[6680.8969999999999,0.97872393521661305,{"$f":"+IF(AND(A2358>Analyse1!$E$3,Data!A2358<Analyse1!$E$4),B2358,\"\")","v":""},{"$f":"+B2358/Analyse1!$H$3*Analyse1!$H$4","v":1.4976736138704353E-14}]
[6681.8969999999999,0.98021989767830198,{"$f":"+IF(AND(A2359>Analyse1!$E$3,Data!A2359<Analyse1!$E$4),B2359,\"\")","v":""},{"$f":"+B2359/Analyse1!$H$3*Analyse1!$H$4","v":1.4999627818631607E-14}]
[6682.8969999999999,0.98083247801872897,{"$f":"+IF(AND(A2360>Analyse1!$E$3,Data!A2360<Analyse1!$E$4),B2360,\"\")","v":""},{"$f":"+B2360/Analyse1!$H$3*Analyse1!$H$4","v":1.5009001712323399E-14}]
[6683.8969999999999,0.98128364399082402,{"$f":"+IF(AND(A2361>Analyse1!$E$3,Data!A2361<Analyse1!$E$4),B2361,\"\")","v":""},{"$f":"+B2361/Analyse1!$H$3*Analyse1!$H$4","v":1.5015905593464648E-14}]
[6684.8969999999999,0.98229676547286304,{"$f":"+IF(AND(A2362>Analyse1!$E$3,Data!A2362<Analyse1!$E$4),B2362,\"\")","v":""},{"$f":"+B2362/Analyse1!$H$3*Analyse1!$H$4","v":1.5031408691495649E-14}]
[6685.8969999999999,0.98455111478229196,{"$f":"+IF(AND(A2363>Analyse1!$E$3,Data!A2363<Analyse1!$E$4),B2363,\"\")","v":""},{"$f":"+B2363/Analyse1!$H$3*Analyse1!$H$4","v":1.50659054413522E-14}]
[6686.8969999999999,0.98789402567663398,{"$f":"+IF(AND(A2364>Analyse1!$E$3,Data!A2364<Analyse1!$E$4),B2364,\"\")","v":""},{"$f":"+B2364/Analyse1!$H$3*Analyse1!$H$4","v":1.5117059697009266E-14}]
[6687.8969999999999,0.991431103420093,{"$f":"+IF(AND(A2365>Analyse1!$E$3,Data!A2365<Analyse1!$E$4),B2365,\"\")","v":""},{"$f":"+B2365/Analyse1!$H$3*Analyse1!$H$4","v":1.5171185153800252E-14}]
[6688.8969999999999,0.99424197226800204,{"$f":"+IF(AND(A2366>Analyse1!$E$3,Data!A2366<Analyse1!$E$4),B2366,\"\")","v":""},{"$f":"+B2366/Analyse1!$H$3*Analyse1!$H$4","v":1.521419793763119E-14}]
[6689.8969999999999,0.99541006785349895,{"$f":"+IF(AND(A2367>Analyse1!$E$3,Data!A2367<Analyse1!$E$4),B2367,\"\")","v":""},{"$f":"+B2367/Analyse1!$H$3*Analyse1!$H$4","v":1.5232072497289222E-14}]
[6690.8969999999999,0.99441458236457203,{"$f":"+IF(AND(A2368>Analyse1!$E$3,Data!A2368<Analyse1!$E$4),B2368,\"\")","v":""},{"$f":"+B2368/Analyse1!$H$3*Analyse1!$H$4","v":1.521683927067536E-14}]
[6691.8969999999999,0.99147043470793506,{"$f":"+IF(AND(A2369>Analyse1!$E$3,Data!A2369<Analyse1!$E$4),B2369,\"\")","v":""},{"$f":"+B2369/Analyse1!$H$3*Analyse1!$H$4","v":1.5171787013322444E-14}]
[6692.8969999999999,0.98687265766630405,{"$f":"+IF(AND(A2370>Analyse1!$E$3,Data!A2370<Analyse1!$E$4),B2370,\"\")","v":""},{"$f":"+B2370/Analyse1!$H$3*Analyse1!$H$4","v":1.5101430408053706E-14}]
[6693.8969999999999,0.98091628402239694,{"$f":"+IF(AND(A2371>Analyse1!$E$3,Data!A2371<Analyse1!$E$4),B2371,\"\")","v":""},{"$f":"+B2371/Analyse1!$H$3*Analyse1!$H$4","v":1.5010284137692405E-14}]
[6694.8969999999999,0.97402667887941596,{"$f":"+IF(AND(A2372>Analyse1!$E$3,Data!A2372<Analyse1!$E$4),B2372,\"\")","v":""},{"$f":"+B2372/Analyse1!$H$3*Analyse1!$H$4","v":1.4904857270510039E-14}]
[6695.8969999999999,0.96716969236495598,{"$f":"+IF(AND(A2373>Analyse1!$E$3,Data!A2373<Analyse1!$E$4),B2373,\"\")","v":""},{"$f":"+B2373/Analyse1!$H$3*Analyse1!$H$4","v":1.4799929543662332E-14}]
[6696.8969999999999,0.96145125945912402,{"$f":"+IF(AND(A2374>Analyse1!$E$3,Data!A2374<Analyse1!$E$4),B2374,\"\")","v":""},{"$f":"+B2374/Analyse1!$H$3*Analyse1!$H$4","v":1.4712424316012438E-14}]
[6697.8969999999999,0.95797731537716402,{"$f":"+IF(AND(A2375>Analyse1!$E$3,Data!A2375<Analyse1!$E$4),B2375,\"\")","v":""},{"$f":"+B2375/Analyse1!$H$3*Analyse1!$H$4","v":1.4659264950021645E-14}]
[6698.8969999999999,0.95773361276444602,{"$f":"+IF(AND(A2376>Analyse1!$E$3,Data!A2376<Analyse1!$E$4),B2376,\"\")","v":""},{"$f":"+B2376/Analyse1!$H$3*Analyse1!$H$4","v":1.4655535737323701E-14}]
[6699.8969999999999,0.96050750534037699,{"$f":"+IF(AND(A2377>Analyse1!$E$3,Data!A2377<Analyse1!$E$4),B2377,\"\")","v":""},{"$f":"+B2377/Analyse1!$H$3*Analyse1!$H$4","v":1.4697982698813036E-14}]
[6700.8969999999999,0.96539815446250699,{"$f":"+IF(AND(A2378>Analyse1!$E$3,Data!A2378<Analyse1!$E$4),B2378,\"\")","v":""},{"$f":"+B2378/Analyse1!$H$3*Analyse1!$H$4","v":1.4772820923171896E-14}]
[6701.8969999999999,0.97149652866762803,{"$f":"+IF(AND(A2379>Analyse1!$E$3,Data!A2379<Analyse1!$E$4),B2379,\"\")","v":""},{"$f":"+B2379/Analyse1!$H$3*Analyse1!$H$4","v":1.4866140130007238E-14}]
[6702.8969999999999,0.977895158436074,{"$f":"+IF(AND(A2380>Analyse1!$E$3,Data!A2380<Analyse1!$E$4),B2380,\"\")","v":""},{"$f":"+B2380/Analyse1!$H$3*Analyse1!$H$4","v":1.4964053940268824E-14}]
[6703.8969999999999,0.98373722496332605,{"$f":"+IF(AND(A2381>Analyse1!$E$3,Data!A2381<Analyse1!$E$4),B2381,\"\")","v":""},{"$f":"+B2381/Analyse1!$H$3*Analyse1!$H$4","v":1.5053451047803592E-14}]
[6704.8969999999999,0.98822641003048395,{"$f":"+IF(AND(A2382>Analyse1!$E$3,Data!A2382<Analyse1!$E$4),B2382,\"\")","v":""},{"$f":"+B2382/Analyse1!$H$3*Analyse1!$H$4","v":1.5122145945117774E-14}]
[6705.8969999999999,0.99056994685705801,{"$f":"+IF(AND(A2383>Analyse1!$E$3,Data!A2383<Analyse1!$E$4),B2383,\"\")","v":""},{"$f":"+B2383/Analyse1!$H$3*Analyse1!$H$4","v":1.5158007469925755E-14}]
[6706.8969999999999,0.98997644397018403,{"$f":"+IF(AND(A2384>Analyse1!$E$3,Data!A2384<Analyse1!$E$4),B2384,\"\")","v":""},{"$f":"+B2384/Analyse1!$H$3*Analyse1!$H$4","v":1.5148925505324263E-14}]
[6707.8969999999999,0.98622797805235696,{"$f":"+IF(AND(A2385>Analyse1!$E$3,Data!A2385<Analyse1!$E$4),B2385,\"\")","v":""},{"$f":"+B2385/Analyse1!$H$3*Analyse1!$H$4","v":1.5091565321357987E-14}]
[6708.8969999999999,0.98056421355257495,{"$f":"+IF(AND(A2386>Analyse1!$E$3,Data!A2386<Analyse1!$E$4),B2386,\"\")","v":""},{"$f":"+B2386/Analyse1!$H$3*Analyse1!$H$4","v":1.5004896646553154E-14}]
[6709.8969999999999,0.97445296585057195,{"$f":"+IF(AND(A2387>Analyse1!$E$3,Data!A2387<Analyse1!$E$4),B2387,\"\")","v":""},{"$f":"+B2387/Analyse1!$H$3*Analyse1!$H$4","v":1.491138044548987E-14}]
[6710.8969999999999,0.96936205032608003,{"$f":"+IF(AND(A2388>Analyse1!$E$3,Data!A2388<Analyse1!$E$4),B2388,\"\")","v":""},{"$f":"+B2388/Analyse1!$H$3*Analyse1!$H$4","v":1.4833477682748228E-14}]
[6711.8969999999999,0.96651692729786398,{"$f":"+IF(AND(A2389>Analyse1!$E$3,Data!A2389<Analyse1!$E$4),B2389,\"\")","v":""},{"$f":"+B2389/Analyse1!$H$3*Analyse1!$H$4","v":1.4789940730863716E-14}]
[6712.8969999999999,0.96573202243941403,{"$f":"+IF(AND(A2390>Analyse1!$E$3,Data!A2390<Analyse1!$E$4),B2390,\"\")","v":""},{"$f":"+B2390/Analyse1!$H$3*Analyse1!$H$4","v":1.4777929874138945E-14}]
[6713.8969999999999,0.96631246460146203,{"$f":"+IF(AND(A2391>Analyse1!$E$3,Data!A2391<Analyse1!$E$4),B2391,\"\")","v":""},{"$f":"+B2391/Analyse1!$H$3*Analyse1!$H$4","v":1.4786811979492635E-14}]
[6714.8969999999999,0.967562694722922,{"$f":"+IF(AND(A2392>Analyse1!$E$3,Data!A2392<Analyse1!$E$4),B2392,\"\")","v":""},{"$f":"+B2392/Analyse1!$H$3*Analyse1!$H$4","v":1.4805943387204273E-14}]
[6715.8969999999999,0.96883579578739798,{"$f":"+IF(AND(A2393>Analyse1!$E$3,Data!A2393<Analyse1!$E$4),B2393,\"\")","v":""},{"$f":"+B2393/Analyse1!$H$3*Analyse1!$H$4","v":1.4825424773154377E-14}]
[6716.8969999999999,0.97021855593912698,{"$f":"+IF(AND(A2394>Analyse1!$E$3,Data!A2394<Analyse1!$E$4),B2394,\"\")","v":""},{"$f":"+B2394/Analyse1!$H$3*Analyse1!$H$4","v":1.4846584196348597E-14}]
[6717.8969999999999,0.97236559146736401,{"$f":"+IF(AND(A2395>Analyse1!$E$3,Data!A2395<Analyse1!$E$4),B2395,\"\")","v":""},{"$f":"+B2395/Analyse1!$H$3*Analyse1!$H$4","v":1.4879438797559216E-14}]
[6718.8969999999999,0.97594630070990496,{"$f":"+IF(AND(A2396>Analyse1!$E$3,Data!A2396<Analyse1!$E$4),B2396,\"\")","v":""},{"$f":"+B2396/Analyse1!$H$3*Analyse1!$H$4","v":1.4934231917033796E-14}]
[6719.8969999999999,0.981612632471206,{"$f":"+IF(AND(A2397>Analyse1!$E$3,Data!A2397<Analyse1!$E$4),B2397,\"\")","v":""},{"$f":"+B2397/Analyse1!$H$3*Analyse1!$H$4","v":1.5020939876867825E-14}]
[6720.8969999999999,0.98886132259677095,{"$f":"+IF(AND(A2398>Analyse1!$E$3,Data!A2398<Analyse1!$E$4),B2398,\"\")","v":""},{"$f":"+B2398/Analyse1!$H$3*Analyse1!$H$4","v":1.5131861573431616E-14}]
[6721.8969999999999,0.99533334892247605,{"$f":"+IF(AND(A2399>Analyse1!$E$3,Data!A2399<Analyse1!$E$4),B2399,\"\")","v":""},{"$f":"+B2399/Analyse1!$H$3*Analyse1!$H$4","v":1.5230898520496144E-14}]
[6722.8969999999999,0.99850218560725201,{"$f":"+IF(AND(A2400>Analyse1!$E$3,Data!A2400<Analyse1!$E$4),B2400,\"\")","v":""},{"$f":"+B2400/Analyse1!$H$3*Analyse1!$H$4","v":1.5279389038799482E-14}]
[6723.8969999999999,0.99584139964436502,{"$f":"+IF(AND(A2401>Analyse1!$E$3,Data!A2401<Analyse1!$E$4),B2401,\"\")","v":""},{"$f":"+B2401/Analyse1!$H$3*Analyse1!$H$4","v":1.5238672869659399E-14}]
[6724.8969999999999,0.98624448060506498,{"$f":"+IF(AND(A2402>Analyse1!$E$3,Data!A2402<Analyse1!$E$4),B2402,\"\")","v":""},{"$f":"+B2402/Analyse1!$H$3*Analyse1!$H$4","v":1.5091817848519764E-14}]
[6725.8969999999999,0.97361383964441295,{"$f":"+IF(AND(A2403>Analyse1!$E$3,Data!A2403<Analyse1!$E$4),B2403,\"\")","v":""},{"$f":"+B2403/Analyse1!$H$3*Analyse1!$H$4","v":1.489853987694494E-14}]
[6726.8969999999999,0.962955821573657,{"$f":"+IF(AND(A2404>Analyse1!$E$3,Data!A2404<Analyse1!$E$4),B2404,\"\")","v":""},{"$f":"+B2404/Analyse1!$H$3*Analyse1!$H$4","v":1.4735447590485297E-14}]
[6727.8969999999999,0.95927677120404198,{"$f":"+IF(AND(A2405>Analyse1!$E$3,Data!A2405<Analyse1!$E$4),B2405,\"\")","v":""},{"$f":"+B2405/Analyse1!$H$3*Analyse1!$H$4","v":1.4679149624691162E-14}]
[6728.8969999999999,0.96672802536504299,{"$f":"+IF(AND(A2406>Analyse1!$E$3,Data!A2406<Analyse1!$E$4),B2406,\"\")","v":""},{"$f":"+B2406/Analyse1!$H$3*Analyse1!$H$4","v":1.4793171018729141E-14}]
[6729.8969999999999,0.98235619112515304,{"$f":"+IF(AND(A2407>Analyse1!$E$3,Data!A2407<Analyse1!$E$4),B2407,\"\")","v":""},{"$f":"+B2407/Analyse1!$H$3*Analyse1!$H$4","v":1.5032318041192937E-14}]
[6730.8969999999999,0.99968779042960998,{"$f":"+IF(AND(A2408>Analyse1!$E$3,Data!A2408<Analyse1!$E$4),B2408,\"\")","v":""},{"$f":"+B2408/Analyse1!$H$3*Analyse1!$H$4","v":1.5297531530211326E-14}]
[6731.8969999999999,1.01222413227256,{"$f":"+IF(AND(A2409>Analyse1!$E$3,Data!A2409<Analyse1!$E$4),B2409,\"\")","v":""},{"$f":"+B2409/Analyse1!$H$3*Analyse1!$H$4","v":1.548936650754322E-14}]
[6732.8969999999999,1.0137009877882599,{"$f":"+IF(AND(A2410>Analyse1!$E$3,Data!A2410<Analyse1!$E$4),B2410,\"\")","v":""},{"$f":"+B2410/Analyse1!$H$3*Analyse1!$H$4","v":1.5511965807077803E-14}]
[6733.8969999999999,1.00361928661021,{"$f":"+IF(AND(A2411>Analyse1!$E$3,Data!A2411<Analyse1!$E$4),B2411,\"\")","v":""},{"$f":"+B2411/Analyse1!$H$3*Analyse1!$H$4","v":1.5357692499825437E-14}]
[6734.8969999999999,0.98746000160230196,{"$f":"+IF(AND(A2412>Analyse1!$E$3,Data!A2412<Analyse1!$E$4),B2412,\"\")","v":""},{"$f":"+B2412/Analyse1!$H$3*Analyse1!$H$4","v":1.5110418126485423E-14}]
[6735.8969999999999,0.97098156275788805,{"$f":"+IF(AND(A2413>Analyse1!$E$3,Data!A2413<Analyse1!$E$4),B2413,\"\")","v":""},{"$f":"+B2413/Analyse1!$H$3*Analyse1!$H$4","v":1.4858259962502295E-14}]
[6736.8969999999999,0.95992797886827297,{"$f":"+IF(AND(A2414>Analyse1!$E$3,Data!A2414<Analyse1!$E$4),B2414,\"\")","v":""},{"$f":"+B2414/Analyse1!$H$3*Analyse1!$H$4","v":1.468911460562987E-14}]
[6737.8969999999999,0.95727506131276696,{"$f":"+IF(AND(A2415>Analyse1!$E$3,Data!A2415<Analyse1!$E$4),B2415,\"\")","v":""},{"$f":"+B2415/Analyse1!$H$3*Analyse1!$H$4","v":1.4648518841291322E-14}]
[6738.8969999999999,0.95995868198539602,{"$f":"+IF(AND(A2416>Analyse1!$E$3,Data!A2416<Analyse1!$E$4),B2416,\"\")","v":""},{"$f":"+B2416/Analyse1!$H$3*Analyse1!$H$4","v":1.4689584434217117E-14}]
[6739.8969999999999,0.96411818069950905,{"$f":"+IF(AND(A2417>Analyse1!$E$3,Data!A2417<Analyse1!$E$4),B2417,\"\")","v":""},{"$f":"+B2417/Analyse1!$H$3*Analyse1!$H$4","v":1.4753234369064948E-14}]
[6740.8969999999999,0.96589289726845595,{"$f":"+IF(AND(A2418>Analyse1!$E$3,Data!A2418<Analyse1!$E$4),B2418,\"\")","v":""},{"$f":"+B2418/Analyse1!$H$3*Analyse1!$H$4","v":1.4780391630492525E-14}]
[6741.8969999999999,0.96251396852253501,{"$f":"+IF(AND(A2419>Analyse1!$E$3,Data!A2419<Analyse1!$E$4),B2419,\"\")","v":""},{"$f":"+B2419/Analyse1!$H$3*Analyse1!$H$4","v":1.4728686218539008E-14}]
[6742.8969999999999,0.95660388292871801,{"$f":"+IF(AND(A2420>Analyse1!$E$3,Data!A2420<Analyse1!$E$4),B2420,\"\")","v":""},{"$f":"+B2420/Analyse1!$H$3*Analyse1!$H$4","v":1.4638248262225857E-14}]
[6743.8969999999999,0.95244635523978904,{"$f":"+IF(AND(A2421>Analyse1!$E$3,Data!A2421<Analyse1!$E$4),B2421,\"\")","v":""},{"$f":"+B2421/Analyse1!$H$3*Analyse1!$H$4","v":1.4574628488614555E-14}]
[6744.8969999999999,0.95432556636780397,{"$f":"+IF(AND(A2422>Analyse1!$E$3,Data!A2422<Analyse1!$E$4),B2422,\"\")","v":""},{"$f":"+B2422/Analyse1!$H$3*Analyse1!$H$4","v":1.460338475807982E-14}]
[6745.8969999999999,0.96604070614124804,{"$f":"+IF(AND(A2423>Analyse1!$E$3,Data!A2423<Analyse1!$E$4),B2423,\"\")","v":""},{"$f":"+B2423/Analyse1!$H$3*Analyse1!$H$4","v":1.4782653447545436E-14}]
[6746.8969999999999,0.98544134348685397,{"$f":"+IF(AND(A2424>Analyse1!$E$3,Data!A2424<Analyse1!$E$4),B2424,\"\")","v":""},{"$f":"+B2424/Analyse1!$H$3*Analyse1!$H$4","v":1.507952799612131E-14}]
[6747.8969999999999,1.0063852475370101,{"$f":"+IF(AND(A2425>Analyse1!$E$3,Data!A2425<Analyse1!$E$4),B2425,\"\")","v":""},{"$f":"+B2425/Analyse1!$H$3*Analyse1!$H$4","v":1.5400018088768434E-14}]
[6748.8969999999999,1.0226564164174901,{"$f":"+IF(AND(A2426>Analyse1!$E$3,Data!A2426<Analyse1!$E$4),B2426,\"\")","v":""},{"$f":"+B2426/Analyse1!$H$3*Analyse1!$H$4","v":1.5649004543705097E-14}]
[6749.8969999999999,1.0281318997439399,{"$f":"+IF(AND(A2427>Analyse1!$E$3,Data!A2427<Analyse1!$E$4),B2427,\"\")","v":""},{"$f":"+B2427/Analyse1!$H$3*Analyse1!$H$4","v":1.5732792081805884E-14}]
[6750.8969999999999,1.0209311835852599,{"$f":"+IF(AND(A2428>Analyse1!$E$3,Data!A2428<Analyse1!$E$4),B2428,\"\")","v":""},{"$f":"+B2428/Analyse1!$H$3*Analyse1!$H$4","v":1.5622604497710081E-14}]
[6751.8969999999999,1.0050764507899099,{"$f":"+IF(AND(A2429>Analyse1!$E$3,Data!A2429<Analyse1!$E$4),B2429,\"\")","v":""},{"$f":"+B2429/Analyse1!$H$3*Analyse1!$H$4","v":1.5379990476450793E-14}]
[6752.8969999999999,0.98502638364784201,{"$f":"+IF(AND(A2430>Analyse1!$E$3,Data!A2430<Analyse1!$E$4),B2430,\"\")","v":""},{"$f":"+B2430/Analyse1!$H$3*Analyse1!$H$4","v":1.5073178152418278E-14}]
[6753.8969999999999,0.96523918082728899,{"$f":"+IF(AND(A2431>Analyse1!$E$3,Data!A2431<Analyse1!$E$4),B2431,\"\")","v":""},{"$f":"+B2431/Analyse1!$H$3*Analyse1!$H$4","v":1.4770388259473788E-14}]
[6754.8969999999999,0.94945476009614505,{"$f":"+IF(AND(A2432>Analyse1!$E$3,Data!A2432<Analyse1!$E$4),B2432,\"\")","v":""},{"$f":"+B2432/Analyse1!$H$3*Analyse1!$H$4","v":1.4528850175151454E-14}]
[6755.8969999999999,0.93925344084051898,{"$f":"+IF(AND(A2433>Analyse1!$E$3,Data!A2433<Analyse1!$E$4),B2433,\"\")","v":""},{"$f":"+B2433/Analyse1!$H$3*Analyse1!$H$4","v":1.4372746435107144E-14}]
[6756.8969999999999,0.935811331622734,{"$f":"+IF(AND(A2434>Analyse1!$E$3,Data!A2434<Analyse1!$E$4),B2434,\"\")","v":""},{"$f":"+B2434/Analyse1!$H$3*Analyse1!$H$4","v":1.4320074216046764E-14}]
[6757.8969999999999,0.94030454100511496,{"$f":"+IF(AND(A2435>Analyse1!$E$3,Data!A2435<Analyse1!$E$4),B2435,\"\")","v":""},{"$f":"+B2435/Analyse1!$H$3*Analyse1!$H$4","v":1.4388830694676235E-14}]
[6758.8969999999999,0.95332675947662604,{"$f":"+IF(AND(A2436>Analyse1!$E$3,Data!A2436<Analyse1!$E$4),B2436,\"\")","v":""},{"$f":"+B2436/Analyse1!$H$3*Analyse1!$H$4","v":1.4588100706342207E-14}]
[6759.8969999999999,0.97140723360079995,{"$f":"+IF(AND(A2437>Analyse1!$E$3,Data!A2437<Analyse1!$E$4),B2437,\"\")","v":""},{"$f":"+B2437/Analyse1!$H$3*Analyse1!$H$4","v":1.486477370929732E-14}]
[6760.8969999999999,0.98934336048356797,{"$f":"+IF(AND(A2438>Analyse1!$E$3,Data!A2438<Analyse1!$E$4),B2438,\"\")","v":""},{"$f":"+B2438/Analyse1!$H$3*Analyse1!$H$4","v":1.5139237866152835E-14}]
[6761.8969999999999,1.0019261188072099,{"$f":"+IF(AND(A2439>Analyse1!$E$3,Data!A2439<Analyse1!$E$4),B2439,\"\")","v":""},{"$f":"+B2439/Analyse1!$H$3*Analyse1!$H$4","v":1.5331783122817641E-14}]
[6762.8969999999999,1.00422300597849,{"$f":"+IF(AND(A2440>Analyse1!$E$3,Data!A2440<Analyse1!$E$4),B2440,\"\")","v":""},{"$f":"+B2440/Analyse1!$H$3*Analyse1!$H$4","v":1.5366930800182885E-14}]
[6763.8969999999999,0.99660972975436102,{"$f":"+IF(AND(A2441>Analyse1!$E$3,Data!A2441<Analyse1!$E$4),B2441,\"\")","v":""},{"$f":"+B2441/Analyse1!$H$3*Analyse1!$H$4","v":1.5250430094460779E-14}]
[6764.8969999999999,0.98424433869611905,{"$f":"+IF(AND(A2442>Analyse1!$E$3,Data!A2442<Analyse1!$E$4),B2442,\"\")","v":""},{"$f":"+B2442/Analyse1!$H$3*Analyse1!$H$4","v":1.5061211058870118E-14}]
[6765.8969999999999,0.97245586721861099,{"$f":"+IF(AND(A2443>Analyse1!$E$3,Data!A2443<Analyse1!$E$4),B2443,\"\")","v":""},{"$f":"+B2443/Analyse1!$H$3*Analyse1!$H$4","v":1.4880820225005199E-14}]
[6766.8969999999999,0.96654591155080105,{"$f":"+IF(AND(A2444>Analyse1!$E$3,Data!A2444<Analyse1!$E$4),B2444,\"\")","v":""},{"$f":"+B2444/Analyse1!$H$3*Analyse1!$H$4","v":1.4790384256859964E-14}]
[6767.8969999999999,0.96885865426548301,{"$f":"+IF(AND(A2445>Analyse1!$E$3,Data!A2445<Analyse1!$E$4),B2445,\"\")","v":""},{"$f":"+B2445/Analyse1!$H$3*Analyse1!$H$4","v":1.482577456065062E-14}]
[6768.8969999999999,0.97617992096230599,{"$f":"+IF(AND(A2446>Analyse1!$E$3,Data!A2446<Analyse1!$E$4),B2446,\"\")","v":""},{"$f":"+B2446/Analyse1!$H$3*Analyse1!$H$4","v":1.4937806846338139E-14}]
[6769.8969999999999,0.98468205095190198,{"$f":"+IF(AND(A2447>Analyse1!$E$3,Data!A2447<Analyse1!$E$4),B2447,\"\")","v":""},{"$f":"+B2447/Analyse1!$H$3*Analyse1!$H$4","v":1.5067909067086385E-14}]
[6770.8969999999999,0.99053738354490495,{"$f":"+IF(AND(A2448>Analyse1!$E$3,Data!A2448<Analyse1!$E$4),B2448,\"\")","v":""},{"$f":"+B2448/Analyse1!$H$3*Analyse1!$H$4","v":1.5157509176059251E-14}]
[6771.8969999999999,0.99086634868774703,{"$f":"+IF(AND(A2449>Analyse1!$E$3,Data!A2449<Analyse1!$E$4),B2449,\"\")","v":""},{"$f":"+B2449/Analyse1!$H$3*Analyse1!$H$4","v":1.5162543102344181E-14}]
[6772.8969999999999,0.98676856680171499,{"$f":"+IF(AND(A2450>Analyse1!$E$3,Data!A2450<Analyse1!$E$4),B2450,\"\")","v":""},{"$f":"+B2450/Analyse1!$H$3*Analyse1!$H$4","v":1.5099837577473696E-14}]
[6773.8969999999999,0.98038744110905596,{"$f":"+IF(AND(A2451>Analyse1!$E$3,Data!A2451<Analyse1!$E$4),B2451,\"\")","v":""},{"$f":"+B2451/Analyse1!$H$3*Analyse1!$H$4","v":1.5002191619989567E-14}]
[6774.8969999999999,0.97386637892919803,{"$f":"+IF(AND(A2452>Analyse1!$E$3,Data!A2452<Analyse1!$E$4),B2452,\"\")","v":""},{"$f":"+B2452/Analyse1!$H$3*Analyse1!$H$4","v":1.4902404311129891E-14}]
[6775.8969999999999,0.96920418736124003,{"$f":"+IF(AND(A2453>Analyse1!$E$3,Data!A2453<Analyse1!$E$4),B2453,\"\")","v":""},{"$f":"+B2453/Analyse1!$H$3*Analyse1!$H$4","v":1.4831062014871504E-14}]
[6776.8969999999999,0.96693764527182702,{"$f":"+IF(AND(A2454>Analyse1!$E$3,Data!A2454<Analyse1!$E$4),B2454,\"\")","v":""},{"$f":"+B2454/Analyse1!$H$3*Analyse1!$H$4","v":1.4796378687327366E-14}]
[6777.8969999999999,0.96675481371426997,{"$f":"+IF(AND(A2455>Analyse1!$E$3,Data!A2455<Analyse1!$E$4),B2455,\"\")","v":""},{"$f":"+B2455/Analyse1!$H$3*Analyse1!$H$4","v":1.4793580942328154E-14}]
[6778.8969999999999,0.96833330729800204,{"$f":"+IF(AND(A2456>Analyse1!$E$3,Data!A2456<Analyse1!$E$4),B2456,\"\")","v":""},{"$f":"+B2456/Analyse1!$H$3*Analyse1!$H$4","v":1.481773553899178E-14}]
[6779.8969999999999,0.97134578590267395,{"$f":"+IF(AND(A2457>Analyse1!$E$3,Data!A2457<Analyse1!$E$4),B2457,\"\")","v":""},{"$f":"+B2457/Analyse1!$H$3*Analyse1!$H$4","v":1.4863833417629719E-14}]
[6780.8969999999999,0.97530068012397297,{"$f":"+IF(AND(A2458>Analyse1!$E$3,Data!A2458<Analyse1!$E$4),B2458,\"\")","v":""},{"$f":"+B2458/Analyse1!$H$3*Analyse1!$H$4","v":1.4924352431293948E-14}]
[6781.8969999999999,0.97950818771700099,{"$f":"+IF(AND(A2459>Analyse1!$E$3,Data!A2459<Analyse1!$E$4),B2459,\"\")","v":""},{"$f":"+B2459/Analyse1!$H$3*Analyse1!$H$4","v":1.4988737012844446E-14}]
[6782.8969999999999,0.98326667541449897,{"$f":"+IF(AND(A2460>Analyse1!$E$3,Data!A2460<Analyse1!$E$4),B2460,\"\")","v":""},{"$f":"+B2460/Analyse1!$H$3*Analyse1!$H$4","v":1.5046250553180552E-14}]
[6783.8969999999999,0.98587523238247798,{"$f":"+IF(AND(A2461>Analyse1!$E$3,Data!A2461<Analyse1!$E$4),B2461,\"\")","v":""},{"$f":"+B2461/Analyse1!$H$3*Analyse1!$H$4","v":1.5086167498098786E-14}]
[6784.8969999999999,0.98695576275811703,{"$f":"+IF(AND(A2462>Analyse1!$E$3,Data!A2462<Analyse1!$E$4),B2462,\"\")","v":""},{"$f":"+B2462/Analyse1!$H$3*Analyse1!$H$4","v":1.5102702107852886E-14}]
[6785.8969999999999,0.98696012100613195,{"$f":"+IF(AND(A2463>Analyse1!$E$3,Data!A2463<Analyse1!$E$4),B2463,\"\")","v":""},{"$f":"+B2463/Analyse1!$H$3*Analyse1!$H$4","v":1.5102768799110957E-14}]
[6786.8969999999999,0.98647170230029302,{"$f":"+IF(AND(A2464>Analyse1!$E$3,Data!A2464<Analyse1!$E$4),B2464,\"\")","v":""},{"$f":"+B2464/Analyse1!$H$3*Analyse1!$H$4","v":1.5095294865124723E-14}]
[6787.8969999999999,0.98607390181436905,{"$f":"+IF(AND(A2465>Analyse1!$E$3,Data!A2465<Analyse1!$E$4),B2465,\"\")","v":""},{"$f":"+B2465/Analyse1!$H$3*Analyse1!$H$4","v":1.5089207599145871E-14}]
[6788.8969999999999,0.98617348935293603,{"$f":"+IF(AND(A2466>Analyse1!$E$3,Data!A2466<Analyse1!$E$4),B2466,\"\")","v":""},{"$f":"+B2466/Analyse1!$H$3*Analyse1!$H$4","v":1.5090731518439304E-14}]
[6789.8969999999999,0.98613613237506703,{"$f":"+IF(AND(A2467>Analyse1!$E$3,Data!A2467<Analyse1!$E$4),B2467,\"\")","v":""},{"$f":"+B2467/Analyse1!$H$3*Analyse1!$H$4","v":1.5090159870418497E-14}]
[6790.8969999999999,0.98494734733358502,{"$f":"+IF(AND(A2468>Analyse1!$E$3,Data!A2468<Analyse1!$E$4),B2468,\"\")","v":""},{"$f":"+B2468/Analyse1!$H$3*Analyse1!$H$4","v":1.5071968714310749E-14}]
[6791.8969999999999,0.98159209162869199,{"$f":"+IF(AND(A2469>Analyse1!$E$3,Data!A2469<Analyse1!$E$4),B2469,\"\")","v":""},{"$f":"+B2469/Analyse1!$H$3*Analyse1!$H$4","v":1.5020625554547374E-14}]
[6792.8969999999999,0.97520699645718401,{"$f":"+IF(AND(A2470>Analyse1!$E$3,Data!A2470<Analyse1!$E$4),B2470,\"\")","v":""},{"$f":"+B2470/Analyse1!$H$3*Analyse1!$H$4","v":1.49229188548711E-14}]
[6793.8969999999999,0.96725325418275299,{"$f":"+IF(AND(A2471>Analyse1!$E$3,Data!A2471<Analyse1!$E$4),B2471,\"\")","v":""},{"$f":"+B2471/Analyse1!$H$3*Analyse1!$H$4","v":1.480120823242367E-14}]
[6794.8969999999999,0.96101010029050504,{"$f":"+IF(AND(A2472>Analyse1!$E$3,Data!A2472<Analyse1!$E$4),B2472,\"\")","v":""},{"$f":"+B2472/Analyse1!$H$3*Analyse1!$H$4","v":1.470567356207066E-14}]
[6795.8969999999999,0.95980521839858801,{"$f":"+IF(AND(A2473>Analyse1!$E$3,Data!A2473<Analyse1!$E$4),B2473,\"\")","v":""},{"$f":"+B2473/Analyse1!$H$3*Analyse1!$H$4","v":1.4687236086982701E-14}]
[6796.8969999999999,0.96691280035983096,{"$f":"+IF(AND(A2474>Analyse1!$E$3,Data!A2474<Analyse1!$E$4),B2474,\"\")","v":""},{"$f":"+B2474/Analyse1!$H$3*Analyse1!$H$4","v":1.4795998502805494E-14}]
[6797.8969999999999,0.98195663222614304,{"$f":"+IF(AND(A2475>Analyse1!$E$3,Data!A2475<Analyse1!$E$4),B2475,\"\")","v":""},{"$f":"+B2475/Analyse1!$H$3*Analyse1!$H$4","v":1.5026203867433593E-14}]
[6798.8969999999999,0.99863314451560203,{"$f":"+IF(AND(A2476>Analyse1!$E$3,Data!A2476<Analyse1!$E$4),B2476,\"\")","v":""},{"$f":"+B2476/Analyse1!$H$3*Analyse1!$H$4","v":1.5281393012488896E-14}]
[6799.8969999999999,1.0100960690031699,{"$f":"+IF(AND(A2477>Analyse1!$E$3,Data!A2477<Analyse1!$E$4),B2477,\"\")","v":""},{"$f":"+B2477/Analyse1!$H$3*Analyse1!$H$4","v":1.5456802225700996E-14}]
[6800.8969999999999,1.0094992866124,{"$f":"+IF(AND(A2478>Analyse1!$E$3,Data!A2478<Analyse1!$E$4),B2478,\"\")","v":""},{"$f":"+B2478/Analyse1!$H$3*Analyse1!$H$4","v":1.5447670077117331E-14}]
[6801.8969999999999,0.99304232033941697,{"$f":"+IF(AND(A2479>Analyse1!$E$3,Data!A2479<Analyse1!$E$4),B2479,\"\")","v":""},{"$f":"+B2479/Analyse1!$H$3*Analyse1!$H$4","v":1.5195840493058499E-14}]
[6802.8969999999999,0.96779755092702002,{"$f":"+IF(AND(A2480>Analyse1!$E$3,Data!A2480<Analyse1!$E$4),B2480,\"\")","v":""},{"$f":"+B2480/Analyse1!$H$3*Analyse1!$H$4","v":1.4809537229423461E-14}]
[6803.8969999999999,0.94326267570210198,{"$f":"+IF(AND(A2481>Analyse1!$E$3,Data!A2481<Analyse1!$E$4),B2481,\"\")","v":""},{"$f":"+B2481/Analyse1!$H$3*Analyse1!$H$4","v":1.4434096986043387E-14}]
[6804.8969999999999,0.92893539199154795,{"$f":"+IF(AND(A2482>Analyse1!$E$3,Data!A2482<Analyse1!$E$4),B2482,\"\")","v":""},{"$f":"+B2482/Analyse1!$H$3*Analyse1!$H$4","v":1.4214856462749313E-14}]
[6805.8969999999999,0.93295071704275701,{"$f":"+IF(AND(A2483>Analyse1!$E$3,Data!A2483<Analyse1!$E$4),B2483,\"\")","v":""},{"$f":"+B2483/Analyse1!$H$3*Analyse1!$H$4","v":1.4276300207649427E-14}]
[6806.8969999999999,0.95196981354667898,{"$f":"+IF(AND(A2484>Analyse1!$E$3,Data!A2484<Analyse1!$E$4),B2484,\"\")","v":""},{"$f":"+B2484/Analyse1!$H$3*Analyse1!$H$4","v":1.4567336300347775E-14}]
[6807.8969999999999,0.97690595309905903,{"$f":"+IF(AND(A2485>Analyse1!$E$3,Data!A2485<Analyse1!$E$4),B2485,\"\")","v":""},{"$f":"+B2485/Analyse1!$H$3*Analyse1!$H$4","v":1.4948916814480446E-14}]
[6808.8969999999999,0.99862947519247902,{"$f":"+IF(AND(A2486>Analyse1!$E$3,Data!A2486<Analyse1!$E$4),B2486,\"\")","v":""},{"$f":"+B2486/Analyse1!$H$3*Analyse1!$H$4","v":1.5281336863372435E-14}]
[6809.8969999999999,1.0082977227924099,{"$f":"+IF(AND(A2487>Analyse1!$E$3,Data!A2487<Analyse1!$E$4),B2487,\"\")","v":""},{"$f":"+B2487/Analyse1!$H$3*Analyse1!$H$4","v":1.5429283376191474E-14}]
[6810.8969999999999,1.0042633761435,{"$f":"+IF(AND(A2488>Analyse1!$E$3,Data!A2488<Analyse1!$E$4),B2488,\"\")","v":""},{"$f":"+B2488/Analyse1!$H$3*Analyse1!$H$4","v":1.5367548556924573E-14}]
[6811.8969999999999,0.99242095020850596,{"$f":"+IF(AND(A2489>Analyse1!$E$3,Data!A2489<Analyse1!$E$4),B2489,\"\")","v":""},{"$f":"+B2489/Analyse1!$H$3*Analyse1!$H$4","v":1.5186332095276169E-14}]
[6812.8969999999999,0.97902131096882306,{"$f":"+IF(AND(A2490>Analyse1!$E$3,Data!A2490<Analyse1!$E$4),B2490,\"\")","v":""},{"$f":"+B2490/Analyse1!$H$3*Analyse1!$H$4","v":1.4981286674370892E-14}]
[6813.8969999999999,0.97030204280191501,{"$f":"+IF(AND(A2491>Analyse1!$E$3,Data!A2491<Analyse1!$E$4),B2491,\"\")","v":""},{"$f":"+B2491/Analyse1!$H$3*Analyse1!$H$4","v":1.4847861738125223E-14}]
[6814.8969999999999,0.96982246130718197,{"$f":"+IF(AND(A2492>Analyse1!$E$3,Data!A2492<Analyse1!$E$4),B2492,\"\")","v":""},{"$f":"+B2492/Analyse1!$H$3*Analyse1!$H$4","v":1.4840523033874536E-14}]
[6815.8969999999999,0.97523243202981602,{"$f":"+IF(AND(A2493>Analyse1!$E$3,Data!A2493<Analyse1!$E$4),B2493,\"\")","v":""},{"$f":"+B2493/Analyse1!$H$3*Analyse1!$H$4","v":1.4923308077864571E-14}]
[6816.8969999999999,0.98339238142302099,{"$f":"+IF(AND(A2494>Analyse1!$E$3,Data!A2494<Analyse1!$E$4),B2494,\"\")","v":""},{"$f":"+B2494/Analyse1!$H$3*Analyse1!$H$4","v":1.5048174145373345E-14}]
[6817.8969999999999,0.99116273593999904,{"$f":"+IF(AND(A2495>Analyse1!$E$3,Data!A2495<Analyse1!$E$4),B2495,\"\")","v":""},{"$f":"+B2495/Analyse1!$H$3*Analyse1!$H$4","v":1.5167078511678861E-14}]
[6818.8969999999999,0.99579089307843205,{"$f":"+IF(AND(A2496>Analyse1!$E$3,Data!A2496<Analyse1!$E$4),B2496,\"\")","v":""},{"$f":"+B2496/Analyse1!$H$3*Analyse1!$H$4","v":1.523790000257806E-14}]
[6819.8969999999999,0.996458410793161,{"$f":"+IF(AND(A2497>Analyse1!$E$3,Data!A2497<Analyse1!$E$4),B2497,\"\")","v":""},{"$f":"+B2497/Analyse1!$H$3*Analyse1!$H$4","v":1.5248114564950228E-14}]
[6820.8969999999999,0.99294990742994804,{"$f":"+IF(AND(A2498>Analyse1!$E$3,Data!A2498<Analyse1!$E$4),B2498,\"\")","v":""},{"$f":"+B2498/Analyse1!$H$3*Analyse1!$H$4","v":1.5194426362156898E-14}]
[6821.8969999999999,0.985050199059052,{"$f":"+IF(AND(A2499>Analyse1!$E$3,Data!A2499<Analyse1!$E$4),B2499,\"\")","v":""},{"$f":"+B2499/Analyse1!$H$3*Analyse1!$H$4","v":1.5073542583200947E-14}]
[6822.8969999999999,0.97274847625148597,{"$f":"+IF(AND(A2500>Analyse1!$E$3,Data!A2500<Analyse1!$E$4),B2500,\"\")","v":""},{"$f":"+B2500/Analyse1!$H$3*Analyse1!$H$4","v":1.4885297818859283E-14}]
[6823.8969999999999,0.95857850098336495,{"$f":"+IF(AND(A2501>Analyse1!$E$3,Data!A2501<Analyse1!$E$4),B2501,\"\")","v":""},{"$f":"+B2501/Analyse1!$H$3*Analyse1!$H$4","v":1.4668464477968681E-14}]
[6824.8969999999999,0.94679952994011096,{"$f":"+IF(AND(A2502>Analyse1!$E$3,Data!A2502<Analyse1!$E$4),B2502,\"\")","v":""},{"$f":"+B2502/Analyse1!$H$3*Analyse1!$H$4","v":1.4488219022684896E-14}]
[6825.8969999999999,0.94170359051833896,{"$f":"+IF(AND(A2503>Analyse1!$E$3,Data!A2503<Analyse1!$E$4),B2503,\"\")","v":""},{"$f":"+B2503/Analyse1!$H$3*Analyse1!$H$4","v":1.4410239382714398E-14}]
[6826.8969999999999,0.947493541259121,{"$f":"+IF(AND(A2504>Analyse1!$E$3,Data!A2504<Analyse1!$E$4),B2504,\"\")","v":""},{"$f":"+B2504/Analyse1!$H$3*Analyse1!$H$4","v":1.4498838998377826E-14}]
[6827.8969999999999,0.96420160848554404,{"$f":"+IF(AND(A2505>Analyse1!$E$3,Data!A2505<Analyse1!$E$4),B2505,\"\")","v":""},{"$f":"+B2505/Analyse1!$H$3*Analyse1!$H$4","v":1.4754511006830843E-14}]
[6828.8969999999999,0.98599549302558298,{"$f":"+IF(AND(A2506>Analyse1!$E$3,Data!A2506<Analyse1!$E$4),B2506,\"\")","v":""},{"$f":"+B2506/Analyse1!$H$3*Analyse1!$H$4","v":1.5088007763627038E-14}]
[6829.8969999999999,1.00660256141808,{"$f":"+IF(AND(A2507>Analyse1!$E$3,Data!A2507<Analyse1!$E$4),B2507,\"\")","v":""},{"$f":"+B2507/Analyse1!$H$3*Analyse1!$H$4","v":1.5403343492939061E-14}]
[6830.8969999999999,1.0197514106796399,{"$f":"+IF(AND(A2508>Analyse1!$E$3,Data!A2508<Analyse1!$E$4),B2508,\"\")","v":""},{"$f":"+B2508/Analyse1!$H$3*Analyse1!$H$4","v":1.5604551248090566E-14}]
[6831.8969999999999,1.0212250787660599,{"$f":"+IF(AND(A2509>Analyse1!$E$3,Data!A2509<Analyse1!$E$4),B2509,\"\")","v":""},{"$f":"+B2509/Analyse1!$H$3*Analyse1!$H$4","v":1.5627101772597209E-14}]
[6832.8969999999999,1.0130564361666199,{"$f":"+IF(AND(A2510>Analyse1!$E$3,Data!A2510<Analyse1!$E$4),B2510,\"\")","v":""},{"$f":"+B2510/Analyse1!$H$3*Analyse1!$H$4","v":1.5502102678959925E-14}]
[6833.8969999999999,0.99846246968299002,{"$f":"+IF(AND(A2511>Analyse1!$E$3,Data!A2511<Analyse1!$E$4),B2511,\"\")","v":""},{"$f":"+B2511/Analyse1!$H$3*Analyse1!$H$4","v":1.5278781293451922E-14}]
[6834.8969999999999,0.98066016611679696,{"$f":"+IF(AND(A2512>Analyse1!$E$3,Data!A2512<Analyse1!$E$4),B2512,\"\")","v":""},{"$f":"+B2512/Analyse1!$H$3*Analyse1!$H$4","v":1.5006364942345743E-14}]
[6835.8969999999999,0.96276890727589404,{"$f":"+IF(AND(A2513>Analyse1!$E$3,Data!A2513<Analyse1!$E$4),B2513,\"\")","v":""},{"$f":"+B2513/Analyse1!$H$3*Analyse1!$H$4","v":1.4732587370133655E-14}]
[6836.8969999999999,0.94721821876539103,{"$f":"+IF(AND(A2514>Analyse1!$E$3,Data!A2514<Analyse1!$E$4),B2514,\"\")","v":""},{"$f":"+B2514/Analyse1!$H$3*Analyse1!$H$4","v":1.4494625928488276E-14}]
[6837.8969999999999,0.93614034249213396,{"$f":"+IF(AND(A2515>Analyse1!$E$3,Data!A2515<Analyse1!$E$4),B2515,\"\")","v":""},{"$f":"+B2515/Analyse1!$H$3*Analyse1!$H$4","v":1.4325108842053617E-14}]
[6838.8969999999999,0.93166635523682895,{"$f":"+IF(AND(A2516>Analyse1!$E$3,Data!A2516<Analyse1!$E$4),B2516,\"\")","v":""},{"$f":"+B2516/Analyse1!$H$3*Analyse1!$H$4","v":1.4256646506353405E-14}]
[6839.8969999999999,0.93577804270757203,{"$f":"+IF(AND(A2517>Analyse1!$E$3,Data!A2517<Analyse1!$E$4),B2517,\"\")","v":""},{"$f":"+B2517/Analyse1!$H$3*Analyse1!$H$4","v":1.4319564818778766E-14}]
[6840.8969999999999,0.947540721963257,{"$f":"+IF(AND(A2518>Analyse1!$E$3,Data!A2518<Analyse1!$E$4),B2518,\"\")","v":""},{"$f":"+B2518/Analyse1!$H$3*Analyse1!$H$4","v":1.4499560972094066E-14}]
[6841.8969999999999,0.96336457178290502,{"$f":"+IF(AND(A2519>Analyse1!$E$3,Data!A2519<Analyse1!$E$4),B2519,\"\")","v":""},{"$f":"+B2519/Analyse1!$H$3*Analyse1!$H$4","v":1.4741702412514551E-14}]
[6842.8969999999999,0.97956289038212396,{"$f":"+IF(AND(A2520>Analyse1!$E$3,Data!A2520<Analyse1!$E$4),B2520,\"\")","v":""},{"$f":"+B2520/Analyse1!$H$3*Analyse1!$H$4","v":1.4989574089932427E-14}]
[6843.8969999999999,0.99246306820558605,{"$f":"+IF(AND(A2521>Analyse1!$E$3,Data!A2521<Analyse1!$E$4),B2521,\"\")","v":""},{"$f":"+B2521/Analyse1!$H$3*Analyse1!$H$4","v":1.5186976597884374E-14}]
[6844.8969999999999,0.99997020285543503,{"$f":"+IF(AND(A2522>Analyse1!$E$3,Data!A2522<Analyse1!$E$4),B2522,\"\")","v":""},{"$f":"+B2522/Analyse1!$H$3*Analyse1!$H$4","v":1.530185309243299E-14}]
[6845.8969999999999,1.00298726880344,{"$f":"+IF(AND(A2523>Analyse1!$E$3,Data!A2523<Analyse1!$E$4),B2523,\"\")","v":""},{"$f":"+B2523/Analyse1!$H$3*Analyse1!$H$4","v":1.5348021168016368E-14}]
[6846.8969999999999,1.0027526060306,{"$f":"+IF(AND(A2524>Analyse1!$E$3,Data!A2524<Analyse1!$E$4),B2524,\"\")","v":""},{"$f":"+B2524/Analyse1!$H$3*Analyse1!$H$4","v":1.534443028574207E-14}]
[6847.8969999999999,1.0005045545179301,{"$f":"+IF(AND(A2525>Analyse1!$E$3,Data!A2525<Analyse1!$E$4),B2525,\"\")","v":""},{"$f":"+B2525/Analyse1!$H$3*Analyse1!$H$4","v":1.5310029906717906E-14}]
[6848.8969999999999,0.99722838287427196,{"$f":"+IF(AND(A2526>Analyse1!$E$3,Data!A2526<Analyse1!$E$4),B2526,\"\")","v":""},{"$f":"+B2526/Analyse1!$H$3*Analyse1!$H$4","v":1.5259896915701073E-14}]
[6849.8969999999999,0.99283437475107505,{"$f":"+IF(AND(A2527>Analyse1!$E$3,Data!A2527<Analyse1!$E$4),B2527,\"\")","v":""},{"$f":"+B2527/Analyse1!$H$3*Analyse1!$H$4","v":1.5192658445398535E-14}]
[6850.8969999999999,0.98694743386179495,{"$f":"+IF(AND(A2528>Analyse1!$E$3,Data!A2528<Analyse1!$E$4),B2528,\"\")","v":""},{"$f":"+B2528/Analyse1!$H$3*Analyse1!$H$4","v":1.5102574656507256E-14}]
[6851.8969999999999,0.97919246175980201,{"$f":"+IF(AND(A2529>Analyse1!$E$3,Data!A2529<Analyse1!$E$4),B2529,\"\")","v":""},{"$f":"+B2529/Analyse1!$H$3*Analyse1!$H$4","v":1.4983905676669896E-14}]
[6852.8969999999999,0.96932399655804902,{"$f":"+IF(AND(A2530>Analyse1!$E$3,Data!A2530<Analyse1!$E$4),B2530,\"\")","v":""},{"$f":"+B2530/Analyse1!$H$3*Analyse1!$H$4","v":1.4832895372229011E-14}]
[6853.8969999999999,0.95842570114501902,{"$f":"+IF(AND(A2531>Analyse1!$E$3,Data!A2531<Analyse1!$E$4),B2531,\"\")","v":""},{"$f":"+B2531/Analyse1!$H$3*Analyse1!$H$4","v":1.466612628761837E-14}]
[6854.8969999999999,0.94836118736494801,{"$f":"+IF(AND(A2532>Analyse1!$E$3,Data!A2532<Analyse1!$E$4),B2532,\"\")","v":""},{"$f":"+B2532/Analyse1!$H$3*Analyse1!$H$4","v":1.4512115987241769E-14}]
[6855.8969999999999,0.94100398760055803,{"$f":"+IF(AND(A2533>Analyse1!$E$3,Data!A2533<Analyse1!$E$4),B2533,\"\")","v":""},{"$f":"+B2533/Analyse1!$H$3*Analyse1!$H$4","v":1.4399533842648953E-14}]
[6856.8969999999999,0.93815424975968698,{"$f":"+IF(AND(A2534>Analyse1!$E$3,Data!A2534<Analyse1!$E$4),B2534,\"\")","v":""},{"$f":"+B2534/Analyse1!$H$3*Analyse1!$H$4","v":1.4355926273474956E-14}]
[6857.8969999999999,0.93912533444745405,{"$f":"+IF(AND(A2535>Analyse1!$E$3,Data!A2535<Analyse1!$E$4),B2535,\"\")","v":""},{"$f":"+B2535/Analyse1!$H$3*Analyse1!$H$4","v":1.4370786111488216E-14}]
[6858.8969999999999,0.94019729147028497,{"$f":"+IF(AND(A2536>Analyse1!$E$3,Data!A2536<Analyse1!$E$4),B2536,\"\")","v":""},{"$f":"+B2536/Analyse1!$H$3*Analyse1!$H$4","v":1.4387189529147988E-14}]
[6859.8969999999999,0.93746612736257995,{"$f":"+IF(AND(A2537>Analyse1!$E$3,Data!A2537<Analyse1!$E$4),B2537,\"\")","v":""},{"$f":"+B2537/Analyse1!$H$3*Analyse1!$H$4","v":1.4345396411885E-14}]
[6860.8969999999999,0.92703244755751102,{"$f":"+IF(AND(A2538>Analyse1!$E$3,Data!A2538<Analyse1!$E$4),B2538,\"\")","v":""},{"$f":"+B2538/Analyse1!$H$3*Analyse1!$H$4","v":1.4185737018900337E-14}]
[6861.8969999999999,0.90720362619065398,{"$f":"+IF(AND(A2539>Analyse1!$E$3,Data!A2539<Analyse1!$E$4),B2539,\"\")","v":""},{"$f":"+B2539/Analyse1!$H$3*Analyse1!$H$4","v":1.3882310266097777E-14}]
[6862.8969999999999,0.88202604781768901,{"$f":"+IF(AND(A2540>Analyse1!$E$3,Data!A2540<Analyse1!$E$4),B2540,\"\")","v":""},{"$f":"+B2540/Analyse1!$H$3*Analyse1!$H$4","v":1.3497035180514026E-14}]
[6863.8969999999999,0.85646708642299796,{"$f":"+IF(AND(A2541>Analyse1!$E$3,Data!A2541<Analyse1!$E$4),B2541,\"\")","v":""},{"$f":"+B2541/Analyse1!$H$3*Analyse1!$H$4","v":1.3105924054062522E-14}]
[6864.8969999999999,0.83549411599096701,{"$f":"+IF(AND(A2542>Analyse1!$E$3,Data!A2542<Analyse1!$E$4),B2542,\"\")","v":""},{"$f":"+B2542/Analyse1!$H$3*Analyse1!$H$4","v":1.2784989178656765E-14}]
[6865.8969999999999,0.82282357399877804,{"$f":"+IF(AND(A2543>Analyse1!$E$3,Data!A2543<Analyse1!$E$4),B2543,\"\")","v":""},{"$f":"+B2543/Analyse1!$H$3*Analyse1!$H$4","v":1.2591100629165648E-14}]
[6866.8969999999999,0.81470672851436499,{"$f":"+IF(AND(A2544>Analyse1!$E$3,Data!A2544<Analyse1!$E$4),B2544,\"\")","v":""},{"$f":"+B2544/Analyse1!$H$3*Analyse1!$H$4","v":1.2466894150990795E-14}]
[6867.8969999999999,0.80463729888128099,{"$f":"+IF(AND(A2545>Analyse1!$E$3,Data!A2545<Analyse1!$E$4),B2545,\"\")","v":""},{"$f":"+B2545/Analyse1!$H$3*Analyse1!$H$4","v":1.2312808626712111E-14}]
[6868.8969999999999,0.78610460184749797,{"$f":"+IF(AND(A2546>Analyse1!$E$3,Data!A2546<Analyse1!$E$4),B2546,\"\")","v":""},{"$f":"+B2546/Analyse1!$H$3*Analyse1!$H$4","v":1.2029215569031256E-14}]
[6869.8969999999999,0.75320433945273402,{"$f":"+IF(AND(A2547>Analyse1!$E$3,Data!A2547<Analyse1!$E$4),B2547,\"\")","v":""},{"$f":"+B2547/Analyse1!$H$3*Analyse1!$H$4","v":1.1525765585792148E-14}]
[6870.8969999999999,0.70947588695779995,{"$f":"+IF(AND(A2548>Analyse1!$E$3,Data!A2548<Analyse1!$E$4),B2548,\"\")","v":""},{"$f":"+B2548/Analyse1!$H$3*Analyse1!$H$4","v":1.0856619291106354E-14}]
[6871.8969999999999,0.66592257568064706,{"$f":"+IF(AND(A2549>Analyse1!$E$3,Data!A2549<Analyse1!$E$4),B2549,\"\")","v":""},{"$f":"+B2549/Analyse1!$H$3*Analyse1!$H$4","v":1.0190153061463764E-14}]
[6872.8969999999999,0.63375129648212702,{"$f":"+IF(AND(A2550>Analyse1!$E$3,Data!A2550<Analyse1!$E$4),B2550,\"\")","v":""},{"$f":"+B2550/Analyse1!$H$3*Analyse1!$H$4","v":9.6978582043913391E-15}]
[6873.8969999999999,0.62406133325551405,{"$f":"+IF(AND(A2551>Analyse1!$E$3,Data!A2551<Analyse1!$E$4),B2551,\"\")","v":""},{"$f":"+B2551/Analyse1!$H$3*Analyse1!$H$4","v":9.5495793923414301E-15}]
[6874.8969999999999,0.64037917045589998,{"$f":"+IF(AND(A2552>Analyse1!$E$3,Data!A2552<Analyse1!$E$4),B2552,\"\")","v":""},{"$f":"+B2552/Analyse1!$H$3*Analyse1!$H$4","v":9.799279980332494E-15}]
[6875.8969999999999,0.67380211283541902,{"$f":"+IF(AND(A2553>Analyse1!$E$3,Data!A2553<Analyse1!$E$4),B2553,\"\")","v":""},{"$f":"+B2553/Analyse1!$H$3*Analyse1!$H$4","v":1.0310728174236518E-14}]
[6876.8969999999999,0.71427319384969501,{"$f":"+IF(AND(A2554>Analyse1!$E$3,Data!A2554<Analyse1!$E$4),B2554,\"\")","v":""},{"$f":"+B2554/Analyse1!$H$3*Analyse1!$H$4","v":1.0930029163810039E-14}]
[6877.8969999999999,0.75173554045283697,{"$f":"+IF(AND(A2555>Analyse1!$E$3,Data!A2555<Analyse1!$E$4),B2555,\"\")","v":""},{"$f":"+B2555/Analyse1!$H$3*Analyse1!$H$4","v":1.1503289569552307E-14}]
[6878.8969999999999,0.77876789226364296,{"$f":"+IF(AND(A2556>Analyse1!$E$3,Data!A2556<Analyse1!$E$4),B2556,\"\")","v":""},{"$f":"+B2556/Analyse1!$H$3*Analyse1!$H$4","v":1.1916946971513632E-14}]
[6879.8969999999999,0.79747116751249203,{"$f":"+IF(AND(A2557>Analyse1!$E$3,Data!A2557<Analyse1!$E$4),B2557,\"\")","v":""},{"$f":"+B2557/Analyse1!$H$3*Analyse1!$H$4","v":1.220315026975991E-14}]
[6880.8969999999999,0.81209601634776196,{"$f":"+IF(AND(A2558>Analyse1!$E$3,Data!A2558<Analyse1!$E$4),B2558,\"\")","v":""},{"$f":"+B2558/Analyse1!$H$3*Analyse1!$H$4","v":1.2426944226557133E-14}]
[6881.8969999999999,0.82689308891782798,{"$f":"+IF(AND(A2559>Analyse1!$E$3,Data!A2559<Analyse1!$E$4),B2559,\"\")","v":""},{"$f":"+B2559/Analyse1!$H$3*Analyse1!$H$4","v":1.2653373604171252E-14}]
[6882.8969999999999,0.84545537168636598,{"$f":"+IF(AND(A2560>Analyse1!$E$3,Data!A2560<Analyse1!$E$4),B2560,\"\")","v":""},{"$f":"+B2560/Analyse1!$H$3*Analyse1!$H$4","v":1.2937419391909022E-14}]
[6883.8969999999999,0.86576438750777895,{"$f":"+IF(AND(A2561>Analyse1!$E$3,Data!A2561<Analyse1!$E$4),B2561,\"\")","v":""},{"$f":"+B2561/Analyse1!$H$3*Analyse1!$H$4","v":1.3248194228662919E-14}]
[6884.8969999999999,0.88295941539872203,{"$f":"+IF(AND(A2562>Analyse1!$E$3,Data!A2562<Analyse1!$E$4),B2562,\"\")","v":""},{"$f":"+B2562/Analyse1!$H$3*Analyse1!$H$4","v":1.3511317859703289E-14}]
[6885.8969999999999,0.892157613563202,{"$f":"+IF(AND(A2563>Analyse1!$E$3,Data!A2563<Analyse1!$E$4),B2563,\"\")","v":""},{"$f":"+B2563/Analyse1!$H$3*Analyse1!$H$4","v":1.3652071530788735E-14}]
[6886.8969999999999,0.88871197967118998,{"$f":"+IF(AND(A2564>Analyse1!$E$3,Data!A2564<Analyse1!$E$4),B2564,\"\")","v":""},{"$f":"+B2564/Analyse1!$H$3*Analyse1!$H$4","v":1.3599345376074003E-14}]
[6887.8969999999999,0.87400494253458005,{"$f":"+IF(AND(A2565>Analyse1!$E$3,Data!A2565<Analyse1!$E$4),B2565,\"\")","v":""},{"$f":"+B2565/Analyse1!$H$3*Analyse1!$H$4","v":1.3374293748488761E-14}]
[6888.8969999999999,0.85580502843363604,{"$f":"+IF(AND(A2566>Analyse1!$E$3,Data!A2566<Analyse1!$E$4),B2566,\"\")","v":""},{"$f":"+B2566/Analyse1!$H$3*Analyse1!$H$4","v":1.3095793038095287E-14}]
[6889.8969999999999,0.84218801024572698,{"$f":"+IF(AND(A2567>Analyse1!$E$3,Data!A2567<Analyse1!$E$4),B2567,\"\")","v":""},{"$f":"+B2567/Analyse1!$H$3*Analyse1!$H$4","v":1.2887421217341647E-14}]
[6890.8969999999999,0.84120801901906495,{"$f":"+IF(AND(A2568>Analyse1!$E$3,Data!A2568<Analyse1!$E$4),B2568,\"\")","v":""},{"$f":"+B2568/Analyse1!$H$3*Analyse1!$H$4","v":1.287242508871758E-14}]
[6891.8969999999999,0.85632951984472905,{"$f":"+IF(AND(A2569>Analyse1!$E$3,Data!A2569<Analyse1!$E$4),B2569,\"\")","v":""},{"$f":"+B2569/Analyse1!$H$3*Analyse1!$H$4","v":1.3103818967765862E-14}]
[6892.8969999999999,0.88077604192124004,{"$f":"+IF(AND(A2570>Analyse1!$E$3,Data!A2570<Analyse1!$E$4),B2570,\"\")","v":""},{"$f":"+B2570/Analyse1!$H$3*Analyse1!$H$4","v":1.3477907203962806E-14}]
[6893.8969999999999,0.90638532704016905,{"$f":"+IF(AND(A2571>Analyse1!$E$3,Data!A2571<Analyse1!$E$4),B2571,\"\")","v":""},{"$f":"+B2571/Analyse1!$H$3*Analyse1!$H$4","v":1.3869788399595528E-14}]
[6894.8969999999999,0.92499511699308501,{"$f":"+IF(AND(A2572>Analyse1!$E$3,Data!A2572<Analyse1!$E$4),B2572,\"\")","v":""},{"$f":"+B2572/Analyse1!$H$3*Analyse1!$H$4","v":1.4154561156951102E-14}]
[6895.8969999999999,0.93022643146304895,{"$f":"+IF(AND(A2573>Analyse1!$E$3,Data!A2573<Analyse1!$E$4),B2573,\"\")","v":""},{"$f":"+B2573/Analyse1!$H$3*Analyse1!$H$4","v":1.4234612347747715E-14}]
[6896.8969999999999,0.92472216198193902,{"$f":"+IF(AND(A2574>Analyse1!$E$3,Data!A2574<Analyse1!$E$4),B2574,\"\")","v":""},{"$f":"+B2574/Analyse1!$H$3*Analyse1!$H$4","v":1.4150384315011738E-14}]
[6897.8969999999999,0.91397159411679996,{"$f":"+IF(AND(A2575>Analyse1!$E$3,Data!A2575<Analyse1!$E$4),B2575,\"\")","v":""},{"$f":"+B2575/Analyse1!$H$3*Analyse1!$H$4","v":1.3985875802995235E-14}]
[6898.8969999999999,0.90346509438408895,{"$f":"+IF(AND(A2576>Analyse1!$E$3,Data!A2576<Analyse1!$E$4),B2576,\"\")","v":""},{"$f":"+B2576/Analyse1!$H$3*Analyse1!$H$4","v":1.3825102096972244E-14}]
[6899.8969999999999,0.89838243475813495,{"$f":"+IF(AND(A2577>Analyse1!$E$3,Data!A2577<Analyse1!$E$4),B2577,\"\")","v":""},{"$f":"+B2577/Analyse1!$H$3*Analyse1!$H$4","v":1.3747325668541575E-14}]
[6900.8969999999999,0.89997832698749902,{"$f":"+IF(AND(A2578>Analyse1!$E$3,Data!A2578<Analyse1!$E$4),B2578,\"\")","v":""},{"$f":"+B2578/Analyse1!$H$3*Analyse1!$H$4","v":1.3771746504657842E-14}]
[6901.8969999999999,0.90681743338288801,{"$f":"+IF(AND(A2579>Analyse1!$E$3,Data!A2579<Analyse1!$E$4),B2579,\"\")","v":""},{"$f":"+B2579/Analyse1!$H$3*Analyse1!$H$4","v":1.3876400624397539E-14}]
[6902.8969999999999,0.91741193048164804,{"$f":"+IF(AND(A2580>Analyse1!$E$3,Data!A2580<Analyse1!$E$4),B2580,\"\")","v":""},{"$f":"+B2580/Analyse1!$H$3*Analyse1!$H$4","v":1.4038520893312062E-14}]
[6903.8969999999999,0.93027455372408496,{"$f":"+IF(AND(A2581>Analyse1!$E$3,Data!A2581<Analyse1!$E$4),B2581,\"\")","v":""},{"$f":"+B2581/Analyse1!$H$3*Analyse1!$H$4","v":1.4235348729458634E-14}]
[6904.8969999999999,0.94394486433727598,{"$f":"+IF(AND(A2582>Analyse1!$E$3,Data!A2582<Analyse1!$E$4),B2582,\"\")","v":""},{"$f":"+B2582/Analyse1!$H$3*Analyse1!$H$4","v":1.4444536047374363E-14}]
[6905.8969999999999,0.957000546222189,{"$f":"+IF(AND(A2583>Analyse1!$E$3,Data!A2583<Analyse1!$E$4),B2583,\"\")","v":""},{"$f":"+B2583/Analyse1!$H$3*Analyse1!$H$4","v":1.4644318126534334E-14}]
[6906.8969999999999,0.968022189405915,{"$f":"+IF(AND(A2584>Analyse1!$E$3,Data!A2584<Analyse1!$E$4),B2584,\"\")","v":""},{"$f":"+B2584/Analyse1!$H$3*Analyse1!$H$4","v":1.4812974716853729E-14}]
[6907.8969999999999,0.97559073440113697,{"$f":"+IF(AND(A2585>Analyse1!$E$3,Data!A2585<Analyse1!$E$4),B2585,\"\")","v":""},{"$f":"+B2585/Analyse1!$H$3*Analyse1!$H$4","v":1.4928790931486574E-14}]
[6908.8969999999999,0.97894867011552,{"$f":"+IF(AND(A2586>Analyse1!$E$3,Data!A2586<Analyse1!$E$4),B2586,\"\")","v":""},{"$f":"+B2586/Analyse1!$H$3*Analyse1!$H$4","v":1.4980175101583445E-14}]
[6909.8969999999999,0.97937477829171704,{"$f":"+IF(AND(A2587>Analyse1!$E$3,Data!A2587<Analyse1!$E$4),B2587,\"\")","v":""},{"$f":"+B2587/Analyse1!$H$3*Analyse1!$H$4","v":1.4986695540587559E-14}]
[6910.8969999999999,0.97853836728298904,{"$f":"+IF(AND(A2588>Analyse1!$E$3,Data!A2588<Analyse1!$E$4),B2588,\"\")","v":""},{"$f":"+B2588/Analyse1!$H$3*Analyse1!$H$4","v":1.4973896520832867E-14}]
[6911.8969999999999,0.97810874544259396,{"$f":"+IF(AND(A2589>Analyse1!$E$3,Data!A2589<Analyse1!$E$4),B2589,\"\")","v":""},{"$f":"+B2589/Analyse1!$H$3*Analyse1!$H$4","v":1.4967322314653269E-14}]
[6912.8969999999999,0.97946542728017105,{"$f":"+IF(AND(A2590>Analyse1!$E$3,Data!A2590<Analyse1!$E$4),B2590,\"\")","v":""},{"$f":"+B2590/Analyse1!$H$3*Analyse1!$H$4","v":1.4988082679424636E-14}]
[6913.8969999999999,0.98191344440133299,{"$f":"+IF(AND(A2591>Analyse1!$E$3,Data!A2591<Analyse1!$E$4),B2591,\"\")","v":""},{"$f":"+B2591/Analyse1!$H$3*Analyse1!$H$4","v":1.5025542993990828E-14}]
[6914.8969999999999,0.98385372652849201,{"$f":"+IF(AND(A2592>Analyse1!$E$3,Data!A2592<Analyse1!$E$4),B2592,\"\")","v":""},{"$f":"+B2592/Analyse1!$H$3*Analyse1!$H$4","v":1.5055233790759451E-14}]
[6915.8969999999999,0.98368346118939798,{"$f":"+IF(AND(A2593>Analyse1!$E$3,Data!A2593<Analyse1!$E$4),B2593,\"\")","v":""},{"$f":"+B2593/Analyse1!$H$3*Analyse1!$H$4","v":1.5052628337918846E-14}]
[6916.8969999999999,0.97990659118078405,{"$f":"+IF(AND(A2594>Analyse1!$E$3,Data!A2594<Analyse1!$E$4),B2594,\"\")","v":""},{"$f":"+B2594/Analyse1!$H$3*Analyse1!$H$4","v":1.4994833505776849E-14}]
[6917.8969999999999,0.97314965219833605,{"$f":"+IF(AND(A2595>Analyse1!$E$3,Data!A2595<Analyse1!$E$4),B2595,\"\")","v":""},{"$f":"+B2595/Analyse1!$H$3*Analyse1!$H$4","v":1.4891436737184436E-14}]
[6918.8969999999999,0.96599186787569702,{"$f":"+IF(AND(A2596>Analyse1!$E$3,Data!A2596<Analyse1!$E$4),B2596,\"\")","v":""},{"$f":"+B2596/Analyse1!$H$3*Analyse1!$H$4","v":1.4781906109312142E-14}]
[6919.8969999999999,0.96108516195684102,{"$f":"+IF(AND(A2597>Analyse1!$E$3,Data!A2597<Analyse1!$E$4),B2597,\"\")","v":""},{"$f":"+B2597/Analyse1!$H$3*Analyse1!$H$4","v":1.4706822178887304E-14}]
[6920.8969999999999,0.96106545832120505,{"$f":"+IF(AND(A2598>Analyse1!$E$3,Data!A2598<Analyse1!$E$4),B2598,\"\")","v":""},{"$f":"+B2598/Analyse1!$H$3*Analyse1!$H$4","v":1.4706520667765247E-14}]
[6921.8969999999999,0.96670684288374098,{"$f":"+IF(AND(A2599>Analyse1!$E$3,Data!A2599<Analyse1!$E$4),B2599,\"\")","v":""},{"$f":"+B2599/Analyse1!$H$3*Analyse1!$H$4","v":1.4792846877853653E-14}]
[6922.8969999999999,0.97520664407905,{"$f":"+IF(AND(A2600>Analyse1!$E$3,Data!A2600<Analyse1!$E$4),B2600,\"\")","v":""},{"$f":"+B2600/Analyse1!$H$3*Analyse1!$H$4","v":1.4922913462671989E-14}]
[6923.8969999999999,0.98335666344963302,{"$f":"+IF(AND(A2601>Analyse1!$E$3,Data!A2601<Analyse1!$E$4),B2601,\"\")","v":""},{"$f":"+B2601/Analyse1!$H$3*Analyse1!$H$4","v":1.5047627577905654E-14}]
[6924.8969999999999,0.98794870253799305,{"$f":"+IF(AND(A2602>Analyse1!$E$3,Data!A2602<Analyse1!$E$4),B2602,\"\")","v":""},{"$f":"+B2602/Analyse1!$H$3*Analyse1!$H$4","v":1.511789637924008E-14}]
[6925.8969999999999,0.98670216252437604,{"$f":"+IF(AND(A2603>Analyse1!$E$3,Data!A2603<Analyse1!$E$4),B2603,\"\")","v":""},{"$f":"+B2603/Analyse1!$H$3*Analyse1!$H$4","v":1.5098821438699112E-14}]
[6926.8969999999999,0.98132426768364101,{"$f":"+IF(AND(A2604>Analyse1!$E$3,Data!A2604<Analyse1!$E$4),B2604,\"\")","v":""},{"$f":"+B2604/Analyse1!$H$3*Analyse1!$H$4","v":1.5016527229767192E-14}]
[6927.8969999999999,0.97459366251276403,{"$f":"+IF(AND(A2605>Analyse1!$E$3,Data!A2605<Analyse1!$E$4),B2605,\"\")","v":""},{"$f":"+B2605/Analyse1!$H$3*Analyse1!$H$4","v":1.4913533429298102E-14}]
[6928.8969999999999,0.96928900534963702,{"$f":"+IF(AND(A2606>Analyse1!$E$3,Data!A2606<Analyse1!$E$4),B2606,\"\")","v":""},{"$f":"+B2606/Analyse1!$H$3*Analyse1!$H$4","v":1.4832359925943596E-14}]
[6929.8969999999999,0.96795407744311202,{"$f":"+IF(AND(A2607>Analyse1!$E$3,Data!A2607<Analyse1!$E$4),B2607,\"\")","v":""},{"$f":"+B2607/Analyse1!$H$3*Analyse1!$H$4","v":1.4811932446548402E-14}]
[6930.8969999999999,0.97069060522456496,{"$f":"+IF(AND(A2608>Analyse1!$E$3,Data!A2608<Analyse1!$E$4),B2608,\"\")","v":""},{"$f":"+B2608/Analyse1!$H$3*Analyse1!$H$4","v":1.4853807640404762E-14}]
[6931.8969999999999,0.97615173486743201,{"$f":"+IF(AND(A2609>Analyse1!$E$3,Data!A2609<Analyse1!$E$4),B2609,\"\")","v":""},{"$f":"+B2609/Analyse1!$H$3*Analyse1!$H$4","v":1.4937375534003253E-14}]
[6932.8969999999999,0.98297158143082397,{"$f":"+IF(AND(A2610>Analyse1!$E$3,Data!A2610<Analyse1!$E$4),B2610,\"\")","v":""},{"$f":"+B2610/Analyse1!$H$3*Analyse1!$H$4","v":1.5041734933841333E-14}]
[6933.8969999999999,0.98979607464917996,{"$f":"+IF(AND(A2611>Analyse1!$E$3,Data!A2611<Analyse1!$E$4),B2611,\"\")","v":""},{"$f":"+B2611/Analyse1!$H$3*Analyse1!$H$4","v":1.5146165438229758E-14}]
[6934.8969999999999,0.99568055156839497,{"$f":"+IF(AND(A2612>Analyse1!$E$3,Data!A2612<Analyse1!$E$4),B2612,\"\")","v":""},{"$f":"+B2612/Analyse1!$H$3*Analyse1!$H$4","v":1.5236211522689596E-14}]
[6935.8969999999999,1.0001849983434701,{"$f":"+IF(AND(A2613>Analyse1!$E$3,Data!A2613<Analyse1!$E$4),B2613,\"\")","v":""},{"$f":"+B2613/Analyse1!$H$3*Analyse1!$H$4","v":1.5305139959375072E-14}]
[6936.8969999999999,1.00290052575596,{"$f":"+IF(AND(A2614>Analyse1!$E$3,Data!A2614<Analyse1!$E$4),B2614,\"\")","v":""},{"$f":"+B2614/Analyse1!$H$3*Analyse1!$H$4","v":1.5346693799095234E-14}]
[6937.8969999999999,1.00341850936488,{"$f":"+IF(AND(A2615>Analyse1!$E$3,Data!A2615<Analyse1!$E$4),B2615,\"\")","v":""},{"$f":"+B2615/Analyse1!$H$3*Analyse1!$H$4","v":1.5354620144365673E-14}]
[6938.8969999999999,1.0014670608096301,{"$f":"+IF(AND(A2616>Analyse1!$E$3,Data!A2616<Analyse1!$E$4),B2616,\"\")","v":""},{"$f":"+B2616/Analyse1!$H$3*Analyse1!$H$4","v":1.5324758475463333E-14}]
[6939.8969999999999,0.99713400281540598,{"$f":"+IF(AND(A2617>Analyse1!$E$3,Data!A2617<Analyse1!$E$4),B2617,\"\")","v":""},{"$f":"+B2617/Analyse1!$H$3*Analyse1!$H$4","v":1.5258452682871435E-14}]
[6940.8969999999999,0.99056560619801504,{"$f":"+IF(AND(A2618>Analyse1!$E$3,Data!A2618<Analyse1!$E$4),B2618,\"\")","v":""},{"$f":"+B2618/Analyse1!$H$3*Analyse1!$H$4","v":1.5157941047819568E-14}]
[6941.8969999999999,0.98190814177327901,{"$f":"+IF(AND(A2619>Analyse1!$E$3,Data!A2619<Analyse1!$E$4),B2619,\"\")","v":""},{"$f":"+B2619/Analyse1!$H$3*Analyse1!$H$4","v":1.5025461851537526E-14}]
[6942.8969999999999,0.97152690886975002,{"$f":"+IF(AND(A2620>Analyse1!$E$3,Data!A2620<Analyse1!$E$4),B2620,\"\")","v":""},{"$f":"+B2620/Analyse1!$H$3*Analyse1!$H$4","v":1.4866605017249336E-14}]
[6943.8969999999999,0.96111056899207203,{"$f":"+IF(AND(A2621>Analyse1!$E$3,Data!A2621<Analyse1!$E$4),B2621,\"\")","v":""},{"$f":"+B2621/Analyse1!$H$3*Analyse1!$H$4","v":1.4707210965192647E-14}]
[6944.8969999999999,0.95284229286337796,{"$f":"+IF(AND(A2622>Analyse1!$E$3,Data!A2622<Analyse1!$E$4),B2622,\"\")","v":""},{"$f":"+B2622/Analyse1!$H$3*Analyse1!$H$4","v":1.4580687248498221E-14}]
[6945.8969999999999,0.94890610603592995,{"$f":"+IF(AND(A2623>Analyse1!$E$3,Data!A2623<Analyse1!$E$4),B2623,\"\")","v":""},{"$f":"+B2623/Analyse1!$H$3*Analyse1!$H$4","v":1.4520454501156364E-14}]
[6946.8969999999999,0.95129717678068804,{"$f":"+IF(AND(A2624>Analyse1!$E$3,Data!A2624<Analyse1!$E$4),B2624,\"\")","v":""},{"$f":"+B2624/Analyse1!$H$3*Analyse1!$H$4","v":1.4557043404671113E-14}]
[6947.8969999999999,0.95902164618301,{"$f":"+IF(AND(A2625>Analyse1!$E$3,Data!A2625<Analyse1!$E$4),B2625,\"\")","v":""},{"$f":"+B2625/Analyse1!$H$3*Analyse1!$H$4","v":1.4675245622771017E-14}]
[6948.8969999999999,0.96869828333336505,{"$f":"+IF(AND(A2626>Analyse1!$E$3,Data!A2626<Analyse1!$E$4),B2626,\"\")","v":""},{"$f":"+B2626/Analyse1!$H$3*Analyse1!$H$4","v":1.4823320515083502E-14}]
[6949.8969999999999,0.97687923975718405,{"$f":"+IF(AND(A2627>Analyse1!$E$3,Data!A2627<Analyse1!$E$4),B2627,\"\")","v":""},{"$f":"+B2627/Analyse1!$H$3*Analyse1!$H$4","v":1.4948508038667115E-14}]
[6950.8969999999999,0.98014807999509701,{"$f":"+IF(AND(A2628>Analyse1!$E$3,Data!A2628<Analyse1!$E$4),B2628,\"\")","v":""},{"$f":"+B2628/Analyse1!$H$3*Analyse1!$H$4","v":1.4998528842247407E-14}]
[6951.8969999999999,0.97736912386297703,{"$f":"+IF(AND(A2629>Analyse1!$E$3,Data!A2629<Analyse1!$E$4),B2629,\"\")","v":""},{"$f":"+B2629/Analyse1!$H$3*Analyse1!$H$4","v":1.4956004396656341E-14}]
[6952.8969999999999,0.97119056489767097,{"$f":"+IF(AND(A2630>Analyse1!$E$3,Data!A2630<Analyse1!$E$4),B2630,\"\")","v":""},{"$f":"+B2630/Analyse1!$H$3*Analyse1!$H$4","v":1.4861458177838939E-14}]
[6953.8969999999999,0.964617000917528,{"$f":"+IF(AND(A2631>Analyse1!$E$3,Data!A2631<Analyse1!$E$4),B2631,\"\")","v":""},{"$f":"+B2631/Analyse1!$H$3*Analyse1!$H$4","v":1.4760867470205225E-14}]
[6954.8969999999999,0.96065300944535703,{"$f":"+IF(AND(A2632>Analyse1!$E$3,Data!A2632<Analyse1!$E$4),B2632,\"\")","v":""},{"$f":"+B2632/Analyse1!$H$3*Analyse1!$H$4","v":1.4700209247596582E-14}]
[6955.8969999999999,0.961479676477769,{"$f":"+IF(AND(A2633>Analyse1!$E$3,Data!A2633<Analyse1!$E$4),B2633,\"\")","v":""},{"$f":"+B2633/Analyse1!$H$3*Analyse1!$H$4","v":1.4712859162014237E-14}]
[6956.8969999999999,0.96626710704282304,{"$f":"+IF(AND(A2634>Analyse1!$E$3,Data!A2634<Analyse1!$E$4),B2634,\"\")","v":""},{"$f":"+B2634/Analyse1!$H$3*Analyse1!$H$4","v":1.4786117904112244E-14}]
[6957.8969999999999,0.97349742462006095,{"$f":"+IF(AND(A2635>Analyse1!$E$3,Data!A2635<Analyse1!$E$4),B2635,\"\")","v":""},{"$f":"+B2635/Analyse1!$H$3*Analyse1!$H$4","v":1.4896758458263362E-14}]
[6958.8969999999999,0.98165275268902197,{"$f":"+IF(AND(A2636>Analyse1!$E$3,Data!A2636<Analyse1!$E$4),B2636,\"\")","v":""},{"$f":"+B2636/Analyse1!$H$3*Analyse1!$H$4","v":1.50215538088403E-14}]
[6959.8969999999999,0.98926756038797803,{"$f":"+IF(AND(A2637>Analyse1!$E$3,Data!A2637<Analyse1!$E$4),B2637,\"\")","v":""},{"$f":"+B2637/Analyse1!$H$3*Analyse1!$H$4","v":1.5138077949663522E-14}]
[6960.8969999999999,0.995328931941029,{"$f":"+IF(AND(A2638>Analyse1!$E$3,Data!A2638<Analyse1!$E$4),B2638,\"\")","v":""},{"$f":"+B2638/Analyse1!$H$3*Analyse1!$H$4","v":1.5230830930480939E-14}]
[6961.8969999999999,0.99905574050328205,{"$f":"+IF(AND(A2639>Analyse1!$E$3,Data!A2639<Analyse1!$E$4),B2639,\"\")","v":""},{"$f":"+B2639/Analyse1!$H$3*Analyse1!$H$4","v":1.5287859706898854E-14}]
[6962.8969999999999,0.99966873756553198,{"$f":"+IF(AND(A2640>Analyse1!$E$3,Data!A2640<Analyse1!$E$4),B2640,\"\")","v":""},{"$f":"+B2640/Analyse1!$H$3*Analyse1!$H$4","v":1.5297239977396772E-14}]
[6963.8969999999999,0.99644683127127698,{"$f":"+IF(AND(A2641>Analyse1!$E$3,Data!A2641<Analyse1!$E$4),B2641,\"\")","v":""},{"$f":"+B2641/Analyse1!$H$3*Analyse1!$H$4","v":1.5247937371527622E-14}]
[6964.8969999999999,0.99018537568662401,{"$f":"+IF(AND(A2642>Analyse1!$E$3,Data!A2642<Analyse1!$E$4),B2642,\"\")","v":""},{"$f":"+B2642/Analyse1!$H$3*Analyse1!$H$4","v":1.5152122643021151E-14}]
[6965.8969999999999,0.98330273104907795,{"$f":"+IF(AND(A2643>Analyse1!$E$3,Data!A2643<Analyse1!$E$4),B2643,\"\")","v":""},{"$f":"+B2643/Analyse1!$H$3*Analyse1!$H$4","v":1.5046802287644145E-14}]
[6966.8969999999999,0.97829675711480302,{"$f":"+IF(AND(A2644>Analyse1!$E$3,Data!A2644<Analyse1!$E$4),B2644,\"\")","v":""},{"$f":"+B2644/Analyse1!$H$3*Analyse1!$H$4","v":1.4970199327367841E-14}]
[6967.8969999999999,0.97765747100376399,{"$f":"+IF(AND(A2645>Analyse1!$E$3,Data!A2645<Analyse1!$E$4),B2645,\"\")","v":""},{"$f":"+B2645/Analyse1!$H$3*Analyse1!$H$4","v":1.4960416773720523E-14}]
[6968.8969999999999,0.98212371997361203,{"$f":"+IF(AND(A2646>Analyse1!$E$3,Data!A2646<Analyse1!$E$4),B2646,\"\")","v":""},{"$f":"+B2646/Analyse1!$H$3*Analyse1!$H$4","v":1.5028760695785093E-14}]
[6969.8969999999999,0.98848286162687304,{"$f":"+IF(AND(A2647>Analyse1!$E$3,Data!A2647<Analyse1!$E$4),B2647,\"\")","v":""},{"$f":"+B2647/Analyse1!$H$3*Analyse1!$H$4","v":1.5126070246704019E-14}]
[6970.8969999999999,0.99298064180282797,{"$f":"+IF(AND(A2648>Analyse1!$E$3,Data!A2648<Analyse1!$E$4),B2648,\"\")","v":""},{"$f":"+B2648/Analyse1!$H$3*Analyse1!$H$4","v":1.5194896669029398E-14}]
[6971.8969999999999,0.99186280634075896,{"$f":"+IF(AND(A2649>Analyse1!$E$3,Data!A2649<Analyse1!$E$4),B2649,\"\")","v":""},{"$f":"+B2649/Analyse1!$H$3*Analyse1!$H$4","v":1.517779120531333E-14}]
[6972.8969999999999,0.98253532988653502,{"$f":"+IF(AND(A2650>Analyse1!$E$3,Data!A2650<Analyse1!$E$4),B2650,\"\")","v":""},{"$f":"+B2650/Analyse1!$H$3*Analyse1!$H$4","v":1.5035059277883793E-14}]
[6973.8969999999999,0.96834561020588295,{"$f":"+IF(AND(A2651>Analyse1!$E$3,Data!A2651<Analyse1!$E$4),B2651,\"\")","v":""},{"$f":"+B2651/Analyse1!$H$3*Analyse1!$H$4","v":1.4817923801890482E-14}]
[6974.8969999999999,0.95453780170831803,{"$f":"+IF(AND(A2652>Analyse1!$E$3,Data!A2652<Analyse1!$E$4),B2652,\"\")","v":""},{"$f":"+B2652/Analyse1!$H$3*Analyse1!$H$4","v":1.4606632448853302E-14}]
[6975.8969999999999,0.94635688661275696,{"$f":"+IF(AND(A2653>Analyse1!$E$3,Data!A2653<Analyse1!$E$4),B2653,\"\")","v":""},{"$f":"+B2653/Analyse1!$H$3*Analyse1!$H$4","v":1.4481445557687464E-14}]
[6976.8969999999999,0.948585976130913,{"$f":"+IF(AND(A2654>Analyse1!$E$3,Data!A2654<Analyse1!$E$4),B2654,\"\")","v":""},{"$f":"+B2654/Analyse1!$H$3*Analyse1!$H$4","v":1.4515555774411229E-14}]
[6977.8969999999999,0.960083424358536,{"$f":"+IF(AND(A2655>Analyse1!$E$3,Data!A2655<Analyse1!$E$4),B2655,\"\")","v":""},{"$f":"+B2655/Analyse1!$H$3*Analyse1!$H$4","v":1.4691493280563475E-14}]
[6978.8969999999999,0.97560370240244998,{"$f":"+IF(AND(A2656>Analyse1!$E$3,Data!A2656<Analyse1!$E$4),B2656,\"\")","v":""},{"$f":"+B2656/Analyse1!$H$3*Analyse1!$H$4","v":1.4928989371850525E-14}]
[6979.8969999999999,0.98981904898101403,{"$f":"+IF(AND(A2657>Analyse1!$E$3,Data!A2657<Analyse1!$E$4),B2657,\"\")","v":""},{"$f":"+B2657/Analyse1!$H$3*Analyse1!$H$4","v":1.5146516998555873E-14}]
[6980.8969999999999,0.99747124855042602,{"$f":"+IF(AND(A2658>Analyse1!$E$3,Data!A2658<Analyse1!$E$4),B2658,\"\")","v":""},{"$f":"+B2658/Analyse1!$H$3*Analyse1!$H$4","v":1.5263613321337055E-14}]
[6981.8969999999999,0.996728562906677,{"$f":"+IF(AND(A2659>Analyse1!$E$3,Data!A2659<Analyse1!$E$4),B2659,\"\")","v":""},{"$f":"+B2659/Analyse1!$H$3*Analyse1!$H$4","v":1.5252248516083801E-14}]
[6982.8969999999999,0.99068058757523703,{"$f":"+IF(AND(A2660>Analyse1!$E$3,Data!A2660<Analyse1!$E$4),B2660,\"\")","v":""},{"$f":"+B2660/Analyse1!$H$3*Analyse1!$H$4","v":1.515970052838968E-14}]
[6983.8969999999999,0.98279777434253901,{"$f":"+IF(AND(A2661>Analyse1!$E$3,Data!A2661<Analyse1!$E$4),B2661,\"\")","v":""},{"$f":"+B2661/Analyse1!$H$3*Analyse1!$H$4","v":1.5039075284060003E-14}]
[6984.8969999999999,0.97655007747149103,{"$f":"+IF(AND(A2662>Analyse1!$E$3,Data!A2662<Analyse1!$E$4),B2662,\"\")","v":""},{"$f":"+B2662/Analyse1!$H$3*Analyse1!$H$4","v":1.4943471095641351E-14}]
[6985.8969999999999,0.97433926600807996,{"$f":"+IF(AND(A2663>Analyse1!$E$3,Data!A2663<Analyse1!$E$4),B2663,\"\")","v":""},{"$f":"+B2663/Analyse1!$H$3*Analyse1!$H$4","v":1.4909640575360265E-14}]
[6986.8969999999999,0.97524023175317398,{"$f":"+IF(AND(A2664>Analyse1!$E$3,Data!A2664<Analyse1!$E$4),B2664,\"\")","v":""},{"$f":"+B2664/Analyse1!$H$3*Analyse1!$H$4","v":1.4923427431641958E-14}]
[6987.8969999999999,0.977682026031648,{"$f":"+IF(AND(A2665>Analyse1!$E$3,Data!A2665<Analyse1!$E$4),B2665,\"\")","v":""},{"$f":"+B2665/Analyse1!$H$3*Analyse1!$H$4","v":1.4960792522346119E-14}]
[6988.8969999999999,0.98009370016837805,{"$f":"+IF(AND(A2666>Analyse1!$E$3,Data!A2666<Analyse1!$E$4),B2666,\"\")","v":""},{"$f":"+B2666/Analyse1!$H$3*Analyse1!$H$4","v":1.4997696705332457E-14}]
[6989.8969999999999,0.98108519861067001,{"$f":"+IF(AND(A2667>Analyse1!$E$3,Data!A2667<Analyse1!$E$4),B2667,\"\")","v":""},{"$f":"+B2667/Analyse1!$H$3*Analyse1!$H$4","v":1.501286892092649E-14}]
[6990.8969999999999,0.98057803496763396,{"$f":"+IF(AND(A2668>Analyse1!$E$3,Data!A2668<Analyse1!$E$4),B2668,\"\")","v":""},{"$f":"+B2668/Analyse1!$H$3*Analyse1!$H$4","v":1.5005108146117999E-14}]
[6991.8969999999999,0.97907179922610399,{"$f":"+IF(AND(A2669>Analyse1!$E$3,Data!A2669<Analyse1!$E$4),B2669,\"\")","v":""},{"$f":"+B2669/Analyse1!$H$3*Analyse1!$H$4","v":1.4982059261287583E-14}]
[6992.8969999999999,0.97706860514391602,{"$f":"+IF(AND(A2670>Analyse1!$E$3,Data!A2670<Analyse1!$E$4),B2670,\"\")","v":""},{"$f":"+B2670/Analyse1!$H$3*Analyse1!$H$4","v":1.4951405766339691E-14}]
[6993.8969999999999,0.97506167229205298,{"$f":"+IF(AND(A2671>Analyse1!$E$3,Data!A2671<Analyse1!$E$4),B2671,\"\")","v":""},{"$f":"+B2671/Analyse1!$H$3*Analyse1!$H$4","v":1.4920695059582736E-14}]
[6994.8969999999999,0.97336421190785205,{"$f":"+IF(AND(A2672>Analyse1!$E$3,Data!A2672<Analyse1!$E$4),B2672,\"\")","v":""},{"$f":"+B2672/Analyse1!$H$3*Analyse1!$H$4","v":1.4894719996170748E-14}]
[6995.8969999999999,0.97212209743095301,{"$f":"+IF(AND(A2673>Analyse1!$E$3,Data!A2673<Analyse1!$E$4),B2673,\"\")","v":""},{"$f":"+B2673/Analyse1!$H$3*Analyse1!$H$4","v":1.4875712776560384E-14}]
[6996.8969999999999,0.97147484645408,{"$f":"+IF(AND(A2674>Analyse1!$E$3,Data!A2674<Analyse1!$E$4),B2674,\"\")","v":""},{"$f":"+B2674/Analyse1!$H$3*Analyse1!$H$4","v":1.4865808342074475E-14}]
[6997.8969999999999,0.97155991443826195,{"$f":"+IF(AND(A2675>Analyse1!$E$3,Data!A2675<Analyse1!$E$4),B2675,\"\")","v":""},{"$f":"+B2675/Analyse1!$H$3*Analyse1!$H$4","v":1.4867110078659328E-14}]
[6998.8969999999999,0.97226517123202705,{"$f":"+IF(AND(A2676>Analyse1!$E$3,Data!A2676<Analyse1!$E$4),B2676,\"\")","v":""},{"$f":"+B2676/Analyse1!$H$3*Analyse1!$H$4","v":1.4877902136082458E-14}]
[6999.8969999999999,0.97299371789156697,{"$f":"+IF(AND(A2677>Analyse1!$E$3,Data!A2677<Analyse1!$E$4),B2677,\"\")","v":""},{"$f":"+B2677/Analyse1!$H$3*Analyse1!$H$4","v":1.488905058222958E-14}]
[7000.8969999999999,0.97309295355207104,{"$f":"+IF(AND(A2678>Analyse1!$E$3,Data!A2678<Analyse1!$E$4),B2678,\"\")","v":""},{"$f":"+B2678/Analyse1!$H$3*Analyse1!$H$4","v":1.4890569116976147E-14}]
[7001.8969999999999,0.97191027734873203,{"$f":"+IF(AND(A2679>Analyse1!$E$3,Data!A2679<Analyse1!$E$4),B2679,\"\")","v":""},{"$f":"+B2679/Analyse1!$H$3*Analyse1!$H$4","v":1.4872471440197645E-14}]
[7002.8969999999999,0.96910561884872004,{"$f":"+IF(AND(A2680>Analyse1!$E$3,Data!A2680<Analyse1!$E$4),B2680,\"\")","v":""},{"$f":"+B2680/Analyse1!$H$3*Analyse1!$H$4","v":1.4829553689029583E-14}]
[7003.8969999999999,0.96569873978801801,{"$f":"+IF(AND(A2681>Analyse1!$E$3,Data!A2681<Analyse1!$E$4),B2681,\"\")","v":""},{"$f":"+B2681/Analyse1!$H$3*Analyse1!$H$4","v":1.4777420572721031E-14}]
[7004.8969999999999,0.96307915256840704,{"$f":"+IF(AND(A2682>Analyse1!$E$3,Data!A2682<Analyse1!$E$4),B2682,\"\")","v":""},{"$f":"+B2682/Analyse1!$H$3*Analyse1!$H$4","v":1.4737334839483339E-14}]
[7005.8969999999999,0.96263637708501604,{"$f":"+IF(AND(A2683>Analyse1!$E$3,Data!A2683<Analyse1!$E$4),B2683,\"\")","v":""},{"$f":"+B2683/Analyse1!$H$3*Analyse1!$H$4","v":1.4730559352193383E-14}]
[7006.8969999999999,0.96563023492841005,{"$f":"+IF(AND(A2684>Analyse1!$E$3,Data!A2684<Analyse1!$E$4),B2684,\"\")","v":""},{"$f":"+B2684/Analyse1!$H$3*Analyse1!$H$4","v":1.4776372290187363E-14}]
[7007.8969999999999,0.97195297295402805,{"$f":"+IF(AND(A2685>Analyse1!$E$3,Data!A2685<Analyse1!$E$4),B2685,\"\")","v":""},{"$f":"+B2685/Analyse1!$H$3*Analyse1!$H$4","v":1.4873124781545284E-14}]
[7008.8969999999999,0.98067682845561199,{"$f":"+IF(AND(A2686>Analyse1!$E$3,Data!A2686<Analyse1!$E$4),B2686,\"\")","v":""},{"$f":"+B2686/Analyse1!$H$3*Analyse1!$H$4","v":1.5006619914603911E-14}]
[7009.8969999999999,0.99086291659808601,{"$f":"+IF(AND(A2687>Analyse1!$E$3,Data!A2687<Analyse1!$E$4),B2687,\"\")","v":""},{"$f":"+B2687/Analyse1!$H$3*Analyse1!$H$4","v":1.5162490583447475E-14}]
[7010.8969999999999,1.00156396195929,{"$f":"+IF(AND(A2688>Analyse1!$E$3,Data!A2688<Analyse1!$E$4),B2688,\"\")","v":""},{"$f":"+B2688/Analyse1!$H$3*Analyse1!$H$4","v":1.5326241286803459E-14}]
[7011.8969999999999,1.0115353013022601,{"$f":"+IF(AND(A2689>Analyse1!$E$3,Data!A2689<Analyse1!$E$4),B2689,\"\")","v":""},{"$f":"+B2689/Analyse1!$H$3*Analyse1!$H$4","v":1.5478825803147278E-14}]
[7012.8969999999999,1.01916183363899,{"$f":"+IF(AND(A2690>Analyse1!$E$3,Data!A2690<Analyse1!$E$4),B2690,\"\")","v":""},{"$f":"+B2690/Analyse1!$H$3*Analyse1!$H$4","v":1.5595529358001305E-14}]
[7013.8969999999999,1.0228052360926201,{"$f":"+IF(AND(A2691>Analyse1!$E$3,Data!A2691<Analyse1!$E$4),B2691,\"\")","v":""},{"$f":"+B2691/Analyse1!$H$3*Analyse1!$H$4","v":1.5651281828367783E-14}]
[7014.8969999999999,1.02082867005448,{"$f":"+IF(AND(A2692>Analyse1!$E$3,Data!A2692<Analyse1!$E$4),B2692,\"\")","v":""},{"$f":"+B2692/Analyse1!$H$3*Analyse1!$H$4","v":1.5621035803979507E-14}]
[7015.8969999999999,1.0124221369684501,{"$f":"+IF(AND(A2693>Analyse1!$E$3,Data!A2693<Analyse1!$E$4),B2693,\"\")","v":""},{"$f":"+B2693/Analyse1!$H$3*Analyse1!$H$4","v":1.5492396436594576E-14}]
[7016.8969999999999,0.99897598653181796,{"$f":"+IF(AND(A2694>Analyse1!$E$3,Data!A2694<Analyse1!$E$4),B2694,\"\")","v":""},{"$f":"+B2694/Analyse1!$H$3*Analyse1!$H$4","v":1.5286639286978945E-14}]
[7017.8969999999999,0.98224255832509799,{"$f":"+IF(AND(A2695>Analyse1!$E$3,Data!A2695<Analyse1!$E$4),B2695,\"\")","v":""},{"$f":"+B2695/Analyse1!$H$3*Analyse1!$H$4","v":1.503057919696742E-14}]
[7018.8969999999999,0.96397419192881695,{"$f":"+IF(AND(A2696>Analyse1!$E$3,Data!A2696<Analyse1!$E$4),B2696,\"\")","v":""},{"$f":"+B2696/Analyse1!$H$3*Analyse1!$H$4","v":1.4751031008395002E-14}]
[7019.8969999999999,0.94623473741933495,{"$f":"+IF(AND(A2697>Analyse1!$E$3,Data!A2697<Analyse1!$E$4),B2697,\"\")","v":""},{"$f":"+B2697/Analyse1!$H$3*Analyse1!$H$4","v":1.4479576392978591E-14}]
[7020.8969999999999,0.93299365617960595,{"$f":"+IF(AND(A2698>Analyse1!$E$3,Data!A2698<Analyse1!$E$4),B2698,\"\")","v":""},{"$f":"+B2698/Analyse1!$H$3*Analyse1!$H$4","v":1.4276957275592153E-14}]
[7021.8969999999999,0.92894074282543104,{"$f":"+IF(AND(A2699>Analyse1!$E$3,Data!A2699<Analyse1!$E$4),B2699,\"\")","v":""},{"$f":"+B2699/Analyse1!$H$3*Analyse1!$H$4","v":1.4214938342863108E-14}]
[7022.8969999999999,0.93876713677139201,{"$f":"+IF(AND(A2700>Analyse1!$E$3,Data!A2700<Analyse1!$E$4),B2700,\"\")","v":""},{"$f":"+B2700/Analyse1!$H$3*Analyse1!$H$4","v":1.4365304859945423E-14}]
[7023.8969999999999,0.96668063168731599,{"$f":"+IF(AND(A2701>Analyse1!$E$3,Data!A2701<Analyse1!$E$4),B2701,\"\")","v":""},{"$f":"+B2701/Analyse1!$H$3*Analyse1!$H$4","v":1.4792445786025191E-14}]
[7024.8969999999999,1.0091140172794899,{"$f":"+IF(AND(A2702>Analyse1!$E$3,Data!A2702<Analyse1!$E$4),B2702,\"\")","v":""},{"$f":"+B2702/Analyse1!$H$3*Analyse1!$H$4","v":1.5441774566714744E-14}]
[7025.8969999999999,1.05622455534445,{"$f":"+IF(AND(A2703>Analyse1!$E$3,Data!A2703<Analyse1!$E$4),B2703,\"\")","v":""},{"$f":"+B2703/Analyse1!$H$3*Analyse1!$H$4","v":1.6162674580052152E-14}]
[7026.8969999999999,1.09799037936769,{"$f":"+IF(AND(A2704>Analyse1!$E$3,Data!A2704<Analyse1!$E$4),B2704,\"\")","v":""},{"$f":"+B2704/Analyse1!$H$3*Analyse1!$H$4","v":1.680178812729894E-14}]
[7027.8969999999999,1.1244764572563899,{"$f":"+IF(AND(A2705>Analyse1!$E$3,Data!A2705<Analyse1!$E$4),B2705,\"\")","v":""},{"$f":"+B2705/Analyse1!$H$3*Analyse1!$H$4","v":1.7207086276874117E-14}]
[7028.8969999999999,1.1322552038600699,{"$f":"+IF(AND(A2706>Analyse1!$E$3,Data!A2706<Analyse1!$E$4),B2706,\"\")","v":""},{"$f":"+B2706/Analyse1!$H$3*Analyse1!$H$4","v":1.7326119061483985E-14}]
[7029.8969999999999,1.1288120899957299,{"$f":"+IF(AND(A2707>Analyse1!$E$3,Data!A2707<Analyse1!$E$4),B2707,\"\")","v":""},{"$f":"+B2707/Analyse1!$H$3*Analyse1!$H$4","v":1.7273431469011523E-14}]
[7030.8969999999999,1.12267506535961,{"$f":"+IF(AND(A2708>Analyse1!$E$3,Data!A2708<Analyse1!$E$4),B2708,\"\")","v":""},{"$f":"+B2708/Analyse1!$H$3*Analyse1!$H$4","v":1.7179520821335829E-14}]
[7031.8969999999999,1.12237203616509,{"$f":"+IF(AND(A2709>Analyse1!$E$3,Data!A2709<Analyse1!$E$4),B2709,\"\")","v":""},{"$f":"+B2709/Analyse1!$H$3*Analyse1!$H$4","v":1.7174883774947821E-14}]
[7032.8969999999999,1.1337508277453601,{"$f":"+IF(AND(A2710>Analyse1!$E$3,Data!A2710<Analyse1!$E$4),B2710,\"\")","v":""},{"$f":"+B2710/Analyse1!$H$3*Analyse1!$H$4","v":1.7349005560410541E-14}]
[7033.8969999999999,1.15274193558635,{"$f":"+IF(AND(A2711>Analyse1!$E$3,Data!A2711<Analyse1!$E$4),B2711,\"\")","v":""},{"$f":"+B2711/Analyse1!$H$3*Analyse1!$H$4","v":1.7639613361938595E-14}]
[7034.8969999999999,1.1729824426900299,{"$f":"+IF(AND(A2712>Analyse1!$E$3,Data!A2712<Analyse1!$E$4),B2712,\"\")","v":""},{"$f":"+B2712/Analyse1!$H$3*Analyse1!$H$4","v":1.7949339857120608E-14}]
[7035.8969999999999,1.1881094320583701,{"$f":"+IF(AND(A2713>Analyse1!$E$3,Data!A2713<Analyse1!$E$4),B2713,\"\")","v":""},{"$f":"+B2713/Analyse1!$H$3*Analyse1!$H$4","v":1.818081772354519E-14}]
[7036.8969999999999,1.19272044568532,{"$f":"+IF(AND(A2714>Analyse1!$E$3,Data!A2714<Analyse1!$E$4),B2714,\"\")","v":""},{"$f":"+B2714/Analyse1!$H$3*Analyse1!$H$4","v":1.8251376879133344E-14}]
[7037.8969999999999,1.1898293575077901,{"$f":"+IF(AND(A2715>Analyse1!$E$3,Data!A2715<Analyse1!$E$4),B2715,\"\")","v":""},{"$f":"+B2715/Analyse1!$H$3*Analyse1!$H$4","v":1.820713655432816E-14}]
[7038.8969999999999,1.18680774410223,{"$f":"+IF(AND(A2716>Analyse1!$E$3,Data!A2716<Analyse1!$E$4),B2716,\"\")","v":""},{"$f":"+B2716/Analyse1!$H$3*Analyse1!$H$4","v":1.8160898892143849E-14}]
[7039.8969999999999,1.19106392420209,{"$f":"+IF(AND(A2717>Analyse1!$E$3,Data!A2717<Analyse1!$E$4),B2717,\"\")","v":""},{"$f":"+B2717/Analyse1!$H$3*Analyse1!$H$4","v":1.8226028275436494E-14}]
[7040.8969999999999,1.2097027432858101,{"$f":"+IF(AND(A2718>Analyse1!$E$3,Data!A2718<Analyse1!$E$4),B2718,\"\")","v":""},{"$f":"+B2718/Analyse1!$H$3*Analyse1!$H$4","v":1.8511245245523306E-14}]
[7041.8969999999999,1.2417569026431901,{"$f":"+IF(AND(A2719>Analyse1!$E$3,Data!A2719<Analyse1!$E$4),B2719,\"\")","v":""},{"$f":"+B2719/Analyse1!$H$3*Analyse1!$H$4","v":1.9001747898589831E-14}]
[7042.8969999999999,1.27752904791063,{"$f":"+IF(AND(A2720>Analyse1!$E$3,Data!A2720<Analyse1!$E$4),B2720,\"\")","v":""},{"$f":"+B2720/Analyse1!$H$3*Analyse1!$H$4","v":1.9549144321123706E-14}]
[7043.8969999999999,1.30688651589509,{"$f":"+IF(AND(A2721>Analyse1!$E$3,Data!A2721<Analyse1!$E$4),B2721,\"\")","v":""},{"$f":"+B2721/Analyse1!$H$3*Analyse1!$H$4","v":1.999838136936899E-14}]
[7044.8969999999999,1.3197215304783301,{"$f":"+IF(AND(A2722>Analyse1!$E$3,Data!A2722<Analyse1!$E$4),B2722,\"\")","v":""},{"$f":"+B2722/Analyse1!$H$3*Analyse1!$H$4","v":2.0194786729279866E-14}]
[7045.8969999999999,1.31178413772682,{"$f":"+IF(AND(A2723>Analyse1!$E$3,Data!A2723<Analyse1!$E$4),B2723,\"\")","v":""},{"$f":"+B2723/Analyse1!$H$3*Analyse1!$H$4","v":2.0073326292285118E-14}]
[7046.8969999999999,1.2921919136703599,{"$f":"+IF(AND(A2724>Analyse1!$E$3,Data!A2724<Analyse1!$E$4),B2724,\"\")","v":""},{"$f":"+B2724/Analyse1!$H$3*Analyse1!$H$4","v":1.9773520024648433E-14}]
[7047.8969999999999,1.27191824601838,{"$f":"+IF(AND(A2725>Analyse1!$E$3,Data!A2725<Analyse1!$E$4),B2725,\"\")","v":""},{"$f":"+B2725/Analyse1!$H$3*Analyse1!$H$4","v":1.9463286096507818E-14}]
[7048.8969999999999,1.2619365224802901,{"$f":"+IF(AND(A2726>Analyse1!$E$3,Data!A2726<Analyse1!$E$4),B2726,\"\")","v":""},{"$f":"+B2726/Analyse1!$H$3*Analyse1!$H$4","v":1.9310542678000965E-14}]
[7049.8969999999999,1.2711145907446599,{"$f":"+IF(AND(A2727>Analyse1!$E$3,Data!A2727<Analyse1!$E$4),B2727,\"\")","v":""},{"$f":"+B2727/Analyse1!$H$3*Analyse1!$H$4","v":1.9450988315133628E-14}]
[7050.8969999999999,1.29740626083908,{"$f":"+IF(AND(A2728>Analyse1!$E$3,Data!A2728<Analyse1!$E$4),B2728,\"\")","v":""},{"$f":"+B2728/Analyse1!$H$3*Analyse1!$H$4","v":1.9853311576557539E-14}]
[7051.8969999999999,1.33523983341969,{"$f":"+IF(AND(A2729>Analyse1!$E$3,Data!A2729<Analyse1!$E$4),B2729,\"\")","v":""},{"$f":"+B2729/Analyse1!$H$3*Analyse1!$H$4","v":2.0432252596937212E-14}]
[7052.8969999999999,1.37904185334915,{"$f":"+IF(AND(A2730>Analyse1!$E$3,Data!A2730<Analyse1!$E$4),B2730,\"\")","v":""},{"$f":"+B2730/Analyse1!$H$3*Analyse1!$H$4","v":2.1102524643242694E-14}]
[7053.8969999999999,1.4232555734267101,{"$f":"+IF(AND(A2731>Analyse1!$E$3,Data!A2731<Analyse1!$E$4),B2731,\"\")","v":""},{"$f":"+B2731/Analyse1!$H$3*Analyse1!$H$4","v":2.1779096652453439E-14}]
[7054.8969999999999,1.4625418186457999,{"$f":"+IF(AND(A2732>Analyse1!$E$3,Data!A2732<Analyse1!$E$4),B2732,\"\")","v":""},{"$f":"+B2732/Analyse1!$H$3*Analyse1!$H$4","v":2.2380266918506577E-14}]
[7055.8969999999999,1.4917137259386499,{"$f":"+IF(AND(A2733>Analyse1!$E$3,Data!A2733<Analyse1!$E$4),B2733,\"\")","v":""},{"$f":"+B2733/Analyse1!$H$3*Analyse1!$H$4","v":2.2826664459699911E-14}]
[7056.8969999999999,1.5055875655918101,{"$f":"+IF(AND(A2734>Analyse1!$E$3,Data!A2734<Analyse1!$E$4),B2734,\"\")","v":""},{"$f":"+B2734/Analyse1!$H$3*Analyse1!$H$4","v":2.3038966241887434E-14}]
[7057.8969999999999,1.4991074635191199,{"$f":"+IF(AND(A2735>Analyse1!$E$3,Data!A2735<Analyse1!$E$4),B2735,\"\")","v":""},{"$f":"+B2735/Analyse1!$H$3*Analyse1!$H$4","v":2.2939805717246672E-14}]
[7058.8969999999999,1.47368592925577,{"$f":"+IF(AND(A2736>Analyse1!$E$3,Data!A2736<Analyse1!$E$4),B2736,\"\")","v":""},{"$f":"+B2736/Analyse1!$H$3*Analyse1!$H$4","v":2.2550797543231844E-14}]
[7059.8969999999999,1.4401248990148099,{"$f":"+IF(AND(A2737>Analyse1!$E$3,Data!A2737<Analyse1!$E$4),B2737,\"\")","v":""},{"$f":"+B2737/Analyse1!$H$3*Analyse1!$H$4","v":2.2037236286194949E-14}]
[7060.8969999999999,1.4099639259102601,{"$f":"+IF(AND(A2738>Analyse1!$E$3,Data!A2738<Analyse1!$E$4),B2738,\"\")","v":""},{"$f":"+B2738/Analyse1!$H$3*Analyse1!$H$4","v":2.1575703754272729E-14}]
[7061.8969999999999,1.39474081938824,{"$f":"+IF(AND(A2739>Analyse1!$E$3,Data!A2739<Analyse1!$E$4),B2739,\"\")","v":""},{"$f":"+B2739/Analyse1!$H$3*Analyse1!$H$4","v":2.1342755073456803E-14}]
[7062.8969999999999,1.40170621088194,{"$f":"+IF(AND(A2740>Analyse1!$E$3,Data!A2740<Analyse1!$E$4),B2740,\"\")","v":""},{"$f":"+B2740/Analyse1!$H$3*Analyse1!$H$4","v":2.1449341646800219E-14}]
[7063.8969999999999,1.4245999375068501,{"$f":"+IF(AND(A2741>Analyse1!$E$3,Data!A2741<Analyse1!$E$4),B2741,\"\")","v":""},{"$f":"+B2741/Analyse1!$H$3*Analyse1!$H$4","v":2.179966852709361E-14}]
[7064.8969999999999,1.4545069776991999,{"$f":"+IF(AND(A2742>Analyse1!$E$3,Data!A2742<Analyse1!$E$4),B2742,\"\")","v":""},{"$f":"+B2742/Analyse1!$H$3*Analyse1!$H$4","v":2.2257315299113461E-14}]
[7065.8969999999999,1.48251230989521,{"$f":"+IF(AND(A2743>Analyse1!$E$3,Data!A2743<Analyse1!$E$4),B2743,\"\")","v":""},{"$f":"+B2743/Analyse1!$H$3*Analyse1!$H$4","v":2.2685861547636113E-14}]
[7066.8969999999999,1.5005502283673899,{"$f":"+IF(AND(A2744>Analyse1!$E$3,Data!A2744<Analyse1!$E$4),B2744,\"\")","v":""},{"$f":"+B2744/Analyse1!$H$3*Analyse1!$H$4","v":2.2961883350852267E-14}]
[7067.8969999999999,1.506792395987,{"$f":"+IF(AND(A2745>Analyse1!$E$3,Data!A2745<Analyse1!$E$4),B2745,\"\")","v":""},{"$f":"+B2745/Analyse1!$H$3*Analyse1!$H$4","v":2.3057402928956562E-14}]
[7068.8969999999999,1.5021906594997301,{"$f":"+IF(AND(A2746>Analyse1!$E$3,Data!A2746<Analyse1!$E$4),B2746,\"\")","v":""},{"$f":"+B2746/Analyse1!$H$3*Analyse1!$H$4","v":2.2986985735026959E-14}]
[7069.8969999999999,1.48770965257355,{"$f":"+IF(AND(A2747>Analyse1!$E$3,Data!A2747<Analyse1!$E$4),B2747,\"\")","v":""},{"$f":"+B2747/Analyse1!$H$3*Analyse1!$H$4","v":2.2765392891578058E-14}]
[7070.8969999999999,1.46442378691514,{"$f":"+IF(AND(A2748>Analyse1!$E$3,Data!A2748<Analyse1!$E$4),B2748,\"\")","v":""},{"$f":"+B2748/Analyse1!$H$3*Analyse1!$H$4","v":2.240906537860052E-14}]
[7071.8969999999999,1.43566934053565,{"$f":"+IF(AND(A2749>Analyse1!$E$3,Data!A2749<Analyse1!$E$4),B2749,\"\")","v":""},{"$f":"+B2749/Analyse1!$H$3*Analyse1!$H$4","v":2.1969055953322866E-14}]
[7072.8969999999999,1.40690731675299,{"$f":"+IF(AND(A2750>Analyse1!$E$3,Data!A2750<Analyse1!$E$4),B2750,\"\")","v":""},{"$f":"+B2750/Analyse1!$H$3*Analyse1!$H$4","v":2.1528930576280052E-14}]
[7073.8969999999999,1.3836810350817801,{"$f":"+IF(AND(A2751>Analyse1!$E$3,Data!A2751<Analyse1!$E$4),B2751,\"\")","v":""},{"$f":"+B2751/Analyse1!$H$3*Analyse1!$H$4","v":2.1173514835889534E-14}]
[7074.8969999999999,1.3715072223887901,{"$f":"+IF(AND(A2752>Analyse1!$E$3,Data!A2752<Analyse1!$E$4),B2752,\"\")","v":""},{"$f":"+B2752/Analyse1!$H$3*Analyse1!$H$4","v":2.0987227391652695E-14}]
[7075.8969999999999,1.37255255522661,{"$f":"+IF(AND(A2753>Analyse1!$E$3,Data!A2753<Analyse1!$E$4),B2753,\"\")","v":""},{"$f":"+B2753/Analyse1!$H$3*Analyse1!$H$4","v":2.1003223397805022E-14}]
[7076.8969999999999,1.38240499165147,{"$f":"+IF(AND(A2754>Analyse1!$E$3,Data!A2754<Analyse1!$E$4),B2754,\"\")","v":""},{"$f":"+B2754/Analyse1!$H$3*Analyse1!$H$4","v":2.1153988424948075E-14}]
[7077.8969999999999,1.3958864304459599,{"$f":"+IF(AND(A2755>Analyse1!$E$3,Data!A2755<Analyse1!$E$4),B2755,\"\")","v":""},{"$f":"+B2755/Analyse1!$H$3*Analyse1!$H$4","v":2.1360285567921778E-14}]
[7078.8969999999999,1.4078187703927001,{"$f":"+IF(AND(A2756>Analyse1!$E$3,Data!A2756<Analyse1!$E$4),B2756,\"\")","v":""},{"$f":"+B2756/Analyse1!$H$3*Analyse1!$H$4","v":2.1542877921566521E-14}]
[7079.8969999999999,1.41398966579971,{"$f":"+IF(AND(A2757>Analyse1!$E$3,Data!A2757<Analyse1!$E$4),B2757,\"\")","v":""},{"$f":"+B2757/Analyse1!$H$3*Analyse1!$H$4","v":2.1637306870246393E-14}]
[7080.8969999999999,1.4144396194595299,{"$f":"+IF(AND(A2758>Analyse1!$E$3,Data!A2758<Analyse1!$E$4),B2758,\"\")","v":""},{"$f":"+B2758/Analyse1!$H$3*Analyse1!$H$4","v":2.164419220021053E-14}]
[7081.8969999999999,1.4103794406807499,{"$f":"+IF(AND(A2759>Analyse1!$E$3,Data!A2759<Analyse1!$E$4),B2759,\"\")","v":""},{"$f":"+B2759/Analyse1!$H$3*Analyse1!$H$4","v":2.1582062089708744E-14}]
[7082.8969999999999,1.40301997375362,{"$f":"+IF(AND(A2760>Analyse1!$E$3,Data!A2760<Analyse1!$E$4),B2760,\"\")","v":""},{"$f":"+B2760/Analyse1!$H$3*Analyse1!$H$4","v":2.1469445252290994E-14}]
[7083.8969999999999,1.3934257364123599,{"$f":"+IF(AND(A2761>Analyse1!$E$3,Data!A2761<Analyse1!$E$4),B2761,\"\")","v":""},{"$f":"+B2761/Analyse1!$H$3*Analyse1!$H$4","v":2.1322631267323564E-14}]
[7084.8969999999999,1.3810964135753601,{"$f":"+IF(AND(A2762>Analyse1!$E$3,Data!A2762<Analyse1!$E$4),B2762,\"\")","v":""},{"$f":"+B2762/Analyse1!$H$3*Analyse1!$H$4","v":2.1133964158801509E-14}]
[7085.8969999999999,1.3645832486241201,{"$f":"+IF(AND(A2763>Analyse1!$E$3,Data!A2763<Analyse1!$E$4),B2763,\"\")","v":""},{"$f":"+B2763/Analyse1!$H$3*Analyse1!$H$4","v":2.088127460519936E-14}]
[7086.8969999999999,1.3424242101547601,{"$f":"+IF(AND(A2764>Analyse1!$E$3,Data!A2764<Analyse1!$E$4),B2764,\"\")","v":""},{"$f":"+B2764/Analyse1!$H$3*Analyse1!$H$4","v":2.0542190150123115E-14}]
[7087.8969999999999,1.3132380310948699,{"$f":"+IF(AND(A2765>Analyse1!$E$3,Data!A2765<Analyse1!$E$4),B2765,\"\")","v":""},{"$f":"+B2765/Analyse1!$H$3*Analyse1!$H$4","v":2.0095574217939738E-14}]
[7088.8969999999999,1.2785719583848001,{"$f":"+IF(AND(A2766>Analyse1!$E$3,Data!A2766<Analyse1!$E$4),B2766,\"\")","v":""},{"$f":"+B2766/Analyse1!$H$3*Analyse1!$H$4","v":1.9565103259518811E-14}]
[7089.8969999999999,1.2436596194513601,{"$f":"+IF(AND(A2767>Analyse1!$E$3,Data!A2767<Analyse1!$E$4),B2767,\"\")","v":""},{"$f":"+B2767/Analyse1!$H$3*Analyse1!$H$4","v":1.9030863859237441E-14}]
[7090.8969999999999,1.2139695006051101,{"$f":"+IF(AND(A2768>Analyse1!$E$3,Data!A2768<Analyse1!$E$4),B2768,\"\")","v":""},{"$f":"+B2768/Analyse1!$H$3*Analyse1!$H$4","v":1.857653648469679E-14}]
[7091.8969999999999,1.19496630745539,{"$f":"+IF(AND(A2769>Analyse1!$E$3,Data!A2769<Analyse1!$E$4),B2769,\"\")","v":""},{"$f":"+B2769/Analyse1!$H$3*Analyse1!$H$4","v":1.8285743750039489E-14}]
[7092.8969999999999,1.18983725095519,{"$f":"+IF(AND(A2770>Analyse1!$E$3,Data!A2770<Analyse1!$E$4),B2770,\"\")","v":""},{"$f":"+B2770/Analyse1!$H$3*Analyse1!$H$4","v":1.8207257342299801E-14}]
[7093.8969999999999,1.19563848712182,{"$f":"+IF(AND(A2771>Analyse1!$E$3,Data!A2771<Analyse1!$E$4),B2771,\"\")","v":""},{"$f":"+B2771/Analyse1!$H$3*Analyse1!$H$4","v":1.8296029651037401E-14}]
[7094.8969999999999,1.20840495349988,{"$f":"+IF(AND(A2772>Analyse1!$E$3,Data!A2772<Analyse1!$E$4),B2772,\"\")","v":""},{"$f":"+B2772/Analyse1!$H$3*Analyse1!$H$4","v":1.8491386065127272E-14}]
[7095.8969999999999,1.224171587634,{"$f":"+IF(AND(A2773>Analyse1!$E$3,Data!A2773<Analyse1!$E$4),B2773,\"\")","v":""},{"$f":"+B2773/Analyse1!$H$3*Analyse1!$H$4","v":1.8732651973444864E-14}]
[7096.8969999999999,1.2395111787881401,{"$f":"+IF(AND(A2774>Analyse1!$E$3,Data!A2774<Analyse1!$E$4),B2774,\"\")","v":""},{"$f":"+B2774/Analyse1!$H$3*Analyse1!$H$4","v":1.8967383138101948E-14}]
[7097.8969999999999,1.25432784879225,{"$f":"+IF(AND(A2775>Analyse1!$E$3,Data!A2775<Analyse1!$E$4),B2775,\"\")","v":""},{"$f":"+B2775/Analyse1!$H$3*Analyse1!$H$4","v":1.9194112401708543E-14}]
[7098.8969999999999,1.2697995506223201,{"$f":"+IF(AND(A2776>Analyse1!$E$3,Data!A2776<Analyse1!$E$4),B2776,\"\")","v":""},{"$f":"+B2776/Analyse1!$H$3*Analyse1!$H$4","v":1.9430865164758508E-14}]
[7099.8969999999999,1.2871067994821599,{"$f":"+IF(AND(A2777>Analyse1!$E$3,Data!A2777<Analyse1!$E$4),B2777,\"\")","v":""},{"$f":"+B2777/Analyse1!$H$3*Analyse1!$H$4","v":1.9695706035747674E-14}]
[7100.8969999999999,1.3072422559997701,{"$f":"+IF(AND(A2778>Analyse1!$E$3,Data!A2778<Analyse1!$E$4),B2778,\"\")","v":""},{"$f":"+B2778/Analyse1!$H$3*Analyse1!$H$4","v":2.0003825014394969E-14}]
[7101.8969999999999,1.3281270517250101,{"$f":"+IF(AND(A2779>Analyse1!$E$3,Data!A2779<Analyse1!$E$4),B2779,\"\")","v":""},{"$f":"+B2779/Analyse1!$H$3*Analyse1!$H$4","v":2.0323410613186353E-14}]
[7102.8969999999999,1.34517701019586,{"$f":"+IF(AND(A2780>Analyse1!$E$3,Data!A2780<Analyse1!$E$4),B2780,\"\")","v":""},{"$f":"+B2780/Analyse1!$H$3*Analyse1!$H$4","v":2.0584314347125659E-14}]
[7103.8969999999999,1.35373482055553,{"$f":"+IF(AND(A2781>Analyse1!$E$3,Data!A2781<Analyse1!$E$4),B2781,\"\")","v":""},{"$f":"+B2781/Analyse1!$H$3*Analyse1!$H$4","v":2.0715268606105214E-14}]
[7104.8969999999999,1.3491932341510799,{"$f":"+IF(AND(A2782>Analyse1!$E$3,Data!A2782<Analyse1!$E$4),B2782,\"\")","v":""},{"$f":"+B2782/Analyse1!$H$3*Analyse1!$H$4","v":2.0645771847332762E-14}]
[7105.8969999999999,1.33081919054382,{"$f":"+IF(AND(A2783>Analyse1!$E$3,Data!A2783<Analyse1!$E$4),B2783,\"\")","v":""},{"$f":"+B2783/Analyse1!$H$3*Analyse1!$H$4","v":2.0364606553417604E-14}]
[7106.8969999999999,1.3044471317070501,{"$f":"+IF(AND(A2784>Analyse1!$E$3,Data!A2784<Analyse1!$E$4),B2784,\"\")","v":""},{"$f":"+B2784/Analyse1!$H$3*Analyse1!$H$4","v":1.9961053158613508E-14}]
[7107.8969999999999,1.27654772350145,{"$f":"+IF(AND(A2785>Analyse1!$E$3,Data!A2785<Analyse1!$E$4),B2785,\"\")","v":""},{"$f":"+B2785/Analyse1!$H$3*Analyse1!$H$4","v":1.9534127791728716E-14}]
[7108.8969999999999,1.2535916158053699,{"$f":"+IF(AND(A2786>Analyse1!$E$3,Data!A2786<Analyse1!$E$4),B2786,\"\")","v":""},{"$f":"+B2786/Analyse1!$H$3*Analyse1!$H$4","v":1.918284633700494E-14}]
[7109.8969999999999,1.2404414386715901,{"$f":"+IF(AND(A2787>Analyse1!$E$3,Data!A2787<Analyse1!$E$4),B2787,\"\")","v":""},{"$f":"+B2787/Analyse1!$H$3*Analyse1!$H$4","v":1.8981618262342337E-14}]
[7110.8969999999999,1.2359378373218399,{"$f":"+IF(AND(A2788>Analyse1!$E$3,Data!A2788<Analyse1!$E$4),B2788,\"\")","v":""},{"$f":"+B2788/Analyse1!$H$3*Analyse1!$H$4","v":1.8912702762616473E-14}]
[7111.8969999999999,1.23751202595184,{"$f":"+IF(AND(A2789>Analyse1!$E$3,Data!A2789<Analyse1!$E$4),B2789,\"\")","v":""},{"$f":"+B2789/Analyse1!$H$3*Analyse1!$H$4","v":1.8936791483547611E-14}]
[7112.8969999999999,1.24259521875728,{"$f":"+IF(AND(A2790>Analyse1!$E$3,Data!A2790<Analyse1!$E$4),B2790,\"\")","v":""},{"$f":"+B2790/Analyse1!$H$3*Analyse1!$H$4","v":1.9014576070855558E-14}]
[7113.8969999999999,1.2487608187590999,{"$f":"+IF(AND(A2791>Analyse1!$E$3,Data!A2791<Analyse1!$E$4),B2791,\"\")","v":""},{"$f":"+B2791/Analyse1!$H$3*Analyse1!$H$4","v":1.9108923987608628E-14}]
[7114.8969999999999,1.25484500166016,{"$f":"+IF(AND(A2792>Analyse1!$E$3,Data!A2792<Analyse1!$E$4),B2792,\"\")","v":""},{"$f":"+B2792/Analyse1!$H$3*Analyse1!$H$4","v":1.9202026034723301E-14}]
[7115.8969999999999,1.2603449769509101,{"$f":"+IF(AND(A2793>Analyse1!$E$3,Data!A2793<Analyse1!$E$4),B2793,\"\")","v":""},{"$f":"+B2793/Analyse1!$H$3*Analyse1!$H$4","v":1.9286188356431235E-14}]
[7116.8969999999999,1.2647637491238399,{"$f":"+IF(AND(A2794>Analyse1!$E$3,Data!A2794<Analyse1!$E$4),B2794,\"\")","v":""},{"$f":"+B2794/Analyse1!$H$3*Analyse1!$H$4","v":1.93538057738763E-14}]
[7117.8969999999999,1.2676153496172899,{"$f":"+IF(AND(A2795>Analyse1!$E$3,Data!A2795<Analyse1!$E$4),B2795,\"\")","v":""},{"$f":"+B2795/Analyse1!$H$3*Analyse1!$H$4","v":1.9397441845935728E-14}]
[7118.8969999999999,1.2687130635500601,{"$f":"+IF(AND(A2796>Analyse1!$E$3,Data!A2796<Analyse1!$E$4),B2796,\"\")","v":""},{"$f":"+B2796/Analyse1!$H$3*Analyse1!$H$4","v":1.9414239403791754E-14}]
[7119.8969999999999,1.26819721794514,{"$f":"+IF(AND(A2797>Analyse1!$E$3,Data!A2797<Analyse1!$E$4),B2797,\"\")","v":""},{"$f":"+B2797/Analyse1!$H$3*Analyse1!$H$4","v":1.9406345774919289E-14}]
[7120.8969999999999,1.26622473815674,{"$f":"+IF(AND(A2798>Analyse1!$E$3,Data!A2798<Analyse1!$E$4),B2798,\"\")","v":""},{"$f":"+B2798/Analyse1!$H$3*Analyse1!$H$4","v":1.9376162279587427E-14}]
[7121.8969999999999,1.26295288677388,{"$f":"+IF(AND(A2799>Analyse1!$E$3,Data!A2799<Analyse1!$E$4),B2799,\"\")","v":""},{"$f":"+B2799/Analyse1!$H$3*Analyse1!$H$4","v":1.9326095398536534E-14}]
[7122.8969999999999,1.2586227045270999,{"$f":"+IF(AND(A2800>Analyse1!$E$3,Data!A2800<Analyse1!$E$4),B2800,\"\")","v":""},{"$f":"+B2800/Analyse1!$H$3*Analyse1!$H$4","v":1.9259833611520799E-14}]
[7123.8969999999999,1.2536685787585999,{"$f":"+IF(AND(A2801>Analyse1!$E$3,Data!A2801<Analyse1!$E$4),B2801,\"\")","v":""},{"$f":"+B2801/Analyse1!$H$3*Analyse1!$H$4","v":1.9184024047901248E-14}]
[7124.8969999999999,1.2485520837530499,{"$f":"+IF(AND(A2802>Analyse1!$E$3,Data!A2802<Analyse1!$E$4),B2802,\"\")","v":""},{"$f":"+B2802/Analyse1!$H$3*Analyse1!$H$4","v":1.910572986003492E-14}]
[7125.8969999999999,1.24373479379515,{"$f":"+IF(AND(A2803>Analyse1!$E$3,Data!A2803<Analyse1!$E$4),B2803,\"\")","v":""},{"$f":"+B2803/Analyse1!$H$3*Analyse1!$H$4","v":1.9032014200279309E-14}]
[7126.8969999999999,1.2395280869546099,{"$f":"+IF(AND(A2804>Analyse1!$E$3,Data!A2804<Analyse1!$E$4),B2804,\"\")","v":""},{"$f":"+B2804/Analyse1!$H$3*Analyse1!$H$4","v":1.8967641872090867E-14}]
[7127.8969999999999,1.2354552759456101,{"$f":"+IF(AND(A2805>Analyse1!$E$3,Data!A2805<Analyse1!$E$4),B2805,\"\")","v":""},{"$f":"+B2805/Analyse1!$H$3*Analyse1!$H$4","v":1.8905318459298168E-14}]
[7128.8969999999999,1.23078209693288,{"$f":"+IF(AND(A2806>Analyse1!$E$3,Data!A2806<Analyse1!$E$4),B2806,\"\")","v":""},{"$f":"+B2806/Analyse1!$H$3*Analyse1!$H$4","v":1.8833808029764122E-14}]
[7129.8969999999999,1.2247741406366299,{"$f":"+IF(AND(A2807>Analyse1!$E$3,Data!A2807<Analyse1!$E$4),B2807,\"\")","v":""},{"$f":"+B2807/Analyse1!$H$3*Analyse1!$H$4","v":1.8741872425714664E-14}]
[7130.8969999999999,1.21669624890822,{"$f":"+IF(AND(A2808>Analyse1!$E$3,Data!A2808<Analyse1!$E$4),B2808,\"\")","v":""},{"$f":"+B2808/Analyse1!$H$3*Analyse1!$H$4","v":1.8618262029953122E-14}]
[7131.8969999999999,1.20580336323695,{"$f":"+IF(AND(A2809>Analyse1!$E$3,Data!A2809<Analyse1!$E$4),B2809,\"\")","v":""},{"$f":"+B2809/Analyse1!$H$3*Analyse1!$H$4","v":1.8451575726882811E-14}]
[7132.8969999999999,1.19134342050883,{"$f":"+IF(AND(A2810>Analyse1!$E$3,Data!A2810<Analyse1!$E$4),B2810,\"\")","v":""},{"$f":"+B2810/Analyse1!$H$3*Analyse1!$H$4","v":1.823030521430267E-14}]
[7133.8969999999999,1.1725642097156601,{"$f":"+IF(AND(A2811>Analyse1!$E$3,Data!A2811<Analyse1!$E$4),B2811,\"\")","v":""},{"$f":"+B2811/Analyse1!$H$3*Analyse1!$H$4","v":1.7942939926888742E-14}]
[7134.8969999999999,1.1487645333519501,{"$f":"+IF(AND(A2812>Analyse1!$E$3,Data!A2812<Analyse1!$E$4),B2812,\"\")","v":""},{"$f":"+B2812/Analyse1!$H$3*Analyse1!$H$4","v":1.7578749923701626E-14}]
[7135.8969999999999,1.12189413706275,{"$f":"+IF(AND(A2813>Analyse1!$E$3,Data!A2813<Analyse1!$E$4),B2813,\"\")","v":""},{"$f":"+B2813/Analyse1!$H$3*Analyse1!$H$4","v":1.716757081518549E-14}]
[7136.8969999999999,1.09779193249816,{"$f":"+IF(AND(A2814>Analyse1!$E$3,Data!A2814<Analyse1!$E$4),B2814,\"\")","v":""},{"$f":"+B2814/Analyse1!$H$3*Analyse1!$H$4","v":1.6798751431969887E-14}]
[7137.8969999999999,1.0826069505407101,{"$f":"+IF(AND(A2815>Analyse1!$E$3,Data!A2815<Analyse1!$E$4),B2815,\"\")","v":""},{"$f":"+B2815/Analyse1!$H$3*Analyse1!$H$4","v":1.6566386145023696E-14}]
[7138.8969999999999,1.08248709536681,{"$f":"+IF(AND(A2816>Analyse1!$E$3,Data!A2816<Analyse1!$E$4),B2816,\"\")","v":""},{"$f":"+B2816/Analyse1!$H$3*Analyse1!$H$4","v":1.6564552084110532E-14}]
[7139.8969999999999,1.10038409672034,{"$f":"+IF(AND(A2817>Analyse1!$E$3,Data!A2817<Analyse1!$E$4),B2817,\"\")","v":""},{"$f":"+B2817/Analyse1!$H$3*Analyse1!$H$4","v":1.6838417530025606E-14}]
[7140.8969999999999,1.1290575210042699,{"$f":"+IF(AND(A2818>Analyse1!$E$3,Data!A2818<Analyse1!$E$4),B2818,\"\")","v":""},{"$f":"+B2818/Analyse1!$H$3*Analyse1!$H$4","v":1.727718713015651E-14}]
[7141.8969999999999,1.1592397505199801,{"$f":"+IF(AND(A2819>Analyse1!$E$3,Data!A2819<Analyse1!$E$4),B2819,\"\")","v":""},{"$f":"+B2819/Analyse1!$H$3*Analyse1!$H$4","v":1.7739044934251757E-14}]
[7142.8969999999999,1.18166316756885,{"$f":"+IF(AND(A2820>Analyse1!$E$3,Data!A2820<Analyse1!$E$4),B2820,\"\")","v":""},{"$f":"+B2820/Analyse1!$H$3*Analyse1!$H$4","v":1.8082174992059859E-14}]
[7143.8969999999999,1.1882626973280299,{"$f":"+IF(AND(A2821>Analyse1!$E$3,Data!A2821<Analyse1!$E$4),B2821,\"\")","v":""},{"$f":"+B2821/Analyse1!$H$3*Analyse1!$H$4","v":1.8183163036069314E-14}]
[7144.8969999999999,1.17991889142399,{"$f":"+IF(AND(A2822>Analyse1!$E$3,Data!A2822<Analyse1!$E$4),B2822,\"\")","v":""},{"$f":"+B2822/Analyse1!$H$3*Analyse1!$H$4","v":1.8055483539409503E-14}]
[7145.8969999999999,1.1615445991219899,{"$f":"+IF(AND(A2823>Analyse1!$E$3,Data!A2823<Analyse1!$E$4),B2823,\"\")","v":""},{"$f":"+B2823/Analyse1!$H$3*Analyse1!$H$4","v":1.7774314439890568E-14}]
[7146.8969999999999,1.1380721846174799,{"$f":"+IF(AND(A2824>Analyse1!$E$3,Data!A2824<Analyse1!$E$4),B2824,\"\")","v":""},{"$f":"+B2824/Analyse1!$H$3*Analyse1!$H$4","v":1.7415132298815679E-14}]
[7147.8969999999999,1.1143633995420199,{"$f":"+IF(AND(A2825>Analyse1!$E$3,Data!A2825<Analyse1!$E$4),B2825,\"\")","v":""},{"$f":"+B2825/Analyse1!$H$3*Analyse1!$H$4","v":1.7052333142212007E-14}]
[7148.8969999999999,1.0937986520783101,{"$f":"+IF(AND(A2826>Analyse1!$E$3,Data!A2826<Analyse1!$E$4),B2826,\"\")","v":""},{"$f":"+B2826/Analyse1!$H$3*Analyse1!$H$4","v":1.673764502083189E-14}]
[7149.8969999999999,1.07835222100364,{"$f":"+IF(AND(A2827>Analyse1!$E$3,Data!A2827<Analyse1!$E$4),B2827,\"\")","v":""},{"$f":"+B2827/Analyse1!$H$3*Analyse1!$H$4","v":1.6501278958691172E-14}]
[7150.8969999999999,1.06994282814564,{"$f":"+IF(AND(A2828>Analyse1!$E$3,Data!A2828<Analyse1!$E$4),B2828,\"\")","v":""},{"$f":"+B2828/Analyse1!$H$3*Analyse1!$H$4","v":1.637259583019172E-14}]
[7151.8969999999999,1.0704731349676599,{"$f":"+IF(AND(A2829>Analyse1!$E$3,Data!A2829<Analyse1!$E$4),B2829,\"\")","v":""},{"$f":"+B2829/Analyse1!$H$3*Analyse1!$H$4","v":1.6380710749077593E-14}]
[7152.8969999999999,1.07973838045424,{"$f":"+IF(AND(A2830>Analyse1!$E$3,Data!A2830<Analyse1!$E$4),B2830,\"\")","v":""},{"$f":"+B2830/Analyse1!$H$3*Analyse1!$H$4","v":1.6522490399007293E-14}]
[7153.8969999999999,1.09334949301871,{"$f":"+IF(AND(A2831>Analyse1!$E$3,Data!A2831<Analyse1!$E$4),B2831,\"\")","v":""},{"$f":"+B2831/Analyse1!$H$3*Analyse1!$H$4","v":1.6730771850085891E-14}]
[7154.8969999999999,1.1064236465003401,{"$f":"+IF(AND(A2832>Analyse1!$E$3,Data!A2832<Analyse1!$E$4),B2832,\"\")","v":""},{"$f":"+B2832/Analyse1!$H$3*Analyse1!$H$4","v":1.6930836587327613E-14}]
[7155.8969999999999,1.1140780147384299,{"$f":"+IF(AND(A2833>Analyse1!$E$3,Data!A2833<Analyse1!$E$4),B2833,\"\")","v":""},{"$f":"+B2833/Analyse1!$H$3*Analyse1!$H$4","v":1.7047966095747147E-14}]
[7156.8969999999999,1.1125956630126601,{"$f":"+IF(AND(A2834>Analyse1!$E$3,Data!A2834<Analyse1!$E$4),B2834,\"\")","v":""},{"$f":"+B2834/Analyse1!$H$3*Analyse1!$H$4","v":1.7025282691507425E-14}]
[7157.8969999999999,1.1034559401986199,{"$f":"+IF(AND(A2835>Analyse1!$E$3,Data!A2835<Analyse1!$E$4),B2835,\"\")","v":""},{"$f":"+B2835/Analyse1!$H$3*Analyse1!$H$4","v":1.6885423828306659E-14}]
[7158.8969999999999,1.08958531523604,{"$f":"+IF(AND(A2836>Analyse1!$E$3,Data!A2836<Analyse1!$E$4),B2836,\"\")","v":""},{"$f":"+B2836/Analyse1!$H$3*Analyse1!$H$4","v":1.6673171238307919E-14}]
[7159.8969999999999,1.07391031792868,{"$f":"+IF(AND(A2837>Analyse1!$E$3,Data!A2837<Analyse1!$E$4),B2837,\"\")","v":""},{"$f":"+B2837/Analyse1!$H$3*Analyse1!$H$4","v":1.643330758503446E-14}]
[7160.8969999999999,1.0591274666452299,{"$f":"+IF(AND(A2838>Analyse1!$E$3,Data!A2838<Analyse1!$E$4),B2838,\"\")","v":""},{"$f":"+B2838/Analyse1!$H$3*Analyse1!$H$4","v":1.6207095825943335E-14}]
[7161.8969999999999,1.0454384050202601,{"$f":"+IF(AND(A2839>Analyse1!$E$3,Data!A2839<Analyse1!$E$4),B2839,\"\")","v":""},{"$f":"+B2839/Analyse1!$H$3*Analyse1!$H$4","v":1.5997621574250224E-14}]
[7162.8969999999999,1.0315162946844401,{"$f":"+IF(AND(A2840>Analyse1!$E$3,Data!A2840<Analyse1!$E$4),B2840,\"\")","v":""},{"$f":"+B2840/Analyse1!$H$3*Analyse1!$H$4","v":1.5784581139158221E-14}]
[7163.8969999999999,1.0160122308722801,{"$f":"+IF(AND(A2841>Analyse1!$E$3,Data!A2841<Analyse1!$E$4),B2841,\"\")","v":""},{"$f":"+B2841/Analyse1!$H$3*Analyse1!$H$4","v":1.55473331630566E-14}]
[7164.8969999999999,0.99764689773333504,{"$f":"+IF(AND(A2842>Analyse1!$E$3,Data!A2842<Analyse1!$E$4),B2842,\"\")","v":""},{"$f":"+B2842/Analyse1!$H$3*Analyse1!$H$4","v":1.5266301159419633E-14}]
[7165.8969999999999,0.97772304212976402,{"$f":"+IF(AND(A2843>Analyse1!$E$3,Data!A2843<Analyse1!$E$4),B2843,\"\")","v":""},{"$f":"+B2843/Analyse1!$H$3*Analyse1!$H$4","v":1.4961420163355827E-14}]
[7166.8969999999999,0.960828016119054,{"$f":"+IF(AND(A2844>Analyse1!$E$3,Data!A2844<Analyse1!$E$4),B2844,\"\")","v":""},{"$f":"+B2844/Analyse1!$H$3*Analyse1!$H$4","v":1.4702887253804625E-14}]
[7167.8969999999999,0.95176182509191798,{"$f":"+IF(AND(A2845>Analyse1!$E$3,Data!A2845<Analyse1!$E$4),B2845,\"\")","v":""},{"$f":"+B2845/Analyse1!$H$3*Analyse1!$H$4","v":1.456415359673262E-14}]
[7168.8969999999999,0.95531914974904897,{"$f":"+IF(AND(A2846>Analyse1!$E$3,Data!A2846<Analyse1!$E$4),B2846,\"\")","v":""},{"$f":"+B2846/Analyse1!$H$3*Analyse1!$H$4","v":1.4618588878054076E-14}]
[7169.8969999999999,0.97281698400014804,{"$f":"+IF(AND(A2847>Analyse1!$E$3,Data!A2847<Analyse1!$E$4),B2847,\"\")","v":""},{"$f":"+B2847/Analyse1!$H$3*Analyse1!$H$4","v":1.4886346145602148E-14}]
[7170.8969999999999,0.99610156010697704,{"$f":"+IF(AND(A2848>Analyse1!$E$3,Data!A2848<Analyse1!$E$4),B2848,\"\")","v":""},{"$f":"+B2848/Analyse1!$H$3*Analyse1!$H$4","v":1.5242653925462845E-14}]
[7171.8969999999999,1.0154219921541301,{"$f":"+IF(AND(A2849>Analyse1!$E$3,Data!A2849<Analyse1!$E$4),B2849,\"\")","v":""},{"$f":"+B2849/Analyse1!$H$3*Analyse1!$H$4","v":1.5538301147773737E-14}]
[7172.8969999999999,1.0210273942262,{"$f":"+IF(AND(A2850>Analyse1!$E$3,Data!A2850<Analyse1!$E$4),B2850,\"\")","v":""},{"$f":"+B2850/Analyse1!$H$3*Analyse1!$H$4","v":1.5624076742672375E-14}]
[7173.8969999999999,1.00535957976625,{"$f":"+IF(AND(A2851>Analyse1!$E$3,Data!A2851<Analyse1!$E$4),B2851,\"\")","v":""},{"$f":"+B2851/Analyse1!$H$3*Analyse1!$H$4","v":1.5384323003549894E-14}]
[7174.8969999999999,0.97461150652245798,{"$f":"+IF(AND(A2852>Analyse1!$E$3,Data!A2852<Analyse1!$E$4),B2852,\"\")","v":""},{"$f":"+B2852/Analyse1!$H$3*Analyse1!$H$4","v":1.4913806483849262E-14}]
[7175.8969999999999,0.940294994285505,{"$f":"+IF(AND(A2853>Analyse1!$E$3,Data!A2853<Analyse1!$E$4),B2853,\"\")","v":""},{"$f":"+B2853/Analyse1!$H$3*Analyse1!$H$4","v":1.4388684607822275E-14}]
[7176.8969999999999,0.91393336364361699,{"$f":"+IF(AND(A2854>Analyse1!$E$3,Data!A2854<Analyse1!$E$4),B2854,\"\")","v":""},{"$f":"+B2854/Analyse1!$H$3*Analyse1!$H$4","v":1.3985290788479174E-14}]
[7177.8969999999999,0.90641276354568301,{"$f":"+IF(AND(A2855>Analyse1!$E$3,Data!A2855<Analyse1!$E$4),B2855,\"\")","v":""},{"$f":"+B2855/Analyse1!$H$3*Analyse1!$H$4","v":1.3870208241482362E-14}]
[7178.8969999999999,0.91802866450149501,{"$f":"+IF(AND(A2856>Analyse1!$E$3,Data!A2856<Analyse1!$E$4),B2856,\"\")","v":""},{"$f":"+B2856/Analyse1!$H$3*Analyse1!$H$4","v":1.4047958347890066E-14}]
[7179.8969999999999,0.94034713116151003,{"$f":"+IF(AND(A2857>Analyse1!$E$3,Data!A2857<Analyse1!$E$4),B2857,\"\")","v":""},{"$f":"+B2857/Analyse1!$H$3*Analyse1!$H$4","v":1.4389482422412199E-14}]
[7180.8969999999999,0.96467367567288198,{"$f":"+IF(AND(A2858>Analyse1!$E$3,Data!A2858<Analyse1!$E$4),B2858,\"\")","v":""},{"$f":"+B2858/Analyse1!$H$3*Analyse1!$H$4","v":1.4761734724827417E-14}]
[7181.8969999999999,0.982372904211683,{"$f":"+IF(AND(A2859>Analyse1!$E$3,Data!A2859<Analyse1!$E$4),B2859,\"\")","v":""},{"$f":"+B2859/Analyse1!$H$3*Analyse1!$H$4","v":1.5032573790008323E-14}]
[7182.8969999999999,0.98953412815106201,{"$f":"+IF(AND(A2860>Analyse1!$E$3,Data!A2860<Analyse1!$E$4),B2860,\"\")","v":""},{"$f":"+B2860/Analyse1!$H$3*Analyse1!$H$4","v":1.5142157051959017E-14}]
[7183.8969999999999,0.99034291256682405,{"$f":"+IF(AND(A2861>Analyse1!$E$3,Data!A2861<Analyse1!$E$4),B2861,\"\")","v":""},{"$f":"+B2861/Analyse1!$H$3*Analyse1!$H$4","v":1.5154533321049934E-14}]
[7184.8969999999999,0.98978017093352499,{"$f":"+IF(AND(A2862>Analyse1!$E$3,Data!A2862<Analyse1!$E$4),B2862,\"\")","v":""},{"$f":"+B2862/Analyse1!$H$3*Analyse1!$H$4","v":1.5145922074657641E-14}]
[7185.8969999999999,0.99282680643550103,{"$f":"+IF(AND(A2863>Analyse1!$E$3,Data!A2863<Analyse1!$E$4),B2863,\"\")","v":""},{"$f":"+B2863/Analyse1!$H$3*Analyse1!$H$4","v":1.5192542632694579E-14}]
[7186.8969999999999,1.0025939586894601,{"$f":"+IF(AND(A2864>Analyse1!$E$3,Data!A2864<Analyse1!$E$4),B2864,\"\")","v":""},{"$f":"+B2864/Analyse1!$H$3*Analyse1!$H$4","v":1.5342002615096788E-14}]
[7187.8969999999999,1.01510614443561,{"$f":"+IF(AND(A2865>Analyse1!$E$3,Data!A2865<Analyse1!$E$4),B2865,\"\")","v":""},{"$f":"+B2865/Analyse1!$H$3*Analyse1!$H$4","v":1.5533467948369822E-14}]
[7188.8969999999999,1.02470923620126,{"$f":"+IF(AND(A2866>Analyse1!$E$3,Data!A2866<Analyse1!$E$4),B2866,\"\")","v":""},{"$f":"+B2866/Analyse1!$H$3*Analyse1!$H$4","v":1.5680417426475794E-14}]
[7189.8969999999999,1.0257491065137001,{"$f":"+IF(AND(A2867>Analyse1!$E$3,Data!A2867<Analyse1!$E$4),B2867,\"\")","v":""},{"$f":"+B2867/Analyse1!$H$3*Analyse1!$H$4","v":1.5696329843376523E-14}]
[7190.8969999999999,1.0134710664172399,{"$f":"+IF(AND(A2868>Analyse1!$E$3,Data!A2868<Analyse1!$E$4),B2868,\"\")","v":""},{"$f":"+B2868/Analyse1!$H$3*Analyse1!$H$4","v":1.5508447479199521E-14}]
[7191.8969999999999,0.99121636719069794,{"$f":"+IF(AND(A2869>Analyse1!$E$3,Data!A2869<Analyse1!$E$4),B2869,\"\")","v":""},{"$f":"+B2869/Analyse1!$H$3*Analyse1!$H$4","v":1.5167899193652197E-14}]
[7192.8969999999999,0.96661097855843003,{"$f":"+IF(AND(A2870>Analyse1!$E$3,Data!A2870<Analyse1!$E$4),B2870,\"\")","v":""},{"$f":"+B2870/Analyse1!$H$3*Analyse1!$H$4","v":1.4791379932320152E-14}]
[7193.8969999999999,0.94731989871464894,{"$f":"+IF(AND(A2871>Analyse1!$E$3,Data!A2871<Analyse1!$E$4),B2871,\"\")","v":""},{"$f":"+B2871/Analyse1!$H$3*Analyse1!$H$4","v":1.4496181866496775E-14}]
[7194.8969999999999,0.94076590157728102,{"$f":"+IF(AND(A2872>Analyse1!$E$3,Data!A2872<Analyse1!$E$4),B2872,\"\")","v":""},{"$f":"+B2872/Analyse1!$H$3*Analyse1!$H$4","v":1.4395890576738485E-14}]
[7195.8969999999999,0.94766374542588405,{"$f":"+IF(AND(A2873>Analyse1!$E$3,Data!A2873<Analyse1!$E$4),B2873,\"\")","v":""},{"$f":"+B2873/Analyse1!$H$3*Analyse1!$H$4","v":1.4501443515140516E-14}]
[7196.8969999999999,0.96132029319936096,{"$f":"+IF(AND(A2874>Analyse1!$E$3,Data!A2874<Analyse1!$E$4),B2874,\"\")","v":""},{"$f":"+B2874/Analyse1!$H$3*Analyse1!$H$4","v":1.4710420229829432E-14}]
[7197.8969999999999,0.97465977529840597,{"$f":"+IF(AND(A2875>Analyse1!$E$3,Data!A2875<Analyse1!$E$4),B2875,\"\")","v":""},{"$f":"+B2875/Analyse1!$H$3*Analyse1!$H$4","v":1.4914545107576648E-14}]
[7198.8969999999999,0.980619402982842,{"$f":"+IF(AND(A2876>Analyse1!$E$3,Data!A2876<Analyse1!$E$4),B2876,\"\")","v":""},{"$f":"+B2876/Analyse1!$H$3*Analyse1!$H$4","v":1.5005741172271811E-14}]
[7199.8969999999999,0.97554440447659896,{"$f":"+IF(AND(A2877>Analyse1!$E$3,Data!A2877<Analyse1!$E$4),B2877,\"\")","v":""},{"$f":"+B2877/Analyse1!$H$3*Analyse1!$H$4","v":1.4928081976662684E-14}]
[7200.8969999999999,0.96373439943542205,{"$f":"+IF(AND(A2878>Analyse1!$E$3,Data!A2878<Analyse1!$E$4),B2878,\"\")","v":""},{"$f":"+B2878/Analyse1!$H$3*Analyse1!$H$4","v":1.4747361629551394E-14}]
[7201.8969999999999,0.95062181923850197,{"$f":"+IF(AND(A2879>Analyse1!$E$3,Data!A2879<Analyse1!$E$4),B2879,\"\")","v":""},{"$f":"+B2879/Analyse1!$H$3*Analyse1!$H$4","v":1.4546708874836234E-14}]
[7202.8969999999999,0.94163909526502598,{"$f":"+IF(AND(A2880>Analyse1!$E$3,Data!A2880<Analyse1!$E$4),B2880,\"\")","v":""},{"$f":"+B2880/Analyse1!$H$3*Analyse1!$H$4","v":1.4409252456415461E-14}]
[7203.8969999999999,0.94124096842137195,{"$f":"+IF(AND(A2881>Analyse1!$E$3,Data!A2881<Analyse1!$E$4),B2881,\"\")","v":""},{"$f":"+B2881/Analyse1!$H$3*Analyse1!$H$4","v":1.4403160196409758E-14}]
[7204.8969999999999,0.94868948943141895,{"$f":"+IF(AND(A2882>Analyse1!$E$3,Data!A2882<Analyse1!$E$4),B2882,\"\")","v":""},{"$f":"+B2882/Analyse1!$H$3*Analyse1!$H$4","v":1.4517139766927137E-14}]
[7205.8969999999999,0.96152944774816196,{"$f":"+IF(AND(A2883>Analyse1!$E$3,Data!A2883<Analyse1!$E$4),B2883,\"\")","v":""},{"$f":"+B2883/Analyse1!$H$3*Analyse1!$H$4","v":1.4713620777375977E-14}]
[7206.8969999999999,0.97730453982848298,{"$f":"+IF(AND(A2884>Analyse1!$E$3,Data!A2884<Analyse1!$E$4),B2884,\"\")","v":""},{"$f":"+B2884/Analyse1!$H$3*Analyse1!$H$4","v":1.4955016111800329E-14}]
[7207.8969999999999,0.99355846149531701,{"$f":"+IF(AND(A2885>Analyse1!$E$3,Data!A2885<Analyse1!$E$4),B2885,\"\")","v":""},{"$f":"+B2885/Analyse1!$H$3*Analyse1!$H$4","v":1.52037386445434E-14}]
[7208.8969999999999,1.00783490006218,{"$f":"+IF(AND(A2886>Analyse1!$E$3,Data!A2886<Analyse1!$E$4),B2886,\"\")","v":""},{"$f":"+B2886/Analyse1!$H$3*Analyse1!$H$4","v":1.542220111973464E-14}]
[7209.8969999999999,1.01767753675804,{"$f":"+IF(AND(A2887>Analyse1!$E$3,Data!A2887<Analyse1!$E$4),B2887,\"\")","v":""},{"$f":"+B2887/Analyse1!$H$3*Analyse1!$H$4","v":1.5572816188395851E-14}]
[7210.8969999999999,1.0206300526800101,{"$f":"+IF(AND(A2888>Analyse1!$E$3,Data!A2888<Analyse1!$E$4),B2888,\"\")","v":""},{"$f":"+B2888/Analyse1!$H$3*Analyse1!$H$4","v":1.5617996499531169E-14}]
[7211.8969999999999,1.0142929637590601,{"$f":"+IF(AND(A2889>Analyse1!$E$3,Data!A2889<Analyse1!$E$4),B2889,\"\")","v":""},{"$f":"+B2889/Analyse1!$H$3*Analyse1!$H$4","v":1.5521024406337628E-14}]
[7212.8969999999999,0.99930147071820696,{"$f":"+IF(AND(A2890>Analyse1!$E$3,Data!A2890<Analyse1!$E$4),B2890,\"\")","v":""},{"$f":"+B2890/Analyse1!$H$3*Analyse1!$H$4","v":1.5291619946592412E-14}]
[7213.8969999999999,0.98079050932580802,{"$f":"+IF(AND(A2891>Analyse1!$E$3,Data!A2891<Analyse1!$E$4),B2891,\"\")","v":""},{"$f":"+B2891/Analyse1!$H$3*Analyse1!$H$4","v":1.5008359494413583E-14}]
[7214.8969999999999,0.96425918783613895,{"$f":"+IF(AND(A2892>Analyse1!$E$3,Data!A2892<Analyse1!$E$4),B2892,\"\")","v":""},{"$f":"+B2892/Analyse1!$H$3*Analyse1!$H$4","v":1.4755392103848977E-14}]
[7215.8969999999999,0.95520596709694805,{"$f":"+IF(AND(A2893>Analyse1!$E$3,Data!A2893<Analyse1!$E$4),B2893,\"\")","v":""},{"$f":"+B2893/Analyse1!$H$3*Analyse1!$H$4","v":1.4616856922131675E-14}]
[7216.8969999999999,0.95699282461887503,{"$f":"+IF(AND(A2894>Analyse1!$E$3,Data!A2894<Analyse1!$E$4),B2894,\"\")","v":""},{"$f":"+B2894/Analyse1!$H$3*Analyse1!$H$4","v":1.4644199968174006E-14}]
[7217.8969999999999,0.96608777172096505,{"$f":"+IF(AND(A2895>Analyse1!$E$3,Data!A2895<Analyse1!$E$4),B2895,\"\")","v":""},{"$f":"+B2895/Analyse1!$H$3*Analyse1!$H$4","v":1.4783373659592241E-14}]
[7218.8969999999999,0.97757092413910995,{"$f":"+IF(AND(A2896>Analyse1!$E$3,Data!A2896<Analyse1!$E$4),B2896,\"\")","v":""},{"$f":"+B2896/Analyse1!$H$3*Analyse1!$H$4","v":1.4959092406849625E-14}]
[7219.8969999999999,0.98652239760920302,{"$f":"+IF(AND(A2897>Analyse1!$E$3,Data!A2897<Analyse1!$E$4),B2897,\"\")","v":""},{"$f":"+B2897/Analyse1!$H$3*Analyse1!$H$4","v":1.5096070620409432E-14}]
[7220.8969999999999,0.988769445680865,{"$f":"+IF(AND(A2898>Analyse1!$E$3,Data!A2898<Analyse1!$E$4),B2898,\"\")","v":""},{"$f":"+B2898/Analyse1!$H$3*Analyse1!$H$4","v":1.5130455644469169E-14}]
[7221.8969999999999,0.98576926769477902,{"$f":"+IF(AND(A2899>Analyse1!$E$3,Data!A2899<Analyse1!$E$4),B2899,\"\")","v":""},{"$f":"+B2899/Analyse1!$H$3*Analyse1!$H$4","v":1.508454599369843E-14}]
[7222.8969999999999,0.98154536305555795,{"$f":"+IF(AND(A2900>Analyse1!$E$3,Data!A2900<Analyse1!$E$4),B2900,\"\")","v":""},{"$f":"+B2900/Analyse1!$H$3*Analyse1!$H$4","v":1.5019910499479458E-14}]
[7223.8969999999999,0.98013428562052096,{"$f":"+IF(AND(A2901>Analyse1!$E$3,Data!A2901<Analyse1!$E$4),B2901,\"\")","v":""},{"$f":"+B2901/Analyse1!$H$3*Analyse1!$H$4","v":1.4998317756464391E-14}]
[7224.8969999999999,0.98535425657388098,{"$f":"+IF(AND(A2902>Analyse1!$E$3,Data!A2902<Analyse1!$E$4),B2902,\"\")","v":""},{"$f":"+B2902/Analyse1!$H$3*Analyse1!$H$4","v":1.5078195365264129E-14}]
[7225.8969999999999,0.99635934008801597,{"$f":"+IF(AND(A2903>Analyse1!$E$3,Data!A2903<Analyse1!$E$4),B2903,\"\")","v":""},{"$f":"+B2903/Analyse1!$H$3*Analyse1!$H$4","v":1.524659855440155E-14}]
[7226.8969999999999,1.00782980890545,{"$f":"+IF(AND(A2904>Analyse1!$E$3,Data!A2904<Analyse1!$E$4),B2904,\"\")","v":""},{"$f":"+B2904/Analyse1!$H$3*Analyse1!$H$4","v":1.5422123213280898E-14}]
[7227.8969999999999,1.01426569693821,{"$f":"+IF(AND(A2905>Analyse1!$E$3,Data!A2905<Analyse1!$E$4),B2905,\"\")","v":""},{"$f":"+B2905/Analyse1!$H$3*Analyse1!$H$4","v":1.5520607161017966E-14}]
[7228.8969999999999,1.0101943707033201,{"$f":"+IF(AND(A2906>Analyse1!$E$3,Data!A2906<Analyse1!$E$4),B2906,\"\")","v":""},{"$f":"+B2906/Analyse1!$H$3*Analyse1!$H$4","v":1.5458306468697576E-14}]
[7229.8969999999999,0.99388184808375002,{"$f":"+IF(AND(A2907>Analyse1!$E$3,Data!A2907<Analyse1!$E$4),B2907,\"\")","v":""},{"$f":"+B2907/Analyse1!$H$3*Analyse1!$H$4","v":1.520868720606467E-14}]
[7230.8969999999999,0.97109960420392905,{"$f":"+IF(AND(A2908>Analyse1!$E$3,Data!A2908<Analyse1!$E$4),B2908,\"\")","v":""},{"$f":"+B2908/Analyse1!$H$3*Analyse1!$H$4","v":1.4860066269191214E-14}]
[7231.8969999999999,0.94851656678165797,{"$f":"+IF(AND(A2909>Analyse1!$E$3,Data!A2909<Analyse1!$E$4),B2909,\"\")","v":""},{"$f":"+B2909/Analyse1!$H$3*Analyse1!$H$4","v":1.4514493651097447E-14}]
[7232.8969999999999,0.93280166353473304,{"$f":"+IF(AND(A2910>Analyse1!$E$3,Data!A2910<Analyse1!$E$4),B2910,\"\")","v":""},{"$f":"+B2910/Analyse1!$H$3*Analyse1!$H$4","v":1.4274019344803533E-14}]
[7233.8969999999999,0.92918864780754995,{"$f":"+IF(AND(A2911>Analyse1!$E$3,Data!A2911<Analyse1!$E$4),B2911,\"\")","v":""},{"$f":"+B2911/Analyse1!$H$3*Analyse1!$H$4","v":1.4218731861516395E-14}]
[7234.8969999999999,0.93643740220094696,{"$f":"+IF(AND(A2912>Analyse1!$E$3,Data!A2912<Analyse1!$E$4),B2912,\"\")","v":""},{"$f":"+B2912/Analyse1!$H$3*Analyse1!$H$4","v":1.4329654541526417E-14}]
[7235.8969999999999,0.95148322763107696,{"$f":"+IF(AND(A2913>Analyse1!$E$3,Data!A2913<Analyse1!$E$4),B2913,\"\")","v":""},{"$f":"+B2913/Analyse1!$H$3*Analyse1!$H$4","v":1.4559890412284184E-14}]
[7236.8969999999999,0.97126132097456097,{"$f":"+IF(AND(A2914>Analyse1!$E$3,Data!A2914<Analyse1!$E$4),B2914,\"\")","v":""},{"$f":"+B2914/Analyse1!$H$3*Analyse1!$H$4","v":1.4862540909195211E-14}]
[7237.8969999999999,0.992602384646605,{"$f":"+IF(AND(A2915>Analyse1!$E$3,Data!A2915<Analyse1!$E$4),B2915,\"\")","v":""},{"$f":"+B2915/Analyse1!$H$3*Analyse1!$H$4","v":1.5189108461121643E-14}]
[7238.8969999999999,1.01118744864485,{"$f":"+IF(AND(A2916>Analyse1!$E$3,Data!A2916<Analyse1!$E$4),B2916,\"\")","v":""},{"$f":"+B2916/Analyse1!$H$3*Analyse1!$H$4","v":1.5473502854277101E-14}]
[7239.8969999999999,1.0219855938331901,{"$f":"+IF(AND(A2917>Analyse1!$E$3,Data!A2917<Analyse1!$E$4),B2917,\"\")","v":""},{"$f":"+B2917/Analyse1!$H$3*Analyse1!$H$4","v":1.5638739409197358E-14}]
[7240.8969999999999,1.0199553040062601,{"$f":"+IF(AND(A2918>Analyse1!$E$3,Data!A2918<Analyse1!$E$4),B2918,\"\")","v":""},{"$f":"+B2918/Analyse1!$H$3*Analyse1!$H$4","v":1.5607671286789277E-14}]
[7241.8969999999999,1.0002476118778301,{"$f":"+IF(AND(A2919>Analyse1!$E$3,Data!A2919<Analyse1!$E$4),B2919,\"\")","v":""},{"$f":"+B2919/Analyse1!$H$3*Analyse1!$H$4","v":1.5306098091029031E-14}]
[7242.8969999999999,0.96532614129096095,{"$f":"+IF(AND(A2920>Analyse1!$E$3,Data!A2920<Analyse1!$E$4),B2920,\"\")","v":""},{"$f":"+B2920/Analyse1!$H$3*Analyse1!$H$4","v":1.4771718955364684E-14}]
[7243.8969999999999,0.92705508411083104,{"$f":"+IF(AND(A2921>Analyse1!$E$3,Data!A2921<Analyse1!$E$4),B2921,\"\")","v":""},{"$f":"+B2921/Analyse1!$H$3*Analyse1!$H$4","v":1.4186083410435237E-14}]
[7244.8969999999999,0.89791705248924802,{"$f":"+IF(AND(A2922>Analyse1!$E$3,Data!A2922<Analyse1!$E$4),B2922,\"\")","v":""},{"$f":"+B2922/Analyse1!$H$3*Analyse1!$H$4","v":1.3740204245233164E-14}]
[7245.8969999999999,0.890386164964722,{"$f":"+IF(AND(A2923>Analyse1!$E$3,Data!A2923<Analyse1!$E$4),B2923,\"\")","v":""},{"$f":"+B2923/Analyse1!$H$3*Analyse1!$H$4","v":1.3624964276855233E-14}]
[7246.8969999999999,0.91090528619292199,{"$f":"+IF(AND(A2924>Analyse1!$E$3,Data!A2924<Analyse1!$E$4),B2924,\"\")","v":""},{"$f":"+B2924/Analyse1!$H$3*Analyse1!$H$4","v":1.3938954211478446E-14}]
[7247.8969999999999,0.94930124985085496,{"$f":"+IF(AND(A2925>Analyse1!$E$3,Data!A2925<Analyse1!$E$4),B2925,\"\")","v":""},{"$f":"+B2925/Analyse1!$H$3*Analyse1!$H$4","v":1.4526501113934525E-14}]
[7248.8969999999999,0.99256402453020198,{"$f":"+IF(AND(A2926>Analyse1!$E$3,Data!A2926<Analyse1!$E$4),B2926,\"\")","v":""},{"$f":"+B2926/Analyse1!$H$3*Analyse1!$H$4","v":1.5188521462764961E-14}]
[7249.8969999999999,1.0276835788226499,{"$f":"+IF(AND(A2927>Analyse1!$E$3,Data!A2927<Analyse1!$E$4),B2927,\"\")","v":""},{"$f":"+B2927/Analyse1!$H$3*Analyse1!$H$4","v":1.5725931736511342E-14}]
[7250.8969999999999,1.04361164324783,{"$f":"+IF(AND(A2928>Analyse1!$E$3,Data!A2928<Analyse1!$E$4),B2928,\"\")","v":""},{"$f":"+B2928/Analyse1!$H$3*Analyse1!$H$4","v":1.5969667901033982E-14}]
[7251.8969999999999,1.0417571706081299,{"$f":"+IF(AND(A2929>Analyse1!$E$3,Data!A2929<Analyse1!$E$4),B2929,\"\")","v":""},{"$f":"+B2929/Analyse1!$H$3*Analyse1!$H$4","v":1.5941290187562526E-14}]
[7252.8969999999999,1.0284030334735199,{"$f":"+IF(AND(A2930>Analyse1!$E$3,Data!A2930<Analyse1!$E$4),B2930,\"\")","v":""},{"$f":"+B2930/Analyse1!$H$3*Analyse1!$H$4","v":1.5736941053931845E-14}]
[7253.8969999999999,1.0098434092919699,{"$f":"+IF(AND(A2931>Analyse1!$E$3,Data!A2931<Analyse1!$E$4),B2931,\"\")","v":""},{"$f":"+B2931/Analyse1!$H$3*Analyse1!$H$4","v":1.5452935948713822E-14}]
[7254.8969999999999,0.99218413754161705,{"$f":"+IF(AND(A2932>Analyse1!$E$3,Data!A2932<Analyse1!$E$4),B2932,\"\")","v":""},{"$f":"+B2932/Analyse1!$H$3*Analyse1!$H$4","v":1.5182708314658692E-14}]
[7255.8969999999999,0.97834843680378503,{"$f":"+IF(AND(A2933>Analyse1!$E$3,Data!A2933<Analyse1!$E$4),B2933,\"\")","v":""},{"$f":"+B2933/Analyse1!$H$3*Analyse1!$H$4","v":1.497099014594064E-14}]
[7256.8969999999999,0.96860859783258302,{"$f":"+IF(AND(A2934>Analyse1!$E$3,Data!A2934<Analyse1!$E$4),B2934,\"\")","v":""},{"$f":"+B2934/Analyse1!$H$3*Analyse1!$H$4","v":1.4821948119832556E-14}]
[7257.8969999999999,0.96315602711867498,{"$f":"+IF(AND(A2935>Analyse1!$E$3,Data!A2935<Analyse1!$E$4),B2935,\"\")","v":""},{"$f":"+B2935/Analyse1!$H$3*Analyse1!$H$4","v":1.4738511197610198E-14}]
[7258.8969999999999,0.96217324052004904,{"$f":"+IF(AND(A2936>Analyse1!$E$3,Data!A2936<Analyse1!$E$4),B2936,\"\")","v":""},{"$f":"+B2936/Analyse1!$H$3*Analyse1!$H$4","v":1.472347229334041E-14}]
[7259.8969999999999,0.96510800544007902,{"$f":"+IF(AND(A2937>Analyse1!$E$3,Data!A2937<Analyse1!$E$4),B2937,\"\")","v":""},{"$f":"+B2937/Analyse1!$H$3*Analyse1!$H$4","v":1.4768380973157958E-14}]
[7260.8969999999999,0.970135336246293,{"$f":"+IF(AND(A2938>Analyse1!$E$3,Data!A2938<Analyse1!$E$4),B2938,\"\")","v":""},{"$f":"+B2938/Analyse1!$H$3*Analyse1!$H$4","v":1.4845310742889178E-14}]
[7261.8969999999999,0.97530346570992099,{"$f":"+IF(AND(A2939>Analyse1!$E$3,Data!A2939<Analyse1!$E$4),B2939,\"\")","v":""},{"$f":"+B2939/Analyse1!$H$3*Analyse1!$H$4","v":1.4924395057191032E-14}]
[7262.8969999999999,0.978660628189295,{"$f":"+IF(AND(A2940>Analyse1!$E$3,Data!A2940<Analyse1!$E$4),B2940,\"\")","v":""},{"$f":"+B2940/Analyse1!$H$3*Analyse1!$H$4","v":1.4975767395006818E-14}]
[7263.8969999999999,0.97886157458408596,{"$f":"+IF(AND(A2941>Analyse1!$E$3,Data!A2941<Analyse1!$E$4),B2941,\"\")","v":""},{"$f":"+B2941/Analyse1!$H$3*Analyse1!$H$4","v":1.4978842338843908E-14}]
[7264.8969999999999,0.97688755089313695,{"$f":"+IF(AND(A2942>Analyse1!$E$3,Data!A2942<Analyse1!$E$4),B2942,\"\")","v":""},{"$f":"+B2942/Analyse1!$H$3*Analyse1!$H$4","v":1.4948635218238087E-14}]
[7265.8969999999999,0.97427754767225705,{"$f":"+IF(AND(A2943>Analyse1!$E$3,Data!A2943<Analyse1!$E$4),B2943,\"\")","v":""},{"$f":"+B2943/Analyse1!$H$3*Analyse1!$H$4","v":1.4908696142310985E-14}]
[7266.8969999999999,0.97257055547725901,{"$f":"+IF(AND(A2944>Analyse1!$E$3,Data!A2944<Analyse1!$E$4),B2944,\"\")","v":""},{"$f":"+B2944/Analyse1!$H$3*Analyse1!$H$4","v":1.4882575220184302E-14}]
[7267.8969999999999,0.97315213562107605,{"$f":"+IF(AND(A2945>Analyse1!$E$3,Data!A2945<Analyse1!$E$4),B2945,\"\")","v":""},{"$f":"+B2945/Analyse1!$H$3*Analyse1!$H$4","v":1.4891474739286724E-14}]
[7268.8969999999999,0.97600806587340205,{"$f":"+IF(AND(A2946>Analyse1!$E$3,Data!A2946<Analyse1!$E$4),B2946,\"\")","v":""},{"$f":"+B2946/Analyse1!$H$3*Analyse1!$H$4","v":1.4935177066654617E-14}]
[7269.8969999999999,0.98037515255607,{"$f":"+IF(AND(A2947>Analyse1!$E$3,Data!A2947<Analyse1!$E$4),B2947,\"\")","v":""},{"$f":"+B2947/Analyse1!$H$3*Analyse1!$H$4","v":1.5002003576753905E-14}]
[7270.8969999999999,0.98548311813328804,{"$f":"+IF(AND(A2948>Analyse1!$E$3,Data!A2948<Analyse1!$E$4),B2948,\"\")","v":""},{"$f":"+B2948/Analyse1!$H$3*Analyse1!$H$4","v":1.5080167244671813E-14}]
[7271.8969999999999,0.99060484333281495,{"$f":"+IF(AND(A2949>Analyse1!$E$3,Data!A2949<Analyse1!$E$4),B2949,\"\")","v":""},{"$f":"+B2949/Analyse1!$H$3*Analyse1!$H$4","v":1.5158541466582807E-14}]
[7272.8969999999999,0.99623307021613305,{"$f":"+IF(AND(A2950>Analyse1!$E$3,Data!A2950<Analyse1!$E$4),B2950,\"\")","v":""},{"$f":"+B2950/Analyse1!$H$3*Analyse1!$H$4","v":1.524466633379734E-14}]
[7273.8969999999999,1.0042218266007601,{"$f":"+IF(AND(A2951>Analyse1!$E$3,Data!A2951<Analyse1!$E$4),B2951,\"\")","v":""},{"$f":"+B2951/Analyse1!$H$3*Analyse1!$H$4","v":1.5366912752980364E-14}]
[7274.8969999999999,1.0164966901833801,{"$f":"+IF(AND(A2952>Analyse1!$E$3,Data!A2952<Analyse1!$E$4),B2952,\"\")","v":""},{"$f":"+B2952/Analyse1!$H$3*Analyse1!$H$4","v":1.555474650916086E-14}]
[7275.8969999999999,1.03497186183881,{"$f":"+IF(AND(A2953>Analyse1!$E$3,Data!A2953<Analyse1!$E$4),B2953,\"\")","v":""},{"$f":"+B2953/Analyse1!$H$3*Analyse1!$H$4","v":1.5837459295723502E-14}]
[7276.8969999999999,1.0584006533650001,{"$f":"+IF(AND(A2954>Analyse1!$E$3,Data!A2954<Analyse1!$E$4),B2954,\"\")","v":""},{"$f":"+B2954/Analyse1!$H$3*Analyse1!$H$4","v":1.6195973904502129E-14}]
[7277.8969999999999,1.0780749411505,{"$f":"+IF(AND(A2955>Analyse1!$E$3,Data!A2955<Analyse1!$E$4),B2955,\"\")","v":""},{"$f":"+B2955/Analyse1!$H$3*Analyse1!$H$4","v":1.6497035936682991E-14}]
[7278.8969999999999,1.0842104179590499,{"$f":"+IF(AND(A2956>Analyse1!$E$3,Data!A2956<Analyse1!$E$4),B2956,\"\")","v":""},{"$f":"+B2956/Analyse1!$H$3*Analyse1!$H$4","v":1.6590922899022844E-14}]
[7279.8969999999999,1.06702277655441,{"$f":"+IF(AND(A2957>Analyse1!$E$3,Data!A2957<Analyse1!$E$4),B2957,\"\")","v":""},{"$f":"+B2957/Analyse1!$H$3*Analyse1!$H$4","v":1.6327912298278733E-14}]
[7280.8969999999999,1.0231231026218599,{"$f":"+IF(AND(A2958>Analyse1!$E$3,Data!A2958<Analyse1!$E$4),B2958,\"\")","v":""},{"$f":"+B2958/Analyse1!$H$3*Analyse1!$H$4","v":1.565614592023726E-14}]
[7281.8969999999999,0.98350619807957496,{"$f":"+IF(AND(A2959>Analyse1!$E$3,Data!A2959<Analyse1!$E$4),B2959,\"\")","v":""},{"$f":"+B2959/Analyse1!$H$3*Analyse1!$H$4","v":1.504991580302783E-14}]
[7282.8969999999999,0.99067192092531797,{"$f":"+IF(AND(A2960>Analyse1!$E$3,Data!A2960<Analyse1!$E$4),B2960,\"\")","v":""},{"$f":"+B2960/Analyse1!$H$3*Analyse1!$H$4","v":1.5159567908634124E-14}]
[7283.8969999999999,1.08712833888581,{"$f":"+IF(AND(A2961>Analyse1!$E$3,Data!A2961<Analyse1!$E$4),B2961,\"\")","v":""},{"$f":"+B2961/Analyse1!$H$3*Analyse1!$H$4","v":1.6635573826849611E-14}]
[7284.8969999999999,1.3131121491694699,{"$f":"+IF(AND(A2962>Analyse1!$E$3,Data!A2962<Analyse1!$E$4),B2962,\"\")","v":""},{"$f":"+B2962/Analyse1!$H$3*Analyse1!$H$4","v":2.0093647933812505E-14}]
[7285.8969999999999,1.67790245364869,{"$f":"+IF(AND(A2963>Analyse1!$E$3,Data!A2963<Analyse1!$E$4),B2963,\"\")","v":""},{"$f":"+B2963/Analyse1!$H$3*Analyse1!$H$4","v":2.5675781914150625E-14}]
[7286.8969999999999,2.16840704912972,{"$f":"+IF(AND(A2964>Analyse1!$E$3,Data!A2964<Analyse1!$E$4),B2964,\"\")","v":""},{"$f":"+B2964/Analyse1!$H$3*Analyse1!$H$4","v":3.3181634828348985E-14}]
[7287.8969999999999,2.7710366257494901,{"$f":"+IF(AND(A2965>Analyse1!$E$3,Data!A2965<Analyse1!$E$4),B2965,\"\")","v":""},{"$f":"+B2965/Analyse1!$H$3*Analyse1!$H$4","v":4.2403258857004106E-14}]
[7288.8969999999999,3.4715033772616599,{"$f":"+IF(AND(A2966>Analyse1!$E$3,Data!A2966<Analyse1!$E$4),B2966,\"\")","v":""},{"$f":"+B2966/Analyse1!$H$3*Analyse1!$H$4","v":5.3122017573180113E-14}]
[7289.8969999999999,4.2171845402313899,{"$f":"+IF(AND(A2967>Analyse1!$E$3,Data!A2967<Analyse1!$E$4),B2967,\"\")","v":""},{"$f":"+B2967/Analyse1!$H$3*Analyse1!$H$4","v":6.4532661187334861E-14}]
[7290.8969999999999,4.8980073197922298,{"$f":"+IF(AND(A2968>Analyse1!$E$3,Data!A2968<Analyse1!$E$4),B2968,\"\")","v":""},{"$f":"+B2968/Analyse1!$H$3*Analyse1!$H$4","v":7.4950821773593805E-14}]
[7291.8969999999999,5.3991801756153404,{"$f":"+IF(AND(A2969>Analyse1!$E$3,Data!A2969<Analyse1!$E$4),B2969,\"\")","v":""},{"$f":"+B2969/Analyse1!$H$3*Analyse1!$H$4","v":8.2619923704653058E-14}]
[7292.8969999999999,5.6059126268000901,{"$f":"+IF(AND(A2970>Analyse1!$E$3,Data!A2970<Analyse1!$E$4),B2970,\"\")","v":""},{"$f":"+B2970/Analyse1!$H$3*Analyse1!$H$4","v":8.5783407564906589E-14}]
[7293.8969999999999,5.4075190785699796,{"$f":"+IF(AND(A2971>Analyse1!$E$3,Data!A2971<Analyse1!$E$4),B2971,\"\")","v":""},{"$f":"+B2971/Analyse1!$H$3*Analyse1!$H$4","v":8.2747528174865867E-14}]
[7294.8969999999999,4.7067172285933196,{"$f":"+IF(AND(A2972>Analyse1!$E$3,Data!A2972<Analyse1!$E$4),B2972,\"\")","v":""},{"$f":"+B2972/Analyse1!$H$3*Analyse1!$H$4","v":7.2023641678421514E-14}]
[7295.8969999999999,3.4089559826344402,{"$f":"+IF(AND(A2973>Analyse1!$E$3,Data!A2973<Analyse1!$E$4),B2973,\"\")","v":""},{"$f":"+B2973/Analyse1!$H$3*Analyse1!$H$4","v":5.2164898009849973E-14}]
[null,null,{"$f":"+IF(AND(A2974>Analyse1!$E$3,Data!A2974<Analyse1!$E$4),B2974,\"\")","v":""},{"$f":"+B2974/Analyse1!$H$3*Analyse1!$H$4","v":0}]
[null,null,{"$f":"+IF(AND(A2975>Analyse1!$E$3,Data!A2975<Analyse1!$E$4),B2975,\"\")","v":""},{"$f":"+B2975/Analyse1!$H$3*Analyse1!$H$4","v":0}]
[null,null,{"$f":"+IF(AND(A2976>Analyse1!$E$3,Data!A2976<Analyse1!$E$4),B2976,\"\")","v":""},{"$f":"+B2976/Analyse1!$H$3*Analyse1!$H$4","v":0}]
[null,null,{"$f":"+IF(AND(A2977>Analyse1!$E$3,Data!A2977<Analyse1!$E$4),B2977,\"\")","v":""},{"$f":"+B2977/Analyse1!$H$3*Analyse1!$H$4","v":0}]
[null,null,{"$f":"+IF(AND(A2978>Analyse1!$E$3,Data!A2978<Analyse1!$E$4),B2978,\"\")","v":""},{"$f":"+B2978/Analyse1!$H$3*Analyse1!$H$4","v":0}]
[null,null,{"$f":"+IF(AND(A2979>Analyse1!$E$3,Data!A2979<Analyse1!$E$4),B2979,\"\")","v":""},{"$f":"+B2979/Analyse1!$H$3*Analyse1!$H$4","v":0}]
[null,null,{"$f":"+IF(AND(A2980>Analyse1!$E$3,Data!A2980<Analyse1!$E$4),B2980,\"\")","v":""},{"$f":"+B2980/Analyse1!$H$3*Analyse1!$H$4","v":0}]
[null,null,{"$f":"+IF(AND(A2981>Analyse1!$E$3,Data!A2981<Analyse1!$E$4),B2981,\"\")","v":""},{"$f":"+B2981/Analyse1!$H$3*Analyse1!$H$4","v":0}]
[null,null,{"$f":"+IF(AND(A2982>Analyse1!$E$3,Data!A2982<Analyse1!$E$4),B2982,\"\")","v":""},{"$f":"+B2982/Analyse1!$H$3*Analyse1!$H$4","v":0}]
[null,null,{"$f":"+IF(AND(A2983>Analyse1!$E$3,Data!A2983<Analyse1!$E$4),B2983,\"\")","v":""},{"$f":"+B2983/Analyse1!$H$3*Analyse1!$H$4","v":0}]
[null,null,{"$f":"+IF(AND(A2984>Analyse1!$E$3,Data!A2984<Analyse1!$E$4),B2984,\"\")","v":""},{"$f":"+B2984/Analyse1!$H$3*Analyse1!$H$4","v":0}]
[null,null,{"$f":"+IF(AND(A2985>Analyse1!$E$3,Data!A2985<Analyse1!$E$4),B2985,\"\")","v":""},{"$f":"+B2985/Analyse1!$H$3*Analyse1!$H$4","v":0}]
[null,null,{"$f":"+IF(AND(A2986>Analyse1!$E$3,Data!A2986<Analyse1!$E$4),B2986,\"\")","v":""},{"$f":"+B2986/Analyse1!$H$3*Analyse1!$H$4","v":0}]
[null,null,{"$f":"+IF(AND(A2987>Analyse1!$E$3,Data!A2987<Analyse1!$E$4),B2987,\"\")","v":""},{"$f":"+B2987/Analyse1!$H$3*Analyse1!$H$4","v":0}]
[null,null,{"$f":"+IF(AND(A2988>Analyse1!$E$3,Data!A2988<Analyse1!$E$4),B2988,\"\")","v":""},{"$f":"+B2988/Analyse1!$H$3*Analyse1!$H$4","v":0}]
[null,null,{"$f":"+IF(AND(A2989>Analyse1!$E$3,Data!A2989<Analyse1!$E$4),B2989,\"\")","v":""},{"$f":"+B2989/Analyse1!$H$3*Analyse1!$H$4","v":0}]
[null,null,{"$f":"+IF(AND(A2990>Analyse1!$E$3,Data!A2990<Analyse1!$E$4),B2990,\"\")","v":""},{"$f":"+B2990/Analyse1!$H$3*Analyse1!$H$4","v":0}]
[null,null,{"$f":"+IF(AND(A2991>Analyse1!$E$3,Data!A2991<Analyse1!$E$4),B2991,\"\")","v":""},{"$f":"+B2991/Analyse1!$H$3*Analyse1!$H$4","v":0}]
[null,null,{"$f":"+IF(AND(A2992>Analyse1!$E$3,Data!A2992<Analyse1!$E$4),B2992,\"\")","v":""},{"$f":"+B2992/Analyse1!$H$3*Analyse1!$H$4","v":0}]
[null,null,{"$f":"+IF(AND(A2993>Analyse1!$E$3,Data!A2993<Analyse1!$E$4),B2993,\"\")","v":""},{"$f":"+B2993/Analyse1!$H$3*Analyse1!$H$4","v":0}]
[null,null,{"$f":"+IF(AND(A2994>Analyse1!$E$3,Data!A2994<Analyse1!$E$4),B2994,\"\")","v":""},{"$f":"+B2994/Analyse1!$H$3*Analyse1!$H$4","v":0}]
[null,null,{"$f":"+IF(AND(A2995>Analyse1!$E$3,Data!A2995<Analyse1!$E$4),B2995,\"\")","v":""},{"$f":"+B2995/Analyse1!$H$3*Analyse1!$H$4","v":0}]
[null,null,{"$f":"+IF(AND(A2996>Analyse1!$E$3,Data!A2996<Analyse1!$E$4),B2996,\"\")","v":""},{"$f":"+B2996/Analyse1!$H$3*Analyse1!$H$4","v":0}]
[null,null,{"$f":"+IF(AND(A2997>Analyse1!$E$3,Data!A2997<Analyse1!$E$4),B2997,\"\")","v":""},{"$f":"+B2997/Analyse1!$H$3*Analyse1!$H$4","v":0}]
[null,null,{"$f":"+IF(AND(A2998>Analyse1!$E$3,Data!A2998<Analyse1!$E$4),B2998,\"\")","v":""},{"$f":"+B2998/Analyse1!$H$3*Analyse1!$H$4","v":0}]
[null,null,{"$f":"+IF(AND(A2999>Analyse1!$E$3,Data!A2999<Analyse1!$E$4),B2999,\"\")","v":""},{"$f":"+B2999/Analyse1!$H$3*Analyse1!$H$4","v":0}]
[null,null,{"$f":"+IF(AND(A3000>Analyse1!$E$3,Data!A3000<Analyse1!$E$4),B3000,\"\")","v":""},{"$f":"+B3000/Analyse1!$H$3*Analyse1!$H$4","v":0}]
[null,null,{"$f":"+IF(AND(A3001>Analyse1!$E$3,Data!A3001<Analyse1!$E$4),B3001,\"\")","v":""},{"$f":"+B3001/Analyse1!$H$3*Analyse1!$H$4","v":0}]
[null,null,{"$f":"+IF(AND(A3002>Analyse1!$E$3,Data!A3002<Analyse1!$E$4),B3002,\"\")","v":""},{"$f":"+B3002/Analyse1!$H$3*Analyse1!$H$4","v":0}]
[null,null,{"$f":"+IF(AND(A3003>Analyse1!$E$3,Data!A3003<Analyse1!$E$4),B3003,\"\")","v":""},{"$f":"+B3003/Analyse1!$H$3*Analyse1!$H$4","v":0}]
[null,null,{"$f":"+IF(AND(A3004>Analyse1!$E$3,Data!A3004<Analyse1!$E$4),B3004,\"\")","v":""},{"$f":"+B3004/Analyse1!$H$3*Analyse1!$H$4","v":0}]
[null,null,{"$f":"+IF(AND(A3005>Analyse1!$E$3,Data!A3005<Analyse1!$E$4),B3005,\"\")","v":""},{"$f":"+B3005/Analyse1!$H$3*Analyse1!$H$4","v":0}]
[null,null,{"$f":"+IF(AND(A3006>Analyse1!$E$3,Data!A3006<Analyse1!$E$4),B3006,\"\")","v":""},{"$f":"+B3006/Analyse1!$H$3*Analyse1!$H$4","v":0}]
[null,null,{"$f":"+IF(AND(A3007>Analyse1!$E$3,Data!A3007<Analyse1!$E$4),B3007,\"\")","v":""},{"$f":"+B3007/Analyse1!$H$3*Analyse1!$H$4","v":0}]
[null,null,{"$f":"+IF(AND(A3008>Analyse1!$E$3,Data!A3008<Analyse1!$E$4),B3008,\"\")","v":""},{"$f":"+B3008/Analyse1!$H$3*Analyse1!$H$4","v":0}]
[null,null,{"$f":"+IF(AND(A3009>Analyse1!$E$3,Data!A3009<Analyse1!$E$4),B3009,\"\")","v":""},{"$f":"+B3009/Analyse1!$H$3*Analyse1!$H$4","v":0}]
[null,null,{"$f":"+IF(AND(A3010>Analyse1!$E$3,Data!A3010<Analyse1!$E$4),B3010,\"\")","v":""},{"$f":"+B3010/Analyse1!$H$3*Analyse1!$H$4","v":0}]
[null,null,{"$f":"+IF(AND(A3011>Analyse1!$E$3,Data!A3011<Analyse1!$E$4),B3011,\"\")","v":""},{"$f":"+B3011/Analyse1!$H$3*Analyse1!$H$4","v":0}]
[null,null,{"$f":"+IF(AND(A3012>Analyse1!$E$3,Data!A3012<Analyse1!$E$4),B3012,\"\")","v":""},{"$f":"+B3012/Analyse1!$H$3*Analyse1!$H$4","v":0}]
[null,null,{"$f":"+IF(AND(A3013>Analyse1!$E$3,Data!A3013<Analyse1!$E$4),B3013,\"\")","v":""},{"$f":"+B3013/Analyse1!$H$3*Analyse1!$H$4","v":0}]
[null,null,{"$f":"+IF(AND(A3014>Analyse1!$E$3,Data!A3014<Analyse1!$E$4),B3014,\"\")","v":""},{"$f":"+B3014/Analyse1!$H$3*Analyse1!$H$4","v":0}]
[null,null,{"$f":"+IF(AND(A3015>Analyse1!$E$3,Data!A3015<Analyse1!$E$4),B3015,\"\")","v":""},{"$f":"+B3015/Analyse1!$H$3*Analyse1!$H$4","v":0}]
[null,null,{"$f":"+IF(AND(A3016>Analyse1!$E$3,Data!A3016<Analyse1!$E$4),B3016,\"\")","v":""},{"$f":"+B3016/Analyse1!$H$3*Analyse1!$H$4","v":0}]
[null,null,{"$f":"+IF(AND(A3017>Analyse1!$E$3,Data!A3017<Analyse1!$E$4),B3017,\"\")","v":""},{"$f":"+B3017/Analyse1!$H$3*Analyse1!$H$4","v":0}]
[null,null,{"$f":"+IF(AND(A3018>Analyse1!$E$3,Data!A3018<Analyse1!$E$4),B3018,\"\")","v":""},{"$f":"+B3018/Analyse1!$H$3*Analyse1!$H$4","v":0}]
[null,null,{"$f":"+IF(AND(A3019>Analyse1!$E$3,Data!A3019<Analyse1!$E$4),B3019,\"\")","v":""},{"$f":"+B3019/Analyse1!$H$3*Analyse1!$H$4","v":0}]
[null,null,{"$f":"+IF(AND(A3020>Analyse1!$E$3,Data!A3020<Analyse1!$E$4),B3020,\"\")","v":""},{"$f":"+B3020/Analyse1!$H$3*Analyse1!$H$4","v":0}]
[null,null,{"$f":"+IF(AND(A3021>Analyse1!$E$3,Data!A3021<Analyse1!$E$4),B3021,\"\")","v":""},{"$f":"+B3021/Analyse1!$H$3*Analyse1!$H$4","v":0}]
[null,null,{"$f":"+IF(AND(A3022>Analyse1!$E$3,Data!A3022<Analyse1!$E$4),B3022,\"\")","v":""},{"$f":"+B3022/Analyse1!$H$3*Analyse1!$H$4","v":0}]
[null,null,{"$f":"+IF(AND(A3023>Analyse1!$E$3,Data!A3023<Analyse1!$E$4),B3023,\"\")","v":""},{"$f":"+B3023/Analyse1!$H$3*Analyse1!$H$4","v":0}]
[null,null,{"$f":"+IF(AND(A3024>Analyse1!$E$3,Data!A3024<Analyse1!$E$4),B3024,\"\")","v":""},{"$f":"+B3024/Analyse1!$H$3*Analyse1!$H$4","v":0}]
[null,null,{"$f":"+IF(AND(A3025>Analyse1!$E$3,Data!A3025<Analyse1!$E$4),B3025,\"\")","v":""},{"$f":"+B3025/Analyse1!$H$3*Analyse1!$H$4","v":0}]
[null,null,{"$f":"+IF(AND(A3026>Analyse1!$E$3,Data!A3026<Analyse1!$E$4),B3026,\"\")","v":""},{"$f":"+B3026/Analyse1!$H$3*Analyse1!$H$4","v":0}]
[null,null,{"$f":"+IF(AND(A3027>Analyse1!$E$3,Data!A3027<Analyse1!$E$4),B3027,\"\")","v":""},{"$f":"+B3027/Analyse1!$H$3*Analyse1!$H$4","v":0}]
[null,null,{"$f":"+IF(AND(A3028>Analyse1!$E$3,Data!A3028<Analyse1!$E$4),B3028,\"\")","v":""},{"$f":"+B3028/Analyse1!$H$3*Analyse1!$H$4","v":0}]
[null,null,{"$f":"+IF(AND(A3029>Analyse1!$E$3,Data!A3029<Analyse1!$E$4),B3029,\"\")","v":""},{"$f":"+B3029/Analyse1!$H$3*Analyse1!$H$4","v":0}]
[null,null,{"$f":"+IF(AND(A3030>Analyse1!$E$3,Data!A3030<Analyse1!$E$4),B3030,\"\")","v":""},{"$f":"+B3030/Analyse1!$H$3*Analyse1!$H$4","v":0}]
[null,null,{"$f":"+IF(AND(A3031>Analyse1!$E$3,Data!A3031<Analyse1!$E$4),B3031,\"\")","v":""},{"$f":"+B3031/Analyse1!$H$3*Analyse1!$H$4","v":0}]
[null,null,{"$f":"+IF(AND(A3032>Analyse1!$E$3,Data!A3032<Analyse1!$E$4),B3032,\"\")","v":""},{"$f":"+B3032/Analyse1!$H$3*Analyse1!$H$4","v":0}]
[null,null,{"$f":"+IF(AND(A3033>Analyse1!$E$3,Data!A3033<Analyse1!$E$4),B3033,\"\")","v":""},{"$f":"+B3033/Analyse1!$H$3*Analyse1!$H$4","v":0}]
[null,null,{"$f":"+IF(AND(A3034>Analyse1!$E$3,Data!A3034<Analyse1!$E$4),B3034,\"\")","v":""},{"$f":"+B3034/Analyse1!$H$3*Analyse1!$H$4","v":0}]
[null,null,{"$f":"+IF(AND(A3035>Analyse1!$E$3,Data!A3035<Analyse1!$E$4),B3035,\"\")","v":""},{"$f":"+B3035/Analyse1!$H$3*Analyse1!$H$4","v":0}]
[null,null,{"$f":"+IF(AND(A3036>Analyse1!$E$3,Data!A3036<Analyse1!$E$4),B3036,\"\")","v":""},{"$f":"+B3036/Analyse1!$H$3*Analyse1!$H$4","v":0}]
[null,null,{"$f":"+IF(AND(A3037>Analyse1!$E$3,Data!A3037<Analyse1!$E$4),B3037,\"\")","v":""},{"$f":"+B3037/Analyse1!$H$3*Analyse1!$H$4","v":0}]
[null,null,{"$f":"+IF(AND(A3038>Analyse1!$E$3,Data!A3038<Analyse1!$E$4),B3038,\"\")","v":""},{"$f":"+B3038/Analyse1!$H$3*Analyse1!$H$4","v":0}]
[null,null,{"$f":"+IF(AND(A3039>Analyse1!$E$3,Data!A3039<Analyse1!$E$4),B3039,\"\")","v":""},{"$f":"+B3039/Analyse1!$H$3*Analyse1!$H$4","v":0}]
[null,null,{"$f":"+IF(AND(A3040>Analyse1!$E$3,Data!A3040<Analyse1!$E$4),B3040,\"\")","v":""},{"$f":"+B3040/Analyse1!$H$3*Analyse1!$H$4","v":0}]
[null,null,{"$f":"+IF(AND(A3041>Analyse1!$E$3,Data!A3041<Analyse1!$E$4),B3041,\"\")","v":""},{"$f":"+B3041/Analyse1!$H$3*Analyse1!$H$4","v":0}]
[null,null,{"$f":"+IF(AND(A3042>Analyse1!$E$3,Data!A3042<Analyse1!$E$4),B3042,\"\")","v":""},{"$f":"+B3042/Analyse1!$H$3*Analyse1!$H$4","v":0}]
[null,null,{"$f":"+IF(AND(A3043>Analyse1!$E$3,Data!A3043<Analyse1!$E$4),B3043,\"\")","v":""},{"$f":"+B3043/Analyse1!$H$3*Analyse1!$H$4","v":0}]
[null,null,{"$f":"+IF(AND(A3044>Analyse1!$E$3,Data!A3044<Analyse1!$E$4),B3044,\"\")","v":""},{"$f":"+B3044/Analyse1!$H$3*Analyse1!$H$4","v":0}]
[null,null,{"$f":"+IF(AND(A3045>Analyse1!$E$3,Data!A3045<Analyse1!$E$4),B3045,\"\")","v":""},{"$f":"+B3045/Analyse1!$H$3*Analyse1!$H$4","v":0}]
[null,null,{"$f":"+IF(AND(A3046>Analyse1!$E$3,Data!A3046<Analyse1!$E$4),B3046,\"\")","v":""},{"$f":"+B3046/Analyse1!$H$3*Analyse1!$H$4","v":0}]
[null,null,{"$f":"+IF(AND(A3047>Analyse1!$E$3,Data!A3047<Analyse1!$E$4),B3047,\"\")","v":""},{"$f":"+B3047/Analyse1!$H$3*Analyse1!$H$4","v":0}]
[null,null,{"$f":"+IF(AND(A3048>Analyse1!$E$3,Data!A3048<Analyse1!$E$4),B3048,\"\")","v":""},{"$f":"+B3048/Analyse1!$H$3*Analyse1!$H$4","v":0}]
[null,null,{"$f":"+IF(AND(A3049>Analyse1!$E$3,Data!A3049<Analyse1!$E$4),B3049,\"\")","v":""},{"$f":"+B3049/Analyse1!$H$3*Analyse1!$H$4","v":0}]
[null,null,{"$f":"+IF(AND(A3050>Analyse1!$E$3,Data!A3050<Analyse1!$E$4),B3050,\"\")","v":""},{"$f":"+B3050/Analyse1!$H$3*Analyse1!$H$4","v":0}]
[null,null,{"$f":"+IF(AND(A3051>Analyse1!$E$3,Data!A3051<Analyse1!$E$4),B3051,\"\")","v":""},{"$f":"+B3051/Analyse1!$H$3*Analyse1!$H$4","v":0}]
[null,null,{"$f":"+IF(AND(A3052>Analyse1!$E$3,Data!A3052<Analyse1!$E$4),B3052,\"\")","v":""},{"$f":"+B3052/Analyse1!$H$3*Analyse1!$H$4","v":0}]
[null,null,{"$f":"+IF(AND(A3053>Analyse1!$E$3,Data!A3053<Analyse1!$E$4),B3053,\"\")","v":""},{"$f":"+B3053/Analyse1!$H$3*Analyse1!$H$4","v":0}]
[null,null,{"$f":"+IF(AND(A3054>Analyse1!$E$3,Data!A3054<Analyse1!$E$4),B3054,\"\")","v":""},{"$f":"+B3054/Analyse1!$H$3*Analyse1!$H$4","v":0}]
[null,null,{"$f":"+IF(AND(A3055>Analyse1!$E$3,Data!A3055<Analyse1!$E$4),B3055,\"\")","v":""},{"$f":"+B3055/Analyse1!$H$3*Analyse1!$H$4","v":0}]
[null,null,{"$f":"+IF(AND(A3056>Analyse1!$E$3,Data!A3056<Analyse1!$E$4),B3056,\"\")","v":""},{"$f":"+B3056/Analyse1!$H$3*Analyse1!$H$4","v":0}]
[null,null,{"$f":"+IF(AND(A3057>Analyse1!$E$3,Data!A3057<Analyse1!$E$4),B3057,\"\")","v":""},{"$f":"+B3057/Analyse1!$H$3*Analyse1!$H$4","v":0}]
[null,null,{"$f":"+IF(AND(A3058>Analyse1!$E$3,Data!A3058<Analyse1!$E$4),B3058,\"\")","v":""},{"$f":"+B3058/Analyse1!$H$3*Analyse1!$H$4","v":0}]
[null,null,{"$f":"+IF(AND(A3059>Analyse1!$E$3,Data!A3059<Analyse1!$E$4),B3059,\"\")","v":""},{"$f":"+B3059/Analyse1!$H$3*Analyse1!$H$4","v":0}]
[null,null,{"$f":"+IF(AND(A3060>Analyse1!$E$3,Data!A3060<Analyse1!$E$4),B3060,\"\")","v":""},{"$f":"+B3060/Analyse1!$H$3*Analyse1!$H$4","v":0}]
[null,null,{"$f":"+IF(AND(A3061>Analyse1!$E$3,Data!A3061<Analyse1!$E$4),B3061,\"\")","v":""},{"$f":"+B3061/Analyse1!$H$3*Analyse1!$H$4","v":0}]
[null,null,{"$f":"+IF(AND(A3062>Analyse1!$E$3,Data!A3062<Analyse1!$E$4),B3062,\"\")","v":""},{"$f":"+B3062/Analyse1!$H$3*Analyse1!$H$4","v":0}]
[null,null,{"$f":"+IF(AND(A3063>Analyse1!$E$3,Data!A3063<Analyse1!$E$4),B3063,\"\")","v":""},{"$f":"+B3063/Analyse1!$H$3*Analyse1!$H$4","v":0}]
[null,null,{"$f":"+IF(AND(A3064>Analyse1!$E$3,Data!A3064<Analyse1!$E$4),B3064,\"\")","v":""},{"$f":"+B3064/Analyse1!$H$3*Analyse1!$H$4","v":0}]
[null,null,{"$f":"+IF(AND(A3065>Analyse1!$E$3,Data!A3065<Analyse1!$E$4),B3065,\"\")","v":""},{"$f":"+B3065/Analyse1!$H$3*Analyse1!$H$4","v":0}]
[null,null,{"$f":"+IF(AND(A3066>Analyse1!$E$3,Data!A3066<Analyse1!$E$4),B3066,\"\")","v":""},{"$f":"+B3066/Analyse1!$H$3*Analyse1!$H$4","v":0}]
[null,null,{"$f":"+IF(AND(A3067>Analyse1!$E$3,Data!A3067<Analyse1!$E$4),B3067,\"\")","v":""},{"$f":"+B3067/Analyse1!$H$3*Analyse1!$H$4","v":0}]
[null,null,{"$f":"+IF(AND(A3068>Analyse1!$E$3,Data!A3068<Analyse1!$E$4),B3068,\"\")","v":""},{"$f":"+B3068/Analyse1!$H$3*Analyse1!$H$4","v":0}]
[null,null,{"$f":"+IF(AND(A3069>Analyse1!$E$3,Data!A3069<Analyse1!$E$4),B3069,\"\")","v":""},{"$f":"+B3069/Analyse1!$H$3*Analyse1!$H$4","v":0}]
[null,null,{"$f":"+IF(AND(A3070>Analyse1!$E$3,Data!A3070<Analyse1!$E$4),B3070,\"\")","v":""},{"$f":"+B3070/Analyse1!$H$3*Analyse1!$H$4","v":0}]
[null,null,{"$f":"+IF(AND(A3071>Analyse1!$E$3,Data!A3071<Analyse1!$E$4),B3071,\"\")","v":""},{"$f":"+B3071/Analyse1!$H$3*Analyse1!$H$4","v":0}]
[null,null,{"$f":"+IF(AND(A3072>Analyse1!$E$3,Data!A3072<Analyse1!$E$4),B3072,\"\")","v":""},{"$f":"+B3072/Analyse1!$H$3*Analyse1!$H$4","v":0}]
[null,null,{"$f":"+IF(AND(A3073>Analyse1!$E$3,Data!A3073<Analyse1!$E$4),B3073,\"\")","v":""},{"$f":"+B3073/Analyse1!$H$3*Analyse1!$H$4","v":0}]
[null,null,{"$f":"+IF(AND(A3074>Analyse1!$E$3,Data!A3074<Analyse1!$E$4),B3074,\"\")","v":""},{"$f":"+B3074/Analyse1!$H$3*Analyse1!$H$4","v":0}]
[null,null,{"$f":"+IF(AND(A3075>Analyse1!$E$3,Data!A3075<Analyse1!$E$4),B3075,\"\")","v":""},{"$f":"+B3075/Analyse1!$H$3*Analyse1!$H$4","v":0}]
[null,null,{"$f":"+IF(AND(A3076>Analyse1!$E$3,Data!A3076<Analyse1!$E$4),B3076,\"\")","v":""},{"$f":"+B3076/Analyse1!$H$3*Analyse1!$H$4","v":0}]
[null,null,{"$f":"+IF(AND(A3077>Analyse1!$E$3,Data!A3077<Analyse1!$E$4),B3077,\"\")","v":""},{"$f":"+B3077/Analyse1!$H$3*Analyse1!$H$4","v":0}]
[null,null,{"$f":"+IF(AND(A3078>Analyse1!$E$3,Data!A3078<Analyse1!$E$4),B3078,\"\")","v":""},{"$f":"+B3078/Analyse1!$H$3*Analyse1!$H$4","v":0}]
[null,null,{"$f":"+IF(AND(A3079>Analyse1!$E$3,Data!A3079<Analyse1!$E$4),B3079,\"\")","v":""},{"$f":"+B3079/Analyse1!$H$3*Analyse1!$H$4","v":0}]
[null,null,{"$f":"+IF(AND(A3080>Analyse1!$E$3,Data!A3080<Analyse1!$E$4),B3080,\"\")","v":""},{"$f":"+B3080/Analyse1!$H$3*Analyse1!$H$4","v":0}]
[null,null,{"$f":"+IF(AND(A3081>Analyse1!$E$3,Data!A3081<Analyse1!$E$4),B3081,\"\")","v":""},{"$f":"+B3081/Analyse1!$H$3*Analyse1!$H$4","v":0}]
[null,null,{"$f":"+IF(AND(A3082>Analyse1!$E$3,Data!A3082<Analyse1!$E$4),B3082,\"\")","v":""},{"$f":"+B3082/Analyse1!$H$3*Analyse1!$H$4","v":0}]
[null,null,{"$f":"+IF(AND(A3083>Analyse1!$E$3,Data!A3083<Analyse1!$E$4),B3083,\"\")","v":""},{"$f":"+B3083/Analyse1!$H$3*Analyse1!$H$4","v":0}]
[null,null,{"$f":"+IF(AND(A3084>Analyse1!$E$3,Data!A3084<Analyse1!$E$4),B3084,\"\")","v":""},{"$f":"+B3084/Analyse1!$H$3*Analyse1!$H$4","v":0}]
[null,null,{"$f":"+IF(AND(A3085>Analyse1!$E$3,Data!A3085<Analyse1!$E$4),B3085,\"\")","v":""},{"$f":"+B3085/Analyse1!$H$3*Analyse1!$H$4","v":0}]
[null,null,{"$f":"+IF(AND(A3086>Analyse1!$E$3,Data!A3086<Analyse1!$E$4),B3086,\"\")","v":""},{"$f":"+B3086/Analyse1!$H$3*Analyse1!$H$4","v":0}]
[null,null,{"$f":"+IF(AND(A3087>Analyse1!$E$3,Data!A3087<Analyse1!$E$4),B3087,\"\")","v":""},{"$f":"+B3087/Analyse1!$H$3*Analyse1!$H$4","v":0}]
[null,null,{"$f":"+IF(AND(A3088>Analyse1!$E$3,Data!A3088<Analyse1!$E$4),B3088,\"\")","v":""},{"$f":"+B3088/Analyse1!$H$3*Analyse1!$H$4","v":0}]
[null,null,{"$f":"+IF(AND(A3089>Analyse1!$E$3,Data!A3089<Analyse1!$E$4),B3089,\"\")","v":""},{"$f":"+B3089/Analyse1!$H$3*Analyse1!$H$4","v":0}]
[null,null,{"$f":"+IF(AND(A3090>Analyse1!$E$3,Data!A3090<Analyse1!$E$4),B3090,\"\")","v":""},{"$f":"+B3090/Analyse1!$H$3*Analyse1!$H$4","v":0}]
[null,null,{"$f":"+IF(AND(A3091>Analyse1!$E$3,Data!A3091<Analyse1!$E$4),B3091,\"\")","v":""},{"$f":"+B3091/Analyse1!$H$3*Analyse1!$H$4","v":0}]
[null,null,{"$f":"+IF(AND(A3092>Analyse1!$E$3,Data!A3092<Analyse1!$E$4),B3092,\"\")","v":""},{"$f":"+B3092/Analyse1!$H$3*Analyse1!$H$4","v":0}]
[null,null,{"$f":"+IF(AND(A3093>Analyse1!$E$3,Data!A3093<Analyse1!$E$4),B3093,\"\")","v":""},{"$f":"+B3093/Analyse1!$H$3*Analyse1!$H$4","v":0}]
[null,null,{"$f":"+IF(AND(A3094>Analyse1!$E$3,Data!A3094<Analyse1!$E$4),B3094,\"\")","v":""},{"$f":"+B3094/Analyse1!$H$3*Analyse1!$H$4","v":0}]
[null,null,{"$f":"+IF(AND(A3095>Analyse1!$E$3,Data!A3095<Analyse1!$E$4),B3095,\"\")","v":""},{"$f":"+B3095/Analyse1!$H$3*Analyse1!$H$4","v":0}]
[null,null,{"$f":"+IF(AND(A3096>Analyse1!$E$3,Data!A3096<Analyse1!$E$4),B3096,\"\")","v":""},{"$f":"+B3096/Analyse1!$H$3*Analyse1!$H$4","v":0}]
[null,null,{"$f":"+IF(AND(A3097>Analyse1!$E$3,Data!A3097<Analyse1!$E$4),B3097,\"\")","v":""},{"$f":"+B3097/Analyse1!$H$3*Analyse1!$H$4","v":0}]
[null,null,{"$f":"+IF(AND(A3098>Analyse1!$E$3,Data!A3098<Analyse1!$E$4),B3098,\"\")","v":""},{"$f":"+B3098/Analyse1!$H$3*Analyse1!$H$4","v":0}]
[null,null,{"$f":"+IF(AND(A3099>Analyse1!$E$3,Data!A3099<Analyse1!$E$4),B3099,\"\")","v":""},{"$f":"+B3099/Analyse1!$H$3*Analyse1!$H$4","v":0}]
[null,null,{"$f":"+IF(AND(A3100>Analyse1!$E$3,Data!A3100<Analyse1!$E$4),B3100,\"\")","v":""},{"$f":"+B3100/Analyse1!$H$3*Analyse1!$H$4","v":0}]
[null,null,{"$f":"+IF(AND(A3101>Analyse1!$E$3,Data!A3101<Analyse1!$E$4),B3101,\"\")","v":""},{"$f":"+B3101/Analyse1!$H$3*Analyse1!$H$4","v":0}]
[null,null,{"$f":"+IF(AND(A3102>Analyse1!$E$3,Data!A3102<Analyse1!$E$4),B3102,\"\")","v":""},{"$f":"+B3102/Analyse1!$H$3*Analyse1!$H$4","v":0}]
[null,null,{"$f":"+IF(AND(A3103>Analyse1!$E$3,Data!A3103<Analyse1!$E$4),B3103,\"\")","v":""},{"$f":"+B3103/Analyse1!$H$3*Analyse1!$H$4","v":0}]
[null,null,{"$f":"+IF(AND(A3104>Analyse1!$E$3,Data!A3104<Analyse1!$E$4),B3104,\"\")","v":""},{"$f":"+B3104/Analyse1!$H$3*Analyse1!$H$4","v":0}]
[null,null,{"$f":"+IF(AND(A3105>Analyse1!$E$3,Data!A3105<Analyse1!$E$4),B3105,\"\")","v":""},{"$f":"+B3105/Analyse1!$H$3*Analyse1!$H$4","v":0}]
[null,null,{"$f":"+IF(AND(A3106>Analyse1!$E$3,Data!A3106<Analyse1!$E$4),B3106,\"\")","v":""},{"$f":"+B3106/Analyse1!$H$3*Analyse1!$H$4","v":0}]
[null,null,{"$f":"+IF(AND(A3107>Analyse1!$E$3,Data!A3107<Analyse1!$E$4),B3107,\"\")","v":""},{"$f":"+B3107/Analyse1!$H$3*Analyse1!$H$4","v":0}]
[null,null,{"$f":"+IF(AND(A3108>Analyse1!$E$3,Data!A3108<Analyse1!$E$4),B3108,\"\")","v":""},{"$f":"+B3108/Analyse1!$H$3*Analyse1!$H$4","v":0}]
[null,null,{"$f":"+IF(AND(A3109>Analyse1!$E$3,Data!A3109<Analyse1!$E$4),B3109,\"\")","v":""},{"$f":"+B3109/Analyse1!$H$3*Analyse1!$H$4","v":0}]
[null,null,{"$f":"+IF(AND(A3110>Analyse1!$E$3,Data!A3110<Analyse1!$E$4),B3110,\"\")","v":""},{"$f":"+B3110/Analyse1!$H$3*Analyse1!$H$4","v":0}]
[null,null,{"$f":"+IF(AND(A3111>Analyse1!$E$3,Data!A3111<Analyse1!$E$4),B3111,\"\")","v":""},{"$f":"+B3111/Analyse1!$H$3*Analyse1!$H$4","v":0}]
[null,null,{"$f":"+IF(AND(A3112>Analyse1!$E$3,Data!A3112<Analyse1!$E$4),B3112,\"\")","v":""},{"$f":"+B3112/Analyse1!$H$3*Analyse1!$H$4","v":0}]
[null,null,{"$f":"+IF(AND(A3113>Analyse1!$E$3,Data!A3113<Analyse1!$E$4),B3113,\"\")","v":""},{"$f":"+B3113/Analyse1!$H$3*Analyse1!$H$4","v":0}]
[null,null,{"$f":"+IF(AND(A3114>Analyse1!$E$3,Data!A3114<Analyse1!$E$4),B3114,\"\")","v":""},{"$f":"+B3114/Analyse1!$H$3*Analyse1!$H$4","v":0}]
[null,null,{"$f":"+IF(AND(A3115>Analyse1!$E$3,Data!A3115<Analyse1!$E$4),B3115,\"\")","v":""},{"$f":"+B3115/Analyse1!$H$3*Analyse1!$H$4","v":0}]
[null,null,{"$f":"+IF(AND(A3116>Analyse1!$E$3,Data!A3116<Analyse1!$E$4),B3116,\"\")","v":""},{"$f":"+B3116/Analyse1!$H$3*Analyse1!$H$4","v":0}]
[null,null,{"$f":"+IF(AND(A3117>Analyse1!$E$3,Data!A3117<Analyse1!$E$4),B3117,\"\")","v":""},{"$f":"+B3117/Analyse1!$H$3*Analyse1!$H$4","v":0}]
[null,null,{"$f":"+IF(AND(A3118>Analyse1!$E$3,Data!A3118<Analyse1!$E$4),B3118,\"\")","v":""},{"$f":"+B3118/Analyse1!$H$3*Analyse1!$H$4","v":0}]
[null,null,{"$f":"+IF(AND(A3119>Analyse1!$E$3,Data!A3119<Analyse1!$E$4),B3119,\"\")","v":""},{"$f":"+B3119/Analyse1!$H$3*Analyse1!$H$4","v":0}]
[null,null,{"$f":"+IF(AND(A3120>Analyse1!$E$3,Data!A3120<Analyse1!$E$4),B3120,\"\")","v":""},{"$f":"+B3120/Analyse1!$H$3*Analyse1!$H$4","v":0}]
[null,null,{"$f":"+IF(AND(A3121>Analyse1!$E$3,Data!A3121<Analyse1!$E$4),B3121,\"\")","v":""},{"$f":"+B3121/Analyse1!$H$3*Analyse1!$H$4","v":0}]
[null,null,{"$f":"+IF(AND(A3122>Analyse1!$E$3,Data!A3122<Analyse1!$E$4),B3122,\"\")","v":""},{"$f":"+B3122/Analyse1!$H$3*Analyse1!$H$4","v":0}]
[null,null,{"$f":"+IF(AND(A3123>Analyse1!$E$3,Data!A3123<Analyse1!$E$4),B3123,\"\")","v":""},{"$f":"+B3123/Analyse1!$H$3*Analyse1!$H$4","v":0}]
[null,null,{"$f":"+IF(AND(A3124>Analyse1!$E$3,Data!A3124<Analyse1!$E$4),B3124,\"\")","v":""},{"$f":"+B3124/Analyse1!$H$3*Analyse1!$H$4","v":0}]
[null,null,{"$f":"+IF(AND(A3125>Analyse1!$E$3,Data!A3125<Analyse1!$E$4),B3125,\"\")","v":""},{"$f":"+B3125/Analyse1!$H$3*Analyse1!$H$4","v":0}]
[null,null,{"$f":"+IF(AND(A3126>Analyse1!$E$3,Data!A3126<Analyse1!$E$4),B3126,\"\")","v":""},{"$f":"+B3126/Analyse1!$H$3*Analyse1!$H$4","v":0}]
[null,null,{"$f":"+IF(AND(A3127>Analyse1!$E$3,Data!A3127<Analyse1!$E$4),B3127,\"\")","v":""},{"$f":"+B3127/Analyse1!$H$3*Analyse1!$H$4","v":0}]
[null,null,{"$f":"+IF(AND(A3128>Analyse1!$E$3,Data!A3128<Analyse1!$E$4),B3128,\"\")","v":""},{"$f":"+B3128/Analyse1!$H$3*Analyse1!$H$4","v":0}]
[null,null,{"$f":"+IF(AND(A3129>Analyse1!$E$3,Data!A3129<Analyse1!$E$4),B3129,\"\")","v":""},{"$f":"+B3129/Analyse1!$H$3*Analyse1!$H$4","v":0}]
[null,null,{"$f":"+IF(AND(A3130>Analyse1!$E$3,Data!A3130<Analyse1!$E$4),B3130,\"\")","v":""},{"$f":"+B3130/Analyse1!$H$3*Analyse1!$H$4","v":0}]
[null,null,{"$f":"+IF(AND(A3131>Analyse1!$E$3,Data!A3131<Analyse1!$E$4),B3131,\"\")","v":""},{"$f":"+B3131/Analyse1!$H$3*Analyse1!$H$4","v":0}]
[null,null,{"$f":"+IF(AND(A3132>Analyse1!$E$3,Data!A3132<Analyse1!$E$4),B3132,\"\")","v":""},{"$f":"+B3132/Analyse1!$H$3*Analyse1!$H$4","v":0}]
[null,null,{"$f":"+IF(AND(A3133>Analyse1!$E$3,Data!A3133<Analyse1!$E$4),B3133,\"\")","v":""},{"$f":"+B3133/Analyse1!$H$3*Analyse1!$H$4","v":0}]
[null,null,{"$f":"+IF(AND(A3134>Analyse1!$E$3,Data!A3134<Analyse1!$E$4),B3134,\"\")","v":""},{"$f":"+B3134/Analyse1!$H$3*Analyse1!$H$4","v":0}]
[null,null,{"$f":"+IF(AND(A3135>Analyse1!$E$3,Data!A3135<Analyse1!$E$4),B3135,\"\")","v":""},{"$f":"+B3135/Analyse1!$H$3*Analyse1!$H$4","v":0}]
[null,null,{"$f":"+IF(AND(A3136>Analyse1!$E$3,Data!A3136<Analyse1!$E$4),B3136,\"\")","v":""},{"$f":"+B3136/Analyse1!$H$3*Analyse1!$H$4","v":0}]
[null,null,{"$f":"+IF(AND(A3137>Analyse1!$E$3,Data!A3137<Analyse1!$E$4),B3137,\"\")","v":""},{"$f":"+B3137/Analyse1!$H$3*Analyse1!$H$4","v":0}]
[null,null,{"$f":"+IF(AND(A3138>Analyse1!$E$3,Data!A3138<Analyse1!$E$4),B3138,\"\")","v":""},{"$f":"+B3138/Analyse1!$H$3*Analyse1!$H$4","v":0}]
[null,null,{"$f":"+IF(AND(A3139>Analyse1!$E$3,Data!A3139<Analyse1!$E$4),B3139,\"\")","v":""},{"$f":"+B3139/Analyse1!$H$3*Analyse1!$H$4","v":0}]
[null,null,{"$f":"+IF(AND(A3140>Analyse1!$E$3,Data!A3140<Analyse1!$E$4),B3140,\"\")","v":""},{"$f":"+B3140/Analyse1!$H$3*Analyse1!$H$4","v":0}]
[null,null,{"$f":"+IF(AND(A3141>Analyse1!$E$3,Data!A3141<Analyse1!$E$4),B3141,\"\")","v":""},{"$f":"+B3141/Analyse1!$H$3*Analyse1!$H$4","v":0}]
[null,null,{"$f":"+IF(AND(A3142>Analyse1!$E$3,Data!A3142<Analyse1!$E$4),B3142,\"\")","v":""},{"$f":"+B3142/Analyse1!$H$3*Analyse1!$H$4","v":0}]
[null,null,{"$f":"+IF(AND(A3143>Analyse1!$E$3,Data!A3143<Analyse1!$E$4),B3143,\"\")","v":""},{"$f":"+B3143/Analyse1!$H$3*Analyse1!$H$4","v":0}]
[null,null,{"$f":"+IF(AND(A3144>Analyse1!$E$3,Data!A3144<Analyse1!$E$4),B3144,\"\")","v":""},{"$f":"+B3144/Analyse1!$H$3*Analyse1!$H$4","v":0}]
[null,null,{"$f":"+IF(AND(A3145>Analyse1!$E$3,Data!A3145<Analyse1!$E$4),B3145,\"\")","v":""},{"$f":"+B3145/Analyse1!$H$3*Analyse1!$H$4","v":0}]
[null,null,{"$f":"+IF(AND(A3146>Analyse1!$E$3,Data!A3146<Analyse1!$E$4),B3146,\"\")","v":""},{"$f":"+B3146/Analyse1!$H$3*Analyse1!$H$4","v":0}]
[null,null,{"$f":"+IF(AND(A3147>Analyse1!$E$3,Data!A3147<Analyse1!$E$4),B3147,\"\")","v":""},{"$f":"+B3147/Analyse1!$H$3*Analyse1!$H$4","v":0}]
[null,null,{"$f":"+IF(AND(A3148>Analyse1!$E$3,Data!A3148<Analyse1!$E$4),B3148,\"\")","v":""},{"$f":"+B3148/Analyse1!$H$3*Analyse1!$H$4","v":0}]
[null,null,{"$f":"+IF(AND(A3149>Analyse1!$E$3,Data!A3149<Analyse1!$E$4),B3149,\"\")","v":""},{"$f":"+B3149/Analyse1!$H$3*Analyse1!$H$4","v":0}]
[null,null,{"$f":"+IF(AND(A3150>Analyse1!$E$3,Data!A3150<Analyse1!$E$4),B3150,\"\")","v":""},{"$f":"+B3150/Analyse1!$H$3*Analyse1!$H$4","v":0}]
[null,null,{"$f":"+IF(AND(A3151>Analyse1!$E$3,Data!A3151<Analyse1!$E$4),B3151,\"\")","v":""},{"$f":"+B3151/Analyse1!$H$3*Analyse1!$H$4","v":0}]
[null,null,{"$f":"+IF(AND(A3152>Analyse1!$E$3,Data!A3152<Analyse1!$E$4),B3152,\"\")","v":""},{"$f":"+B3152/Analyse1!$H$3*Analyse1!$H$4","v":0}]
[null,null,{"$f":"+IF(AND(A3153>Analyse1!$E$3,Data!A3153<Analyse1!$E$4),B3153,\"\")","v":""},{"$f":"+B3153/Analyse1!$H$3*Analyse1!$H$4","v":0}]
[null,null,{"$f":"+IF(AND(A3154>Analyse1!$E$3,Data!A3154<Analyse1!$E$4),B3154,\"\")","v":""},{"$f":"+B3154/Analyse1!$H$3*Analyse1!$H$4","v":0}]
[null,null,{"$f":"+IF(AND(A3155>Analyse1!$E$3,Data!A3155<Analyse1!$E$4),B3155,\"\")","v":""},{"$f":"+B3155/Analyse1!$H$3*Analyse1!$H$4","v":0}]
[null,null,{"$f":"+IF(AND(A3156>Analyse1!$E$3,Data!A3156<Analyse1!$E$4),B3156,\"\")","v":""},{"$f":"+B3156/Analyse1!$H$3*Analyse1!$H$4","v":0}]
[null,null,{"$f":"+IF(AND(A3157>Analyse1!$E$3,Data!A3157<Analyse1!$E$4),B3157,\"\")","v":""},{"$f":"+B3157/Analyse1!$H$3*Analyse1!$H$4","v":0}]
[null,null,{"$f":"+IF(AND(A3158>Analyse1!$E$3,Data!A3158<Analyse1!$E$4),B3158,\"\")","v":""},{"$f":"+B3158/Analyse1!$H$3*Analyse1!$H$4","v":0}]
[null,null,{"$f":"+IF(AND(A3159>Analyse1!$E$3,Data!A3159<Analyse1!$E$4),B3159,\"\")","v":""},{"$f":"+B3159/Analyse1!$H$3*Analyse1!$H$4","v":0}]
[null,null,{"$f":"+IF(AND(A3160>Analyse1!$E$3,Data!A3160<Analyse1!$E$4),B3160,\"\")","v":""},{"$f":"+B3160/Analyse1!$H$3*Analyse1!$H$4","v":0}]
[null,null,{"$f":"+IF(AND(A3161>Analyse1!$E$3,Data!A3161<Analyse1!$E$4),B3161,\"\")","v":""},{"$f":"+B3161/Analyse1!$H$3*Analyse1!$H$4","v":0}]
[null,null,{"$f":"+IF(AND(A3162>Analyse1!$E$3,Data!A3162<Analyse1!$E$4),B3162,\"\")","v":""},{"$f":"+B3162/Analyse1!$H$3*Analyse1!$H$4","v":0}]
[null,null,{"$f":"+IF(AND(A3163>Analyse1!$E$3,Data!A3163<Analyse1!$E$4),B3163,\"\")","v":""},{"$f":"+B3163/Analyse1!$H$3*Analyse1!$H$4","v":0}]
[null,null,{"$f":"+IF(AND(A3164>Analyse1!$E$3,Data!A3164<Analyse1!$E$4),B3164,\"\")","v":""},{"$f":"+B3164/Analyse1!$H$3*Analyse1!$H$4","v":0}]
[null,null,{"$f":"+IF(AND(A3165>Analyse1!$E$3,Data!A3165<Analyse1!$E$4),B3165,\"\")","v":""},{"$f":"+B3165/Analyse1!$H$3*Analyse1!$H$4","v":0}]
[null,null,{"$f":"+IF(AND(A3166>Analyse1!$E$3,Data!A3166<Analyse1!$E$4),B3166,\"\")","v":""},{"$f":"+B3166/Analyse1!$H$3*Analyse1!$H$4","v":0}]
[null,null,{"$f":"+IF(AND(A3167>Analyse1!$E$3,Data!A3167<Analyse1!$E$4),B3167,\"\")","v":""},{"$f":"+B3167/Analyse1!$H$3*Analyse1!$H$4","v":0}]
[null,null,{"$f":"+IF(AND(A3168>Analyse1!$E$3,Data!A3168<Analyse1!$E$4),B3168,\"\")","v":""},{"$f":"+B3168/Analyse1!$H$3*Analyse1!$H$4","v":0}]
[null,null,{"$f":"+IF(AND(A3169>Analyse1!$E$3,Data!A3169<Analyse1!$E$4),B3169,\"\")","v":""},{"$f":"+B3169/Analyse1!$H$3*Analyse1!$H$4","v":0}]
[null,null,{"$f":"+IF(AND(A3170>Analyse1!$E$3,Data!A3170<Analyse1!$E$4),B3170,\"\")","v":""},{"$f":"+B3170/Analyse1!$H$3*Analyse1!$H$4","v":0}]
[null,null,{"$f":"+IF(AND(A3171>Analyse1!$E$3,Data!A3171<Analyse1!$E$4),B3171,\"\")","v":""},{"$f":"+B3171/Analyse1!$H$3*Analyse1!$H$4","v":0}]
[null,null,{"$f":"+IF(AND(A3172>Analyse1!$E$3,Data!A3172<Analyse1!$E$4),B3172,\"\")","v":""},{"$f":"+B3172/Analyse1!$H$3*Analyse1!$H$4","v":0}]
[null,null,{"$f":"+IF(AND(A3173>Analyse1!$E$3,Data!A3173<Analyse1!$E$4),B3173,\"\")","v":""},{"$f":"+B3173/Analyse1!$H$3*Analyse1!$H$4","v":0}]
[null,null,{"$f":"+IF(AND(A3174>Analyse1!$E$3,Data!A3174<Analyse1!$E$4),B3174,\"\")","v":""},{"$f":"+B3174/Analyse1!$H$3*Analyse1!$H$4","v":0}]
[null,null,{"$f":"+IF(AND(A3175>Analyse1!$E$3,Data!A3175<Analyse1!$E$4),B3175,\"\")","v":""},{"$f":"+B3175/Analyse1!$H$3*Analyse1!$H$4","v":0}]
[null,null,{"$f":"+IF(AND(A3176>Analyse1!$E$3,Data!A3176<Analyse1!$E$4),B3176,\"\")","v":""},{"$f":"+B3176/Analyse1!$H$3*Analyse1!$H$4","v":0}]
[null,null,{"$f":"+IF(AND(A3177>Analyse1!$E$3,Data!A3177<Analyse1!$E$4),B3177,\"\")","v":""},{"$f":"+B3177/Analyse1!$H$3*Analyse1!$H$4","v":0}]
[null,null,{"$f":"+IF(AND(A3178>Analyse1!$E$3,Data!A3178<Analyse1!$E$4),B3178,\"\")","v":""},{"$f":"+B3178/Analyse1!$H$3*Analyse1!$H$4","v":0}]
[null,null,{"$f":"+IF(AND(A3179>Analyse1!$E$3,Data!A3179<Analyse1!$E$4),B3179,\"\")","v":""},{"$f":"+B3179/Analyse1!$H$3*Analyse1!$H$4","v":0}]
[null,null,{"$f":"+IF(AND(A3180>Analyse1!$E$3,Data!A3180<Analyse1!$E$4),B3180,\"\")","v":""},{"$f":"+B3180/Analyse1!$H$3*Analyse1!$H$4","v":0}]
[null,null,{"$f":"+IF(AND(A3181>Analyse1!$E$3,Data!A3181<Analyse1!$E$4),B3181,\"\")","v":""},{"$f":"+B3181/Analyse1!$H$3*Analyse1!$H$4","v":0}]
[null,null,{"$f":"+IF(AND(A3182>Analyse1!$E$3,Data!A3182<Analyse1!$E$4),B3182,\"\")","v":""},{"$f":"+B3182/Analyse1!$H$3*Analyse1!$H$4","v":0}]
[null,null,{"$f":"+IF(AND(A3183>Analyse1!$E$3,Data!A3183<Analyse1!$E$4),B3183,\"\")","v":""},{"$f":"+B3183/Analyse1!$H$3*Analyse1!$H$4","v":0}]
[null,null,{"$f":"+IF(AND(A3184>Analyse1!$E$3,Data!A3184<Analyse1!$E$4),B3184,\"\")","v":""},{"$f":"+B3184/Analyse1!$H$3*Analyse1!$H$4","v":0}]
[null,null,{"$f":"+IF(AND(A3185>Analyse1!$E$3,Data!A3185<Analyse1!$E$4),B3185,\"\")","v":""},{"$f":"+B3185/Analyse1!$H$3*Analyse1!$H$4","v":0}]
[null,null,{"$f":"+IF(AND(A3186>Analyse1!$E$3,Data!A3186<Analyse1!$E$4),B3186,\"\")","v":""},{"$f":"+B3186/Analyse1!$H$3*Analyse1!$H$4","v":0}]
[null,null,{"$f":"+IF(AND(A3187>Analyse1!$E$3,Data!A3187<Analyse1!$E$4),B3187,\"\")","v":""},{"$f":"+B3187/Analyse1!$H$3*Analyse1!$H$4","v":0}]
[null,null,{"$f":"+IF(AND(A3188>Analyse1!$E$3,Data!A3188<Analyse1!$E$4),B3188,\"\")","v":""},{"$f":"+B3188/Analyse1!$H$3*Analyse1!$H$4","v":0}]
[null,null,{"$f":"+IF(AND(A3189>Analyse1!$E$3,Data!A3189<Analyse1!$E$4),B3189,\"\")","v":""},{"$f":"+B3189/Analyse1!$H$3*Analyse1!$H$4","v":0}]
[null,null,{"$f":"+IF(AND(A3190>Analyse1!$E$3,Data!A3190<Analyse1!$E$4),B3190,\"\")","v":""},{"$f":"+B3190/Analyse1!$H$3*Analyse1!$H$4","v":0}]
[null,null,{"$f":"+IF(AND(A3191>Analyse1!$E$3,Data!A3191<Analyse1!$E$4),B3191,\"\")","v":""},{"$f":"+B3191/Analyse1!$H$3*Analyse1!$H$4","v":0}]
[null,null,{"$f":"+IF(AND(A3192>Analyse1!$E$3,Data!A3192<Analyse1!$E$4),B3192,\"\")","v":""},{"$f":"+B3192/Analyse1!$H$3*Analyse1!$H$4","v":0}]
[null,null,{"$f":"+IF(AND(A3193>Analyse1!$E$3,Data!A3193<Analyse1!$E$4),B3193,\"\")","v":""},{"$f":"+B3193/Analyse1!$H$3*Analyse1!$H$4","v":0}]
[null,null,{"$f":"+IF(AND(A3194>Analyse1!$E$3,Data!A3194<Analyse1!$E$4),B3194,\"\")","v":""},{"$f":"+B3194/Analyse1!$H$3*Analyse1!$H$4","v":0}]
[null,null,{"$f":"+IF(AND(A3195>Analyse1!$E$3,Data!A3195<Analyse1!$E$4),B3195,\"\")","v":""},{"$f":"+B3195/Analyse1!$H$3*Analyse1!$H$4","v":0}]
[null,null,{"$f":"+IF(AND(A3196>Analyse1!$E$3,Data!A3196<Analyse1!$E$4),B3196,\"\")","v":""},{"$f":"+B3196/Analyse1!$H$3*Analyse1!$H$4","v":0}]
[null,null,{"$f":"+IF(AND(A3197>Analyse1!$E$3,Data!A3197<Analyse1!$E$4),B3197,\"\")","v":""},{"$f":"+B3197/Analyse1!$H$3*Analyse1!$H$4","v":0}]
[null,null,{"$f":"+IF(AND(A3198>Analyse1!$E$3,Data!A3198<Analyse1!$E$4),B3198,\"\")","v":""},{"$f":"+B3198/Analyse1!$H$3*Analyse1!$H$4","v":0}]
[null,null,{"$f":"+IF(AND(A3199>Analyse1!$E$3,Data!A3199<Analyse1!$E$4),B3199,\"\")","v":""},{"$f":"+B3199/Analyse1!$H$3*Analyse1!$H$4","v":0}]
[null,null,{"$f":"+IF(AND(A3200>Analyse1!$E$3,Data!A3200<Analyse1!$E$4),B3200,\"\")","v":""},{"$f":"+B3200/Analyse1!$H$3*Analyse1!$H$4","v":0}]
[null,null,{"$f":"+IF(AND(A3201>Analyse1!$E$3,Data!A3201<Analyse1!$E$4),B3201,\"\")","v":""},{"$f":"+B3201/Analyse1!$H$3*Analyse1!$H$4","v":0}]
[null,null,{"$f":"+IF(AND(A3202>Analyse1!$E$3,Data!A3202<Analyse1!$E$4),B3202,\"\")","v":""},{"$f":"+B3202/Analyse1!$H$3*Analyse1!$H$4","v":0}]
[null,null,{"$f":"+IF(AND(A3203>Analyse1!$E$3,Data!A3203<Analyse1!$E$4),B3203,\"\")","v":""},{"$f":"+B3203/Analyse1!$H$3*Analyse1!$H$4","v":0}]
[null,null,{"$f":"+IF(AND(A3204>Analyse1!$E$3,Data!A3204<Analyse1!$E$4),B3204,\"\")","v":""},{"$f":"+B3204/Analyse1!$H$3*Analyse1!$H$4","v":0}]
[null,null,{"$f":"+IF(AND(A3205>Analyse1!$E$3,Data!A3205<Analyse1!$E$4),B3205,\"\")","v":""},{"$f":"+B3205/Analyse1!$H$3*Analyse1!$H$4","v":0}]
[null,null,{"$f":"+IF(AND(A3206>Analyse1!$E$3,Data!A3206<Analyse1!$E$4),B3206,\"\")","v":""},{"$f":"+B3206/Analyse1!$H$3*Analyse1!$H$4","v":0}]
[null,null,{"$f":"+IF(AND(A3207>Analyse1!$E$3,Data!A3207<Analyse1!$E$4),B3207,\"\")","v":""},{"$f":"+B3207/Analyse1!$H$3*Analyse1!$H$4","v":0}]
[null,null,{"$f":"+IF(AND(A3208>Analyse1!$E$3,Data!A3208<Analyse1!$E$4),B3208,\"\")","v":""},{"$f":"+B3208/Analyse1!$H$3*Analyse1!$H$4","v":0}]
[null,null,{"$f":"+IF(AND(A3209>Analyse1!$E$3,Data!A3209<Analyse1!$E$4),B3209,\"\")","v":""},{"$f":"+B3209/Analyse1!$H$3*Analyse1!$H$4","v":0}]
[null,null,{"$f":"+IF(AND(A3210>Analyse1!$E$3,Data!A3210<Analyse1!$E$4),B3210,\"\")","v":""},{"$f":"+B3210/Analyse1!$H$3*Analyse1!$H$4","v":0}]
[null,null,{"$f":"+IF(AND(A3211>Analyse1!$E$3,Data!A3211<Analyse1!$E$4),B3211,\"\")","v":""},{"$f":"+B3211/Analyse1!$H$3*Analyse1!$H$4","v":0}]
[null,null,{"$f":"+IF(AND(A3212>Analyse1!$E$3,Data!A3212<Analyse1!$E$4),B3212,\"\")","v":""},{"$f":"+B3212/Analyse1!$H$3*Analyse1!$H$4","v":0}]
[null,null,{"$f":"+IF(AND(A3213>Analyse1!$E$3,Data!A3213<Analyse1!$E$4),B3213,\"\")","v":""},{"$f":"+B3213/Analyse1!$H$3*Analyse1!$H$4","v":0}]
[null,null,{"$f":"+IF(AND(A3214>Analyse1!$E$3,Data!A3214<Analyse1!$E$4),B3214,\"\")","v":""},{"$f":"+B3214/Analyse1!$H$3*Analyse1!$H$4","v":0}]
[null,null,{"$f":"+IF(AND(A3215>Analyse1!$E$3,Data!A3215<Analyse1!$E$4),B3215,\"\")","v":""},{"$f":"+B3215/Analyse1!$H$3*Analyse1!$H$4","v":0}]
[null,null,{"$f":"+IF(AND(A3216>Analyse1!$E$3,Data!A3216<Analyse1!$E$4),B3216,\"\")","v":""},{"$f":"+B3216/Analyse1!$H$3*Analyse1!$H$4","v":0}]
[null,null,{"$f":"+IF(AND(A3217>Analyse1!$E$3,Data!A3217<Analyse1!$E$4),B3217,\"\")","v":""},{"$f":"+B3217/Analyse1!$H$3*Analyse1!$H$4","v":0}]
[null,null,{"$f":"+IF(AND(A3218>Analyse1!$E$3,Data!A3218<Analyse1!$E$4),B3218,\"\")","v":""},{"$f":"+B3218/Analyse1!$H$3*Analyse1!$H$4","v":0}]
[null,null,{"$f":"+IF(AND(A3219>Analyse1!$E$3,Data!A3219<Analyse1!$E$4),B3219,\"\")","v":""},{"$f":"+B3219/Analyse1!$H$3*Analyse1!$H$4","v":0}]
[null,null,{"$f":"+IF(AND(A3220>Analyse1!$E$3,Data!A3220<Analyse1!$E$4),B3220,\"\")","v":""},{"$f":"+B3220/Analyse1!$H$3*Analyse1!$H$4","v":0}]
[null,null,{"$f":"+IF(AND(A3221>Analyse1!$E$3,Data!A3221<Analyse1!$E$4),B3221,\"\")","v":""},{"$f":"+B3221/Analyse1!$H$3*Analyse1!$H$4","v":0}]
[null,null,{"$f":"+IF(AND(A3222>Analyse1!$E$3,Data!A3222<Analyse1!$E$4),B3222,\"\")","v":""},{"$f":"+B3222/Analyse1!$H$3*Analyse1!$H$4","v":0}]
[null,null,{"$f":"+IF(AND(A3223>Analyse1!$E$3,Data!A3223<Analyse1!$E$4),B3223,\"\")","v":""},{"$f":"+B3223/Analyse1!$H$3*Analyse1!$H$4","v":0}]
[null,null,{"$f":"+IF(AND(A3224>Analyse1!$E$3,Data!A3224<Analyse1!$E$4),B3224,\"\")","v":""},{"$f":"+B3224/Analyse1!$H$3*Analyse1!$H$4","v":0}]
[null,null,{"$f":"+IF(AND(A3225>Analyse1!$E$3,Data!A3225<Analyse1!$E$4),B3225,\"\")","v":""},{"$f":"+B3225/Analyse1!$H$3*Analyse1!$H$4","v":0}]
[null,null,{"$f":"+IF(AND(A3226>Analyse1!$E$3,Data!A3226<Analyse1!$E$4),B3226,\"\")","v":""},{"$f":"+B3226/Analyse1!$H$3*Analyse1!$H$4","v":0}]
[null,null,{"$f":"+IF(AND(A3227>Analyse1!$E$3,Data!A3227<Analyse1!$E$4),B3227,\"\")","v":""},{"$f":"+B3227/Analyse1!$H$3*Analyse1!$H$4","v":0}]
[null,null,{"$f":"+IF(AND(A3228>Analyse1!$E$3,Data!A3228<Analyse1!$E$4),B3228,\"\")","v":""},{"$f":"+B3228/Analyse1!$H$3*Analyse1!$H$4","v":0}]
[null,null,{"$f":"+IF(AND(A3229>Analyse1!$E$3,Data!A3229<Analyse1!$E$4),B3229,\"\")","v":""},{"$f":"+B3229/Analyse1!$H$3*Analyse1!$H$4","v":0}]
[null,null,{"$f":"+IF(AND(A3230>Analyse1!$E$3,Data!A3230<Analyse1!$E$4),B3230,\"\")","v":""},{"$f":"+B3230/Analyse1!$H$3*Analyse1!$H$4","v":0}]
[null,null,{"$f":"+IF(AND(A3231>Analyse1!$E$3,Data!A3231<Analyse1!$E$4),B3231,\"\")","v":""},{"$f":"+B3231/Analyse1!$H$3*Analyse1!$H$4","v":0}]
[null,null,{"$f":"+IF(AND(A3232>Analyse1!$E$3,Data!A3232<Analyse1!$E$4),B3232,\"\")","v":""},{"$f":"+B3232/Analyse1!$H$3*Analyse1!$H$4","v":0}]
[null,null,{"$f":"+IF(AND(A3233>Analyse1!$E$3,Data!A3233<Analyse1!$E$4),B3233,\"\")","v":""},{"$f":"+B3233/Analyse1!$H$3*Analyse1!$H$4","v":0}]
[null,null,{"$f":"+IF(AND(A3234>Analyse1!$E$3,Data!A3234<Analyse1!$E$4),B3234,\"\")","v":""},{"$f":"+B3234/Analyse1!$H$3*Analyse1!$H$4","v":0}]
[null,null,{"$f":"+IF(AND(A3235>Analyse1!$E$3,Data!A3235<Analyse1!$E$4),B3235,\"\")","v":""},{"$f":"+B3235/Analyse1!$H$3*Analyse1!$H$4","v":0}]
[null,null,{"$f":"+IF(AND(A3236>Analyse1!$E$3,Data!A3236<Analyse1!$E$4),B3236,\"\")","v":""},{"$f":"+B3236/Analyse1!$H$3*Analyse1!$H$4","v":0}]
[null,null,{"$f":"+IF(AND(A3237>Analyse1!$E$3,Data!A3237<Analyse1!$E$4),B3237,\"\")","v":""},{"$f":"+B3237/Analyse1!$H$3*Analyse1!$H$4","v":0}]
[null,null,{"$f":"+IF(AND(A3238>Analyse1!$E$3,Data!A3238<Analyse1!$E$4),B3238,\"\")","v":""},{"$f":"+B3238/Analyse1!$H$3*Analyse1!$H$4","v":0}]
[null,null,{"$f":"+IF(AND(A3239>Analyse1!$E$3,Data!A3239<Analyse1!$E$4),B3239,\"\")","v":""},{"$f":"+B3239/Analyse1!$H$3*Analyse1!$H$4","v":0}]
[null,null,{"$f":"+IF(AND(A3240>Analyse1!$E$3,Data!A3240<Analyse1!$E$4),B3240,\"\")","v":""},{"$f":"+B3240/Analyse1!$H$3*Analyse1!$H$4","v":0}]
[null,null,{"$f":"+IF(AND(A3241>Analyse1!$E$3,Data!A3241<Analyse1!$E$4),B3241,\"\")","v":""},{"$f":"+B3241/Analyse1!$H$3*Analyse1!$H$4","v":0}]
[null,null,{"$f":"+IF(AND(A3242>Analyse1!$E$3,Data!A3242<Analyse1!$E$4),B3242,\"\")","v":""},{"$f":"+B3242/Analyse1!$H$3*Analyse1!$H$4","v":0}]
[null,null,{"$f":"+IF(AND(A3243>Analyse1!$E$3,Data!A3243<Analyse1!$E$4),B3243,\"\")","v":""},{"$f":"+B3243/Analyse1!$H$3*Analyse1!$H$4","v":0}]
[null,null,{"$f":"+IF(AND(A3244>Analyse1!$E$3,Data!A3244<Analyse1!$E$4),B3244,\"\")","v":""},{"$f":"+B3244/Analyse1!$H$3*Analyse1!$H$4","v":0}]
[null,null,{"$f":"+IF(AND(A3245>Analyse1!$E$3,Data!A3245<Analyse1!$E$4),B3245,\"\")","v":""},{"$f":"+B3245/Analyse1!$H$3*Analyse1!$H$4","v":0}]
[null,null,{"$f":"+IF(AND(A3246>Analyse1!$E$3,Data!A3246<Analyse1!$E$4),B3246,\"\")","v":""},{"$f":"+B3246/Analyse1!$H$3*Analyse1!$H$4","v":0}]
[null,null,{"$f":"+IF(AND(A3247>Analyse1!$E$3,Data!A3247<Analyse1!$E$4),B3247,\"\")","v":""},{"$f":"+B3247/Analyse1!$H$3*Analyse1!$H$4","v":0}]
[null,null,{"$f":"+IF(AND(A3248>Analyse1!$E$3,Data!A3248<Analyse1!$E$4),B3248,\"\")","v":""},{"$f":"+B3248/Analyse1!$H$3*Analyse1!$H$4","v":0}]
[null,null,{"$f":"+IF(AND(A3249>Analyse1!$E$3,Data!A3249<Analyse1!$E$4),B3249,\"\")","v":""},{"$f":"+B3249/Analyse1!$H$3*Analyse1!$H$4","v":0}]
[null,null,{"$f":"+IF(AND(A3250>Analyse1!$E$3,Data!A3250<Analyse1!$E$4),B3250,\"\")","v":""},{"$f":"+B3250/Analyse1!$H$3*Analyse1!$H$4","v":0}]
[null,null,{"$f":"+IF(AND(A3251>Analyse1!$E$3,Data!A3251<Analyse1!$E$4),B3251,\"\")","v":""},{"$f":"+B3251/Analyse1!$H$3*Analyse1!$H$4","v":0}]
[null,null,{"$f":"+IF(AND(A3252>Analyse1!$E$3,Data!A3252<Analyse1!$E$4),B3252,\"\")","v":""},{"$f":"+B3252/Analyse1!$H$3*Analyse1!$H$4","v":0}]
[null,null,{"$f":"+IF(AND(A3253>Analyse1!$E$3,Data!A3253<Analyse1!$E$4),B3253,\"\")","v":""},{"$f":"+B3253/Analyse1!$H$3*Analyse1!$H$4","v":0}]
[null,null,{"$f":"+IF(AND(A3254>Analyse1!$E$3,Data!A3254<Analyse1!$E$4),B3254,\"\")","v":""},{"$f":"+B3254/Analyse1!$H$3*Analyse1!$H$4","v":0}]
[null,null,{"$f":"+IF(AND(A3255>Analyse1!$E$3,Data!A3255<Analyse1!$E$4),B3255,\"\")","v":""},{"$f":"+B3255/Analyse1!$H$3*Analyse1!$H$4","v":0}]
[null,null,{"$f":"+IF(AND(A3256>Analyse1!$E$3,Data!A3256<Analyse1!$E$4),B3256,\"\")","v":""},{"$f":"+B3256/Analyse1!$H$3*Analyse1!$H$4","v":0}]
[null,null,{"$f":"+IF(AND(A3257>Analyse1!$E$3,Data!A3257<Analyse1!$E$4),B3257,\"\")","v":""},{"$f":"+B3257/Analyse1!$H$3*Analyse1!$H$4","v":0}]
[null,null,{"$f":"+IF(AND(A3258>Analyse1!$E$3,Data!A3258<Analyse1!$E$4),B3258,\"\")","v":""},{"$f":"+B3258/Analyse1!$H$3*Analyse1!$H$4","v":0}]
[null,null,{"$f":"+IF(AND(A3259>Analyse1!$E$3,Data!A3259<Analyse1!$E$4),B3259,\"\")","v":""},{"$f":"+B3259/Analyse1!$H$3*Analyse1!$H$4","v":0}]
[null,null,{"$f":"+IF(AND(A3260>Analyse1!$E$3,Data!A3260<Analyse1!$E$4),B3260,\"\")","v":""},{"$f":"+B3260/Analyse1!$H$3*Analyse1!$H$4","v":0}]
[null,null,{"$f":"+IF(AND(A3261>Analyse1!$E$3,Data!A3261<Analyse1!$E$4),B3261,\"\")","v":""},{"$f":"+B3261/Analyse1!$H$3*Analyse1!$H$4","v":0}]
[null,null,{"$f":"+IF(AND(A3262>Analyse1!$E$3,Data!A3262<Analyse1!$E$4),B3262,\"\")","v":""},{"$f":"+B3262/Analyse1!$H$3*Analyse1!$H$4","v":0}]
[null,null,{"$f":"+IF(AND(A3263>Analyse1!$E$3,Data!A3263<Analyse1!$E$4),B3263,\"\")","v":""},{"$f":"+B3263/Analyse1!$H$3*Analyse1!$H$4","v":0}]
[null,null,{"$f":"+IF(AND(A3264>Analyse1!$E$3,Data!A3264<Analyse1!$E$4),B3264,\"\")","v":""},{"$f":"+B3264/Analyse1!$H$3*Analyse1!$H$4","v":0}]
[null,null,{"$f":"+IF(AND(A3265>Analyse1!$E$3,Data!A3265<Analyse1!$E$4),B3265,\"\")","v":""},{"$f":"+B3265/Analyse1!$H$3*Analyse1!$H$4","v":0}]
[null,null,{"$f":"+IF(AND(A3266>Analyse1!$E$3,Data!A3266<Analyse1!$E$4),B3266,\"\")","v":""},{"$f":"+B3266/Analyse1!$H$3*Analyse1!$H$4","v":0}]
[null,null,{"$f":"+IF(AND(A3267>Analyse1!$E$3,Data!A3267<Analyse1!$E$4),B3267,\"\")","v":""},{"$f":"+B3267/Analyse1!$H$3*Analyse1!$H$4","v":0}]
[null,null,{"$f":"+IF(AND(A3268>Analyse1!$E$3,Data!A3268<Analyse1!$E$4),B3268,\"\")","v":""},{"$f":"+B3268/Analyse1!$H$3*Analyse1!$H$4","v":0}]
[null,null,{"$f":"+IF(AND(A3269>Analyse1!$E$3,Data!A3269<Analyse1!$E$4),B3269,\"\")","v":""},{"$f":"+B3269/Analyse1!$H$3*Analyse1!$H$4","v":0}]
[null,null,{"$f":"+IF(AND(A3270>Analyse1!$E$3,Data!A3270<Analyse1!$E$4),B3270,\"\")","v":""},{"$f":"+B3270/Analyse1!$H$3*Analyse1!$H$4","v":0}]
[null,null,{"$f":"+IF(AND(A3271>Analyse1!$E$3,Data!A3271<Analyse1!$E$4),B3271,\"\")","v":""},{"$f":"+B3271/Analyse1!$H$3*Analyse1!$H$4","v":0}]
[null,null,{"$f":"+IF(AND(A3272>Analyse1!$E$3,Data!A3272<Analyse1!$E$4),B3272,\"\")","v":""},{"$f":"+B3272/Analyse1!$H$3*Analyse1!$H$4","v":0}]
[null,null,{"$f":"+IF(AND(A3273>Analyse1!$E$3,Data!A3273<Analyse1!$E$4),B3273,\"\")","v":""},{"$f":"+B3273/Analyse1!$H$3*Analyse1!$H$4","v":0}]
[null,null,{"$f":"+IF(AND(A3274>Analyse1!$E$3,Data!A3274<Analyse1!$E$4),B3274,\"\")","v":""},{"$f":"+B3274/Analyse1!$H$3*Analyse1!$H$4","v":0}]
[null,null,{"$f":"+IF(AND(A3275>Analyse1!$E$3,Data!A3275<Analyse1!$E$4),B3275,\"\")","v":""},{"$f":"+B3275/Analyse1!$H$3*Analyse1!$H$4","v":0}]
[null,null,{"$f":"+IF(AND(A3276>Analyse1!$E$3,Data!A3276<Analyse1!$E$4),B3276,\"\")","v":""},{"$f":"+B3276/Analyse1!$H$3*Analyse1!$H$4","v":0}]
[null,null,{"$f":"+IF(AND(A3277>Analyse1!$E$3,Data!A3277<Analyse1!$E$4),B3277,\"\")","v":""},{"$f":"+B3277/Analyse1!$H$3*Analyse1!$H$4","v":0}]
[null,null,{"$f":"+IF(AND(A3278>Analyse1!$E$3,Data!A3278<Analyse1!$E$4),B3278,\"\")","v":""},{"$f":"+B3278/Analyse1!$H$3*Analyse1!$H$4","v":0}]
[null,null,{"$f":"+IF(AND(A3279>Analyse1!$E$3,Data!A3279<Analyse1!$E$4),B3279,\"\")","v":""},{"$f":"+B3279/Analyse1!$H$3*Analyse1!$H$4","v":0}]
[null,null,{"$f":"+IF(AND(A3280>Analyse1!$E$3,Data!A3280<Analyse1!$E$4),B3280,\"\")","v":""},{"$f":"+B3280/Analyse1!$H$3*Analyse1!$H$4","v":0}]
[null,null,{"$f":"+IF(AND(A3281>Analyse1!$E$3,Data!A3281<Analyse1!$E$4),B3281,\"\")","v":""},{"$f":"+B3281/Analyse1!$H$3*Analyse1!$H$4","v":0}]
[null,null,{"$f":"+IF(AND(A3282>Analyse1!$E$3,Data!A3282<Analyse1!$E$4),B3282,\"\")","v":""},{"$f":"+B3282/Analyse1!$H$3*Analyse1!$H$4","v":0}]
[null,null,{"$f":"+IF(AND(A3283>Analyse1!$E$3,Data!A3283<Analyse1!$E$4),B3283,\"\")","v":""},{"$f":"+B3283/Analyse1!$H$3*Analyse1!$H$4","v":0}]
[null,null,{"$f":"+IF(AND(A3284>Analyse1!$E$3,Data!A3284<Analyse1!$E$4),B3284,\"\")","v":""},{"$f":"+B3284/Analyse1!$H$3*Analyse1!$H$4","v":0}]
[null,null,{"$f":"+IF(AND(A3285>Analyse1!$E$3,Data!A3285<Analyse1!$E$4),B3285,\"\")","v":""},{"$f":"+B3285/Analyse1!$H$3*Analyse1!$H$4","v":0}]
[null,null,{"$f":"+IF(AND(A3286>Analyse1!$E$3,Data!A3286<Analyse1!$E$4),B3286,\"\")","v":""},{"$f":"+B3286/Analyse1!$H$3*Analyse1!$H$4","v":0}]
[null,null,{"$f":"+IF(AND(A3287>Analyse1!$E$3,Data!A3287<Analyse1!$E$4),B3287,\"\")","v":""},{"$f":"+B3287/Analyse1!$H$3*Analyse1!$H$4","v":0}]
[null,null,{"$f":"+IF(AND(A3288>Analyse1!$E$3,Data!A3288<Analyse1!$E$4),B3288,\"\")","v":""},{"$f":"+B3288/Analyse1!$H$3*Analyse1!$H$4","v":0}]
[null,null,{"$f":"+IF(AND(A3289>Analyse1!$E$3,Data!A3289<Analyse1!$E$4),B3289,\"\")","v":""},{"$f":"+B3289/Analyse1!$H$3*Analyse1!$H$4","v":0}]
[null,null,{"$f":"+IF(AND(A3290>Analyse1!$E$3,Data!A3290<Analyse1!$E$4),B3290,\"\")","v":""},{"$f":"+B3290/Analyse1!$H$3*Analyse1!$H$4","v":0}]
[null,null,{"$f":"+IF(AND(A3291>Analyse1!$E$3,Data!A3291<Analyse1!$E$4),B3291,\"\")","v":""},{"$f":"+B3291/Analyse1!$H$3*Analyse1!$H$4","v":0}]
[null,null,{"$f":"+IF(AND(A3292>Analyse1!$E$3,Data!A3292<Analyse1!$E$4),B3292,\"\")","v":""},{"$f":"+B3292/Analyse1!$H$3*Analyse1!$H$4","v":0}]
[null,null,{"$f":"+IF(AND(A3293>Analyse1!$E$3,Data!A3293<Analyse1!$E$4),B3293,\"\")","v":""},{"$f":"+B3293/Analyse1!$H$3*Analyse1!$H$4","v":0}]
[null,null,{"$f":"+IF(AND(A3294>Analyse1!$E$3,Data!A3294<Analyse1!$E$4),B3294,\"\")","v":""},{"$f":"+B3294/Analyse1!$H$3*Analyse1!$H$4","v":0}]
[null,null,{"$f":"+IF(AND(A3295>Analyse1!$E$3,Data!A3295<Analyse1!$E$4),B3295,\"\")","v":""},{"$f":"+B3295/Analyse1!$H$3*Analyse1!$H$4","v":0}]
[null,null,{"$f":"+IF(AND(A3296>Analyse1!$E$3,Data!A3296<Analyse1!$E$4),B3296,\"\")","v":""},{"$f":"+B3296/Analyse1!$H$3*Analyse1!$H$4","v":0}]
[null,null,{"$f":"+IF(AND(A3297>Analyse1!$E$3,Data!A3297<Analyse1!$E$4),B3297,\"\")","v":""},{"$f":"+B3297/Analyse1!$H$3*Analyse1!$H$4","v":0}]
[null,null,{"$f":"+IF(AND(A3298>Analyse1!$E$3,Data!A3298<Analyse1!$E$4),B3298,\"\")","v":""},{"$f":"+B3298/Analyse1!$H$3*Analyse1!$H$4","v":0}]
[null,null,{"$f":"+IF(AND(A3299>Analyse1!$E$3,Data!A3299<Analyse1!$E$4),B3299,\"\")","v":""},{"$f":"+B3299/Analyse1!$H$3*Analyse1!$H$4","v":0}]
[null,null,{"$f":"+IF(AND(A3300>Analyse1!$E$3,Data!A3300<Analyse1!$E$4),B3300,\"\")","v":""},{"$f":"+B3300/Analyse1!$H$3*Analyse1!$H$4","v":0}]
[null,null,{"$f":"+IF(AND(A3301>Analyse1!$E$3,Data!A3301<Analyse1!$E$4),B3301,\"\")","v":""},{"$f":"+B3301/Analyse1!$H$3*Analyse1!$H$4","v":0}]
[null,null,{"$f":"+IF(AND(A3302>Analyse1!$E$3,Data!A3302<Analyse1!$E$4),B3302,\"\")","v":""},{"$f":"+B3302/Analyse1!$H$3*Analyse1!$H$4","v":0}]
[null,null,{"$f":"+IF(AND(A3303>Analyse1!$E$3,Data!A3303<Analyse1!$E$4),B3303,\"\")","v":""},{"$f":"+B3303/Analyse1!$H$3*Analyse1!$H$4","v":0}]
[null,null,{"$f":"+IF(AND(A3304>Analyse1!$E$3,Data!A3304<Analyse1!$E$4),B3304,\"\")","v":""},{"$f":"+B3304/Analyse1!$H$3*Analyse1!$H$4","v":0}]
[null,null,{"$f":"+IF(AND(A3305>Analyse1!$E$3,Data!A3305<Analyse1!$E$4),B3305,\"\")","v":""},{"$f":"+B3305/Analyse1!$H$3*Analyse1!$H$4","v":0}]
[null,null,{"$f":"+IF(AND(A3306>Analyse1!$E$3,Data!A3306<Analyse1!$E$4),B3306,\"\")","v":""},{"$f":"+B3306/Analyse1!$H$3*Analyse1!$H$4","v":0}]
[null,null,{"$f":"+IF(AND(A3307>Analyse1!$E$3,Data!A3307<Analyse1!$E$4),B3307,\"\")","v":""},{"$f":"+B3307/Analyse1!$H$3*Analyse1!$H$4","v":0}]
[null,null,{"$f":"+IF(AND(A3308>Analyse1!$E$3,Data!A3308<Analyse1!$E$4),B3308,\"\")","v":""},{"$f":"+B3308/Analyse1!$H$3*Analyse1!$H$4","v":0}]
[null,null,{"$f":"+IF(AND(A3309>Analyse1!$E$3,Data!A3309<Analyse1!$E$4),B3309,\"\")","v":""},{"$f":"+B3309/Analyse1!$H$3*Analyse1!$H$4","v":0}]
[null,null,{"$f":"+IF(AND(A3310>Analyse1!$E$3,Data!A3310<Analyse1!$E$4),B3310,\"\")","v":""},{"$f":"+B3310/Analyse1!$H$3*Analyse1!$H$4","v":0}]
[null,null,{"$f":"+IF(AND(A3311>Analyse1!$E$3,Data!A3311<Analyse1!$E$4),B3311,\"\")","v":""},{"$f":"+B3311/Analyse1!$H$3*Analyse1!$H$4","v":0}]
[null,null,{"$f":"+IF(AND(A3312>Analyse1!$E$3,Data!A3312<Analyse1!$E$4),B3312,\"\")","v":""},{"$f":"+B3312/Analyse1!$H$3*Analyse1!$H$4","v":0}]
[null,null,{"$f":"+IF(AND(A3313>Analyse1!$E$3,Data!A3313<Analyse1!$E$4),B3313,\"\")","v":""},{"$f":"+B3313/Analyse1!$H$3*Analyse1!$H$4","v":0}]
[null,null,{"$f":"+IF(AND(A3314>Analyse1!$E$3,Data!A3314<Analyse1!$E$4),B3314,\"\")","v":""},{"$f":"+B3314/Analyse1!$H$3*Analyse1!$H$4","v":0}]
[null,null,{"$f":"+IF(AND(A3315>Analyse1!$E$3,Data!A3315<Analyse1!$E$4),B3315,\"\")","v":""},{"$f":"+B3315/Analyse1!$H$3*Analyse1!$H$4","v":0}]
[null,null,{"$f":"+IF(AND(A3316>Analyse1!$E$3,Data!A3316<Analyse1!$E$4),B3316,\"\")","v":""},{"$f":"+B3316/Analyse1!$H$3*Analyse1!$H$4","v":0}]
[null,null,{"$f":"+IF(AND(A3317>Analyse1!$E$3,Data!A3317<Analyse1!$E$4),B3317,\"\")","v":""},{"$f":"+B3317/Analyse1!$H$3*Analyse1!$H$4","v":0}]
[null,null,{"$f":"+IF(AND(A3318>Analyse1!$E$3,Data!A3318<Analyse1!$E$4),B3318,\"\")","v":""},{"$f":"+B3318/Analyse1!$H$3*Analyse1!$H$4","v":0}]
[null,null,{"$f":"+IF(AND(A3319>Analyse1!$E$3,Data!A3319<Analyse1!$E$4),B3319,\"\")","v":""},{"$f":"+B3319/Analyse1!$H$3*Analyse1!$H$4","v":0}]
[null,null,{"$f":"+IF(AND(A3320>Analyse1!$E$3,Data!A3320<Analyse1!$E$4),B3320,\"\")","v":""},{"$f":"+B3320/Analyse1!$H$3*Analyse1!$H$4","v":0}]
[null,null,{"$f":"+IF(AND(A3321>Analyse1!$E$3,Data!A3321<Analyse1!$E$4),B3321,\"\")","v":""},{"$f":"+B3321/Analyse1!$H$3*Analyse1!$H$4","v":0}]
[null,null,{"$f":"+IF(AND(A3322>Analyse1!$E$3,Data!A3322<Analyse1!$E$4),B3322,\"\")","v":""},{"$f":"+B3322/Analyse1!$H$3*Analyse1!$H$4","v":0}]
[null,null,{"$f":"+IF(AND(A3323>Analyse1!$E$3,Data!A3323<Analyse1!$E$4),B3323,\"\")","v":""},{"$f":"+B3323/Analyse1!$H$3*Analyse1!$H$4","v":0}]
[null,null,{"$f":"+IF(AND(A3324>Analyse1!$E$3,Data!A3324<Analyse1!$E$4),B3324,\"\")","v":""},{"$f":"+B3324/Analyse1!$H$3*Analyse1!$H$4","v":0}]
[null,null,{"$f":"+IF(AND(A3325>Analyse1!$E$3,Data!A3325<Analyse1!$E$4),B3325,\"\")","v":""},{"$f":"+B3325/Analyse1!$H$3*Analyse1!$H$4","v":0}]
[null,null,{"$f":"+IF(AND(A3326>Analyse1!$E$3,Data!A3326<Analyse1!$E$4),B3326,\"\")","v":""},{"$f":"+B3326/Analyse1!$H$3*Analyse1!$H$4","v":0}]
[null,null,{"$f":"+IF(AND(A3327>Analyse1!$E$3,Data!A3327<Analyse1!$E$4),B3327,\"\")","v":""},{"$f":"+B3327/Analyse1!$H$3*Analyse1!$H$4","v":0}]
[null,null,{"$f":"+IF(AND(A3328>Analyse1!$E$3,Data!A3328<Analyse1!$E$4),B3328,\"\")","v":""},{"$f":"+B3328/Analyse1!$H$3*Analyse1!$H$4","v":0}]
[null,null,{"$f":"+IF(AND(A3329>Analyse1!$E$3,Data!A3329<Analyse1!$E$4),B3329,\"\")","v":""},{"$f":"+B3329/Analyse1!$H$3*Analyse1!$H$4","v":0}]
[null,null,{"$f":"+IF(AND(A3330>Analyse1!$E$3,Data!A3330<Analyse1!$E$4),B3330,\"\")","v":""},{"$f":"+B3330/Analyse1!$H$3*Analyse1!$H$4","v":0}]
[null,null,{"$f":"+IF(AND(A3331>Analyse1!$E$3,Data!A3331<Analyse1!$E$4),B3331,\"\")","v":""},{"$f":"+B3331/Analyse1!$H$3*Analyse1!$H$4","v":0}]
[null,null,{"$f":"+IF(AND(A3332>Analyse1!$E$3,Data!A3332<Analyse1!$E$4),B3332,\"\")","v":""},{"$f":"+B3332/Analyse1!$H$3*Analyse1!$H$4","v":0}]
[null,null,{"$f":"+IF(AND(A3333>Analyse1!$E$3,Data!A3333<Analyse1!$E$4),B3333,\"\")","v":""},{"$f":"+B3333/Analyse1!$H$3*Analyse1!$H$4","v":0}]
[null,null,{"$f":"+IF(AND(A3334>Analyse1!$E$3,Data!A3334<Analyse1!$E$4),B3334,\"\")","v":""},{"$f":"+B3334/Analyse1!$H$3*Analyse1!$H$4","v":0}]
[null,null,{"$f":"+IF(AND(A3335>Analyse1!$E$3,Data!A3335<Analyse1!$E$4),B3335,\"\")","v":""},{"$f":"+B3335/Analyse1!$H$3*Analyse1!$H$4","v":0}]
[null,null,{"$f":"+IF(AND(A3336>Analyse1!$E$3,Data!A3336<Analyse1!$E$4),B3336,\"\")","v":""},{"$f":"+B3336/Analyse1!$H$3*Analyse1!$H$4","v":0}]
[null,null,{"$f":"+IF(AND(A3337>Analyse1!$E$3,Data!A3337<Analyse1!$E$4),B3337,\"\")","v":""},{"$f":"+B3337/Analyse1!$H$3*Analyse1!$H$4","v":0}]
[null,null,{"$f":"+IF(AND(A3338>Analyse1!$E$3,Data!A3338<Analyse1!$E$4),B3338,\"\")","v":""},{"$f":"+B3338/Analyse1!$H$3*Analyse1!$H$4","v":0}]
[null,null,{"$f":"+IF(AND(A3339>Analyse1!$E$3,Data!A3339<Analyse1!$E$4),B3339,\"\")","v":""},{"$f":"+B3339/Analyse1!$H$3*Analyse1!$H$4","v":0}]
[null,null,{"$f":"+IF(AND(A3340>Analyse1!$E$3,Data!A3340<Analyse1!$E$4),B3340,\"\")","v":""},{"$f":"+B3340/Analyse1!$H$3*Analyse1!$H$4","v":0}]
[null,null,{"$f":"+IF(AND(A3341>Analyse1!$E$3,Data!A3341<Analyse1!$E$4),B3341,\"\")","v":""},{"$f":"+B3341/Analyse1!$H$3*Analyse1!$H$4","v":0}]
[null,null,{"$f":"+IF(AND(A3342>Analyse1!$E$3,Data!A3342<Analyse1!$E$4),B3342,\"\")","v":""},{"$f":"+B3342/Analyse1!$H$3*Analyse1!$H$4","v":0}]
[null,null,{"$f":"+IF(AND(A3343>Analyse1!$E$3,Data!A3343<Analyse1!$E$4),B3343,\"\")","v":""},{"$f":"+B3343/Analyse1!$H$3*Analyse1!$H$4","v":0}]
[null,null,{"$f":"+IF(AND(A3344>Analyse1!$E$3,Data!A3344<Analyse1!$E$4),B3344,\"\")","v":""},{"$f":"+B3344/Analyse1!$H$3*Analyse1!$H$4","v":0}]
[null,null,{"$f":"+IF(AND(A3345>Analyse1!$E$3,Data!A3345<Analyse1!$E$4),B3345,\"\")","v":""},{"$f":"+B3345/Analyse1!$H$3*Analyse1!$H$4","v":0}]
[null,null,{"$f":"+IF(AND(A3346>Analyse1!$E$3,Data!A3346<Analyse1!$E$4),B3346,\"\")","v":""},{"$f":"+B3346/Analyse1!$H$3*Analyse1!$H$4","v":0}]
[null,null,{"$f":"+IF(AND(A3347>Analyse1!$E$3,Data!A3347<Analyse1!$E$4),B3347,\"\")","v":""},{"$f":"+B3347/Analyse1!$H$3*Analyse1!$H$4","v":0}]
[null,null,{"$f":"+IF(AND(A3348>Analyse1!$E$3,Data!A3348<Analyse1!$E$4),B3348,\"\")","v":""},{"$f":"+B3348/Analyse1!$H$3*Analyse1!$H$4","v":0}]
[null,null,{"$f":"+IF(AND(A3349>Analyse1!$E$3,Data!A3349<Analyse1!$E$4),B3349,\"\")","v":""},{"$f":"+B3349/Analyse1!$H$3*Analyse1!$H$4","v":0}]
[null,null,{"$f":"+IF(AND(A3350>Analyse1!$E$3,Data!A3350<Analyse1!$E$4),B3350,\"\")","v":""},{"$f":"+B3350/Analyse1!$H$3*Analyse1!$H$4","v":0}]
[null,null,{"$f":"+IF(AND(A3351>Analyse1!$E$3,Data!A3351<Analyse1!$E$4),B3351,\"\")","v":""},{"$f":"+B3351/Analyse1!$H$3*Analyse1!$H$4","v":0}]
[null,null,{"$f":"+IF(AND(A3352>Analyse1!$E$3,Data!A3352<Analyse1!$E$4),B3352,\"\")","v":""},{"$f":"+B3352/Analyse1!$H$3*Analyse1!$H$4","v":0}]
[null,null,{"$f":"+IF(AND(A3353>Analyse1!$E$3,Data!A3353<Analyse1!$E$4),B3353,\"\")","v":""},{"$f":"+B3353/Analyse1!$H$3*Analyse1!$H$4","v":0}]
[null,null,{"$f":"+IF(AND(A3354>Analyse1!$E$3,Data!A3354<Analyse1!$E$4),B3354,\"\")","v":""},{"$f":"+B3354/Analyse1!$H$3*Analyse1!$H$4","v":0}]
[null,null,{"$f":"+IF(AND(A3355>Analyse1!$E$3,Data!A3355<Analyse1!$E$4),B3355,\"\")","v":""},{"$f":"+B3355/Analyse1!$H$3*Analyse1!$H$4","v":0}]
[null,null,{"$f":"+IF(AND(A3356>Analyse1!$E$3,Data!A3356<Analyse1!$E$4),B3356,\"\")","v":""},{"$f":"+B3356/Analyse1!$H$3*Analyse1!$H$4","v":0}]
[null,null,{"$f":"+IF(AND(A3357>Analyse1!$E$3,Data!A3357<Analyse1!$E$4),B3357,\"\")","v":""},{"$f":"+B3357/Analyse1!$H$3*Analyse1!$H$4","v":0}]
[null,null,{"$f":"+IF(AND(A3358>Analyse1!$E$3,Data!A3358<Analyse1!$E$4),B3358,\"\")","v":""},{"$f":"+B3358/Analyse1!$H$3*Analyse1!$H$4","v":0}]
[null,null,{"$f":"+IF(AND(A3359>Analyse1!$E$3,Data!A3359<Analyse1!$E$4),B3359,\"\")","v":""},{"$f":"+B3359/Analyse1!$H$3*Analyse1!$H$4","v":0}]
[null,null,{"$f":"+IF(AND(A3360>Analyse1!$E$3,Data!A3360<Analyse1!$E$4),B3360,\"\")","v":""},{"$f":"+B3360/Analyse1!$H$3*Analyse1!$H$4","v":0}]
[null,null,{"$f":"+IF(AND(A3361>Analyse1!$E$3,Data!A3361<Analyse1!$E$4),B3361,\"\")","v":""},{"$f":"+B3361/Analyse1!$H$3*Analyse1!$H$4","v":0}]
[null,null,{"$f":"+IF(AND(A3362>Analyse1!$E$3,Data!A3362<Analyse1!$E$4),B3362,\"\")","v":""},{"$f":"+B3362/Analyse1!$H$3*Analyse1!$H$4","v":0}]
[null,null,{"$f":"+IF(AND(A3363>Analyse1!$E$3,Data!A3363<Analyse1!$E$4),B3363,\"\")","v":""},{"$f":"+B3363/Analyse1!$H$3*Analyse1!$H$4","v":0}]
[null,null,{"$f":"+IF(AND(A3364>Analyse1!$E$3,Data!A3364<Analyse1!$E$4),B3364,\"\")","v":""},{"$f":"+B3364/Analyse1!$H$3*Analyse1!$H$4","v":0}]
[null,null,{"$f":"+IF(AND(A3365>Analyse1!$E$3,Data!A3365<Analyse1!$E$4),B3365,\"\")","v":""},{"$f":"+B3365/Analyse1!$H$3*Analyse1!$H$4","v":0}]
[null,null,{"$f":"+IF(AND(A3366>Analyse1!$E$3,Data!A3366<Analyse1!$E$4),B3366,\"\")","v":""},{"$f":"+B3366/Analyse1!$H$3*Analyse1!$H$4","v":0}]
[null,null,{"$f":"+IF(AND(A3367>Analyse1!$E$3,Data!A3367<Analyse1!$E$4),B3367,\"\")","v":""},{"$f":"+B3367/Analyse1!$H$3*Analyse1!$H$4","v":0}]
[null,null,{"$f":"+IF(AND(A3368>Analyse1!$E$3,Data!A3368<Analyse1!$E$4),B3368,\"\")","v":""},{"$f":"+B3368/Analyse1!$H$3*Analyse1!$H$4","v":0}]
[null,null,{"$f":"+IF(AND(A3369>Analyse1!$E$3,Data!A3369<Analyse1!$E$4),B3369,\"\")","v":""},{"$f":"+B3369/Analyse1!$H$3*Analyse1!$H$4","v":0}]
[null,null,{"$f":"+IF(AND(A3370>Analyse1!$E$3,Data!A3370<Analyse1!$E$4),B3370,\"\")","v":""},{"$f":"+B3370/Analyse1!$H$3*Analyse1!$H$4","v":0}]
[null,null,{"$f":"+IF(AND(A3371>Analyse1!$E$3,Data!A3371<Analyse1!$E$4),B3371,\"\")","v":""},{"$f":"+B3371/Analyse1!$H$3*Analyse1!$H$4","v":0}]
[null,null,{"$f":"+IF(AND(A3372>Analyse1!$E$3,Data!A3372<Analyse1!$E$4),B3372,\"\")","v":""},{"$f":"+B3372/Analyse1!$H$3*Analyse1!$H$4","v":0}]
[null,null,{"$f":"+IF(AND(A3373>Analyse1!$E$3,Data!A3373<Analyse1!$E$4),B3373,\"\")","v":""},{"$f":"+B3373/Analyse1!$H$3*Analyse1!$H$4","v":0}]
[null,null,{"$f":"+IF(AND(A3374>Analyse1!$E$3,Data!A3374<Analyse1!$E$4),B3374,\"\")","v":""},{"$f":"+B3374/Analyse1!$H$3*Analyse1!$H$4","v":0}]
[null,null,{"$f":"+IF(AND(A3375>Analyse1!$E$3,Data!A3375<Analyse1!$E$4),B3375,\"\")","v":""},{"$f":"+B3375/Analyse1!$H$3*Analyse1!$H$4","v":0}]
[null,null,{"$f":"+IF(AND(A3376>Analyse1!$E$3,Data!A3376<Analyse1!$E$4),B3376,\"\")","v":""},{"$f":"+B3376/Analyse1!$H$3*Analyse1!$H$4","v":0}]
[null,null,{"$f":"+IF(AND(A3377>Analyse1!$E$3,Data!A3377<Analyse1!$E$4),B3377,\"\")","v":""},{"$f":"+B3377/Analyse1!$H$3*Analyse1!$H$4","v":0}]
[null,null,{"$f":"+IF(AND(A3378>Analyse1!$E$3,Data!A3378<Analyse1!$E$4),B3378,\"\")","v":""},{"$f":"+B3378/Analyse1!$H$3*Analyse1!$H$4","v":0}]
[null,null,{"$f":"+IF(AND(A3379>Analyse1!$E$3,Data!A3379<Analyse1!$E$4),B3379,\"\")","v":""},{"$f":"+B3379/Analyse1!$H$3*Analyse1!$H$4","v":0}]
[null,null,{"$f":"+IF(AND(A3380>Analyse1!$E$3,Data!A3380<Analyse1!$E$4),B3380,\"\")","v":""},{"$f":"+B3380/Analyse1!$H$3*Analyse1!$H$4","v":0}]
[null,null,{"$f":"+IF(AND(A3381>Analyse1!$E$3,Data!A3381<Analyse1!$E$4),B3381,\"\")","v":""},{"$f":"+B3381/Analyse1!$H$3*Analyse1!$H$4","v":0}]
[null,null,{"$f":"+IF(AND(A3382>Analyse1!$E$3,Data!A3382<Analyse1!$E$4),B3382,\"\")","v":""},{"$f":"+B3382/Analyse1!$H$3*Analyse1!$H$4","v":0}]
[null,null,{"$f":"+IF(AND(A3383>Analyse1!$E$3,Data!A3383<Analyse1!$E$4),B3383,\"\")","v":""},{"$f":"+B3383/Analyse1!$H$3*Analyse1!$H$4","v":0}]
[null,null,{"$f":"+IF(AND(A3384>Analyse1!$E$3,Data!A3384<Analyse1!$E$4),B3384,\"\")","v":""},{"$f":"+B3384/Analyse1!$H$3*Analyse1!$H$4","v":0}]
[null,null,{"$f":"+IF(AND(A3385>Analyse1!$E$3,Data!A3385<Analyse1!$E$4),B3385,\"\")","v":""},{"$f":"+B3385/Analyse1!$H$3*Analyse1!$H$4","v":0}]
[null,null,{"$f":"+IF(AND(A3386>Analyse1!$E$3,Data!A3386<Analyse1!$E$4),B3386,\"\")","v":""},{"$f":"+B3386/Analyse1!$H$3*Analyse1!$H$4","v":0}]
[null,null,{"$f":"+IF(AND(A3387>Analyse1!$E$3,Data!A3387<Analyse1!$E$4),B3387,\"\")","v":""},{"$f":"+B3387/Analyse1!$H$3*Analyse1!$H$4","v":0}]
[null,null,{"$f":"+IF(AND(A3388>Analyse1!$E$3,Data!A3388<Analyse1!$E$4),B3388,\"\")","v":""},{"$f":"+B3388/Analyse1!$H$3*Analyse1!$H$4","v":0}]
[null,null,{"$f":"+IF(AND(A3389>Analyse1!$E$3,Data!A3389<Analyse1!$E$4),B3389,\"\")","v":""},{"$f":"+B3389/Analyse1!$H$3*Analyse1!$H$4","v":0}]
[null,null,{"$f":"+IF(AND(A3390>Analyse1!$E$3,Data!A3390<Analyse1!$E$4),B3390,\"\")","v":""},{"$f":"+B3390/Analyse1!$H$3*Analyse1!$H$4","v":0}]
[null,null,{"$f":"+IF(AND(A3391>Analyse1!$E$3,Data!A3391<Analyse1!$E$4),B3391,\"\")","v":""},{"$f":"+B3391/Analyse1!$H$3*Analyse1!$H$4","v":0}]
[null,null,{"$f":"+IF(AND(A3392>Analyse1!$E$3,Data!A3392<Analyse1!$E$4),B3392,\"\")","v":""},{"$f":"+B3392/Analyse1!$H$3*Analyse1!$H$4","v":0}]
[null,null,{"$f":"+IF(AND(A3393>Analyse1!$E$3,Data!A3393<Analyse1!$E$4),B3393,\"\")","v":""},{"$f":"+B3393/Analyse1!$H$3*Analyse1!$H$4","v":0}]
[null,null,{"$f":"+IF(AND(A3394>Analyse1!$E$3,Data!A3394<Analyse1!$E$4),B3394,\"\")","v":""},{"$f":"+B3394/Analyse1!$H$3*Analyse1!$H$4","v":0}]
[null,null,{"$f":"+IF(AND(A3395>Analyse1!$E$3,Data!A3395<Analyse1!$E$4),B3395,\"\")","v":""},{"$f":"+B3395/Analyse1!$H$3*Analyse1!$H$4","v":0}]
[null,null,{"$f":"+IF(AND(A3396>Analyse1!$E$3,Data!A3396<Analyse1!$E$4),B3396,\"\")","v":""},{"$f":"+B3396/Analyse1!$H$3*Analyse1!$H$4","v":0}]
[null,null,{"$f":"+IF(AND(A3397>Analyse1!$E$3,Data!A3397<Analyse1!$E$4),B3397,\"\")","v":""},{"$f":"+B3397/Analyse1!$H$3*Analyse1!$H$4","v":0}]
[null,null,{"$f":"+IF(AND(A3398>Analyse1!$E$3,Data!A3398<Analyse1!$E$4),B3398,\"\")","v":""},{"$f":"+B3398/Analyse1!$H$3*Analyse1!$H$4","v":0}]
[null,null,{"$f":"+IF(AND(A3399>Analyse1!$E$3,Data!A3399<Analyse1!$E$4),B3399,\"\")","v":""},{"$f":"+B3399/Analyse1!$H$3*Analyse1!$H$4","v":0}]
[null,null,{"$f":"+IF(AND(A3400>Analyse1!$E$3,Data!A3400<Analyse1!$E$4),B3400,\"\")","v":""},{"$f":"+B3400/Analyse1!$H$3*Analyse1!$H$4","v":0}]
[null,null,{"$f":"+IF(AND(A3401>Analyse1!$E$3,Data!A3401<Analyse1!$E$4),B3401,\"\")","v":""},{"$f":"+B3401/Analyse1!$H$3*Analyse1!$H$4","v":0}]
[null,null,{"$f":"+IF(AND(A3402>Analyse1!$E$3,Data!A3402<Analyse1!$E$4),B3402,\"\")","v":""},{"$f":"+B3402/Analyse1!$H$3*Analyse1!$H$4","v":0}]
[null,null,{"$f":"+IF(AND(A3403>Analyse1!$E$3,Data!A3403<Analyse1!$E$4),B3403,\"\")","v":""},{"$f":"+B3403/Analyse1!$H$3*Analyse1!$H$4","v":0}]
[null,null,{"$f":"+IF(AND(A3404>Analyse1!$E$3,Data!A3404<Analyse1!$E$4),B3404,\"\")","v":""},{"$f":"+B3404/Analyse1!$H$3*Analyse1!$H$4","v":0}]
[null,null,{"$f":"+IF(AND(A3405>Analyse1!$E$3,Data!A3405<Analyse1!$E$4),B3405,\"\")","v":""},{"$f":"+B3405/Analyse1!$H$3*Analyse1!$H$4","v":0}]
[null,null,{"$f":"+IF(AND(A3406>Analyse1!$E$3,Data!A3406<Analyse1!$E$4),B3406,\"\")","v":""},{"$f":"+B3406/Analyse1!$H$3*Analyse1!$H$4","v":0}]
[null,null,{"$f":"+IF(AND(A3407>Analyse1!$E$3,Data!A3407<Analyse1!$E$4),B3407,\"\")","v":""},{"$f":"+B3407/Analyse1!$H$3*Analyse1!$H$4","v":0}]
[null,null,{"$f":"+IF(AND(A3408>Analyse1!$E$3,Data!A3408<Analyse1!$E$4),B3408,\"\")","v":""},{"$f":"+B3408/Analyse1!$H$3*Analyse1!$H$4","v":0}]
[null,null,{"$f":"+IF(AND(A3409>Analyse1!$E$3,Data!A3409<Analyse1!$E$4),B3409,\"\")","v":""},{"$f":"+B3409/Analyse1!$H$3*Analyse1!$H$4","v":0}]
[null,null,{"$f":"+IF(AND(A3410>Analyse1!$E$3,Data!A3410<Analyse1!$E$4),B3410,\"\")","v":""},{"$f":"+B3410/Analyse1!$H$3*Analyse1!$H$4","v":0}]
[null,null,{"$f":"+IF(AND(A3411>Analyse1!$E$3,Data!A3411<Analyse1!$E$4),B3411,\"\")","v":""},{"$f":"+B3411/Analyse1!$H$3*Analyse1!$H$4","v":0}]
[null,null,{"$f":"+IF(AND(A3412>Analyse1!$E$3,Data!A3412<Analyse1!$E$4),B3412,\"\")","v":""},{"$f":"+B3412/Analyse1!$H$3*Analyse1!$H$4","v":0}]
[null,null,{"$f":"+IF(AND(A3413>Analyse1!$E$3,Data!A3413<Analyse1!$E$4),B3413,\"\")","v":""},{"$f":"+B3413/Analyse1!$H$3*Analyse1!$H$4","v":0}]
[null,null,{"$f":"+IF(AND(A3414>Analyse1!$E$3,Data!A3414<Analyse1!$E$4),B3414,\"\")","v":""},{"$f":"+B3414/Analyse1!$H$3*Analyse1!$H$4","v":0}]
[null,null,{"$f":"+IF(AND(A3415>Analyse1!$E$3,Data!A3415<Analyse1!$E$4),B3415,\"\")","v":""},{"$f":"+B3415/Analyse1!$H$3*Analyse1!$H$4","v":0}]
[null,null,{"$f":"+IF(AND(A3416>Analyse1!$E$3,Data!A3416<Analyse1!$E$4),B3416,\"\")","v":""},{"$f":"+B3416/Analyse1!$H$3*Analyse1!$H$4","v":0}]
[null,null,{"$f":"+IF(AND(A3417>Analyse1!$E$3,Data!A3417<Analyse1!$E$4),B3417,\"\")","v":""},{"$f":"+B3417/Analyse1!$H$3*Analyse1!$H$4","v":0}]
[null,null,{"$f":"+IF(AND(A3418>Analyse1!$E$3,Data!A3418<Analyse1!$E$4),B3418,\"\")","v":""},{"$f":"+B3418/Analyse1!$H$3*Analyse1!$H$4","v":0}]
[null,null,{"$f":"+IF(AND(A3419>Analyse1!$E$3,Data!A3419<Analyse1!$E$4),B3419,\"\")","v":""},{"$f":"+B3419/Analyse1!$H$3*Analyse1!$H$4","v":0}]
[null,null,{"$f":"+IF(AND(A3420>Analyse1!$E$3,Data!A3420<Analyse1!$E$4),B3420,\"\")","v":""},{"$f":"+B3420/Analyse1!$H$3*Analyse1!$H$4","v":0}]
[null,null,{"$f":"+IF(AND(A3421>Analyse1!$E$3,Data!A3421<Analyse1!$E$4),B3421,\"\")","v":""},{"$f":"+B3421/Analyse1!$H$3*Analyse1!$H$4","v":0}]
[null,null,{"$f":"+IF(AND(A3422>Analyse1!$E$3,Data!A3422<Analyse1!$E$4),B3422,\"\")","v":""},{"$f":"+B3422/Analyse1!$H$3*Analyse1!$H$4","v":0}]
[null,null,{"$f":"+IF(AND(A3423>Analyse1!$E$3,Data!A3423<Analyse1!$E$4),B3423,\"\")","v":""},{"$f":"+B3423/Analyse1!$H$3*Analyse1!$H$4","v":0}]
[null,null,{"$f":"+IF(AND(A3424>Analyse1!$E$3,Data!A3424<Analyse1!$E$4),B3424,\"\")","v":""},{"$f":"+B3424/Analyse1!$H$3*Analyse1!$H$4","v":0}]
[null,null,{"$f":"+IF(AND(A3425>Analyse1!$E$3,Data!A3425<Analyse1!$E$4),B3425,\"\")","v":""},{"$f":"+B3425/Analyse1!$H$3*Analyse1!$H$4","v":0}]
[null,null,{"$f":"+IF(AND(A3426>Analyse1!$E$3,Data!A3426<Analyse1!$E$4),B3426,\"\")","v":""},{"$f":"+B3426/Analyse1!$H$3*Analyse1!$H$4","v":0}]
[null,null,{"$f":"+IF(AND(A3427>Analyse1!$E$3,Data!A3427<Analyse1!$E$4),B3427,\"\")","v":""},{"$f":"+B3427/Analyse1!$H$3*Analyse1!$H$4","v":0}]
[null,null,{"$f":"+IF(AND(A3428>Analyse1!$E$3,Data!A3428<Analyse1!$E$4),B3428,\"\")","v":""},{"$f":"+B3428/Analyse1!$H$3*Analyse1!$H$4","v":0}]
[null,null,{"$f":"+IF(AND(A3429>Analyse1!$E$3,Data!A3429<Analyse1!$E$4),B3429,\"\")","v":""},{"$f":"+B3429/Analyse1!$H$3*Analyse1!$H$4","v":0}]
[null,null,{"$f":"+IF(AND(A3430>Analyse1!$E$3,Data!A3430<Analyse1!$E$4),B3430,\"\")","v":""},{"$f":"+B3430/Analyse1!$H$3*Analyse1!$H$4","v":0}]
[null,null,{"$f":"+IF(AND(A3431>Analyse1!$E$3,Data!A3431<Analyse1!$E$4),B3431,\"\")","v":""},{"$f":"+B3431/Analyse1!$H$3*Analyse1!$H$4","v":0}]
[null,null,{"$f":"+IF(AND(A3432>Analyse1!$E$3,Data!A3432<Analyse1!$E$4),B3432,\"\")","v":""},{"$f":"+B3432/Analyse1!$H$3*Analyse1!$H$4","v":0}]
[null,null,{"$f":"+IF(AND(A3433>Analyse1!$E$3,Data!A3433<Analyse1!$E$4),B3433,\"\")","v":""},{"$f":"+B3433/Analyse1!$H$3*Analyse1!$H$4","v":0}]
[null,null,{"$f":"+IF(AND(A3434>Analyse1!$E$3,Data!A3434<Analyse1!$E$4),B3434,\"\")","v":""},{"$f":"+B3434/Analyse1!$H$3*Analyse1!$H$4","v":0}]
[null,null,{"$f":"+IF(AND(A3435>Analyse1!$E$3,Data!A3435<Analyse1!$E$4),B3435,\"\")","v":""},{"$f":"+B3435/Analyse1!$H$3*Analyse1!$H$4","v":0}]
[null,null,{"$f":"+IF(AND(A3436>Analyse1!$E$3,Data!A3436<Analyse1!$E$4),B3436,\"\")","v":""},{"$f":"+B3436/Analyse1!$H$3*Analyse1!$H$4","v":0}]
[null,null,{"$f":"+IF(AND(A3437>Analyse1!$E$3,Data!A3437<Analyse1!$E$4),B3437,\"\")","v":""},{"$f":"+B3437/Analyse1!$H$3*Analyse1!$H$4","v":0}]
[null,null,{"$f":"+IF(AND(A3438>Analyse1!$E$3,Data!A3438<Analyse1!$E$4),B3438,\"\")","v":""},{"$f":"+B3438/Analyse1!$H$3*Analyse1!$H$4","v":0}]
[null,null,{"$f":"+IF(AND(A3439>Analyse1!$E$3,Data!A3439<Analyse1!$E$4),B3439,\"\")","v":""},{"$f":"+B3439/Analyse1!$H$3*Analyse1!$H$4","v":0}]
[null,null,{"$f":"+IF(AND(A3440>Analyse1!$E$3,Data!A3440<Analyse1!$E$4),B3440,\"\")","v":""},{"$f":"+B3440/Analyse1!$H$3*Analyse1!$H$4","v":0}]
[null,null,{"$f":"+IF(AND(A3441>Analyse1!$E$3,Data!A3441<Analyse1!$E$4),B3441,\"\")","v":""},{"$f":"+B3441/Analyse1!$H$3*Analyse1!$H$4","v":0}]
[null,null,{"$f":"+IF(AND(A3442>Analyse1!$E$3,Data!A3442<Analyse1!$E$4),B3442,\"\")","v":""},{"$f":"+B3442/Analyse1!$H$3*Analyse1!$H$4","v":0}]
[null,null,{"$f":"+IF(AND(A3443>Analyse1!$E$3,Data!A3443<Analyse1!$E$4),B3443,\"\")","v":""},{"$f":"+B3443/Analyse1!$H$3*Analyse1!$H$4","v":0}]
[null,null,{"$f":"+IF(AND(A3444>Analyse1!$E$3,Data!A3444<Analyse1!$E$4),B3444,\"\")","v":""},{"$f":"+B3444/Analyse1!$H$3*Analyse1!$H$4","v":0}]
[null,null,{"$f":"+IF(AND(A3445>Analyse1!$E$3,Data!A3445<Analyse1!$E$4),B3445,\"\")","v":""},{"$f":"+B3445/Analyse1!$H$3*Analyse1!$H$4","v":0}]
[null,null,{"$f":"+IF(AND(A3446>Analyse1!$E$3,Data!A3446<Analyse1!$E$4),B3446,\"\")","v":""},{"$f":"+B3446/Analyse1!$H$3*Analyse1!$H$4","v":0}]
[null,null,{"$f":"+IF(AND(A3447>Analyse1!$E$3,Data!A3447<Analyse1!$E$4),B3447,\"\")","v":""},{"$f":"+B3447/Analyse1!$H$3*Analyse1!$H$4","v":0}]
[null,null,{"$f":"+IF(AND(A3448>Analyse1!$E$3,Data!A3448<Analyse1!$E$4),B3448,\"\")","v":""},{"$f":"+B3448/Analyse1!$H$3*Analyse1!$H$4","v":0}]
[null,null,{"$f":"+IF(AND(A3449>Analyse1!$E$3,Data!A3449<Analyse1!$E$4),B3449,\"\")","v":""},{"$f":"+B3449/Analyse1!$H$3*Analyse1!$H$4","v":0}]
[null,null,{"$f":"+IF(AND(A3450>Analyse1!$E$3,Data!A3450<Analyse1!$E$4),B3450,\"\")","v":""},{"$f":"+B3450/Analyse1!$H$3*Analyse1!$H$4","v":0}]
[null,null,{"$f":"+IF(AND(A3451>Analyse1!$E$3,Data!A3451<Analyse1!$E$4),B3451,\"\")","v":""},{"$f":"+B3451/Analyse1!$H$3*Analyse1!$H$4","v":0}]
[null,null,{"$f":"+IF(AND(A3452>Analyse1!$E$3,Data!A3452<Analyse1!$E$4),B3452,\"\")","v":""},{"$f":"+B3452/Analyse1!$H$3*Analyse1!$H$4","v":0}]
[null,null,{"$f":"+IF(AND(A3453>Analyse1!$E$3,Data!A3453<Analyse1!$E$4),B3453,\"\")","v":""},{"$f":"+B3453/Analyse1!$H$3*Analyse1!$H$4","v":0}]
[null,null,{"$f":"+IF(AND(A3454>Analyse1!$E$3,Data!A3454<Analyse1!$E$4),B3454,\"\")","v":""},{"$f":"+B3454/Analyse1!$H$3*Analyse1!$H$4","v":0}]
[null,null,{"$f":"+IF(AND(A3455>Analyse1!$E$3,Data!A3455<Analyse1!$E$4),B3455,\"\")","v":""},{"$f":"+B3455/Analyse1!$H$3*Analyse1!$H$4","v":0}]
[null,null,{"$f":"+IF(AND(A3456>Analyse1!$E$3,Data!A3456<Analyse1!$E$4),B3456,\"\")","v":""},{"$f":"+B3456/Analyse1!$H$3*Analyse1!$H$4","v":0}]
[null,null,{"$f":"+IF(AND(A3457>Analyse1!$E$3,Data!A3457<Analyse1!$E$4),B3457,\"\")","v":""},{"$f":"+B3457/Analyse1!$H$3*Analyse1!$H$4","v":0}]
[null,null,{"$f":"+IF(AND(A3458>Analyse1!$E$3,Data!A3458<Analyse1!$E$4),B3458,\"\")","v":""},{"$f":"+B3458/Analyse1!$H$3*Analyse1!$H$4","v":0}]
[null,null,{"$f":"+IF(AND(A3459>Analyse1!$E$3,Data!A3459<Analyse1!$E$4),B3459,\"\")","v":""},{"$f":"+B3459/Analyse1!$H$3*Analyse1!$H$4","v":0}]
[null,null,{"$f":"+IF(AND(A3460>Analyse1!$E$3,Data!A3460<Analyse1!$E$4),B3460,\"\")","v":""},{"$f":"+B3460/Analyse1!$H$3*Analyse1!$H$4","v":0}]
[null,null,{"$f":"+IF(AND(A3461>Analyse1!$E$3,Data!A3461<Analyse1!$E$4),B3461,\"\")","v":""},{"$f":"+B3461/Analyse1!$H$3*Analyse1!$H$4","v":0}]
[null,null,{"$f":"+IF(AND(A3462>Analyse1!$E$3,Data!A3462<Analyse1!$E$4),B3462,\"\")","v":""},{"$f":"+B3462/Analyse1!$H$3*Analyse1!$H$4","v":0}]
[null,null,{"$f":"+IF(AND(A3463>Analyse1!$E$3,Data!A3463<Analyse1!$E$4),B3463,\"\")","v":""},{"$f":"+B3463/Analyse1!$H$3*Analyse1!$H$4","v":0}]
[null,null,{"$f":"+IF(AND(A3464>Analyse1!$E$3,Data!A3464<Analyse1!$E$4),B3464,\"\")","v":""},{"$f":"+B3464/Analyse1!$H$3*Analyse1!$H$4","v":0}]
[null,null,{"$f":"+IF(AND(A3465>Analyse1!$E$3,Data!A3465<Analyse1!$E$4),B3465,\"\")","v":""},{"$f":"+B3465/Analyse1!$H$3*Analyse1!$H$4","v":0}]
[null,null,{"$f":"+IF(AND(A3466>Analyse1!$E$3,Data!A3466<Analyse1!$E$4),B3466,\"\")","v":""},{"$f":"+B3466/Analyse1!$H$3*Analyse1!$H$4","v":0}]
[null,null,{"$f":"+IF(AND(A3467>Analyse1!$E$3,Data!A3467<Analyse1!$E$4),B3467,\"\")","v":""},{"$f":"+B3467/Analyse1!$H$3*Analyse1!$H$4","v":0}]
[null,null,{"$f":"+IF(AND(A3468>Analyse1!$E$3,Data!A3468<Analyse1!$E$4),B3468,\"\")","v":""},{"$f":"+B3468/Analyse1!$H$3*Analyse1!$H$4","v":0}]
[null,null,{"$f":"+IF(AND(A3469>Analyse1!$E$3,Data!A3469<Analyse1!$E$4),B3469,\"\")","v":""},{"$f":"+B3469/Analyse1!$H$3*Analyse1!$H$4","v":0}]
[null,null,{"$f":"+IF(AND(A3470>Analyse1!$E$3,Data!A3470<Analyse1!$E$4),B3470,\"\")","v":""},{"$f":"+B3470/Analyse1!$H$3*Analyse1!$H$4","v":0}]
[null,null,{"$f":"+IF(AND(A3471>Analyse1!$E$3,Data!A3471<Analyse1!$E$4),B3471,\"\")","v":""},{"$f":"+B3471/Analyse1!$H$3*Analyse1!$H$4","v":0}]
[null,null,{"$f":"+IF(AND(A3472>Analyse1!$E$3,Data!A3472<Analyse1!$E$4),B3472,\"\")","v":""},{"$f":"+B3472/Analyse1!$H$3*Analyse1!$H$4","v":0}]
[null,null,{"$f":"+IF(AND(A3473>Analyse1!$E$3,Data!A3473<Analyse1!$E$4),B3473,\"\")","v":""},{"$f":"+B3473/Analyse1!$H$3*Analyse1!$H$4","v":0}]
[null,null,{"$f":"+IF(AND(A3474>Analyse1!$E$3,Data!A3474<Analyse1!$E$4),B3474,\"\")","v":""},{"$f":"+B3474/Analyse1!$H$3*Analyse1!$H$4","v":0}]
[null,null,{"$f":"+IF(AND(A3475>Analyse1!$E$3,Data!A3475<Analyse1!$E$4),B3475,\"\")","v":""},{"$f":"+B3475/Analyse1!$H$3*Analyse1!$H$4","v":0}]
[null,null,{"$f":"+IF(AND(A3476>Analyse1!$E$3,Data!A3476<Analyse1!$E$4),B3476,\"\")","v":""},{"$f":"+B3476/Analyse1!$H$3*Analyse1!$H$4","v":0}]
[null,null,{"$f":"+IF(AND(A3477>Analyse1!$E$3,Data!A3477<Analyse1!$E$4),B3477,\"\")","v":""},{"$f":"+B3477/Analyse1!$H$3*Analyse1!$H$4","v":0}]
[null,null,{"$f":"+IF(AND(A3478>Analyse1!$E$3,Data!A3478<Analyse1!$E$4),B3478,\"\")","v":""},{"$f":"+B3478/Analyse1!$H$3*Analyse1!$H$4","v":0}]
[null,null,{"$f":"+IF(AND(A3479>Analyse1!$E$3,Data!A3479<Analyse1!$E$4),B3479,\"\")","v":""},{"$f":"+B3479/Analyse1!$H$3*Analyse1!$H$4","v":0}]
[null,null,{"$f":"+IF(AND(A3480>Analyse1!$E$3,Data!A3480<Analyse1!$E$4),B3480,\"\")","v":""},{"$f":"+B3480/Analyse1!$H$3*Analyse1!$H$4","v":0}]
[null,null,{"$f":"+IF(AND(A3481>Analyse1!$E$3,Data!A3481<Analyse1!$E$4),B3481,\"\")","v":""},{"$f":"+B3481/Analyse1!$H$3*Analyse1!$H$4","v":0}]
[null,null,{"$f":"+IF(AND(A3482>Analyse1!$E$3,Data!A3482<Analyse1!$E$4),B3482,\"\")","v":""},{"$f":"+B3482/Analyse1!$H$3*Analyse1!$H$4","v":0}]
[null,null,{"$f":"+IF(AND(A3483>Analyse1!$E$3,Data!A3483<Analyse1!$E$4),B3483,\"\")","v":""},{"$f":"+B3483/Analyse1!$H$3*Analyse1!$H$4","v":0}]
[null,null,{"$f":"+IF(AND(A3484>Analyse1!$E$3,Data!A3484<Analyse1!$E$4),B3484,\"\")","v":""},{"$f":"+B3484/Analyse1!$H$3*Analyse1!$H$4","v":0}]
[null,null,{"$f":"+IF(AND(A3485>Analyse1!$E$3,Data!A3485<Analyse1!$E$4),B3485,\"\")","v":""},{"$f":"+B3485/Analyse1!$H$3*Analyse1!$H$4","v":0}]
[null,null,{"$f":"+IF(AND(A3486>Analyse1!$E$3,Data!A3486<Analyse1!$E$4),B3486,\"\")","v":""},{"$f":"+B3486/Analyse1!$H$3*Analyse1!$H$4","v":0}]
[null,null,{"$f":"+IF(AND(A3487>Analyse1!$E$3,Data!A3487<Analyse1!$E$4),B3487,\"\")","v":""},{"$f":"+B3487/Analyse1!$H$3*Analyse1!$H$4","v":0}]
[null,null,{"$f":"+IF(AND(A3488>Analyse1!$E$3,Data!A3488<Analyse1!$E$4),B3488,\"\")","v":""},{"$f":"+B3488/Analyse1!$H$3*Analyse1!$H$4","v":0}]
[null,null,{"$f":"+IF(AND(A3489>Analyse1!$E$3,Data!A3489<Analyse1!$E$4),B3489,\"\")","v":""},{"$f":"+B3489/Analyse1!$H$3*Analyse1!$H$4","v":0}]
[null,null,{"$f":"+IF(AND(A3490>Analyse1!$E$3,Data!A3490<Analyse1!$E$4),B3490,\"\")","v":""},{"$f":"+B3490/Analyse1!$H$3*Analyse1!$H$4","v":0}]
[null,null,{"$f":"+IF(AND(A3491>Analyse1!$E$3,Data!A3491<Analyse1!$E$4),B3491,\"\")","v":""},{"$f":"+B3491/Analyse1!$H$3*Analyse1!$H$4","v":0}]
[null,null,{"$f":"+IF(AND(A3492>Analyse1!$E$3,Data!A3492<Analyse1!$E$4),B3492,\"\")","v":""},{"$f":"+B3492/Analyse1!$H$3*Analyse1!$H$4","v":0}]
[null,null,{"$f":"+IF(AND(A3493>Analyse1!$E$3,Data!A3493<Analyse1!$E$4),B3493,\"\")","v":""},{"$f":"+B3493/Analyse1!$H$3*Analyse1!$H$4","v":0}]
[null,null,{"$f":"+IF(AND(A3494>Analyse1!$E$3,Data!A3494<Analyse1!$E$4),B3494,\"\")","v":""},{"$f":"+B3494/Analyse1!$H$3*Analyse1!$H$4","v":0}]
[null,null,{"$f":"+IF(AND(A3495>Analyse1!$E$3,Data!A3495<Analyse1!$E$4),B3495,\"\")","v":""},{"$f":"+B3495/Analyse1!$H$3*Analyse1!$H$4","v":0}]
[null,null,{"$f":"+IF(AND(A3496>Analyse1!$E$3,Data!A3496<Analyse1!$E$4),B3496,\"\")","v":""},{"$f":"+B3496/Analyse1!$H$3*Analyse1!$H$4","v":0}]
[null,null,{"$f":"+IF(AND(A3497>Analyse1!$E$3,Data!A3497<Analyse1!$E$4),B3497,\"\")","v":""},{"$f":"+B3497/Analyse1!$H$3*Analyse1!$H$4","v":0}]
[null,null,{"$f":"+IF(AND(A3498>Analyse1!$E$3,Data!A3498<Analyse1!$E$4),B3498,\"\")","v":""},{"$f":"+B3498/Analyse1!$H$3*Analyse1!$H$4","v":0}]
[null,null,{"$f":"+IF(AND(A3499>Analyse1!$E$3,Data!A3499<Analyse1!$E$4),B3499,\"\")","v":""},{"$f":"+B3499/Analyse1!$H$3*Analyse1!$H$4","v":0}]
[null,null,{"$f":"+IF(AND(A3500>Analyse1!$E$3,Data!A3500<Analyse1!$E$4),B3500,\"\")","v":""},{"$f":"+B3500/Analyse1!$H$3*Analyse1!$H$4","v":0}]
[null,null,{"$f":"+IF(AND(A3501>Analyse1!$E$3,Data!A3501<Analyse1!$E$4),B3501,\"\")","v":""},{"$f":"+B3501/Analyse1!$H$3*Analyse1!$H$4","v":0}]
[null,null,{"$f":"+IF(AND(A3502>Analyse1!$E$3,Data!A3502<Analyse1!$E$4),B3502,\"\")","v":""},{"$f":"+B3502/Analyse1!$H$3*Analyse1!$H$4","v":0}]
[null,null,{"$f":"+IF(AND(A3503>Analyse1!$E$3,Data!A3503<Analyse1!$E$4),B3503,\"\")","v":""},{"$f":"+B3503/Analyse1!$H$3*Analyse1!$H$4","v":0}]
[null,null,{"$f":"+IF(AND(A3504>Analyse1!$E$3,Data!A3504<Analyse1!$E$4),B3504,\"\")","v":""},{"$f":"+B3504/Analyse1!$H$3*Analyse1!$H$4","v":0}]
[null,null,{"$f":"+IF(AND(A3505>Analyse1!$E$3,Data!A3505<Analyse1!$E$4),B3505,\"\")","v":""},{"$f":"+B3505/Analyse1!$H$3*Analyse1!$H$4","v":0}]
[null,null,{"$f":"+IF(AND(A3506>Analyse1!$E$3,Data!A3506<Analyse1!$E$4),B3506,\"\")","v":""},{"$f":"+B3506/Analyse1!$H$3*Analyse1!$H$4","v":0}]
[null,null,{"$f":"+IF(AND(A3507>Analyse1!$E$3,Data!A3507<Analyse1!$E$4),B3507,\"\")","v":""},{"$f":"+B3507/Analyse1!$H$3*Analyse1!$H$4","v":0}]
[null,null,{"$f":"+IF(AND(A3508>Analyse1!$E$3,Data!A3508<Analyse1!$E$4),B3508,\"\")","v":""},{"$f":"+B3508/Analyse1!$H$3*Analyse1!$H$4","v":0}]
[null,null,{"$f":"+IF(AND(A3509>Analyse1!$E$3,Data!A3509<Analyse1!$E$4),B3509,\"\")","v":""},{"$f":"+B3509/Analyse1!$H$3*Analyse1!$H$4","v":0}]
[null,null,{"$f":"+IF(AND(A3510>Analyse1!$E$3,Data!A3510<Analyse1!$E$4),B3510,\"\")","v":""},{"$f":"+B3510/Analyse1!$H$3*Analyse1!$H$4","v":0}]
[null,null,{"$f":"+IF(AND(A3511>Analyse1!$E$3,Data!A3511<Analyse1!$E$4),B3511,\"\")","v":""},{"$f":"+B3511/Analyse1!$H$3*Analyse1!$H$4","v":0}]
[null,null,{"$f":"+IF(AND(A3512>Analyse1!$E$3,Data!A3512<Analyse1!$E$4),B3512,\"\")","v":""},{"$f":"+B3512/Analyse1!$H$3*Analyse1!$H$4","v":0}]
[null,null,{"$f":"+IF(AND(A3513>Analyse1!$E$3,Data!A3513<Analyse1!$E$4),B3513,\"\")","v":""},{"$f":"+B3513/Analyse1!$H$3*Analyse1!$H$4","v":0}]
[null,null,{"$f":"+IF(AND(A3514>Analyse1!$E$3,Data!A3514<Analyse1!$E$4),B3514,\"\")","v":""},{"$f":"+B3514/Analyse1!$H$3*Analyse1!$H$4","v":0}]
[null,null,{"$f":"+IF(AND(A3515>Analyse1!$E$3,Data!A3515<Analyse1!$E$4),B3515,\"\")","v":""},{"$f":"+B3515/Analyse1!$H$3*Analyse1!$H$4","v":0}]
[null,null,{"$f":"+IF(AND(A3516>Analyse1!$E$3,Data!A3516<Analyse1!$E$4),B3516,\"\")","v":""},{"$f":"+B3516/Analyse1!$H$3*Analyse1!$H$4","v":0}]
[null,null,{"$f":"+IF(AND(A3517>Analyse1!$E$3,Data!A3517<Analyse1!$E$4),B3517,\"\")","v":""},{"$f":"+B3517/Analyse1!$H$3*Analyse1!$H$4","v":0}]
[null,null,{"$f":"+IF(AND(A3518>Analyse1!$E$3,Data!A3518<Analyse1!$E$4),B3518,\"\")","v":""},{"$f":"+B3518/Analyse1!$H$3*Analyse1!$H$4","v":0}]
[null,null,{"$f":"+IF(AND(A3519>Analyse1!$E$3,Data!A3519<Analyse1!$E$4),B3519,\"\")","v":""},{"$f":"+B3519/Analyse1!$H$3*Analyse1!$H$4","v":0}]
[null,null,{"$f":"+IF(AND(A3520>Analyse1!$E$3,Data!A3520<Analyse1!$E$4),B3520,\"\")","v":""},{"$f":"+B3520/Analyse1!$H$3*Analyse1!$H$4","v":0}]
[null,null,{"$f":"+IF(AND(A3521>Analyse1!$E$3,Data!A3521<Analyse1!$E$4),B3521,\"\")","v":""},{"$f":"+B3521/Analyse1!$H$3*Analyse1!$H$4","v":0}]
[null,null,{"$f":"+IF(AND(A3522>Analyse1!$E$3,Data!A3522<Analyse1!$E$4),B3522,\"\")","v":""},{"$f":"+B3522/Analyse1!$H$3*Analyse1!$H$4","v":0}]
[null,null,{"$f":"+IF(AND(A3523>Analyse1!$E$3,Data!A3523<Analyse1!$E$4),B3523,\"\")","v":""},{"$f":"+B3523/Analyse1!$H$3*Analyse1!$H$4","v":0}]
[null,null,{"$f":"+IF(AND(A3524>Analyse1!$E$3,Data!A3524<Analyse1!$E$4),B3524,\"\")","v":""},{"$f":"+B3524/Analyse1!$H$3*Analyse1!$H$4","v":0}]
[null,null,{"$f":"+IF(AND(A3525>Analyse1!$E$3,Data!A3525<Analyse1!$E$4),B3525,\"\")","v":""},{"$f":"+B3525/Analyse1!$H$3*Analyse1!$H$4","v":0}]
[null,null,{"$f":"+IF(AND(A3526>Analyse1!$E$3,Data!A3526<Analyse1!$E$4),B3526,\"\")","v":""},{"$f":"+B3526/Analyse1!$H$3*Analyse1!$H$4","v":0}]
[null,null,{"$f":"+IF(AND(A3527>Analyse1!$E$3,Data!A3527<Analyse1!$E$4),B3527,\"\")","v":""},{"$f":"+B3527/Analyse1!$H$3*Analyse1!$H$4","v":0}]
[null,null,{"$f":"+IF(AND(A3528>Analyse1!$E$3,Data!A3528<Analyse1!$E$4),B3528,\"\")","v":""},{"$f":"+B3528/Analyse1!$H$3*Analyse1!$H$4","v":0}]
[null,null,{"$f":"+IF(AND(A3529>Analyse1!$E$3,Data!A3529<Analyse1!$E$4),B3529,\"\")","v":""},{"$f":"+B3529/Analyse1!$H$3*Analyse1!$H$4","v":0}]
[null,null,{"$f":"+IF(AND(A3530>Analyse1!$E$3,Data!A3530<Analyse1!$E$4),B3530,\"\")","v":""},{"$f":"+B3530/Analyse1!$H$3*Analyse1!$H$4","v":0}]
[null,null,{"$f":"+IF(AND(A3531>Analyse1!$E$3,Data!A3531<Analyse1!$E$4),B3531,\"\")","v":""},{"$f":"+B3531/Analyse1!$H$3*Analyse1!$H$4","v":0}]
[null,null,{"$f":"+IF(AND(A3532>Analyse1!$E$3,Data!A3532<Analyse1!$E$4),B3532,\"\")","v":""},{"$f":"+B3532/Analyse1!$H$3*Analyse1!$H$4","v":0}]
[null,null,{"$f":"+IF(AND(A3533>Analyse1!$E$3,Data!A3533<Analyse1!$E$4),B3533,\"\")","v":""},{"$f":"+B3533/Analyse1!$H$3*Analyse1!$H$4","v":0}]
[null,null,{"$f":"+IF(AND(A3534>Analyse1!$E$3,Data!A3534<Analyse1!$E$4),B3534,\"\")","v":""},{"$f":"+B3534/Analyse1!$H$3*Analyse1!$H$4","v":0}]
[null,null,{"$f":"+IF(AND(A3535>Analyse1!$E$3,Data!A3535<Analyse1!$E$4),B3535,\"\")","v":""},{"$f":"+B3535/Analyse1!$H$3*Analyse1!$H$4","v":0}]
[null,null,{"$f":"+IF(AND(A3536>Analyse1!$E$3,Data!A3536<Analyse1!$E$4),B3536,\"\")","v":""},{"$f":"+B3536/Analyse1!$H$3*Analyse1!$H$4","v":0}]
[null,null,{"$f":"+IF(AND(A3537>Analyse1!$E$3,Data!A3537<Analyse1!$E$4),B3537,\"\")","v":""},{"$f":"+B3537/Analyse1!$H$3*Analyse1!$H$4","v":0}]
[null,null,{"$f":"+IF(AND(A3538>Analyse1!$E$3,Data!A3538<Analyse1!$E$4),B3538,\"\")","v":""},{"$f":"+B3538/Analyse1!$H$3*Analyse1!$H$4","v":0}]
[null,null,{"$f":"+IF(AND(A3539>Analyse1!$E$3,Data!A3539<Analyse1!$E$4),B3539,\"\")","v":""},{"$f":"+B3539/Analyse1!$H$3*Analyse1!$H$4","v":0}]
[null,null,{"$f":"+IF(AND(A3540>Analyse1!$E$3,Data!A3540<Analyse1!$E$4),B3540,\"\")","v":""},{"$f":"+B3540/Analyse1!$H$3*Analyse1!$H$4","v":0}]
[null,null,{"$f":"+IF(AND(A3541>Analyse1!$E$3,Data!A3541<Analyse1!$E$4),B3541,\"\")","v":""},{"$f":"+B3541/Analyse1!$H$3*Analyse1!$H$4","v":0}]
[null,null,{"$f":"+IF(AND(A3542>Analyse1!$E$3,Data!A3542<Analyse1!$E$4),B3542,\"\")","v":""},{"$f":"+B3542/Analyse1!$H$3*Analyse1!$H$4","v":0}]
[null,null,{"$f":"+IF(AND(A3543>Analyse1!$E$3,Data!A3543<Analyse1!$E$4),B3543,\"\")","v":""},{"$f":"+B3543/Analyse1!$H$3*Analyse1!$H$4","v":0}]
[null,null,{"$f":"+IF(AND(A3544>Analyse1!$E$3,Data!A3544<Analyse1!$E$4),B3544,\"\")","v":""},{"$f":"+B3544/Analyse1!$H$3*Analyse1!$H$4","v":0}]
[null,null,{"$f":"+IF(AND(A3545>Analyse1!$E$3,Data!A3545<Analyse1!$E$4),B3545,\"\")","v":""},{"$f":"+B3545/Analyse1!$H$3*Analyse1!$H$4","v":0}]
[null,null,{"$f":"+IF(AND(A3546>Analyse1!$E$3,Data!A3546<Analyse1!$E$4),B3546,\"\")","v":""},{"$f":"+B3546/Analyse1!$H$3*Analyse1!$H$4","v":0}]
[null,null,{"$f":"+IF(AND(A3547>Analyse1!$E$3,Data!A3547<Analyse1!$E$4),B3547,\"\")","v":""},{"$f":"+B3547/Analyse1!$H$3*Analyse1!$H$4","v":0}]
[null,null,{"$f":"+IF(AND(A3548>Analyse1!$E$3,Data!A3548<Analyse1!$E$4),B3548,\"\")","v":""},{"$f":"+B3548/Analyse1!$H$3*Analyse1!$H$4","v":0}]
[null,null,{"$f":"+IF(AND(A3549>Analyse1!$E$3,Data!A3549<Analyse1!$E$4),B3549,\"\")","v":""},{"$f":"+B3549/Analyse1!$H$3*Analyse1!$H$4","v":0}]
[null,null,{"$f":"+IF(AND(A3550>Analyse1!$E$3,Data!A3550<Analyse1!$E$4),B3550,\"\")","v":""},{"$f":"+B3550/Analyse1!$H$3*Analyse1!$H$4","v":0}]
[null,null,{"$f":"+IF(AND(A3551>Analyse1!$E$3,Data!A3551<Analyse1!$E$4),B3551,\"\")","v":""},{"$f":"+B3551/Analyse1!$H$3*Analyse1!$H$4","v":0}]
[null,null,{"$f":"+IF(AND(A3552>Analyse1!$E$3,Data!A3552<Analyse1!$E$4),B3552,\"\")","v":""},{"$f":"+B3552/Analyse1!$H$3*Analyse1!$H$4","v":0}]
[null,null,{"$f":"+IF(AND(A3553>Analyse1!$E$3,Data!A3553<Analyse1!$E$4),B3553,\"\")","v":""},{"$f":"+B3553/Analyse1!$H$3*Analyse1!$H$4","v":0}]
[null,null,{"$f":"+IF(AND(A3554>Analyse1!$E$3,Data!A3554<Analyse1!$E$4),B3554,\"\")","v":""},{"$f":"+B3554/Analyse1!$H$3*Analyse1!$H$4","v":0}]
[null,null,{"$f":"+IF(AND(A3555>Analyse1!$E$3,Data!A3555<Analyse1!$E$4),B3555,\"\")","v":""},{"$f":"+B3555/Analyse1!$H$3*Analyse1!$H$4","v":0}]
[null,null,{"$f":"+IF(AND(A3556>Analyse1!$E$3,Data!A3556<Analyse1!$E$4),B3556,\"\")","v":""},{"$f":"+B3556/Analyse1!$H$3*Analyse1!$H$4","v":0}]
[null,null,{"$f":"+IF(AND(A3557>Analyse1!$E$3,Data!A3557<Analyse1!$E$4),B3557,\"\")","v":""},{"$f":"+B3557/Analyse1!$H$3*Analyse1!$H$4","v":0}]
[null,null,{"$f":"+IF(AND(A3558>Analyse1!$E$3,Data!A3558<Analyse1!$E$4),B3558,\"\")","v":""},{"$f":"+B3558/Analyse1!$H$3*Analyse1!$H$4","v":0}]
[null,null,{"$f":"+IF(AND(A3559>Analyse1!$E$3,Data!A3559<Analyse1!$E$4),B3559,\"\")","v":""},{"$f":"+B3559/Analyse1!$H$3*Analyse1!$H$4","v":0}]
[null,null,{"$f":"+IF(AND(A3560>Analyse1!$E$3,Data!A3560<Analyse1!$E$4),B3560,\"\")","v":""},{"$f":"+B3560/Analyse1!$H$3*Analyse1!$H$4","v":0}]
[null,null,{"$f":"+IF(AND(A3561>Analyse1!$E$3,Data!A3561<Analyse1!$E$4),B3561,\"\")","v":""},{"$f":"+B3561/Analyse1!$H$3*Analyse1!$H$4","v":0}]
[null,null,{"$f":"+IF(AND(A3562>Analyse1!$E$3,Data!A3562<Analyse1!$E$4),B3562,\"\")","v":""},{"$f":"+B3562/Analyse1!$H$3*Analyse1!$H$4","v":0}]
[null,null,{"$f":"+IF(AND(A3563>Analyse1!$E$3,Data!A3563<Analyse1!$E$4),B3563,\"\")","v":""},{"$f":"+B3563/Analyse1!$H$3*Analyse1!$H$4","v":0}]
[null,null,{"$f":"+IF(AND(A3564>Analyse1!$E$3,Data!A3564<Analyse1!$E$4),B3564,\"\")","v":""},{"$f":"+B3564/Analyse1!$H$3*Analyse1!$H$4","v":0}]
[null,null,{"$f":"+IF(AND(A3565>Analyse1!$E$3,Data!A3565<Analyse1!$E$4),B3565,\"\")","v":""},{"$f":"+B3565/Analyse1!$H$3*Analyse1!$H$4","v":0}]
[null,null,{"$f":"+IF(AND(A3566>Analyse1!$E$3,Data!A3566<Analyse1!$E$4),B3566,\"\")","v":""},{"$f":"+B3566/Analyse1!$H$3*Analyse1!$H$4","v":0}]

{"sheet":"Donnees","index":4,"n_rows":5972,"n_cols":19,"rows_kept":4500,"cut":true,"hidden":false,"merged":[],"bounds":{"rows_first":2000,"rows_last":500,"rows_between":2000,"halvings":0}}
[]
[null,null,null,null,null,null,null,null,null,null,"Source : "]
[null,null,null,null,null,null,null,null,"Type Géante",null,"HD",203525,102212,217906,112142,172816,221615,196610,114961]
[null,null,"Continuum HI",null,null,null,null,null,null,null,"l",0,1,2,3,4,5,6,7]
[null,null,null,null,null,null,null,null,null,null,3500,3.5640784742040202E-2,3.6674121418113E-2,3.03431831631562E-2,0.13205992589466201,2.9253975296413E-2,4.9578160421973598E-2,4.01462902962436E-2,5.0370777391738897E-2]
[null,null,null,"T (K)","a1","a2","a3",null,"M0III",null,3501,3.8097002514478298E-2,3.9411204267883602E-2,3.1809699589701701E-2,0.146361163594458,2.9950707282277E-2,5.3146948033430001E-2,4.2223312058695298E-2,5.2637284776786697E-2]
[null,null,1,5000,2.9999999999999999E-7,-1.4E-3,1.5829,null,"M1III",null,3502,4.0170754622688397E-2,4.1844208336927202E-2,3.3082618336681503E-2,0.159360428662779,3.0596541682401501E-2,5.6693343759478002E-2,4.4663065348649902E-2,5.4727824253733598E-2]
[null,null,2,10000,-8.0000000000000002E-8,1.6000000000000001E-3,-3.6913999999999998,null,"M2III",null,3503,4.1765015326916899E-2,4.3760613372629598E-2,3.4173131018748901E-2,0.16753435837811001,3.1063546775623001E-2,5.9616275970135697E-2,4.6903199649772402E-2,5.6472387510767601E-2]
[null,null,3,15000,-8.9999999999999999E-8,1.2999999999999999E-3,-1.9499,null,"M3III",null,3504,4.2382926154726802E-2,4.4568847514618801E-2,3.46638676334899E-2,0.16991971183840701,3.1239143881976999E-2,6.1034213918752099E-2,4.8250993922419702E-2,5.7369139418371698E-2]
[null,null,4,20000,-5.9999999999999995E-8,8.0000000000000004E-4,-0.19900000000000001,null,"M4III",null,3505,4.1559219405351497E-2,4.39517131141915E-2,3.4222169466355E-2,0.167515290301366,3.0887018369424198E-2,6.0316740582019003E-2,4.82338722740469E-2,5.6872815882414003E-2]
[null,null,null,null,null,null,null,null,"M5III",null,3506,3.9737072523334499E-2,4.2472930872515399E-2,3.3188074113721502E-2,0.16202695520955801,3.0139641585944801E-2,5.8203346906647802E-2,4.7040950901344601E-2,5.5441298319644401E-2]
[null,null,1,null,{"$f":"+VLOOKUP($C$12,$C$7:$G$10,3,1)","v":2.9999999999999999E-7},{"$f":"+VLOOKUP($C$12,$C$7:$G$10,4,1)","v":-1.4E-3},{"$f":"+VLOOKUP($C$12,$C$7:$G$10,5,1)","v":1.5829},null,"M6III",null,3507,3.7677979944012598E-2,4.0907746900661297E-2,3.20658630859069E-2,0.15446988639050399,2.9220711283193399E-2,5.5587329688506902E-2,4.5222951476019603E-2,5.3848252396058303E-2]
[null,null,null,null,null,null,null,null,"M7III",null,3508,3.5776490759206699E-2,3.9418865678786198E-2,3.0991593566085999E-2,0.14501143006780301,2.8575086317411499E-2,5.2999904052103003E-2,4.3054550084156699E-2,5.2205073044215698E-2]
[null,null,null,null,null,null,null,null,null,null,3509,3.3979716344553601E-2,3.7748069436227397E-2,2.9872503932783501E-2,0.134776004821544,2.8327500902762801E-2,5.06883690921206E-2,4.0857770388453299E-2,5.0156198180922103E-2]
[null,null,null,null,null,null,null,null,8,null,3510,3.2169841563147498E-2,3.5677971215145099E-2,2.8656164644415699E-2,0.126991066807563,2.8359886709254298E-2,4.87863328837582E-2,3.8807101054172302E-2,4.7429075654096702E-2]
[null,null,1,"Hd",4101.7,null,null,null,null,null,3511,3.02257128482336E-2,3.3366888235667198E-2,2.7493354484807199E-2,0.125485504478137,2.8504040853701298E-2,4.7333761834552901E-2,3.67885265182821E-2,4.4476379274124699E-2]
[null,null,2,"Hg",4340.5,null,null,null,null,null,3512,2.8149532507199999E-2,3.0959758843289401E-2,2.6384762047680501E-2,0.13185093845440399,2.8370687815473999E-2,4.6150558120063398E-2,3.4615745531325702E-2,4.1857297397342001E-2]
[null,null,3,"He II 4686",4685.7,null,null,null,null,null,3513,2.6354004241037499E-2,2.9072227945841599E-2,2.5596696729648899E-2,0.14391881694588801,2.78748161537959E-2,4.5490430205366299E-2,3.25200763848126E-2,4.0249498488479502E-2]
[null,null,4,"Hb",4861.34,null,null,null,null,null,3514,2.5633827357458502E-2,2.8672637894232699E-2,2.5607722060792398E-2,0.15729839876388299,2.7456736205419201E-2,4.63650904599393E-2,3.1374814655414501E-2,4.0245094987267901E-2]
[null,null,5,"He I 4922",4922,null,null,null,null,null,3515,2.6908592001565399E-2,3.05504440574242E-2,2.6954269659389601E-2,0.16801665169230501,2.7840132868758902E-2,4.95186564876837E-2,3.17213437627233E-2,4.2080673901485503E-2]
[null,null,6,"[OIII] 4959",4958.8999999999996,null,null,null,null,null,3516,3.0103643445151901E-2,3.4288968775454898E-2,2.9448451092097101E-2,0.174210149448598,2.91357913047957E-2,5.4361004405904002E-2,3.3409472380706497E-2,4.5063700034845201E-2]
[null,null,7,"[OIII] 5007",5006.8,null,null,null,null,null,3517,3.3736572220447E-2,3.8077151821116102E-2,3.1856505361950303E-2,0.17564335833622199,3.0583413215131399E-2,5.8662478110819601E-2,3.5555634080053702E-2,4.7544323557137697E-2]
[null,null,8,"He II 5411",5411.5,null,null,null,null,null,3518,3.5947713196412698E-2,4.0013966589635602E-2,3.2936469040680399E-2,0.17308412106837101,3.1389770699574299E-2,6.0482019254766602E-2,3.7064694964230899E-2,4.8230608598076097E-2]
[null,null,9,"[Fe VII] 5721",5721,null,null,null,null,null,3519,3.5657426240337103E-2,3.9162680030740797E-2,3.2107075479979999E-2,0.16838520421729999,3.1166280138930701E-2,5.91550167641266E-2,3.7340346287456701E-2,4.7043633361436299E-2]
[null,null,10,"He I 5876",5876,null,null,null,null,null,3520,3.3133006925603302E-2,3.6056768567612897E-2,2.9860413939564599E-2,0.16341236586536101,3.0140511539065998E-2,5.5620268015856698E-2,3.6354977320241497E-2,4.4948901927493401E-2]
[null,null,11,"[Fe VII] 6087",6087,null,null,null,null,null,3521,2.9539328530678199E-2,3.1983520882146899E-2,2.7048425415445301E-2,0.15940986437808699,2.8721447696093E-2,5.1250658919220302E-2,3.4427607806139203E-2,4.2943018141916103E-2]
[null,null,12,"Ha",6562.81,null,null,null,null,null,3522,2.5900188239998401E-2,2.8084833598194602E-2,2.4295169497736399E-2,0.15705771330853999,2.7102637838658999E-2,4.6944327001992997E-2,3.1879186848568997E-2,4.1287146272303697E-2]
[null,null,13,"He I 6678",6678,null,null,null,null,null,3523,2.2756123703630001E-2,2.5039148632646901E-2,2.19741282121446E-2,0.15658564975262601,2.5697980509651601E-2,4.32231129591183E-2,2.9003675300716899E-2,3.9830776001595597E-2]
[null,null,14,"He I 7065",7065,null,null,null,null,null,3524,2.05889918696445E-2,2.32708350526501E-2,2.0340529168680399E-2,0.15747765884343401,2.4832274404021401E-2,4.0885916745514797E-2,2.6565416080228599E-2,3.8498143477096201E-2]
[null,null,null,null,null,null,null,null,null,null,3525,2.0059796611788101E-2,2.32146786651669E-2,1.9810724001833899E-2,0.15816780061926999,2.4832787019307901E-2,4.0960762199006698E-2,2.5434574861833301E-2,3.7979328264245597E-2]
[null,null,12,null,null,null,null,null,null,null,3526,2.1562608799693499E-2,2.51490716343746E-2,2.07034988084541E-2,0.15629513311306001,2.5783550436607499E-2,4.40320843477357E-2,2.60494799516355E-2,3.9068471382400202E-2]
[null,null,null,null,null,null,null,null,null,null,3527,2.48724543878696E-2,2.87230953901732E-2,2.3002772819361701E-2,0.15091692488167199,2.7701466560324999E-2,4.9520762591802998E-2,2.8026311209928999E-2,4.1953732487159001E-2]
[null,null,null,null,null,null,null,null,null,null,3528,2.90315996678642E-2,3.2946162274893602E-2,2.6258452676693501E-2,0.14499545026037799,3.02689433912199E-2,5.60771324769965E-2,3.0872427238207899E-2,4.6201225640025698E-2]
[null,null,null,null,null,null,null,null,null,null,3529,3.30106291929885E-2,3.6759993444293301E-2,2.9655040061061899E-2,0.14291520993072901,3.2770262928537297E-2,6.2426328247149603E-2,3.4254923717070201E-2,5.12464229134224E-2]
[null,null,null,null,null,null,null,null,null,null,3530,3.5943370104926403E-2,3.9426148126797997E-2,3.2551194768207101E-2,0.14665727370414899,3.4884714630607702E-2,6.7736393260713595E-2,3.8025505112199001E-2,5.6588613958129898E-2]
[null,null,null,null,null,null,null,null,null,null,3531,3.7623252365629703E-2,4.0965039026012902E-2,3.4638961360269699E-2,0.15423841645400199,3.6541396113080403E-2,7.2000020903109099E-2,4.17491496825605E-2,6.1766921961087101E-2]
[null,null,null,null,null,null,null,null,null,null,3532,3.8575264714669898E-2,4.1995113398392903E-2,3.6250155315368598E-2,0.162056260427451,3.8037239536228402E-2,7.5925047593299905E-2,4.48578302547901E-2,6.6645018794764893E-2]
[null,null,null,null,null,null,null,null,null,null,3533,3.9561068398884798E-2,4.3139608724680797E-2,3.7753677125284199E-2,0.167643137132135,3.97153658611102E-2,8.0093551503965701E-2,4.69226017350413E-2,7.1397405660602806E-2]
[null,null,null,null,null,null,null,null,null,null,3534,4.1103807624664798E-2,4.4835835505966398E-2,3.92752160786521E-2,0.16966038031090899,4.1647796639504499E-2,8.4854265060114897E-2,4.8183335395634803E-2,7.6262122758234005E-2]
[null,null,null,null,null,null,null,null,null,null,3535,4.3003149669856702E-2,4.7034281829641103E-2,4.0747260313228402E-2,0.16784586781101399,4.3705590459844103E-2,8.9783907169436697E-2,4.9222286784056102E-2,8.1023861342027506E-2]
[null,null,null,null,null,null,null,null,null,null,3536,4.48417862035164E-2,4.9450044577772398E-2,4.2040715881319503E-2,0.16399987088267901,4.5626850448784902E-2,9.4248640810559198E-2,5.0645995214111797E-2,8.4826732397303997E-2]
[null,null,null,null,null,null,null,null,null,null,3537,4.6427579237767601E-2,5.1754573461570197E-2,4.3129931257660598E-2,0.161275726478189,4.7097145015162198E-2,9.7935269453728602E-2,5.2571992627734897E-2,8.7221716341248701E-2]
[null,null,null,null,null,null,null,null,null,null,3538,4.76336716150444E-2,5.3514828096654803E-2,4.4026849691793803E-2,0.16087051635894301,4.7934558227391601E-2,0.10061973721760099,5.4375705889037E-2,8.84611975010718E-2]
[null,null,null,null,null,null,null,null,null,null,3539,4.8261672993884203E-2,5.4195979720269301E-2,4.4700584364391401E-2,0.16023775506928201,4.7944770114803401E-2,0.10211383341588,5.5559496782802302E-2,8.9213936588439097E-2]
[null,null,null,null,null,null,null,null,null,null,3540,4.8017341995434802E-2,5.3482477777533899E-2,4.5064485846469798E-2,0.156079972885285,4.7509812463564602E-2,0.10242167739812399,5.6071154091066E-2,9.0102884083229098E-2]
[null,null,null,null,null,null,null,null,null,null,3541,4.7035161147562503E-2,5.1909966607003602E-2,4.5106358796090901E-2,0.14876133880607301,4.7066557806647202E-2,0.102285607734316,5.6462445023080197E-2,9.1343351083659804E-2]
[null,null,null,null,null,null,null,null,null,null,3542,4.5958450125668897E-2,5.0425726675349898E-2,4.4936966173749697E-2,0.14286535462049199,4.7192866042548E-2,0.10254680781728499,5.73705998383865E-2,9.2994142653737302E-2]
[null,null,null,null,null,null,null,null,null,null,3543,4.5223482544929798E-2,4.9601795162163898E-2,4.4550562302359598E-2,0.14311551733738101,4.7818388984818702E-2,0.103260110166672,5.866197690477E-2,9.4591411199954095E-2]
[null,null,null,null,null,null,null,null,null,null,3544,4.4840259825943501E-2,4.9239545418640798E-2,4.3998168118912301E-2,0.15099742770980401,4.8438474558897403E-2,0.10369142771310599,5.9808240017593099E-2,9.5567687201072504E-2]
[null,null,null,null,null,null,null,null,null,null,3545,4.4157117664415199E-2,4.8491981490931799E-2,4.3092297006125199E-2,0.16338529438670901,4.8390265348692299E-2,0.102547416765939,6.0003693260593002E-2,9.5102708334650898E-2]
[null,null,null,null,null,null,null,null,null,null,3546,4.2798473805956E-2,4.7036132689216602E-2,4.1651649769356702E-2,0.175014705344813,4.7536631186222901E-2,9.9628326838725703E-2,5.8787102768169702E-2,9.2986973698794703E-2]
[null,null,null,null,null,null,null,null,null,null,3547,4.1016862878141699E-2,4.5300821928175403E-2,3.9784203607026503E-2,0.18231605728821701,4.6149165430929902E-2,9.5806630164894005E-2,5.6228922687664502E-2,8.99108468613872E-2]
[null,null,null,null,null,null,null,null,null,null,3548,3.94549908614528E-2,4.3894749468337699E-2,3.7878167483246898E-2,0.18577234195449899,4.4680718519806498E-2,9.2221187091479306E-2,5.3039212953076398E-2,8.6938732982262901E-2]
[null,null,null,null,null,null,null,null,null,null,3549,3.8613586656395103E-2,4.3187568174353499E-2,3.6392930549058997E-2,0.188038509379469,4.3503923067804401E-2,8.9699425830775198E-2,5.05932589958858E-2,8.4811380106101494E-2]
[null,null,null,null,null,null,null,null,null,null,3550,3.8429020427663101E-2,4.28922685559366E-2,3.5520694590545097E-2,0.19166170390368201,4.2943999314131703E-2,8.8087205772933497E-2,4.9727578830382903E-2,8.36193654760366E-2]
[null,null,null,null,null,null,null,null,null,null,3551,3.8502474713901502E-2,4.2585198547942099E-2,3.5148969851294898E-2,0.198025322710357,4.2734174067589302E-2,8.7051857686057596E-2,5.0570431270026597E-2,8.3166711721938805E-2]
[null,null,null,null,null,null,null,null,null,null,3552,3.8505223622503998E-2,4.2204665682899302E-2,3.5099239287855799E-2,0.20655573018481799,4.2761035926640503E-2,8.6682325987362502E-2,5.25379766871392E-2,8.38038980226051E-2]
[null,null,null,null,null,null,null,null,null,null,3553,3.8454212905189002E-2,4.2157882769083603E-2,3.5416910084121497E-2,0.214803797945709,4.3143190268608599E-2,8.7777354323431298E-2,5.4931610461921798E-2,8.6395913301929597E-2]
[null,null,null,null,null,null,null,null,null,null,3554,3.86633426588021E-2,4.29288513205879E-2,3.6283014000060898E-2,0.21992726588700601,4.4119962002163997E-2,9.0840032111482297E-2,5.74901805624667E-2,9.1443174634244201E-2]
[null,null,null,null,null,null,null,null,null,null,3555,3.9199617225188901E-2,4.4269108027274802E-2,3.7567455092133002E-2,0.219853727897278,4.5480448166957503E-2,9.5034252893551593E-2,5.96898497507964E-2,9.7927223994731999E-2]
[null,null,null,null,null,null,null,null,null,null,3556,3.9538025706213599E-2,4.5327194619527798E-2,3.8807282799191198E-2,0.21559173036249499,4.6618635443482999E-2,9.8506733874954996E-2,6.0904491505470698E-2,0.103437167952976]
[null,null,null,null,null,null,null,null,null,null,3557,3.9140021599682301E-2,4.5351360281163502E-2,3.94002777173032E-2,0.20977111370917401,4.7101707403219499E-2,9.9940448212247304E-2,6.0787225868429301E-2,0.106047471612136]
[null,null,null,null,null,null,null,null,null,null,3558,3.8079061755238397E-2,4.45795581446592E-2,3.9169907301461297E-2,0.20392539889487901,4.71184307069792E-2,9.9900777130425097E-2,5.9723949326316403E-2,0.106005538237491]
[null,null,null,null,null,null,null,null,null,null,3559,3.70975331275143E-2,4.3821411205096597E-2,3.8522464731646999E-2,0.19740973666335401,4.7095977205049398E-2,9.9904177837010597E-2,5.8449040577557801E-2,0.10506485282931299]
[null,null,null,null,null,null,null,null,null,null,3560,3.67966045832595E-2,4.3615516293615098E-2,3.8034381331835801E-2,0.18929444938589199,4.7087935526052102E-2,0.100709201242522,5.7283902344084398E-2,0.104746440165913]
[null,null,null,null,null,null,null,null,null,null,3561,3.6853561285601001E-2,4.3640136798106299E-2,3.7850981487148203E-2,0.17986537553093901,4.6697584064020997E-2,0.10160819389143699,5.62558448154643E-2,0.104991867427969]
[null,null,null,null,null,null,null,null,null,null,3562,3.6422854604133303E-2,4.3003707053751603E-2,3.7546751309072202E-2,0.17053565607208299,4.5429881439552497E-2,0.100756982860913,5.4844344873456803E-2,0.104418749096595]
[null,null,null,null,null,null,null,null,null,null,3563,3.4703510072952498E-2,4.0889266187224202E-2,3.6330207579365101E-2,0.16202771121162901,4.3036255435124099E-2,9.6627779543427703E-2,5.24284558312492E-2,0.101359925559747]
[null,null,null,null,null,null,null,null,null,null,3564,3.1658856048807797E-2,3.72754714536686E-2,3.38529216971254E-2,0.154006890953541,3.99297894383265E-2,8.9304996973099904E-2,4.9013874458353701E-2,9.53754766598265E-2]
[null,null,null,null,null,null,null,null,null,null,3565,2.8173352622663399E-2,3.3128912554279903E-2,3.0616272830797601E-2,0.146703782657499,3.7227309984091697E-2,8.0963658653358903E-2,4.5390757405855499E-2,8.8175180198133807E-2]
[null,null,null,null,null,null,null,null,null,null,3566,2.52994753631277E-2,2.9822784523339502E-2,2.7711559824850102E-2,0.14283706638962099,3.56521544222375E-2,7.4158227636705695E-2,4.27781226461421E-2,8.2412953136888706E-2]
[null,null,null,null,null,null,null,null,null,null,3567,2.3467737135701799E-2,2.7933731081964099E-2,2.5776278872828799E-2,0.144711414740646,3.4930888416482002E-2,6.9684368900589003E-2,4.14660177831171E-2,7.9094365741411501E-2]
[null,null,null,null,null,null,null,null,null,null,3568,2.2317274450861398E-2,2.70939743210162E-2,2.47495750119739E-2,0.152530775776759,3.4277615997858002E-2,6.6668004581651993E-2,4.0669615950842897E-2,7.6923571773937202E-2]
[null,null,null,null,null,null,null,null,null,null,3569,2.1451228616437699E-2,2.6691165265089599E-2,2.4191746036533499E-2,0.16460408602218499,3.3337200999164797E-2,6.4241198746025699E-2,3.9590852705722997E-2,7.4331393372047694E-2]
[null,null,null,null,null,null,null,null,null,null,3570,2.1161261326031799E-2,2.6718840792086002E-2,2.39045770340999E-2,0.177738029422319,3.2432060150606401E-2,6.2914532822756095E-2,3.83001378974673E-2,7.1299867552483104E-2]
[null,null,null,null,null,null,null,null,null,null,3571,2.1927895177874999E-2,2.7444433595972598E-2,2.3936575595814399E-2,0.18858756936936399,3.2170270755047102E-2,6.3477910178361199E-2,3.7698260136086202E-2,6.9009012376759202E-2]
[null,null,null,null,null,null,null,null,null,null,3572,2.37931453372353E-2,2.87260706250826E-2,2.4294737768360601E-2,0.194379444514473,3.2708408231822202E-2,6.5496814434444703E-2,3.7957389249634398E-2,6.7945213545118899E-2]
[null,null,null,null,null,null,null,null,null,null,3573,2.5890928114814499E-2,2.9886127735083701E-2,2.4765284521920901E-2,0.19411063817768701,3.3611085999745098E-2,6.7310220736863199E-2,3.8578656382149801E-2,6.7325244422812805E-2]
[null,null,null,null,null,null,null,null,null,null,3574,2.7142338762924399E-2,3.0250234902358501E-2,2.5056860164436999E-2,0.18910404086094301,3.4128782028092303E-2,6.7302089786140398E-2,3.8421749848741103E-2,6.5777821278971804E-2]
[null,null,null,null,null,null,null,null,null,null,3575,2.6820469236180099E-2,2.9565331117610699E-2,2.4840472146028102E-2,0.18231551029142601,3.3913218000263097E-2,6.4852719895088298E-2,3.6728936674509501E-2,6.2513185464263099E-2]
[null,null,null,null,null,null,null,null,null,null,3576,2.4916902358662799E-2,2.7855879545143802E-2,2.37433569115648E-2,0.17704361261698501,3.2625093495673503E-2,6.0283074468522199E-2,3.3603202508155697E-2,5.74750175205632E-2]
[null,null,null,null,null,null,null,null,null,null,3577,2.2023970381448401E-2,2.5420132670622798E-2,2.1717656461891801E-2,0.175300625034853,3.08091325712604E-2,5.4786518548758198E-2,2.9943364246681901E-2,5.1613455683043097E-2]
[null,null,null,null,null,null,null,null,null,null,3578,1.9022695061408999E-2,2.27263537180575E-2,1.9281791739941E-2,0.17711317239507399,2.9160492289538199E-2,5.0112309466981003E-2,2.7099307411711699E-2,4.7068322678893597E-2]
[null,null,null,null,null,null,null,null,null,null,3579,1.6671249394468499E-2,2.0357984365616501E-2,1.7246698332887399E-2,0.18019303766081099,2.8247145601192201E-2,4.75108015730627E-2,2.5937117282530699E-2,4.5650782275914299E-2]
[null,null,null,null,null,null,null,null,null,null,3580,1.54766015358766E-2,1.8952297489693799E-2,1.63914758457228E-2,0.182279601309626,2.8378561980295602E-2,4.7712693968861498E-2,2.66993071992759E-2,4.8112421368342401E-2]
[null,null,null,null,null,null,null,null,null,null,3581,1.55495865101035E-2,1.9030695204471301E-2,1.7023125879037301E-2,0.182371856251067,2.9594165380428201E-2,5.0670001118023597E-2,2.89769705283082E-2,5.3788202856222898E-2]
[null,null,null,null,null,null,null,null,null,null,3582,1.6630745199194798E-2,2.0335963052209999E-2,1.8681690214160999E-2,0.180604893502751,3.1321603353416001E-2,5.51596540898091E-2,3.1668791752527403E-2,6.0406429246297903E-2]
[null,null,null,null,null,null,null,null,null,null,3583,1.8041172874897499E-2,2.1989185285545498E-2,2.04355078319894E-2,0.178448865256572,3.2669057136767002E-2,5.9276552094991601E-2,3.3804305586544098E-2,6.5448491382349996E-2]
[null,null,null,null,null,null,null,null,null,null,3584,1.91595115543533E-2,2.29276925197178E-2,2.1457212130174E-2,0.177130471431627,3.2848051816977898E-2,6.1429950788899901E-2,3.4850041757845299E-2,6.7435831681876404E-2]
[null,null,null,null,null,null,null,null,null,null,3585,1.9815771962985899E-2,2.2951358716281501E-2,2.1694366858723599E-2,0.17788255479638301,3.2213661274600902E-2,6.1780992538572901E-2,3.5285308222766897E-2,6.70960042188289E-2]
[null,null,null,null,null,null,null,null,null,null,3586,2.0497766063909399E-2,2.28990425901348E-2,2.1844733498095199E-2,0.180799620235951,3.1815656476693301E-2,6.2063101859060103E-2,3.6113968061608298E-2,6.6473354952700195E-2]
[null,null,null,null,null,null,null,null,null,null,3587,2.1782705973146001E-2,2.3770131931927199E-2,2.2647646537968101E-2,0.18610578941578099,3.2600457215242101E-2,6.3764840527759895E-2,3.7922149392303303E-2,6.7404435659287901E-2]
[null,null,null,null,null,null,null,null,null,null,3588,2.3765260774336699E-2,2.57756929069595E-2,2.4082608282802401E-2,0.19360280308301001,3.4151127960182999E-2,6.6742626466548896E-2,4.0214143077281397E-2,6.9737290851858397E-2]
[null,null,null,null,null,null,null,null,null,null,3589,2.60476748021829E-2,2.8461927154216901E-2,2.56876797705206E-2,0.20241860896502101,3.5630691394839903E-2,6.9816201703024203E-2,4.21271630210776E-2,7.1934242421092406E-2]
[null,null,null,null,null,null,null,null,null,null,3590,2.7847266821384199E-2,3.0848091244604501E-2,2.6812716188396101E-2,0.209281938934328,3.6398410517423999E-2,7.1491994241057594E-2,4.2752291120162801E-2,7.2192963581680605E-2]
[null,null,null,null,null,null,null,null,null,null,3591,2.8520878616876601E-2,3.2017668652497201E-2,2.7046713247969398E-2,0.210686934308421,3.6401324476592001E-2,7.0816220909892702E-2,4.1628574439103602E-2,6.9371215864095795E-2]
[null,null,null,null,null,null,null,null,null,null,3592,2.7935829742499599E-2,3.1848109473485701E-2,2.6450566944054701E-2,0.20558774888353201,3.6064030306277098E-2,6.8127047957430895E-2,3.9240780530163E-2,6.4102182716334402E-2]
[null,null,null,null,null,null,null,null,null,null,3593,2.7076281465726999E-2,3.1495010605502201E-2,2.5848259129179998E-2,0.19620065531186201,3.6203675948913799E-2,6.5810337526254994E-2,3.7158609921806203E-2,5.9351001020573703E-2]
[null,null,null,null,null,null,null,null,null,null,3594,2.7460405012610802E-2,3.2643853131170499E-2,2.62741073484394E-2,0.185821916853564,3.7522588379881601E-2,6.6892298839541398E-2,3.7360423384172198E-2,5.8845525413604799E-2]
[null,null,null,null,null,null,null,null,null,null,3595,2.99898319119264E-2,3.6030683640446003E-2,2.8264899280461699E-2,0.17686055241885301,4.00947433478143E-2,7.2731730283764603E-2,4.0752804803858303E-2,6.4260996087497801E-2]
[null,null,null,null,null,null,null,null,null,null,3596,3.4217274171304601E-2,4.0790556197659998E-2,3.1416779848347703E-2,0.17053055005165499,4.3170835742062902E-2,8.2076429639912393E-2,4.6643730608247003E-2,7.4170545657034001E-2]
[null,null,null,null,null,null,null,null,null,null,3597,3.8891535720710697E-2,4.5447646975463898E-2,3.4970434497711402E-2,0.167659213055599,4.5999926257825598E-2,9.2395280898927595E-2,5.3449724783541902E-2,8.5735990784069294E-2]
[null,null,null,null,null,null,null,null,null,null,3598,4.2935404947211597E-2,4.9091930930617103E-2,3.8341696126382802E-2,0.16884288205039,4.8082930948896201E-2,0.10145356825219499,5.99792092772478E-2,9.6450596006476902E-2]
[null,null,null,null,null,null,null,null,null,null,3599,4.5485269085904001E-2,5.1110637956746197E-2,4.07462754956288E-2,0.174199238362896,4.9018667421687402E-2,0.106903032652174,6.4820115290924504E-2,0.104162572211625]
[null,null,null,null,null,null,null,null,null,null,3600,4.5678288682160298E-2,5.0967455341503799E-2,4.1322511423749597E-2,0.181963665562655,4.83799777870947E-2,0.106830293299535,6.6483988420983395E-2,0.10686764308400699]
[null,null,null,null,null,null,null,null,null,null,3601,4.3281466127456501E-2,4.8523470065261497E-2,3.9723758907448899E-2,0.19050244777967201,4.6270306502887E-2,0.101031470576117,6.4284601070195804E-2,0.103680951093339]
[null,null,null,null,null,null,null,null,null,null,3602,3.8867920391205998E-2,4.42573672985438E-2,3.6391438393615201E-2,0.197423423952438,4.31862610878255E-2,9.1308739553776094E-2,5.8890823982801398E-2,9.5606085653374598E-2]
[null,null,null,null,null,null,null,null,null,null,3603,3.3747096306859299E-2,3.91272977442082E-2,3.2388618416931803E-2,0.20131423352130401,3.9904592348711E-2,8.0649218542879694E-2,5.1968470928855398E-2,8.5031611769497403E-2]
[null,null,null,null,null,null,null,null,null,null,3604,2.9094917118043701E-2,3.4362049090106803E-2,2.8715366999746399E-2,0.20098481252625899,3.73617534295703E-2,7.1857337526235798E-2,4.5527509395421398E-2,7.4931878744258607E-2]
[null,null,null,null,null,null,null,null,null,null,3605,2.5721602619421701E-2,3.09359537291862E-2,2.60909787070445E-2,0.19572764283550501,3.6190695124976698E-2,6.6679441834681899E-2,4.1158957981871601E-2,6.8171454611015203E-2]
[null,null,null,null,null,null,null,null,null,null,3606,2.3810285797089398E-2,2.9137046939830099E-2,2.4703927474775299E-2,0.185787721558036,3.6727598042556403E-2,6.5331070988286596E-2,3.9478813080198599E-2,6.6368399107085696E-2]
[null,null,null,null,null,null,null,null,null,null,3607,2.3112744315491599E-2,2.8608896160144601E-2,2.4197811459529098E-2,0.17366806572723001,3.8432011105810397E-2,6.6416047704009398E-2,3.9668368589712302E-2,6.86889472057918E-2]
[null,null,null,null,null,null,null,null,null,null,3608,2.3120697766946901E-2,2.8785186295891399E-2,2.3968195766152701E-2,0.16491941781133601,4.0313994859964702E-2,6.8150875287915705E-2,4.05107557993954E-2,7.2492359847015894E-2]
[null,null,null,null,null,null,null,null,null,null,3609,2.38560335058416E-2,2.96962414484035E-2,2.4002977635647699E-2,0.164173667337662,4.1690003998519298E-2,7.0148810714998094E-2,4.1687775757051203E-2,7.6303803593202199E-2]
[null,null,null,null,null,null,null,null,null,null,3610,2.5601293850071399E-2,3.1754554995892401E-2,2.4820380421748701E-2,0.17183993521256499,4.2932417257729699E-2,7.3526866410443495E-2,4.4082929173699201E-2,8.0825425717619304E-2]
[null,null,null,null,null,null,null,null,null,null,3611,2.84074581925313E-2,3.4751108235755203E-2,2.6689147552516401E-2,0.18358947350756599,4.4520846381141801E-2,7.8838354454162402E-2,4.7966593676827103E-2,8.72063972758894E-2]
[null,null,null,null,null,null,null,null,null,null,3612,3.1700042071879798E-2,3.8092007658168801E-2,2.9421769651621899E-2,0.193328540319089,4.6503048985592502E-2,8.5930201494895303E-2,5.27349176901497E-2,9.5894422468892904E-2]
[null,null,null,null,null,null,null,null,null,null,3613,3.4860721443683199E-2,4.12412942166945E-2,3.2551227980825201E-2,0.197929994878111,4.8769869650511999E-2,9.3920029718208897E-2,5.7257666211772397E-2,0.105750568989971]
[null,null,null,null,null,null,null,null,null,null,3614,3.7266737331817797E-2,4.3854117603593701E-2,3.5459544010524202E-2,0.19776008881234999,5.0840466761495798E-2,0.101559786203731,6.0781539626917902E-2,0.114917314580607]
[null,null,null,null,null,null,null,null,null,null,3615,3.8292931089613798E-2,4.5363724409012998E-2,3.7482868270862897E-2,0.19526053345351199,5.2193970004124998E-2,0.10701546272345699,6.2639433311887704E-2,0.12153071459984]
[null,null,null,null,null,null,null,null,null,null,3616,3.7335492290119503E-2,4.4891476661397998E-2,3.780112768123E-2,0.19297257786688499,5.2314698885933299E-2,0.10815777564611,6.2173625658845003E-2,0.123641874764734]
[null,null,null,null,null,null,null,null,null,null,3617,3.4656699999232501E-2,4.2422233254186301E-2,3.6333335235905102E-2,0.19265330044057899,5.0931817921595901E-2,0.104666863367522,5.9836346066227501E-2,0.12094385459573601]
[null,null,null,null,null,null,null,null,null,null,3618,3.1768177908786999E-2,3.9369373908507997E-2,3.41389250934344E-2,0.19478388228568,4.9043572675407203E-2,9.92279912692767E-2,5.7577739215925003E-2,0.115791103284519]
[null,null,null,null,null,null,null,null,null,null,3619,3.06794857155302E-2,3.7911530824505699E-2,3.2922550556997901E-2,0.19885778551992001,4.82152566905227E-2,9.62668967596223E-2,5.7720350317229198E-2,0.11277433503479101]
[null,null,null,null,null,null,null,null,null,null,3620,3.2509207972624798E-2,3.9427522106388301E-2,3.3890216141694303E-2,0.20433888792181501,4.97410776816921E-2,9.88541877895565E-2,6.1510920336071202E-2,0.115333818974935]
[null,null,null,null,null,null,null,null,null,null,3621,3.6883896075773998E-2,4.3424327729635899E-2,3.6961965587346601E-2,0.211104890503162,5.3136283047650598E-2,0.10630515688759599,6.7792672455277397E-2,0.122979847808068]
[null,null,null,null,null,null,null,null,null,null,3622,4.2224573739046103E-2,4.8187648444145699E-2,4.0894720214271998E-2,0.218473006071675,5.6917074206118801E-2,0.115038027341234,7.3909801442091805E-2,0.131462881823735]
[null,null,null,null,null,null,null,null,null,null,3623,4.7056080325459201E-2,5.2241530915805703E-2,4.44524017388849E-2,0.22564150342019801,5.9740555150256003E-2,0.121875144142223,7.7961894641641993E-2,0.13663204853094099]
[null,null,null,null,null,null,null,null,null,null,3624,5.1014970727248199E-2,5.5507106362641598E-2,4.7405245325196597E-2,0.23128809479326901,6.1687033487973997E-2,0.12703781730406,8.0517910735163595E-2,0.13912491531378399]
[null,null,null,null,null,null,null,null,null,null,3625,5.4195504846738601E-2,5.8307955760836097E-2,4.99180702894007E-2,0.23491084590824901,6.3563424636434496E-2,0.13180048164135799,8.2933688261798102E-2,0.14173328556680301]
[null,null,null,null,null,null,null,null,null,null,3626,5.6226799407328699E-2,6.0353911816651402E-2,5.1637096843222097E-2,0.23718403798797899,6.5225990436053802E-2,0.13578804027098701,8.5275531883888603E-2,0.145352121034937]
[null,null,null,null,null,null,null,null,null,null,3627,5.63205003324624E-2,6.0734950705868797E-2,5.1739584657448802E-2,0.23771149868293301,6.5626812740227594E-2,0.13694370195449099,8.6148379955731394E-2,0.14848916827046801]
[null,null,null,null,null,null,null,null,null,null,3628,5.3754744001703998E-2,5.8583467813989397E-2,4.9415392374771799E-2,0.23504420016414301,6.3749063756341304E-2,0.132777059608847,8.3923201172885806E-2,0.14828208776692101]
[null,null,null,null,null,null,null,null,null,null,3629,4.8649266353537501E-2,5.3934051664092701E-2,4.4745343610502301E-2,0.22874713759110299,5.9656190368119602E-2,0.12302083854973,7.8416935052813705E-2,0.143233229657248]
[null,null,null,null,null,null,null,null,null,null,3630,4.2133086252963699E-2,4.80949902871807E-2,3.8991234114566301E-2,0.220507048157426,5.47239992797732E-2,0.110308354331627,7.1165272816107294E-2,0.13428528118154201]
[null,null,null,null,null,null,null,null,null,null,3631,3.6024399188919497E-2,4.30137350138163E-2,3.4020063111600003E-2,0.212867679230026,5.0656976740358503E-2,9.8952250187165899E-2,6.4361433333441395E-2,0.12477653276603599]
[null,null,null,null,null,null,null,null,null,null,3632,3.2041912430174603E-2,4.0245445017519497E-2,3.1229937589141499E-2,0.20711962809694101,4.8511624605738997E-2,9.2201961566189594E-2,5.9931569850944097E-2,0.117898517794017]
[null,null,null,null,null,null,null,null,null,null,3633,3.09406115905351E-2,4.0003969881137899E-2,3.0790637957619001E-2,0.20347101179004001,4.8236027787949297E-2,9.0499311058767407E-2,5.8117341734278301E-2,0.11449493408033599]
[null,null,null,null,null,null,null,null,null,null,3634,3.24807310318561E-2,4.1668625245270201E-2,3.2073867466912098E-2,0.20035596853501,4.92360366872907E-2,9.2684286206202907E-2,5.8271286854813899E-2,0.114251719161665]
[null,null,null,null,null,null,null,null,null,null,3635,3.5822623443141799E-2,4.4440883466725201E-2,3.4390156010163903E-2,0.195631439345548,5.0953343435271199E-2,9.7648314346761203E-2,5.9885064847338798E-2,0.117136747976685]
[null,null,null,null,null,null,null,null,null,null,3636,4.0422633201369698E-2,4.8125231481567499E-2,3.7525731365689097E-2,0.18801300839730301,5.3528985854855098E-2,0.105401768360276,6.3261651094113205E-2,0.124416009474214]
[null,null,null,null,null,null,null,null,null,null,3637,4.5630920308161502E-2,5.23874206501804E-2,4.11299735178823E-2,0.17877401182599301,5.6924465635621098E-2,0.114997163482442,6.8480633880874497E-2,0.13560592354180201]
[null,null,null,null,null,null,null,null,null,null,3638,5.0587888073580403E-2,5.6377021688839402E-2,4.4481821029548799E-2,0.172133168273395,6.0563181451265401E-2,0.123901210174412,7.4372013715551799E-2,0.14722855984859101]
[null,null,null,null,null,null,null,null,null,null,3639,5.4304123364820503E-2,5.89890881794366E-2,4.6794420780280697E-2,0.17163073670985801,6.3440205738380995E-2,0.12944066574992999,7.8890436315991103E-2,0.154926046043245]
[null,null,null,null,null,null,null,null,null,null,3640,5.58587640112626E-2,5.9366651801701899E-2,4.7414717445789102E-2,0.17717485908077499,6.4475662187399002E-2,0.129788553792832,7.9932514257234105E-2,0.15558298909673801]
[null,null,null,null,null,null,null,null,null,null,3641,5.5235904729670299E-2,5.7601361978040097E-2,4.6291812740979599E-2,0.18621937829982599,6.3197669776381804E-2,0.12558734388154,7.7170526248374394E-2,0.14951417654688101]
[null,null,null,null,null,null,null,null,null,null,3642,5.2991036294179401E-2,5.46139101697505E-2,4.3992111134531102E-2,0.19612353127687901,6.0048345537388602E-2,0.118913635045913,7.2014646055061304E-2,0.139613783467578]
[null,null,null,null,null,null,null,null,null,null,3643,4.98769000034055E-2,5.1444364355757097E-2,4.1351500433201301E-2,0.20584200674952199,5.6152529756569397E-2,0.112095913841833,6.6823168961604701E-2,0.129748196755019]
[null,null,null,null,null,null,null,null,null,null,3644,4.6289452379582902E-2,4.86541426929821E-2,3.8925915963949197E-2,0.21404942242904301,5.2594464402269003E-2,0.10638905939167401,6.33369033588254E-2,0.1229391075837]
[null,null,null,null,null,null,null,null,null,null,3645,4.22891727790198E-2,4.6013904947692301E-2,3.67509455594794E-2,0.21935343262014401,4.9798154692516999E-2,0.101533790491525,6.1513295156941601E-2,0.119437773733906]
[null,null,null,null,null,null,null,null,null,null,3646,3.82745954856413E-2,4.3459143861734897E-2,3.4834317713462903E-2,0.22153344017854301,4.7656988162519003E-2,9.7294039101658306E-2,6.06075381158152E-2,0.11840743837560801]
[null,null,null,null,null,null,null,null,null,null,3647,3.5084645162575902E-2,4.1327888396035801E-2,3.3362117112697702E-2,0.221814296744063,4.5969024206744202E-2,9.4085448887488696E-2,6.0264200390523E-2,0.119021698363718]
[null,null,null,null,null,null,null,null,null,null,3648,3.3941108491014803E-2,4.0529627885634703E-2,3.2883870436337101E-2,0.22277913658201601,4.5100982863992597E-2,9.3281741662695594E-2,6.1035694136005E-2,0.121779425197501]
[null,null,null,null,null,null,null,null,null,null,3649,3.5338744917921799E-2,4.1601296144680798E-2,3.3769117226090599E-2,0.225018482450829,4.5655317186005601E-2,9.5689330526977201E-2,6.3548650376115304E-2,0.12708478098214299]
[null,null,null,null,null,null,null,null,null,null,3650,3.8920623494587699E-2,4.4318883647536E-2,3.5892937004160803E-2,0.22639572906262001,4.75845033857537E-2,0.100641644174452,6.7491315852672706E-2,0.134155792196543]
[null,null,null,null,null,null,null,null,null,null,3651,4.3564499623230397E-2,4.7746926264094401E-2,3.8613405209491199E-2,0.225239586510428,5.0120786519838097E-2,0.106284329036507,7.1352109110966899E-2,0.14085230948417499]
[null,null,null,null,null,null,null,null,null,null,3652,4.7999275287146502E-2,5.1011957516199601E-2,4.10784602174551E-2,0.22198842552901399,5.2558491331577903E-2,0.11111404879318,7.3726641306832902E-2,0.14535388820385101]
[null,null,null,null,null,null,null,null,null,null,3653,5.1820067683626202E-2,5.40394598271354E-2,4.3036006141939503E-2,0.21871490363402599,5.50299323207733E-2,0.11549058579214801,7.4944318463051704E-2,0.14919637112452]
[null,null,null,null,null,null,null,null,null,null,3654,5.5419707598916998E-2,5.7389210096186E-2,4.4914349033953402E-2,0.21638521532068,5.8421449656278601E-2,0.12082350797863101,7.6708033257635602E-2,0.15571761463598199]
[null,null,null,null,null,null,null,null,null,null,3655,5.9175538847382601E-2,6.1161213247498798E-2,4.70216875573908E-2,0.21579521645904301,6.2921255667397605E-2,0.12734521011541,7.9998364482179202E-2,0.16539244624987301]
[null,null,null,null,null,null,null,null,null,null,3656,6.3124193514400295E-2,6.5129068023116299E-2,4.9377956017735501E-2,0.21793813192499201,6.7805159701690598E-2,0.13442046724412601,8.4698733327348605E-2,0.17598367853952401]
[null,null,null,null,null,null,null,null,null,null,3657,6.6851591844277705E-2,6.8616600083655693E-2,5.1602895123374203E-2,0.22262910389944399,7.1897212053667503E-2,0.14079961613074901,8.9528783911241402E-2,0.184828672271724]
[null,null,null,null,null,null,null,null,null,null,3658,6.9692383214332104E-2,7.1014982714000793E-2,5.3269705645048897E-2,0.22751044579266899,7.4433089455165705E-2,0.145400952704172,9.3300672901661497E-2,0.19106955130483899]
[null,null,null,null,null,null,null,null,null,null,3659,7.10102399068923E-2,7.1881411581122504E-2,5.4036729768667503E-2,0.228367664672848,7.5112680428470899E-2,0.147350633757099,9.5202883184362E-2,0.194253547861998]
[null,null,null,null,null,null,null,null,null,null,3660,7.0849524268414996E-2,7.1309682186378204E-2,5.4055445997156698E-2,0.223305869185039,7.43995121329976E-2,0.14681077392495301,9.5309108501390599E-2,0.19489633146227001]
[null,null,null,null,null,null,null,null,null,null,3661,6.9441560089653007E-2,6.9639978948099104E-2,5.3574285046437901E-2,0.21368471010936699,7.2919580427532396E-2,0.14443459148370599,9.4179740289917102E-2,0.19370409515192]
[null,null,null,null,null,null,null,null,null,null,3662,6.75139574560919E-2,6.7628259360945603E-2,5.3056287537696402E-2,0.20206835982285401,7.1672267091490702E-2,0.14196275439226999,9.3040507654378393E-2,0.192491014294841]
[null,null,null,null,null,null,null,null,null,null,3663,6.5915796721910197E-2,6.6262074908286006E-2,5.2987291833729501E-2,0.19124628676992,7.1283183513142195E-2,0.141267177366208,9.3184804859945805E-2,0.194068272437495]
[null,null,null,null,null,null,null,null,null,null,3664,6.5069802732279303E-2,6.5961920345974798E-2,5.3400472759305602E-2,0.18309092537702801,7.1947125985996799E-2,0.14283106826483299,9.4991711741858997E-2,0.19917574191656801]
[null,null,null,null,null,null,null,null,null,null,3665,6.4734526881920898E-2,6.6353304092514498E-2,5.3876249504806101E-2,0.17869638678118999,7.3151687398720106E-2,0.14540102078539499,9.7634548540183094E-2,0.20644343185156899]
[null,null,null,null,null,null,null,null,null,null,3666,6.4193109726041198E-2,6.6545307536980597E-2,5.3828549327077098E-2,0.17828684761376201,7.4011916395563704E-2,0.14645843767326999,9.9364083761927402E-2,0.211997641783079]
[null,null,null,null,null,null,null,null,null,null,3667,6.2701008872262598E-2,6.56906574642208E-2,5.2717797459102399E-2,0.18111226498441499,7.3495215142210898E-2,0.143946247899612,9.8421487418464099E-2,0.211675125556926]
[null,null,null,null,null,null,null,null,null,null,3668,6.0294962764992299E-2,6.4036535100441702E-2,5.0735484730032802E-2,0.186674689891803,7.1571736202537595E-2,0.13836550790801799,9.5063710947301705E-2,0.20455020759817899]
[null,null,null,null,null,null,null,null,null,null,3669,5.80358765071914E-2,6.2576761456685698E-2,4.87851346297105E-2,0.19418650596922499,6.9185308996121894E-2,0.13265839218332601,9.1299553095551503E-2,0.194152210995168]
[null,null,null,null,null,null,null,null,null,null,3670,5.7351891003657098E-2,6.2586795278313706E-2,4.8092027368226202E-2,0.203332630506008,6.7942137106419595E-2,0.13055639001445399,9.0005014699224298E-2,0.187226559561502]
[null,null,null,null,null,null,null,null,null,null,3671,5.8776197318073702E-2,6.4228171199053594E-2,4.9085686009116801E-2,0.214175758599255,6.8381556485866801E-2,0.13309936767303401,9.2468592725768906E-2,0.18762772708578199]
[null,null,null,null,null,null,null,null,null,null,3672,6.1716526511773298E-2,6.6614158297378698E-2,5.1105586555163403E-2,0.22578881827919001,7.0234564022034596E-2,0.13853223920229399,9.7773850634353898E-2,0.19471141591680299]
[null,null,null,null,null,null,null,null,null,null,3673,6.4826299931238701E-2,6.8484151673001897E-2,5.2880448047110201E-2,0.23589260017121499,7.2199241506345505E-2,0.14354811343078699,0.10332267853050001,0.20412475009769199]
[null,null,null,null,null,null,null,null,null,null,3674,6.6900184358697198E-2,6.8993338766665205E-2,5.3458458197140603E-2,0.24180941177825399,7.3396155124373197E-2,0.145795425430507,0.10658922620254301,0.21097506640386701]
[null,null,null,null,null,null,null,null,null,null,3675,6.7000920436563693E-2,6.8020343254330998E-2,5.2640038474235602E-2,0.24279548480132601,7.3203968218005303E-2,0.14478997966194501,0.10650811919186,0.21287081461927601]
[null,null,null,null,null,null,null,null,null,null,3676,6.4811611213589596E-2,6.5777067908003001E-2,5.0772589085024897E-2,0.23930838778628799,7.1776479480545094E-2,0.14111107886969099,0.103522083318908,0.20984470057662]
[null,null,null,null,null,null,null,null,null,null,3677,6.0645647757028999E-2,6.2551674387200606E-2,4.8205853373111E-2,0.23234765423680101,6.9484906158450904E-2,0.13555262834717899,9.8743751908122304E-2,0.202757250063311]
[null,null,null,null,null,null,null,null,null,null,3678,5.5714048504934201E-2,5.9131847250730202E-2,4.5433262854456098E-2,0.222615244453019,6.6825041332042701E-2,0.12926724929917999,9.3301251312113503E-2,0.19254030958680701]
[null,null,null,null,null,null,null,null,null,null,3679,5.1932018951201399E-2,5.6899840045635398E-2,4.3322475589379801E-2,0.21196783705448599,6.4695717830330596E-2,0.1244999292083,8.8912694382016003E-2,0.18194036877289901]
[null,null,null,null,null,null,null,null,null,null,3680,5.0553668163170397E-2,5.6833476327894303E-2,4.2574417889355301E-2,0.20399300902825501,6.3717368545134601E-2,0.122707400259221,8.6763602293900594E-2,0.17326588005145099]
[null,null,null,null,null,null,null,null,null,null,3681,5.1436885068250601E-2,5.8604314951323101E-2,4.3309295637807999E-2,0.20158960943339299,6.3653132802399801E-2,0.123405308355083,8.6782495256127398E-2,0.16596604264102799]
[null,null,null,null,null,null,null,null,null,null,3682,5.3134202916477101E-2,6.0673956803880803E-2,4.4765660108663001E-2,0.20434629881346,6.3721982403475805E-2,0.124370227708645,8.7902381531153498E-2,0.158206508827332]
[null,null,null,null,null,null,null,null,null,null,3683,5.3823740272830302E-2,6.1080846538936799E-2,4.5804642485202399E-2,0.20885988268366801,6.3041495200923794E-2,0.1231042643643,8.8264934794839794E-2,0.14899532445063299]
[null,null,null,null,null,null,null,null,null,null,3684,5.2341084504993599E-2,5.8863955045429399E-2,4.5632154773897197E-2,0.210792113484223,6.1364154535270297E-2,0.118543346843825,8.6575516294271099E-2,0.13957272105583601]
[null,null,null,null,null,null,null,null,null,null,3685,4.8762616197155301E-2,5.4506012172155602E-2,4.4141713286853797E-2,0.206970408815004,5.8724523396106197E-2,0.111355357576613,8.2226329851963695E-2,0.13132387764690001]
[null,null,null,null,null,null,null,null,null,null,3686,4.4561703346298297E-2,5.0010362791197999E-2,4.2123243472713803E-2,0.19594072146568201,5.5960503720978001E-2,0.104171823921136,7.6625248834363294E-2,0.12516342997681501]
[null,null,null,null,null,null,null,null,null,null,3687,4.17742253102832E-2,4.7528887564567801E-2,4.0625597645565399E-2,0.17804607653274501,5.41732490027442E-2,9.9990220186138207E-2,7.2178409099754898E-2,0.12141778614372301]
[null,null,null,null,null,null,null,null,null,null,3688,4.2436396648949097E-2,4.86375646774731E-2,4.08870472893621E-2,0.15507835236496401,5.4894100427739498E-2,0.10163229784948299,7.1761708887439393E-2,0.12203351736962099]
[null,null,null,null,null,null,null,null,null,null,3689,4.7005699935203697E-2,5.3151400778755797E-2,4.3216536529797303E-2,0.13076305274095501,5.8592563878601699E-2,0.10917814393885,7.6038618757079401E-2,0.12826580912326799]
[null,null,null,null,null,null,null,null,null,null,3690,5.3715391690165898E-2,5.91151398894963E-2,4.6658507331721201E-2,0.10902942260846001,6.3815783876604207E-2,0.119542395977943,8.3002831948964503E-2,0.13829608613971001]
[null,null,null,null,null,null,null,null,null,null,3691,5.9612123587992803E-2,6.4035136519710795E-2,4.9754688924231801E-2,9.4605776798740701E-2,6.8498170819377494E-2,0.128522202776858,8.9465328217505594E-2,0.14852040482082501]
[null,null,null,null,null,null,null,null,null,null,3692,6.24389041520945E-2,6.6265822892621298E-2,5.1344345888027998E-2,9.1035283927617394E-2,7.07219282419531E-2,0.133058111676746,9.2864217192779805E-2,0.15591441740935399]
[null,null,null,null,null,null,null,null,null,null,3693,6.22019974769078E-2,6.6046663118506196E-2,5.1494896927747398E-2,9.8952159355081504E-2,7.0391686124629496E-2,0.133577363712582,9.3195590499400405E-2,0.16009758758201401]
[null,null,null,null,null,null,null,null,null,null,3694,6.0963896544450599E-2,6.5181828256475102E-2,5.1393781367858202E-2,0.11562613015848699,6.9192747618135902E-2,0.13339376974655201,9.2980365141006702E-2,0.1643990944697]
[null,null,null,null,null,null,null,null,null,null,3695,6.0806753371373402E-2,6.5299075447669302E-2,5.2132213785672003E-2,0.135656455563883,6.9029229263458405E-2,0.135672392824746,9.4771061594990894E-2,0.17207287640857799]
[null,null,null,null,null,null,null,null,null,null,3696,6.2700667433663496E-2,6.7177129352590098E-2,5.4153377628827097E-2,0.15363751264780501,7.0767039872995999E-2,0.14140656392113399,9.9616202112600402E-2,0.183736799464601]
[null,null,null,null,null,null,null,null,null,null,3697,6.6074949319252396E-2,7.0276007283463005E-2,5.6746947916804E-2,0.16687567431095601,7.3806975381460305E-2,0.14887077159499501,0.106298369670593,0.19660174525940799]
[null,null,null,null,null,null,null,null,null,null,3698,6.9629432636563696E-2,7.3503896592627002E-2,5.8858825820909899E-2,0.175953253981978,7.7046575223098698E-2,0.15559184606196999,0.112629128930399,0.206782573598499]
[null,null,null,null,null,null,null,null,null,null,3699,7.1820697517847906E-2,7.53821372494171E-2,5.9437941557361401E-2,0.18324645596846501,7.9097229228522095E-2,0.15889548213243801,0.116034066379677,0.211193441393666]
[null,null,null,null,null,null,null,null,null,null,3700,7.1464193647961194E-2,7.4868230288164403E-2,5.8114728629449303E-2,0.19067997145517501,7.9108830932274901E-2,0.15698023068229799,0.114922202355096,0.20848265256763801]
[null,null,null,null,null,null,null,null,null,null,3701,6.8029472319267204E-2,7.1575201131341706E-2,5.5076548793493503E-2,0.198790398029525,7.6724578124444207E-2,0.149186350996658,0.10886943314736,0.19926980056871499]
[null,null,null,null,null,null,null,null,null,null,3702,6.1841100397186502E-2,6.5817849833484598E-2,5.0830440835693901E-2,0.20680234483247301,7.1984888039340306E-2,0.13634968923362101,9.9133281918016E-2,0.185052648160347]
[null,null,null,null,null,null,null,null,null,null,3703,5.38657773984067E-2,5.8275392373558298E-2,4.5946414671074402E-2,0.21390224112965001,6.5426819221091295E-2,0.120471468083253,8.7578248939317899E-2,0.16719929053674701]
[null,null,null,null,null,null,null,null,null,null,3704,4.5901456352616998E-2,5.0635314470935097E-2,4.1282773893674497E-2,0.22010183711728801,5.8458432019443299E-2,0.10516632589206699,7.7181777099908797E-2,0.14928260826442499]
[null,null,null,null,null,null,null,null,null,null,3705,3.9773912448834901E-2,4.4679457215357397E-2,3.7695907807062098E-2,0.226627329658108,5.2992780441707202E-2,9.41133979757003E-2,7.07785254040601E-2,0.13554321514510001]
[null,null,null,null,null,null,null,null,null,null,3706,3.64473730269868E-2,4.1635030486607598E-2,3.5765834627346497E-2,0.23557059251941401,5.0341897868126498E-2,8.9223310195363906E-2,6.9750020813478197E-2,0.12960187150508201]
[null,null,null,null,null,null,null,null,null,null,3707,3.5595802113347397E-2,4.1224759037640397E-2,3.52190519759304E-2,0.24804530721964699,5.03925067544439E-2,8.9850719980596502E-2,7.3022642195748597E-2,0.13188868249885]
[null,null,null,null,null,null,null,null,null,null,3708,3.6797913126387E-2,4.3002340560677303E-2,3.5809858629769903E-2,0.26191397745710698,5.2546966237769901E-2,9.4662137889048398E-2,7.8944710109192295E-2,0.14113494700669801]
[null,null,null,null,null,null,null,null,null,null,3709,4.0172726110757798E-2,4.7073550619832802E-2,3.7932109739843199E-2,0.272679310519229,5.6837178752618102E-2,0.103515802591804,8.7054649578606799E-2,0.15711237012121701]
[null,null,null,null,null,null,null,null,null,null,3710,4.58658830218268E-2,5.3587443673363003E-2,4.2063152504980099E-2,0.27595513360360602,6.3377368827633299E-2,0.11640557704199,9.7210801706238095E-2,0.17971955378871299]
[null,null,null,null,null,null,null,null,null,null,3711,5.2842264079716803E-2,6.1372490425894898E-2,4.7599773685262602E-2,0.27107482413508599,7.1059755428497906E-2,0.13118516729715901,0.107902898850484,0.20473030275405499]
[null,null,null,null,null,null,null,null,null,null,3712,5.93125119080158E-2,6.8473619190874302E-2,5.2927363534402798E-2,0.26109540008099202,7.7765537382612299E-2,0.14421611138333701,0.116945655748825,0.224915964960297]
[null,null,null,null,null,null,null,null,null,null,3713,6.3419741670648302E-2,7.2914345391701996E-2,5.6380110705623501E-2,0.249077129885409,8.1842432801993603E-2,0.15214309086892699,0.122255161220201,0.23424959733105]
[null,null,null,null,null,null,null,null,null,null,3714,6.4194845571034304E-2,7.3764970724911894E-2,5.7067904655958901E-2,0.23573398417783101,8.2597129456004698E-2,0.15334282920758899,0.12301727828188801,0.23146341721859501]
[null,null,null,null,null,null,null,null,null,null,3715,6.1479017642133302E-2,7.0854137233838099E-2,5.48951904992665E-2,0.22111919849238201,8.0014723905994303E-2,0.14743029793163301,0.11851291928159501,0.21796600350367901]
[null,null,null,null,null,null,null,null,null,null,3716,5.58363347894512E-2,6.4932080454983498E-2,5.0403831521966203E-2,0.206447076657328,7.4641744062148699E-2,0.13529628562188201,0.10909812846464299,0.197009933808241]
[null,null,null,null,null,null,null,null,null,null,3717,4.8185259721599302E-2,5.6896072133771999E-2,4.43995790837056E-2,0.19369680634588199,6.7054235047165997E-2,0.118503940310905,9.5758696066923402E-2,0.17134986412976]
[null,null,null,null,null,null,null,null,null,null,3718,3.9785781579725399E-2,4.81072269257002E-2,3.8118150415357301E-2,0.184589844001076,5.8444758054387702E-2,9.9988328336628102E-2,8.1006816770832796E-2,0.144695428372177]
[null,null,null,null,null,null,null,null,null,null,3719,3.22178480058306E-2,4.0153426788884901E-2,3.29020656434547E-2,0.181453931982585,5.0522877346434097E-2,8.3849468427207502E-2,6.8146398692726304E-2,0.122251031336553]
[null,null,null,null,null,null,null,null,null,null,3720,2.7105893017145301E-2,3.4701638286205698E-2,2.9867339128555201E-2,0.185971239794196,4.5030344365691997E-2,7.3914747319639498E-2,6.0067646520400197E-2,0.10887039274212]
[null,null,null,null,null,null,null,null,null,null,3721,2.5644285813666699E-2,3.3006052425587497E-2,2.9658143708517701E-2,0.196576417282261,4.3363689243499703E-2,7.2611642329036302E-2,5.87728320233461E-2,0.108065133644606]
[null,null,null,null,null,null,null,null,null,null,3722,2.7806753692358001E-2,3.5043443625464799E-2,3.1887991710095799E-2,0.20789526307737599,4.5493901510396499E-2,7.8979864485656304E-2,6.3718240914740598E-2,0.11972956991266399]
[null,null,null,null,null,null,null,null,null,null,3723,3.2234263824292501E-2,3.9441855825458998E-2,3.5464541293568803E-2,0.21458388475554999,5.0031643627349402E-2,8.9665996438675996E-2,7.22661008437743E-2,0.13934038843430799]
[null,null,null,null,null,null,null,null,null,null,3724,3.7102428946880997E-2,4.4365177215237903E-2,3.9010535050819597E-2,0.21669645170181201,5.4938924946086001E-2,0.100621908600804,8.1221861712383298E-2,0.16092145282522399]
[null,null,null,null,null,null,null,null,null,null,3725,4.0621594012006698E-2,4.7803923234823902E-2,4.1225443059142802E-2,0.21889272697356399,5.8264582329490201E-2,0.108085658205666,8.7321204373461594E-2,0.177232740203112]
[null,null,null,null,null,null,null,null,null,null,3726,4.2055377271429897E-2,4.8895687515752198E-2,4.1595120221879001E-2,0.22607126361860899,5.9197342239536099E-2,0.11065405238854201,8.9570467598065001E-2,0.184570462057323]
[null,null,null,null,null,null,null,null,null,null,3727,4.1935821905360597E-2,4.8174292981762401E-2,4.0520965308010103E-2,0.240031290319415,5.8086930226433603E-2,0.109201217775661,8.8663262657731501E-2,0.18325179694514401]
[null,null,null,null,null,null,null,null,null,null,3728,4.1166493417136199E-2,4.6903625227808797E-2,3.891393926127E-2,0.25815020079151102,5.5903432498053997E-2,0.105797733175202,8.6289422273366903E-2,0.176644037079666]
[null,null,null,null,null,null,null,null,null,null,3729,4.0086872646504103E-2,4.5802171924328602E-2,3.7309013687565701E-2,0.27525059916639899,5.3301686121860002E-2,0.101478066664745,8.3451204334722098E-2,0.167629546739409]
[null,null,null,null,null,null,null,null,null,null,3730,3.8183785396938501E-2,4.4384021021746801E-2,3.5626743588127001E-2,0.286184674359858,5.0324654207061302E-2,9.5879310712876795E-2,7.9874032392375602E-2,0.15678751717557499]
[null,null,null,null,null,null,null,null,null,null,3731,3.5125195393471899E-2,4.1927731246701502E-2,3.3523853200073901E-2,0.28804157285197701,4.7108738221259099E-2,8.8709351453730503E-2,7.5371637023393306E-2,0.14475313415560501]
[null,null,null,null,null,null,null,null,null,null,3732,3.0950489922723399E-2,3.8047980696052898E-2,3.0692249469242101E-2,0.28066549932287499,4.3612552748221699E-2,8.0162005638817396E-2,6.9599904715007099E-2,0.13177810854400801]
[null,null,null,null,null,null,null,null,null,null,3733,2.6521589525180099E-2,3.35457795296078E-2,2.76390555751461E-2,0.26589401393267798,4.038732102637E-2,7.2169260066208399E-2,6.3591796370164697E-2,0.119796897724391]
[null,null,null,null,null,null,null,null,null,null,3734,2.2759529334969001E-2,2.95852586577478E-2,2.5092538334771299E-2,0.24569446817597501,3.7883455602672603E-2,6.6206601418698802E-2,5.8687715747322497E-2,0.11041068025740999]
[null,null,null,null,null,null,null,null,null,null,3735,2.0428715656460698E-2,2.7192092518668901E-2,2.38227325342668E-2,0.22227292897186099,3.6640266204365703E-2,6.3507923563121196E-2,5.6301117696798297E-2,0.105056928701026]
[null,null,null,null,null,null,null,null,null,null,3736,2.0171203978083099E-2,2.71373101259536E-2,2.4289255560261101E-2,0.19991988055290399,3.7432708516503703E-2,6.5026494116187106E-2,5.7687928293459999E-2,0.106354415091552]
[null,null,null,null,null,null,null,null,null,null,3737,2.2216568668418299E-2,2.9445147536927299E-2,2.6461740251597001E-2,0.18289299982368601,4.06215236374593E-2,7.0848786541554798E-2,6.3039530580273201E-2,0.115824681080002]
[null,null,null,null,null,null,null,null,null,null,3738,2.6192855169536299E-2,3.3366777838381899E-2,2.9963651632884399E-2,0.17436277756964499,4.5708241418182E-2,7.9875019351341295E-2,7.1274724651331403E-2,0.13276616236269101]
[null,null,null,null,null,null,null,null,null,null,3739,3.1076971213273699E-2,3.7626654379258502E-2,3.4033568559461803E-2,0.17563031650650099,5.1356705357056297E-2,8.9714944565936802E-2,8.0073486001221605E-2,0.153277082264687]
[null,null,null,null,null,null,null,null,null,null,3740,3.5145862300516299E-2,4.0696878357478698E-2,3.7444593132266599E-2,0.18665630786726001,5.5581012845462997E-2,9.7073360334506004E-2,8.6446020019878403E-2,0.17086933191513501]
[null,null,null,null,null,null,null,null,null,null,3741,3.69907293307409E-2,4.1696913381945498E-2,3.8991344347695203E-2,0.205987744518428,5.68706895716991E-2,9.9644889383442001E-2,8.8607005796368404E-2,0.17978468061807401]
[null,null,null,null,null,null,null,null,null,null,3742,3.6209983002316898E-2,4.0749038245516497E-2,3.8223150134559902E-2,0.229163085295786,5.5106504687846398E-2,9.7224653740591804E-2,8.6794214022181806E-2,0.17811600732576399]
[null,null,null,null,null,null,null,null,null,null,3743,3.3559416967882498E-2,3.8549366901581998E-2,3.5523755734169403E-2,0.248621355660405,5.1272964226306103E-2,9.1068476489250094E-2,8.2076877115520003E-2,0.167240660937272]
[null,null,null,null,null,null,null,null,null,null,3744,3.0190439955523202E-2,3.5760585346061198E-2,3.1760563783794903E-2,0.258933677789494,4.6837552971304403E-2,8.3147508097343406E-2,7.5722043058951902E-2,0.15093252023686199]
[null,null,null,null,null,null,null,null,null,null,3745,2.71256066097381E-2,3.2979298130343303E-2,2.80546044630757E-2,0.25997598310606401,4.3221551750890597E-2,7.5766580710255299E-2,6.9289536525999507E-2,0.13460564301660699]
[null,null,null,null,null,null,null,null,null,null,3746,2.4827736553439599E-2,3.0643878983566301E-2,2.5318928797212599E-2,0.25581268866321699,4.1082742549874797E-2,7.0499746486759399E-2,6.4264033517262703E-2,0.122861184104954]
[null,null,null,null,null,null,null,null,null,null,3747,2.3387116438570901E-2,2.9039233947856902E-2,2.3986075518402501E-2,0.25103553553976299,4.0700339977939898E-2,6.8038881354944E-2,6.1627698373144302E-2,0.11798331427297699]
[null,null,null,null,null,null,null,null,null,null,3748,2.29861045008347E-2,2.85516667527334E-2,2.4217226402360702E-2,0.247998309133698,4.1921944101480403E-2,6.8795052908200205E-2,6.1926539563934999E-2,0.120583253857036]
[null,null,null,null,null,null,null,null,null,null,3749,2.4238267282698699E-2,2.99866256396501E-2,2.6275379020993202E-2,0.24553462775219601,4.5189939841440901E-2,7.3980828725825107E-2,6.6434727968450305E-2,0.132084280476121]
[null,null,null,null,null,null,null,null,null,null,3750,2.75244476682069E-2,3.3767840085746501E-2,3.00164925888931E-2,0.24074197924833099,5.0246755142575601E-2,8.3400653210600598E-2,7.5193784775646894E-2,0.15173497606254899]
[null,null,null,null,null,null,null,null,null,null,3751,3.2548831192408097E-2,3.93832320423649E-2,3.4709934837537502E-2,0.231440628188431,5.6381912213259298E-2,9.5397843201308397E-2,8.6793371747492506E-2,0.17548293269147]
[null,null,null,null,null,null,null,null,null,null,3752,3.8384940705540001E-2,4.5670279265293302E-2,3.9468409729358597E-2,0.21679350118811899,6.2626744790828706E-2,0.107749025194096,9.9141358711257399E-2,0.19908487469010699]
[null,null,null,null,null,null,null,null,null,null,3753,4.37656622790151E-2,5.1138962751621997E-2,4.34674596616767E-2,0.19937186573509399,6.8047836624450395E-2,0.118463527992379,0.110180308515341,0.219950985202544]
[null,null,null,null,null,null,null,null,null,null,3754,4.7558198712294601E-2,5.48080240362466E-2,4.6194247234207002E-2,0.184295055932336,7.2029599112671802E-2,0.126140022574213,0.11860200385142,0.23760127147826701]
[null,null,null,null,null,null,null,null,null,null,3755,4.8538443423717902E-2,5.5715549113203602E-2,4.69554808753238E-2,0.17799114531167901,7.3252714392882196E-2,0.12845827154049799,0.121900678753857,0.24836481429937399]
[null,null,null,null,null,null,null,null,null,null,3756,4.6240237450875098E-2,5.3445350500271903E-2,4.5340584632553999E-2,0.18431711210059301,7.0920873178080296E-2,0.12406329478497399,0.11822670158562699,0.24772103732458101]
[null,null,null,null,null,null,null,null,null,null,3757,4.1829000365673302E-2,4.90469407969771E-2,4.2097024556872302E-2,0.20073489308553799,6.6242310553501493E-2,0.11519670798140801,0.10962923011009899,0.237245073169916]
[null,null,null,null,null,null,null,null,null,null,3758,3.7712125112714198E-2,4.4874858400248498E-2,3.9075904768707898E-2,0.22029339136392601,6.1799285034214703E-2,0.106974323390414,0.101489701932716,0.22566057382599]
[null,null,null,null,null,null,null,null,null,null,3759,3.5927108843015698E-2,4.3046746641346702E-2,3.77971710246423E-2,0.236463886369075,6.0006586645031799E-2,0.103711030797189,9.8521823508010101E-2,0.221691879920806]
[null,null,null,null,null,null,null,null,null,null,3760,3.6701157536795301E-2,4.3881693389322803E-2,3.8500376102856497E-2,0.246055876024806,6.0968206339323303E-2,0.105808929433064,0.10144464409837201,0.227498880832714]
[null,null,null,null,null,null,null,null,null,null,3761,3.8588850219795599E-2,4.5900524221933602E-2,4.0078241599598399E-2,0.24809802550528201,6.3258091772224204E-2,0.11014522188258399,0.107012578080126,0.23741902029669401]
[null,null,null,null,null,null,null,null,null,null,3762,3.9797353721135499E-2,4.73326525739289E-2,4.1198745807942902E-2,0.24196214679001901,6.5092808312058506E-2,0.112993036300939,0.111023542321154,0.24362827950165]
[null,null,null,null,null,null,null,null,null,null,3763,3.9901357068575199E-2,4.7636867751890799E-2,4.1367435364001497E-2,0.229050560961227,6.6057743712282999E-2,0.113404100315375,0.11193551037522501,0.243212468861814]
[null,null,null,null,null,null,null,null,null,null,3764,3.9618823201970001E-2,4.7549324813981102E-2,4.1188617644667698E-2,0.214343852573536,6.66760821515998E-2,0.11293775979864799,0.110959404860992,0.23939742724281199]
[null,null,null,null,null,null,null,null,null,null,3765,3.9693733656837399E-2,4.7771789199483501E-2,4.13600896473547E-2,0.20437168330945199,6.7355470122781896E-2,0.113158365870176,0.109968969873304,0.23672104981919001]
[null,null,null,null,null,null,null,null,null,null,3766,4.0791564060433001E-2,4.8902649498668099E-2,4.2479976126201399E-2,0.201947566119283,6.8543534616656604E-2,0.115390094032055,0.11083826602505301,0.23947954172888999]
[null,null,null,null,null,null,null,null,null,null,3767,4.3644020314369002E-2,5.1600324285521401E-2,4.4886054403588803E-2,0.206072281687631,7.0682846377767602E-2,0.12072633253684401,0.11525110999976799,0.25065089002054802]
[null,null,null,null,null,null,null,null,null,null,3768,4.8687204439532797E-2,5.6240432558691003E-2,4.8519752596907398E-2,0.211584480084794,7.4226665194850702E-2,0.129506030763476,0.124023952281342,0.27237879322187097]
[null,null,null,null,null,null,null,null,null,null,3769,5.5336598002893797E-2,6.2317668094689901E-2,5.2705985472799602E-2,0.213171770661468,7.8919915612789701E-2,0.140315559891312,0.13578711808443999,0.30061212980466301]
[null,null,null,null,null,null,null,null,null,null,3770,6.2151382862257298E-2,6.8502432810830793E-2,5.6325204892415097E-2,0.20812383455707401,8.3661083346901796E-2,0.150387964196255,0.147355382500541,0.32548830274970902]
[null,null,null,null,null,null,null,null,null,null,3771,6.7657056945397795E-2,7.3538862607180497E-2,5.8531204063478698E-2,0.19858188017327799,8.7594710771962597E-2,0.157598401951208,0.15595022701554501,0.33649882629759698]
[null,null,null,null,null,null,null,null,null,null,3772,7.1236812804945995E-2,7.6971885962003495E-2,5.9373439291632898E-2,0.19110260040081301,9.0366626089308497E-2,0.161575480486848,0.160895170832799,0.33205922611949301]
[null,null,null,null,null,null,null,null,null,null,3773,7.2612837867840396E-2,7.8435497823520495E-2,5.9188343494066598E-2,0.192851318856749,9.1737658139349906E-2,0.162179210800698,0.16220451572165301,0.31800276994092302]
[null,null,null,null,null,null,null,null,null,null,3774,7.1937463911041402E-2,7.8009718870001493E-2,5.8482390751046401E-2,0.20705785998852799,9.1512979217335005E-2,0.15977213669010501,0.16024807928406901,0.30220774162438102]
[null,null,null,null,null,null,null,null,null,null,3775,7.0205475133427397E-2,7.6617989056512306E-2,5.7826731694591203E-2,0.23009818922722799,9.0341361537028902E-2,0.15610252349327999,0.15656952227190801,0.29034470973609]
[null,null,null,null,null,null,null,null,null,null,3776,6.8756595746484406E-2,7.5651661124127106E-2,5.7735620111475497E-2,0.25503841330846899,8.9442973469093495E-2,0.153186852699843,0.153377282215687,0.28446391690759298]
[null,null,null,null,null,null,null,null,null,null,3777,6.8638446915268006E-2,7.6060548929461999E-2,5.8464076556175602E-2,0.27399127116023803,8.9853179227718405E-2,0.152867522816164,0.15304084421200301,0.285503983264077]
[null,null,null,null,null,null,null,null,null,null,3778,6.9879797520581197E-2,7.77254817860379E-2,5.9890421552113701E-2,0.28482792050618799,9.1810449869137598E-2,0.15518763167920099,0.15627019050188301,0.29361800366942298]
[null,null,null,null,null,null,null,null,null,null,3779,7.1863285936313803E-2,7.9819213485201101E-2,6.1537985487813002E-2,0.29249557929627301,9.4704624299957296E-2,0.159069819052711,0.16195837192165599,0.30664447055441302]
[null,null,null,null,null,null,null,null,null,null,3780,7.3864494614132803E-2,8.1623517722513403E-2,6.2896123890123196E-2,0.30360065214975801,9.7731474342052205E-2,0.163378549519444,0.168422608813969,0.32189550098483999]
[null,null,null,null,null,null,null,null,null,null,3781,7.5161174446391296E-2,8.2596716676447704E-2,6.3554582665463197E-2,0.31861331886442101,9.9847636602550693E-2,0.16705785728848499,0.173303114622852,0.33467558925992802]
[null,null,null,null,null,null,null,null,null,null,3782,7.54794434153577E-2,8.2742482389103006E-2,6.34488602456839E-2,0.33213357292866402,0.10055077192333101,0.169582831305927,0.17560176735103999,0.34173028988198201]
[null,null,null,null,null,null,null,null,null,null,3783,7.4426523873944397E-2,8.1865010136669594E-2,6.2488551932897603E-2,0.33827282596562003,9.9492802926184606E-2,0.16978355762984301,0.17473967429233001,0.34144945401125298]
[null,null,null,null,null,null,null,null,null,null,3784,7.1306295752256194E-2,7.9280651351288103E-2,6.03047044705926E-2,0.33604743316415098,9.6286500817415702E-2,0.16588385043126599,0.16981737243646799,0.33327909536747902]
[null,null,null,null,null,null,null,null,null,null,3785,6.5455289350898602E-2,7.4081192230533902E-2,5.6355129472248099E-2,0.32868582452032002,9.0549876602772306E-2,0.15629951071449399,0.159787358720895,0.31638878298004403]
[null,null,null,null,null,null,null,null,null,null,3786,5.766677570401E-2,6.6669539368522601E-2,5.1167966863778599E-2,0.319064541893466,8.2979360020208906E-2,0.142515718801763,0.14594532931096299,0.29254335805249398]
[null,null,null,null,null,null,null,null,null,null,3787,5.0174302489980102E-2,5.9002554647055602E-2,4.6197812238711201E-2,0.30701046307521601,7.5491620085880395E-2,0.12870014323437301,0.13211940449686599,0.26697377899743902]
[null,null,null,null,null,null,null,null,null,null,3788,4.53299850332066E-2,5.3293128237521102E-2,4.2822082491113897E-2,0.29149590492725602,6.9996264760538898E-2,0.118804817536439,0.122064943573417,0.24577681150487499]
[null,null,null,null,null,null,null,null,null,null,3789,4.4253416476310099E-2,5.0773124816656599E-2,4.1660343073125702E-2,0.27349502252503199,6.7502925325087698E-2,0.115134889517297,0.11788813816943999,0.23391251702642299]
[null,null,null,null,null,null,null,null,null,null,3790,4.6090269133932597E-2,5.1029139104767203E-2,4.2342508145230898E-2,0.25966356309819999,6.7645809399343504E-2,0.116677648217625,0.118923102352814,0.23218828343658901]
[null,null,null,null,null,null,null,null,null,null,3791,4.8889542346262603E-2,5.2757156284351299E-2,4.4024955319626302E-2,0.25866205679526599,6.9263455024772602E-2,0.120669533845096,0.12255991037689801,0.237610313619389]
[null,null,null,null,null,null,null,null,null,null,3792,5.07134646151454E-2,5.4335080910056302E-2,4.5587789880871699E-2,0.27396942139511798,7.09385829521261E-2,0.12397000564730799,0.12592891476642201,0.245299424686033]
[null,null,null,null,null,null,null,null,null,null,3793,5.0434781776427698E-2,5.4516611404148499E-2,4.61069856899817E-2,0.29839398550317497,7.1468872739753705E-2,0.12448885679298501,0.12663979130692801,0.25094327830874902]
[null,null,null,null,null,null,null,null,null,null,3794,4.8402208767541297E-2,5.3206870022630602E-2,4.5405135238266101E-2,0.32171631728704803,7.0798031228206507E-2,0.12261667285580501,0.124732433373707,0.25326590063702298]
[null,null,null,null,null,null,null,null,null,null,3795,4.5783124745322097E-2,5.1187896624528502E-2,4.3966735448356997E-2,0.33853889361563,6.9420583105920003E-2,0.11970522098209201,0.12146151415725,0.254459308307174]
[null,null,null,null,null,null,null,null,null,null,3796,4.3357008545532802E-2,4.9039251870375999E-2,4.2320499252707401E-2,0.350720785681153,6.7621946150383097E-2,0.116555317126843,0.11765233418521,0.254965360940967]
[null,null,null,null,null,null,null,null,null,null,3797,4.13492404457994E-2,4.7079600168702697E-2,4.0752014287065902E-2,0.36127390515112201,6.5458431282461704E-2,0.113112821216866,0.113483193023205,0.25184286216222901]
[null,null,null,null,null,null,null,null,null,null,3798,4.0433682394282799E-2,4.6144547984960503E-2,3.9986992749902202E-2,0.37036952970786602,6.4121893026168095E-2,0.111223479344605,0.111020995647409,0.245835134798396]
[null,null,null,null,null,null,null,null,null,null,3799,4.1622535858979799E-2,4.7532045687471797E-2,4.0968712508898698E-2,0.37489137180924298,6.5595219610614597E-2,0.11392954117969201,0.113722831150987,0.24403981178263801]
[null,null,null,null,null,null,null,null,null,null,3800,4.5579321246658498E-2,5.2034578474452003E-2,4.41219266898163E-2,0.36915620384333497,7.09577935142994E-2,0.122991523072578,0.12360965756801599,0.25497015011073898]
[null,null,null,null,null,null,null,null,null,null,3801,5.1595287395220298E-2,5.88234005120747E-2,4.8789167527809797E-2,0.35053693957101401,7.8902873441756297E-2,0.13620767068846301,0.138470468960843,0.27804782922926902]
[null,null,null,null,null,null,null,null,null,null,3802,5.7731844112905002E-2,6.5587219087300905E-2,5.3414173839154699E-2,0.32267257054167497,8.6402681786880001E-2,0.14854060590198401,0.152759418583403,0.303265770986203]
[null,null,null,null,null,null,null,null,null,null,3803,6.2366230359048799E-2,7.0449927443764396E-2,5.6777770806362302E-2,0.29416162525394102,9.1177622203364006E-2,0.156289933931922,0.161964398716515,0.32056054521173899]
[null,null,null,null,null,null,null,null,null,null,3804,6.4509534304006994E-2,7.2261128649308295E-2,5.8188966565190903E-2,0.27397259848498101,9.2414821295003002E-2,0.15809279151643399,0.16424367467737799,0.325142522044719]
[null,null,null,null,null,null,null,null,null,null,3805,6.4187180698320703E-2,7.1215348328728501E-2,5.7652797380528503E-2,0.26743847430559098,9.0532216750018504E-2,0.154708484639734,0.16047289297453801,0.31754362380033202]
[null,null,null,null,null,null,null,null,null,null,3806,6.2387530387085902E-2,6.8627287982569604E-2,5.5736409409857801E-2,0.27449448893756301,8.6727050213188897E-2,0.148649758699095,0.153427743915169,0.30059913145391798]
[null,null,null,null,null,null,null,null,null,null,3807,6.0798363203504797E-2,6.6629737418565899E-2,5.3762893580819898E-2,0.28998275137007601,8.3275294814908696E-2,0.14392216074285299,0.14759290698072799,0.281983390722158]
[null,null,null,null,null,null,null,null,null,null,3808,6.0588691504790099E-2,6.6482813525231596E-2,5.2761717399510903E-2,0.30759664205180598,8.1840217237722696E-2,0.143227269719129,0.14605763159368301,0.26977072239861899]
[null,null,null,null,null,null,null,null,null,null,3809,6.15500342402579E-2,6.7808730429032696E-2,5.2985300156375398E-2,0.32228189648090999,8.2598128202216306E-2,0.14615345966735399,0.148375509795098,0.266494613530596]
[null,null,null,null,null,null,null,null,null,null,3810,6.2165412791689197E-2,6.8830037090767293E-2,5.3634070009597197E-2,0.33331039599079598,8.3739468133574996E-2,0.14916677402220899,0.150744022213015,0.267485404935624]
[null,null,null,null,null,null,null,null,null,null,3811,6.0880021554051103E-2,6.7791488264320895E-2,5.34994166059777E-2,0.34298074016964802,8.3113633782475299E-2,0.14837894458258499,0.14904057142518601,0.26461830884091198]
[null,null,null,null,null,null,null,null,null,null,3812,5.7386464251382802E-2,6.4403300174183303E-2,5.2014720054631002E-2,0.35256152055226098,8.0136385202437002E-2,0.143001709342297,0.142693131103309,0.25531656340964898]
[null,null,null,null,null,null,null,null,null,null,3813,5.2416883794178297E-2,5.94574256570094E-2,4.9466099798665002E-2,0.35946692947479097,7.5582243981304101E-2,0.13449263025203501,0.13367567880430301,0.24133931901063799]
[null,null,null,null,null,null,null,null,null,null,3814,4.70399008863654E-2,5.4233934432108201E-2,4.6546294015704003E-2,0.35864271199590497,7.0857872739462396E-2,0.125433182847981,0.12486775853998899,0.22629956838626]
[null,null,null,null,null,null,null,null,null,null,3815,4.2358582919582499E-2,4.9900905485240697E-2,4.3901508620359901E-2,0.34681904330698898,6.6992068744706604E-2,0.117774822467399,0.117763483327088,0.21259375334414901]
[null,null,null,null,null,null,null,null,null,null,3816,3.8924644132799502E-2,4.69104856564641E-2,4.17429413830279E-2,0.32865116641478698,6.40845670074561E-2,0.112017321490021,0.112074381135173,0.19965602593600701]
[null,null,null,null,null,null,null,null,null,null,3817,3.6609918137276203E-2,4.4757135761561401E-2,3.9740886515525903E-2,0.315069248068931,6.1365201834400099E-2,0.107020546900499,0.105983146793171,0.185603798969464]
[null,null,null,null,null,null,null,null,null,null,3818,3.46335008565355E-2,4.2421354273444498E-2,3.7358053959361398E-2,0.31450249530523999,5.7814498331121102E-2,0.10104763506978801,9.8071531779100399E-2,0.168778225836686]
[null,null,null,null,null,null,null,null,null,null,3819,3.2552109506222303E-2,3.9628047843903003E-2,3.4739787984949103E-2,0.32641862396438598,5.3625734584021E-2,9.4000028556208398E-2,8.8876271484076896E-2,0.15070269063184299]
[null,null,null,null,null,null,null,null,null,null,3820,3.0597785751970401E-2,3.7053463281312503E-2,3.2481496581657401E-2,0.34438050346932703,4.9742578321145203E-2,8.7353679770766496E-2,8.0462112186819298E-2,0.13495592778461901]
[null,null,null,null,null,null,null,null,null,null,3821,2.9376764464044799E-2,3.5573918758243499E-2,3.11252382826076E-2,0.36018208350659697,4.7154354844030001E-2,8.2805844248703006E-2,7.4702857629424801E-2,0.12456576246765499]
[null,null,null,null,null,null,null,null,null,null,3822,2.8781559181146998E-2,3.50810491186151E-2,3.0569366132635799E-2,0.36812450068540398,4.5866080930120803E-2,8.0516773213206397E-2,7.1597601086465401E-2,0.119820749832041]
[null,null,null,null,null,null,null,null,null,null,3823,2.8060868777124801E-2,3.4570218262345E-2,3.0183629129133902E-2,0.36662897874995098,4.5156496066748097E-2,7.9126973314375404E-2,6.9388952632437398E-2,0.117992324421774]
[null,null,null,null,null,null,null,null,null,null,3824,2.6958412749199599E-2,3.37096840855029E-2,2.9898953082658601E-2,0.36033704598412097,4.52432360625327E-2,7.8730364308215797E-2,6.8258030019408403E-2,0.118935221103614]
[null,null,null,null,null,null,null,null,null,null,3825,2.6052417539079099E-2,3.3006374118179298E-2,3.02083624166418E-2,0.35685199492099001,4.6714569977078499E-2,8.0355907103669702E-2,6.9680231761594102E-2,0.12458651086545799]
[null,null,null,null,null,null,null,null,null,null,3826,2.63336144973155E-2,3.3483881204599601E-2,3.1724127060516999E-2,0.36091170702894898,5.0125653373784801E-2,8.5144313406880501E-2,7.5445439088921401E-2,0.136836293648399]
[null,null,null,null,null,null,null,null,null,null,3827,2.8149963682706901E-2,3.5393187978293897E-2,3.4390760212219498E-2,0.37167510345695298,5.5049414824171E-2,9.2619695835266802E-2,8.4999307207979102E-2,0.15503490713589699]
[null,null,null,null,null,null,null,null,null,null,3828,3.11118602408979E-2,3.83248932007672E-2,3.7699085325535397E-2,0.384021954541935,6.0475290911874702E-2,0.101337781845802,9.6244893066181295E-2,0.17603507895134199]
[null,null,null,null,null,null,null,null,null,null,3829,3.41738726976452E-2,4.11445206792211E-2,4.0586129525535398E-2,0.39312391143761499,6.50070738683797E-2,0.10895566493280399,0.106221933062499,0.19518656291479999]
[null,null,null,null,null,null,null,null,null,null,3830,3.6227883657561098E-2,4.2786513871823501E-2,4.2043162605624497E-2,0.39518185773435699,6.7446199920748601E-2,0.113329829143762,0.11248212839145801,0.20908596153861]
[null,null,null,null,null,null,null,null,null,null,3831,3.6694960291178302E-2,4.2654803712618497E-2,4.15716571865474E-2,0.38882124483793401,6.7244278663890406E-2,0.113195086487378,0.113636287180068,0.21596601199232199]
[null,null,null,null,null,null,null,null,null,null,3832,3.59393463789449E-2,4.1339755279232802E-2,3.9767228401110397E-2,0.37745159441643999,6.5481010244830801E-2,0.11010903693055001,0.111026186236216,0.21826047382504801]
[null,null,null,null,null,null,null,null,null,null,3833,3.5212268456070499E-2,4.0206800790043497E-2,3.8014756517987899E-2,0.36682130615145703,6.40550426287851E-2,0.107397680069345,0.10854248673713,0.22263413524692799]
[null,null,null,null,null,null,null,null,null,null,3834,3.5811892280855399E-2,4.049522921096E-2,3.77780750628035E-2,0.36159415705748998,6.4750069407842795E-2,0.108441282378299,0.110326883017343,0.23390496202137401]
[null,null,null,null,null,null,null,null,null,null,3835,3.7748512255766899E-2,4.2048184873326899E-2,3.9297665316244297E-2,0.36114953626388102,6.7414925213064997E-2,0.113266310654093,0.116673221172542,0.249652732331168]
[null,null,null,null,null,null,null,null,null,null,3836,3.96973260100595E-2,4.3479009686952202E-2,4.1527425671208297E-2,0.36033053889706201,7.0312171383893701E-2,0.11866186806924001,0.123748851051194,0.261183741293462]
[null,null,null,null,null,null,null,null,null,null,3837,4.0319469149376903E-2,4.3559795769825202E-2,4.3014928464736001E-2,0.35494163225293601,7.1579109503144001E-2,0.121083019370696,0.12704617003674701,0.26138224543638899]
[null,null,null,null,null,null,null,null,null,null,3838,3.9259189201161303E-2,4.22676406896784E-2,4.2974070488800503E-2,0.34452634183366698,7.0258092891290799E-2,0.11896279897092001,0.124334889639874,0.24861598798722501]
[null,null,null,null,null,null,null,null,null,null,3839,3.73654631132051E-2,4.0793337006520498E-2,4.1761245303588997E-2,0.33448420728997202,6.7090037875962599E-2,0.11408267609070601,0.11777102001063799,0.227776339274533]
[null,null,null,null,null,null,null,null,null,null,3840,3.6261172113549303E-2,4.0902971576837303E-2,4.0802500876532699E-2,0.33161817652025599,6.4295202162440807E-2,0.110700246476005,0.11234242411185399,0.208208472337262]
[null,null,null,null,null,null,null,null,null,null,3841,3.7127192227295797E-2,4.3490238010519697E-2,4.1356008391252502E-2,0.33919630081215202,6.3944127500539003E-2,0.112210089151247,0.112537834386115,0.198447144516017]
[null,null,null,null,null,null,null,null,null,null,3842,4.0107372552772198E-2,4.8211346408749897E-2,4.3708296287890497E-2,0.35222703213064999,6.6603125743794206E-2,0.119159053827897,0.11934816889340701,0.20218479651899099]
[null,null,null,null,null,null,null,null,null,null,3843,4.43301271006089E-2,5.3617204623559199E-2,4.71260025282461E-2,0.360478733289677,7.1050390390005005E-2,0.129063969976945,0.13024118638058599,0.216075437938647]
[null,null,null,null,null,null,null,null,null,null,3844,4.8394145594961302E-2,5.8096128437623198E-2,5.0350080945526302E-2,0.35667720924433699,7.5362938878115404E-2,0.138337482909306,0.14101877314753999,0.232235193483534]
[null,null,null,null,null,null,null,null,null,null,3845,5.1120200778094801E-2,6.0686371952777998E-2,5.24337832355765E-2,0.33936027349074099,7.8083089723019097E-2,0.144270468123634,0.148311179905043,0.24421414974714301]
[null,null,null,null,null,null,null,null,null,null,3846,5.2112136387788E-2,6.13281091830307E-2,5.3081122626178603E-2,0.31207291269300502,7.8972250233467697E-2,0.14613472306677,0.150867227297691,0.249049828467272]
[null,null,null,null,null,null,null,null,null,null,3847,5.1437420884105398E-2,6.0240073933806301E-2,5.2273364294644901E-2,0.28103117528618599,7.8214707606200598E-2,0.143956770403944,0.14868789389855899,0.24650477613202601]
[null,null,null,null,null,null,null,null,null,null,3848,4.9500258910685602E-2,5.7684100627398802E-2,5.0307329643326897E-2,0.25574610356147198,7.6196217807952299E-2,0.13858063294068501,0.14270752163172301,0.237806407767023]
[null,null,null,null,null,null,null,null,null,null,3849,4.7494202177906501E-2,5.4772817866582502E-2,4.8235222649973E-2,0.24687214658359799,7.4232279194276898E-2,0.13281291464522399,0.13619616212607599,0.22807136035902001]
[null,null,null,null,null,null,null,null,null,null,3850,4.6679248035627001E-2,5.3063988153007897E-2,4.7202261417193699E-2,0.25763327134797698,7.3716112796517005E-2,0.12991157251819199,0.13255273723189001,0.22353928887319099]
[null,null,null,null,null,null,null,null,null,null,3851,4.7478004487966199E-2,5.3356142341818798E-2,4.7727158421519401E-2,0.28115180126321099,7.5203942575838997E-2,0.13107916966130501,0.132928750368869,0.22659741482829401]
[null,null,null,null,null,null,null,null,null,null,3852,4.9296000864584598E-2,5.5197830955562098E-2,4.9342037530122999E-2,0.30506438428600102,7.7842267617777697E-2,0.134767841371874,0.13569305476063301,0.23370841048069499]
[null,null,null,null,null,null,null,null,null,null,3853,5.0642615107779398E-2,5.6900536951034801E-2,5.0728635262977897E-2,0.32115191299923501,7.9298748144097098E-2,0.136796567454611,0.13639138273598,0.236010026419011]
[null,null,null,null,null,null,null,null,null,null,3854,5.0316346607842601E-2,5.6981832743365102E-2,5.0618722949380197E-2,0.32883192800782901,7.7459771801066293E-2,0.13377855571931899,0.131607523382545,0.225709593970077]
[null,null,null,null,null,null,null,null,null,null,3855,4.81133995719751E-2,5.5142226057829598E-2,4.8799298714648498E-2,0.332356723633632,7.2334696716225597E-2,0.12564890645468799,0.121609006431974,0.203132012379453]
[null,null,null,null,null,null,null,null,null,null,3856,4.4832014149056097E-2,5.2053502216817898E-2,4.5937914764062997E-2,0.33619823220981998,6.5773183591250103E-2,0.11520610702896,0.109985710852412,0.17642311847050501]
[null,null,null,null,null,null,null,null,null,null,3857,4.1321523762853397E-2,4.8507372583721002E-2,4.2961846079171202E-2,0.34104723764373501,5.97750974481598E-2,0.105344957846199,9.9984241010828895E-2,0.15359691132318001]
[null,null,null,null,null,null,null,null,null,null,3858,3.8356941067454499E-2,4.54337289140338E-2,4.0603082339930201E-2,0.34591108264643899,5.5711817663712498E-2,9.8261442043308805E-2,9.3450816423168298E-2,0.13881711895336499]
[null,null,null,null,null,null,null,null,null,null,3859,3.6703259326363598E-2,4.3817315113685799E-2,3.9433748436124301E-2,0.35191413021201601,5.4188199948693401E-2,9.5452697890109406E-2,9.1248730263261302E-2,0.133073010970572]
[null,null,null,null,null,null,null,null,null,null,3860,3.7082145711992302E-2,4.4533881618982099E-2,4.0035331000644797E-2,0.36176970823481303,5.56187879705594E-2,9.8258586995009195E-2,9.4109500350754896E-2,0.137129902880822]
[null,null,null,null,null,null,null,null,null,null,3861,3.9552957058965998E-2,4.74780364150129E-2,4.2520744872535002E-2,0.3756915380816,5.9926526966363101E-2,0.10636827282703,0.10198228754296,0.15121646205943601]
[null,null,null,null,null,null,null,null,null,null,3862,4.2997844940345198E-2,5.12349974790903E-2,4.5862081399878601E-2,0.38850432094444498,6.5548601574111506E-2,0.11667829940963501,0.112089768179297,0.17154712932229699]
[null,null,null,null,null,null,null,null,null,null,3863,4.56801929640379E-2,5.3810501711753299E-2,4.8534055459247001E-2,0.39322876569174903,7.0326432881432602E-2,0.124946746915443,0.120337610076416,0.19088821871668801]
[null,null,null,null,null,null,null,null,null,null,3864,4.7104054432851199E-2,5.4811155032781597E-2,4.9973779295154099E-2,0.38768093271335402,7.3860722362557196E-2,0.13032474617589701,0.126312176572457,0.20740894857973]
[null,null,null,null,null,null,null,null,null,null,3865,4.7927564821624198E-2,5.5227775167315002E-2,5.0784053347319502E-2,0.37610782539483001,7.7115583845197594E-2,0.13453900019336601,0.131940963488093,0.22391435581784]
[null,null,null,null,null,null,null,null,null,null,3866,4.9072609425927199E-2,5.64167302384187E-2,5.1958495272079602E-2,0.36256679776553802,8.1250326341525902E-2,0.13992953825284199,0.13968286811973599,0.244171629635835]
[null,null,null,null,null,null,null,null,null,null,3867,5.0471982291187802E-2,5.8532379276936899E-2,5.38019428220739E-2,0.34535789377185699,8.5972817793619996E-2,0.14632379112226301,0.14914135765140499,0.26740349548687598]
[null,null,null,null,null,null,null,null,null,null,3868,5.1443252581819303E-2,6.0587147618182097E-2,5.5747747647837902E-2,0.32145243670121898,9.0010640483125001E-2,0.15194792535455601,0.157899809780567,0.28886016911149498]
[null,null,null,null,null,null,null,null,null,null,3869,5.1338163429236298E-2,6.1388988947015E-2,5.6936311093748797E-2,0.29388409504948798,9.1955461273475605E-2,0.15449238605758001,0.16298254054097,0.30311433546955602]
[null,null,null,null,null,null,null,null,null,null,3870,5.0097248362074E-2,6.0337055094168798E-2,5.6603664643132601E-2,0.27160245151606899,9.0995122564947198E-2,0.15233946319548999,0.16203915568576999,0.30548974865051398]
[null,null,null,null,null,null,null,null,null,null,3871,4.8192269402400401E-2,5.78155731886087E-2,5.4576597888759702E-2,0.26284596046294401,8.7406091093600202E-2,0.145661512960503,0.15509503169734101,0.29419709384536202]
[null,null,null,null,null,null,null,null,null,null,3872,4.6742454814351901E-2,5.5195605657193503E-2,5.16735578034212E-2,0.26981729249464398,8.2547880684755104E-2,0.137038402782552,0.14470247082340501,0.27309215022761901]
[null,null,null,null,null,null,null,null,null,null,3873,4.6436068340263398E-2,5.3550648991854001E-2,4.8941878726532002E-2,0.29064671643881801,7.8021931573255807E-2,0.12941751028611601,0.13453507292199701,0.24905124707464901]
[null,null,null,null,null,null,null,null,null,null,3874,4.71222312140126E-2,5.3088018343016297E-2,4.70187545515484E-2,0.32095579227293503,7.4768417858894598E-2,0.12445970997247501,0.12695002938735001,0.22886527718632599]
[null,null,null,null,null,null,null,null,null,null,3875,4.77013495488025E-2,5.2865412277224598E-2,4.5743394411823499E-2,0.35291804419765899,7.2483230495551998E-2,0.121413454543052,0.122063097708868,0.21528379224010699]
[null,null,null,null,null,null,null,null,null,null,3876,4.7187282416669397E-2,5.2036007515638902E-2,4.4804342504668603E-2,0.37715716188709703,7.0724579254914099E-2,0.11909496209423601,0.11902823839291,0.20781144206594199]
[null,null,null,null,null,null,null,null,null,null,3877,4.5892422962414303E-2,5.0951267637066901E-2,4.4423562616061098E-2,0.38583593188593601,6.9839132021037101E-2,0.118179937716995,0.118129945009085,0.20599788391404]
[null,null,null,null,null,null,null,null,null,null,3878,4.5141746400520003E-2,5.0912605924670097E-2,4.5365953475215298E-2,0.37881126892630201,7.1139391971881599E-2,0.121011125097825,0.121428207301674,0.21218949863294301]
[null,null,null,null,null,null,null,null,null,null,3879,4.5879604779005399E-2,5.27011269168879E-2,4.7682407462450803E-2,0.36365369264347802,7.4960903768438406E-2,0.12810974709438799,0.129485852601603,0.22723884902986599]
[null,null,null,null,null,null,null,null,null,null,3880,4.7621555056243998E-2,5.5463671455405997E-2,5.0333860326925703E-2,0.35178859676989199,7.9895581549887101E-2,0.136724715272562,0.13949140401579899,0.24650884615004301]
[null,null,null,null,null,null,null,null,null,null,3881,4.9306285758786102E-2,5.7883551056890102E-2,5.2136990859698501E-2,0.35261880891929098,8.3870128970967101E-2,0.143248750959828,0.14743551169649299,0.26268854975305]
[null,null,null,null,null,null,null,null,null,null,3882,5.0336746720997597E-2,5.9108861191324802E-2,5.2576911888204902E-2,0.366783774139746,8.5426447167929603E-2,0.14564185145360301,0.15039297794086201,0.26979689736237999]
[null,null,null,null,null,null,null,null,null,null,3883,5.0396555272933997E-2,5.8821095720756902E-2,5.1703342673293698E-2,0.38552154779248998,8.4013616638130797E-2,0.143339029694869,0.147629457440308,0.26522910226074597]
[null,null,null,null,null,null,null,null,null,null,3884,4.9133318375908397E-2,5.6730794575954299E-2,4.9626259095478298E-2,0.39779836711029998,7.9689228867742407E-2,0.136435793997425,0.13939162501296201,0.25093696751452699]
[null,null,null,null,null,null,null,null,null,null,3885,4.6566329543518699E-2,5.3021287761164403E-2,4.6719143376724503E-2,0.398519222381024,7.3563222456307295E-2,0.12634381026925101,0.127848314385136,0.23196299949007801]
[null,null,null,null,null,null,null,null,null,null,3886,4.3993151957004602E-2,4.92833105527491E-2,4.4248248179547298E-2,0.38988963897913398,6.8510590795168705E-2,0.11743237410731,0.118368825380455,0.22005585774459099]
[null,null,null,null,null,null,null,null,null,null,3887,4.3493719691999798E-2,4.7852522609153098E-2,4.3817904616544397E-2,0.379233271102634,6.7408356647495199E-2,0.11463466964822,0.116616453755821,0.22670914111509199]
[null,null,null,null,null,null,null,null,null,null,3888,4.59914744208786E-2,4.9703594127638501E-2,4.59140497240021E-2,0.373388201834781,7.0582020366234399E-2,0.11910993337786201,0.123482327865861,0.250439371586408]
[null,null,null,null,null,null,null,null,null,null,3889,5.0852630688252E-2,5.4262179250365798E-2,4.9695420558648298E-2,0.37314757776975199,7.6544674531199897E-2,0.12885941518506899,0.13584745717962399,0.27895579118338898]
[null,null,null,null,null,null,null,null,null,null,3890,5.6737277716338401E-2,6.0073617660893197E-2,5.4030629829808503E-2,0.37439094291545799,8.33333312888664E-2,0.14061135534966099,0.14949863125542301,0.30007821378063798]
[null,null,null,null,null,null,null,null,null,null,3891,6.2231990766653603E-2,6.5723903134716294E-2,5.7961142199789303E-2,0.37462074653560501,8.9244416739070895E-2,0.15138247737344801,0.16107428842421201,0.309339907949499]
[null,null,null,null,null,null,null,null,null,null,3892,6.6142001040543796E-2,6.9923961704613194E-2,6.0793981640911501E-2,0.37396110508941199,9.2814876424472198E-2,0.15838906065100899,0.168100134195071,0.30867527626844699]
[null,null,null,null,null,null,null,null,null,null,3893,6.7467035133239803E-2,7.1578566221528195E-2,6.1750339424715098E-2,0.37388945871201201,9.2847550157730802E-2,0.15943762350583901,0.16869730136324301,0.299334012952999]
[null,null,null,null,null,null,null,null,null,null,3894,6.6481932927545798E-2,7.0948374167459194E-2,6.0965846820822803E-2,0.37557477702911601,9.0257854008823996E-2,0.15577883773559001,0.16434572285361701,0.28444374913567799]
[null,null,null,null,null,null,null,null,null,null,3895,6.4397535840632403E-2,6.9221081883278093E-2,5.9343959831694403E-2,0.37917037999095499,8.6971090593336298E-2,0.15064346620358399,0.15854290878472799,0.26929687323915902]
[null,null,null,null,null,null,null,null,null,null,3896,6.2469939974234702E-2,6.7541732013062197E-2,5.7834209668590798E-2,0.38297981072450699,8.4496122913879507E-2,0.14672265830341399,0.153911444847736,0.259274174034482]
[null,null,null,null,null,null,null,null,null,null,3897,6.1201052577080098E-2,6.6163284722892401E-2,5.6690160437911197E-2,0.38257722607293798,8.2775705546767303E-2,0.14412146833245601,0.15028713585527601,0.253360187059543]
[null,null,null,null,null,null,null,null,null,null,3898,6.0390402684925702E-2,6.4804092474342101E-2,5.57234432975834E-2,0.37344369176520797,8.1330569266069297E-2,0.14198213032149701,0.146822954764317,0.24801176708912201]
[null,null,null,null,null,null,null,null,null,null,3899,6.0337039513777398E-2,6.3959802893271106E-2,5.5324932392209598E-2,0.35976613707231198,8.1061189214697293E-2,0.14138271438345501,0.14483245271197701,0.244280130061758]
[null,null,null,null,null,null,null,null,null,null,3900,6.1283229177052499E-2,6.4029468658561406E-2,5.5840132540949203E-2,0.351947809622154,8.2509602481175198E-2,0.143257101626552,0.14554777401163899,0.24593370725404601]
[null,null,null,null,null,null,null,null,null,null,3901,6.2764345569793406E-2,6.4952332818930994E-2,5.7129585533619E-2,0.35952057526673198,8.5565756083517006E-2,0.14748897212216799,0.14900831583268001,0.25696235029966202]
[null,null,null,null,null,null,null,null,null,null,3902,6.3882905854562994E-2,6.6083385415140805E-2,5.8448449041746502E-2,0.38113565454541398,8.89701328100235E-2,0.15223577201025301,0.153436360920787,0.27685213718363799]
[null,null,null,null,null,null,null,null,null,null,3903,6.3690460110356506E-2,6.6619728757706706E-2,5.8940570875349901E-2,0.40652101874128799,9.1115569860182793E-2,0.155337469372925,0.156738284516449,0.30228947462155598]
[null,null,null,null,null,null,null,null,null,null,3904,6.2458583592415198E-2,6.6372175348562407E-2,5.84162340472449E-2,0.42256794127379099,9.1250213551794607E-2,0.155832715881291,0.158044763436784,0.32670474061556598]
[null,null,null,null,null,null,null,null,null,null,3905,6.1128335372277902E-2,6.5509668311274194E-2,5.71461485935141E-2,0.422280892312836,8.9549873095899804E-2,0.154003159307874,0.157176123121649,0.34091657223543997]
[null,null,null,null,null,null,null,null,null,null,3906,6.1157446068169301E-2,6.5077273815103101E-2,5.6276902762061098E-2,0.40900253018035598,8.7942592642638207E-2,0.152527576968291,0.156376936924633,0.34163208589687999]
[null,null,null,null,null,null,null,null,null,null,3907,6.3298246836523894E-2,6.6014031447548402E-2,5.6832929720207502E-2,0.39389019845675699,8.8379992087579101E-2,0.15410228913075999,0.15836964946052101,0.333958010101712]
[null,null,null,null,null,null,null,null,null,null,3908,6.7332433741747494E-2,6.8660212283105801E-2,5.9139702854617303E-2,0.38907600579194002,9.1523889697879404E-2,0.159660656868467,0.164720598987765,0.32850124154513699]
[null,null,null,null,null,null,null,null,null,null,3909,7.1957638885723998E-2,7.2005665366523405E-2,6.2204609678472599E-2,0.399714083457819,9.5898959736429396E-2,0.16662293141335,0.173080943316261,0.33034930715322902]
[null,null,null,null,null,null,null,null,null,null,3910,7.5571885440415904E-2,7.4469021274679303E-2,6.4528648457637505E-2,0.41966572629166699,9.9124670587352304E-2,0.17119435790068199,0.17899296172527701,0.33548323347345599]
[null,null,null,null,null,null,null,null,null,null,3911,7.7474732480903905E-2,7.5366288349959606E-2,6.5407934655512798E-2,0.44020176835226199,0.100144103896563,0.172024420707517,0.18028064154710199,0.33857076202720099]
[null,null,null,null,null,null,null,null,null,null,3912,7.7933414540007795E-2,7.5002238973820801E-2,6.5122144312161206E-2,0.45360021077388601,9.9231820121859701E-2,0.17012830125308401,0.17773959585598201,0.33764055934856502]
[null,null,null,null,null,null,null,null,null,null,3913,7.7347682394069806E-2,7.4109429113258393E-2,6.4423616777613699E-2,0.457289399584481,9.7384546367036098E-2,0.167409272558001,0.174124487541088,0.33469817969430499]
[null,null,null,null,null,null,null,null,null,null,3914,7.5826981100215796E-2,7.3011025426483106E-2,6.3598078073293401E-2,0.45365100095403399,9.5377095846774895E-2,0.164644234183906,0.17132410044048199,0.33021731097866103]
[null,null,null,null,null,null,null,null,null,null,3915,7.3280833417411706E-2,7.1580066952931704E-2,6.2489983155121102E-2,0.44590855751274999,9.3533480526710996E-2,0.161708751192772,0.16957172283258701,0.32415990741647499]
[null,null,null,null,null,null,null,null,null,null,3916,6.9799743915660295E-2,6.9619216757611194E-2,6.0833683224486401E-2,0.43594946423845099,9.1603284329491094E-2,0.15804672972325901,0.16759677300530801,0.315099629749091]
[null,null,null,null,null,null,null,null,null,null,3917,6.5790312204319204E-2,6.6934215265238003E-2,5.8592485113358697E-2,0.423196931887734,8.8956282810330495E-2,0.15302013838537201,0.163385795246386,0.301386693437728]
[null,null,null,null,null,null,null,null,null,null,3918,6.1540528360111098E-2,6.3403249670144296E-2,5.5878371352026703E-2,0.406737777978603,8.4791759437958997E-2,0.14585732995986,0.15519857295359701,0.28155514375489599]
[null,null,null,null,null,null,null,null,null,null,3919,5.7267529354973902E-2,5.9118225518013601E-2,5.2925811635295E-2,0.38836654158538098,7.9073765469986304E-2,0.13678402783962701,0.143215316092699,0.25600856258314603]
[null,null,null,null,null,null,null,null,null,null,3920,5.3212123812780301E-2,5.4632822286372701E-2,4.9920332258498797E-2,0.37288724453997302,7.2783963204353E-2,0.127314526855479,0.12988993060713899,0.22828785630159201]
[null,null,null,null,null,null,null,null,null,null,3921,4.9776299706564497E-2,5.0901570252733702E-2,4.73159509562266E-2,0.363895721907808,6.7529975309565698E-2,0.119858148534926,0.118793713348643,0.20447997852032099]
[null,null,null,null,null,null,null,null,null,null,3922,4.7429552221416101E-2,4.8621502108105903E-2,4.5631501645418099E-2,0.358677023019497,6.4487596073603007E-2,0.116054835822789,0.112304356647993,0.189181296716909]
[null,null,null,null,null,null,null,null,null,null,3923,4.6037144423013099E-2,4.7467773406382703E-2,4.4848315625007101E-2,0.35398098893971103,6.3295605412974201E-2,0.115148934397972,0.110085428094526,0.18255528275147601]
[null,null,null,null,null,null,null,null,null,null,3924,4.5117119719507298E-2,4.6574473432187E-2,4.4399713708081198E-2,0.34799022740800301,6.2882036383852993E-2,0.115087694901312,0.109956674236085,0.18150951483422001]
[null,null,null,null,null,null,null,null,null,null,3925,4.3841019944119403E-2,4.5093157935297098E-2,4.3471056890302E-2,0.34188712167121299,6.1713034016666703E-2,0.113228731119843,0.108970958275327,0.18085373515139899]
[null,null,null,null,null,null,null,null,null,null,3926,4.1469460957447003E-2,4.2448860427107597E-2,4.13158184895102E-2,0.341319354469789,5.8658810214794001E-2,0.107592572381334,0.104514055337673,0.175269402411073]
[null,null,null,null,null,null,null,null,null,null,3927,3.7901212552126903E-2,3.8535040763933298E-2,3.7744911557261597E-2,0.34909375274378301,5.3449566918434999E-2,9.7705195234983597E-2,9.5438555844771497E-2,0.16157771393419501]
[null,null,null,null,null,null,null,null,null,null,3928,3.3429396884306302E-2,3.3761598451404001E-2,3.3154226964565298E-2,0.36313533893097399,4.6851363160564999E-2,8.4937269911658494E-2,8.2754777658291007E-2,0.140375274684295]
[null,null,null,null,null,null,null,null,null,null,3929,2.8796966121611402E-2,2.8789572901852599E-2,2.8277895740700301E-2,0.376331239117284,4.00673893256486E-2,7.1736844546390996E-2,6.8709756167306096E-2,0.11592376800701]
[null,null,null,null,null,null,null,null,null,null,3930,2.44958921350109E-2,2.42381738427952E-2,2.3806069901105498E-2,0.38349534190575602,3.4039301372790702E-2,5.9971070177471199E-2,5.48810081873582E-2,9.2122027304516602E-2]
[null,null,null,null,null,null,null,null,null,null,3931,2.1072750246595998E-2,2.0695731985135898E-2,2.0428527626161399E-2,0.38457600607914899,2.9487451634624299E-2,5.1368004197814197E-2,4.2634860682445798E-2,7.2051361478571205E-2]
[null,null,null,null,null,null,null,null,null,null,3932,1.8820214253756299E-2,1.8310297405973699E-2,1.84068110805111E-2,0.38303441536245503,2.67056166139296E-2,4.6356867042027197E-2,3.3126498927758298E-2,5.7055422636318603E-2]
[null,null,null,null,null,null,null,null,null,null,3933,1.7715697512291399E-2,1.7038944963410199E-2,1.77518566764867E-2,0.38260065590421899,2.5826064983430298E-2,4.4840924413962799E-2,2.8151764862130099E-2,4.9386290750793801E-2]
[null,null,null,null,null,null,null,null,null,null,3934,1.7806344731774299E-2,1.6959251996151101E-2,1.8344151648162398E-2,0.384513142243252,2.6980062228198001E-2,4.6523807666205001E-2,2.9192857838862499E-2,5.1771326762179701E-2]
[null,null,null,null,null,null,null,null,null,null,3935,1.9127486528991201E-2,1.8205501545366001E-2,2.00556323104224E-2,0.39003672285183599,3.0122313944147001E-2,5.1168658662611097E-2,3.6415217418605803E-2,6.5303801118576504E-2]
[null,null,null,null,null,null,null,null,null,null,3936,2.19676799288454E-2,2.08297398847706E-2,2.27682183188978E-2,0.40038686440781401,3.51584888646886E-2,5.8879913280451501E-2,4.8520481601496003E-2,8.8701343688731796E-2]
[null,null,null,null,null,null,null,null,null,null,3937,2.6263694150672999E-2,2.4624941512254701E-2,2.6307583757065701E-2,0.41428945290688302,4.15045112699131E-2,6.9070220849392197E-2,6.2915840364455605E-2,0.117146114395257]
[null,null,null,null,null,null,null,null,null,null,3938,3.1323305601034801E-2,2.8980837514191001E-2,3.0123288132825901E-2,0.42943798797015897,4.8172186344208202E-2,8.0053730374010701E-2,7.6605145007126896E-2,0.14387215775853199]
[null,null,null,null,null,null,null,null,null,null,3939,3.59728491995868E-2,3.2965096597186903E-2,3.3388268940523699E-2,0.44369328854864298,5.3659147429596002E-2,8.9136285199935494E-2,8.6461475251771003E-2,0.162145998047975]
[null,null,null,null,null,null,null,null,null,null,3940,3.9238126767646701E-2,3.5979159592146398E-2,3.5527868940632597E-2,0.456416472560433,5.6989729456457097E-2,9.4549203368538198E-2,9.0720323512573794E-2,0.16841908604657899]
[null,null,null,null,null,null,null,null,null,null,3941,4.0939510833664698E-2,3.78958766150157E-2,3.6455820779586798E-2,0.46715239923845098,5.7889559273739503E-2,9.6177865203657995E-2,8.9513505330676493E-2,0.16368393602867401]
[null,null,null,null,null,null,null,null,null,null,3942,4.15369746755931E-2,3.8955918755555603E-2,3.66834228369236E-2,0.47327776569290497,5.7180244400386E-2,9.5597293409869305E-2,8.5171528842500704E-2,0.15303473772411999]
[null,null,null,null,null,null,null,null,null,null,3943,4.2236516638252203E-2,4.0049547741021298E-2,3.7253541758851198E-2,0.47103382285415002,5.6643442734518198E-2,9.5924442499323304E-2,8.1589093941117505E-2,0.143911117084183]
[null,null,null,null,null,null,null,null,null,null,3944,4.4388218442022197E-2,4.2240698882863803E-2,3.93048448787452E-2,0.459021346006733,5.8140857155553498E-2,0.10009805193401899,8.2724079256601801E-2,0.143537984120581]
[null,null,null,null,null,null,null,null,null,null,3945,4.8485484959589098E-2,4.5950272559954798E-2,4.3185501861531202E-2,0.442364847224127,6.2270079974212203E-2,0.10887390223034001,9.0221227317891797E-2,0.15576849128074199]
[null,null,null,null,null,null,null,null,null,null,3946,5.3797105452525203E-2,5.0576723541815298E-2,4.8130840074579899E-2,0.43115173884540797,6.8009521796311395E-2,0.120142856579057,0.102145280013619,0.17792997844236999]
[null,null,null,null,null,null,null,null,null,null,3947,5.89614653577437E-2,5.5051146024257702E-2,5.2920793738997399E-2,0.43342702652239401,7.3927156494699497E-2,0.13110335866207401,0.115445531680946,0.20463832516359701]
[null,null,null,null,null,null,null,null,null,null,3948,6.3369273489063099E-2,5.8901711323165698E-2,5.6968339214989297E-2,0.45021206996497898,7.9707524989837297E-2,0.14082702256698301,0.12869180676744599,0.23255375666245201]
[null,null,null,null,null,null,null,null,null,null,3949,6.7426569693285393E-2,6.2516827393386903E-2,6.0602290227263197E-2,0.474479518818547,8.6042839631690002E-2,0.15048569780493401,0.142689202400543,0.26200164857773001]
[null,null,null,null,null,null,null,null,null,null,3950,7.1366544703220597E-2,6.6091725238455995E-2,6.3986818594424594E-2,0.49470763456884698,9.2975559502831207E-2,0.16046721104304601,0.157187538993041,0.29213134061500901]
[null,null,null,null,null,null,null,null,null,null,3951,7.4713473528858695E-2,6.91873830320964E-2,6.6789906608032898E-2,0.50218435480177004,9.9201751182910497E-2,0.169244357191078,0.169870625825499,0.31850372122798198]
[null,null,null,null,null,null,null,null,null,null,3952,7.7271589421083503E-2,7.1658003318449501E-2,6.8716864302766398E-2,0.49417828840604,0.10373034225793699,0.17575340737299899,0.17875616918360099,0.33708735599827699]
[null,null,null,null,null,null,null,null,null,null,3953,7.90515587290746E-2,7.3567938595915996E-2,6.9764372734816504E-2,0.47674903715800598,0.105854252324651,0.17907898306502301,0.18266385211060901,0.34568510435696798]
[null,null,null,null,null,null,null,null,null,null,3954,7.9813908958186797E-2,7.4520794114745895E-2,6.9749366210580796E-2,0.459662727047988,0.10496038390823099,0.17825344735780099,0.18045146023918199,0.34213282754982]
[null,null,null,null,null,null,null,null,null,null,3955,7.8822946756759493E-2,7.3730304737086902E-2,6.8170835776019498E-2,0.45166449498047401,0.100386494772262,0.17204716146662899,0.170907804749865,0.324017863867891]
[null,null,null,null,null,null,null,null,null,null,3956,7.5644610845437998E-2,7.0765386091562604E-2,6.4885134756486496E-2,0.45276297838061003,9.2645883750639396E-2,0.16090863691701399,0.15488589745274201,0.292464639895885]
[null,null,null,null,null,null,null,null,null,null,3957,7.0934414346199501E-2,6.6219780515562404E-2,6.0547465800408297E-2,0.45456049574366297,8.3644191934287002E-2,0.147394467315663,0.136102693872164,0.25437073658295101]
[null,null,null,null,null,null,null,null,null,null,3958,6.5517438683299997E-2,6.0828173070980901E-2,5.5842328481034799E-2,0.44897706373315599,7.5290801941375204E-2,0.13378585087039899,0.118184671842349,0.21726134849955001]
[null,null,null,null,null,null,null,null,null,null,3959,5.9548983419663699E-2,5.4649321954348601E-2,5.0723011177180102E-2,0.43508940387048101,6.7950424400277404E-2,0.12032577718805,0.10229684444277,0.184405764074243]
[null,null,null,null,null,null,null,null,null,null,3960,5.2923141610684198E-2,4.78293810729623E-2,4.5167041059168703E-2,0.42125875133791102,6.14297500000274E-2,0.106951091878252,8.8136793760974705E-2,0.155755437925269]
[null,null,null,null,null,null,null,null,null,null,3961,4.6325880114366197E-2,4.1363834960098697E-2,3.9876918632745902E-2,0.41773878620311899,5.6015125941449397E-2,9.5167063500507298E-2,7.6708841139041598E-2,0.132859871399163]
[null,null,null,null,null,null,null,null,null,null,3962,4.0902968641793498E-2,3.6514583551167497E-2,3.5825647131484402E-2,0.42894465772568602,5.2326653036642801E-2,8.6978659794967106E-2,6.9413875433888994E-2,0.118691076953394]
[null,null,null,null,null,null,null,null,null,null,3963,3.7018798532992898E-2,3.3597085641312301E-2,3.3239481318651697E-2,0.451180054183485,5.0064229660752101E-2,8.2342320784008896E-2,6.6337819517174795E-2,0.11366995503465201]
[null,null,null,null,null,null,null,null,null,null,3964,3.40303502123014E-2,3.1719996424884198E-2,3.1277513655728999E-2,0.47457193002416698,4.8117187136278897E-2,7.9128339021499502E-2,6.5249249552541397E-2,0.11343299890632801]
[null,null,null,null,null,null,null,null,null,null,3965,3.0889609794312899E-2,2.96276435891447E-2,2.8953669074925699E-2,0.49297045856762201,4.5212291688026998E-2,7.4501101016788807E-2,6.2985213795736197E-2,0.11150850385231199]
[null,null,null,null,null,null,null,null,null,null,3966,2.7412064687976599E-2,2.6922855005750201E-2,2.6129141734189801E-2,0.50711593528492005,4.1342708904274203E-2,6.8087321496354797E-2,5.7964396988346802E-2,0.104025841471262]
[null,null,null,null,null,null,null,null,null,null,3967,2.4454905477331E-2,2.43401845196719E-2,2.3548222114223898E-2,0.52094316122472395,3.7612703283457102E-2,6.1722994768105402E-2,5.1626345193065797E-2,9.3157770692329403E-2]
[null,null,null,null,null,null,null,null,null,null,3968,2.3003809798746801E-2,2.28144034370403E-2,2.21762730243911E-2,0.533680016233546,3.5391996030622402E-2,5.80771965017155E-2,4.7681647468440801E-2,8.5664095335102997E-2]
[null,null,null,null,null,null,null,null,null,null,3969,2.3649112185978202E-2,2.31471234626879E-2,2.2721467724227E-2,0.53868185126380597,3.5793964386194997E-2,5.9241854124142998E-2,4.9759098339049401E-2,8.8295692339875095E-2]
[null,null,null,null,null,null,null,null,null,null,3970,2.64032499494696E-2,2.5593447402107498E-2,2.5448113353215802E-2,0.53209662942255798,3.93091710770751E-2,6.5992178529423906E-2,5.9150815602566902E-2,0.103857878097604]
[null,null,null,null,null,null,null,null,null,null,3971,3.0837222290409201E-2,2.9873419559651199E-2,3.0145042320641802E-2,0.51790983455411999,4.55841409823948E-2,7.7631309536039805E-2,7.4152915337114406E-2,0.12944825651018499]
[null,null,null,null,null,null,null,null,null,null,3972,3.6650997872439903E-2,3.56453559018612E-2,3.6385231585765503E-2,0.50520994126187202,5.4089227450367101E-2,9.2795146939260997E-2,9.1801549504000393E-2,0.159734538036818]
[null,null,null,null,null,null,null,null,null,null,3973,4.3655235399580099E-2,4.2625024464284102E-2,4.3637841842262201E-2,0.49918275992057798,6.4058241305797403E-2,0.110011181480918,0.10987678684419799,0.19103291995288901]
[null,null,null,null,null,null,null,null,null,null,3974,5.1598634988476597E-2,5.0340588280869299E-2,5.1276951240857203E-2,0.49820553848952298,7.46047247433822E-2,0.12773595895725201,0.12694877548865899,0.22173320917092099]
[null,null,null,null,null,null,null,null,null,null,3975,6.0009400934388897E-2,5.8280111460591602E-2,5.8651670014984503E-2,0.49746130250510701,8.4777128782747999E-2,0.14462531112158999,0.14269025226636001,0.25134957857186802]
[null,null,null,null,null,null,null,null,null,null,3976,6.8254925261466495E-2,6.5763906712892603E-2,6.5201635102843006E-2,0.49371344027700398,9.3624906320638301E-2,0.15945561268912201,0.15661896177829801,0.27857294011349398]
[null,null,null,null,null,null,null,null,null,null,3977,7.5655360314778E-2,7.2262750942581194E-2,7.0459888261481293E-2,0.48835945149169102,0.10061340079115701,0.17131889931185501,0.16821419642844701,0.30098246660783001]
[null,null,null,null,null,null,null,null,null,null,3978,8.1858543609038006E-2,7.7624315772285804E-2,7.4543649172193402E-2,0.48466385381862698,0.10597339319259901,0.180532523688816,0.177638231536805,0.31762255248745103]
[null,null,null,null,null,null,null,null,null,null,3979,8.6407967337102598E-2,8.1565150517898394E-2,7.7419988078191601E-2,0.48512701835247501,0.10969411406073599,0.18696445336558501,0.184449769241436,0.32797416730254098]
[null,null,null,null,null,null,null,null,null,null,3980,8.9230120511195804E-2,8.39564434889329E-2,7.9269075846237894E-2,0.487727771096861,0.111865835494746,0.19090701392305801,0.189088231678118,0.332698084305246]
[null,null,null,null,null,null,null,null,null,null,3981,9.0897809170778304E-2,8.5259296681354305E-2,8.0656062713969995E-2,0.489564312362953,0.113524203202541,0.19382640706927601,0.19318189511953901,0.335268612668851]
[null,null,null,null,null,null,null,null,null,null,3982,9.2651677564948506E-2,8.65491989417351E-2,8.2517025439487995E-2,0.48989068221691801,0.11651151411135401,0.19826193358528901,0.199430869717172,0.34171233006019103]
[null,null,null,null,null,null,null,null,null,null,3983,9.5762950685035403E-2,8.8998710710867401E-2,8.5725327455284606E-2,0.491672531037044,0.12234649662821399,0.20639810476147499,0.20988026721598299,0.35704963393128902]
[null,null,null,null,null,null,null,null,null,null,3984,0.10045737445696699,9.2909667931743795E-2,9.0034584626961206E-2,0.49825256284194402,0.13043184795549601,0.21739752707051899,0.22328938552336799,0.38014132810468998]
[null,null,null,null,null,null,null,null,null,null,3985,0.10576544784856701,9.74833050281321E-2,9.42533857660596E-2,0.50648657370156003,0.13821316300542499,0.227896907005955,0.235533212112046,0.403183271196147]
[null,null,null,null,null,null,null,null,null,null,3986,0.110320817219924,0.101592491489991,9.7243535294305905E-2,0.50935106151918297,0.14319266024557301,0.234631112536411,0.24256091141245001,0.41807216503723699]
[null,null,null,null,null,null,null,null,null,null,3987,0.112655244106848,0.10401464332653899,9.8286253371293694E-2,0.50220966595984096,0.14403845183472899,0.23578236158152399,0.24276994313433001,0.42080014734353599]
[null,null,null,null,null,null,null,null,null,null,3988,0.112571417420666,0.10446010647689601,9.7750757666271004E-2,0.48699028890537399,0.141628294718329,0.232635559888937,0.23818366072087599,0.41496529258238202]
[null,null,null,null,null,null,null,null,null,null,3989,0.111141174334244,0.10379725990502101,9.6697956115291306E-2,0.46795461567541002,0.138466317873634,0.22862378889777801,0.233204070626892,0.40869419178597799]
[null,null,null,null,null,null,null,null,null,null,3990,0.110522457088607,0.103948542908505,9.6785654934313903E-2,0.44690744912764802,0.137583138672944,0.22819690299168099,0.23323361841064,0.41139135152747103]
[null,null,null,null,null,null,null,null,null,null,3991,0.111997480640778,0.106144287295684,9.8733179406499602E-2,0.42486443036661797,0.140213534841335,0.23310701388182101,0.240330619774205,0.42707587732421698]
[null,null,null,null,null,null,null,null,null,null,3992,0.115045496171155,0.109758384125251,0.10167329332897999,0.405630094081668,0.14485274857252201,0.24091296552875899,0.251533804268878,0.45074345808987398]
[null,null,null,null,null,null,null,null,null,null,3993,0.117794409086501,0.112906112306976,0.103854020754037,0.39457658379893601,0.14866746902149899,0.24701372415764,0.26102084045019902,0.472274581658505]
[null,null,null,null,null,null,null,null,null,null,3994,0.118769326203145,0.114048216633806,0.103979909996659,0.39430168179760899,0.14970608087682799,0.24810019652913401,0.26427207435757599,0.48340350376215102]
[null,null,null,null,null,null,null,null,null,null,3995,0.118169144522249,0.113202173352035,0.10237241032855,0.40112763594095202,0.14820382017087799,0.24456295010882401,0.26140949467880298,0.48294198725493198]
[null,null,null,null,null,null,null,null,null,null,3996,0.117079506122856,0.111360351099211,0.100155060787435,0.40852315815840101,0.145469672948703,0.238984764369466,0.25516354532072599,0.47447151082493599]
[null,null,null,null,null,null,null,null,null,null,3997,0.117028802923431,0.110140939247443,9.8963264618675897E-2,0.41058568869238699,0.143566401740157,0.23526237157020199,0.24960349809197699,0.464872113856379]
[null,null,null,null,null,null,null,null,null,null,3998,0.11950603717531701,0.11154854966734599,0.1004589473331,0.40549391587178202,0.14511186311544499,0.23788934969689601,0.249949525796656,0.464241819382337]
[null,null,null,null,null,null,null,null,null,null,3999,0.124696319136235,0.11635986481428499,0.105216084373786,0.40010286672033002,0.15127457331831401,0.24863491859444101,0.25958295907891299,0.47977418373693997]
[null,null,null,null,null,null,null,null,null,null,4000,0.13118525870342601,0.12348463900538199,0.111902698408433,0.405563947102347,0.16074296936659399,0.26474459219581598,0.27693930345499601,0.50965697138935395]
[null,null,null,null,null,null,null,null,null,null,4001,0.13662983252439601,0.13042282306083799,0.118172985747053,0.42673287768284202,0.170242876654526,0.28033674967366901,0.295683520505581,0.54256690419573605]
[null,null,null,null,null,null,null,null,null,null,4002,0.13863621449694,0.13431118664582101,0.121629005026047,0.45686538384700598,0.17586144038736101,0.28908890859585401,0.30774062327270302,0.56402696200347002]
[null,null,null,null,null,null,null,null,null,null,4003,0.13618072267182699,0.13383887541161399,0.121340446618279,0.48099789765180301,0.17580764575590799,0.28852366110587602,0.30870686927387903,0.56588502024699505]
[null,null,null,null,null,null,null,null,null,null,4004,0.13064095790969099,0.12990349325537601,0.11830941754774101,0.49050139862126602,0.17123645652405201,0.28099810235026101,0.30000393102321699,0.550447645011511]
[null,null,null,null,null,null,null,null,null,null,4005,0.12543307886126601,0.125511717130383,0.114988234042327,0.48797001896476,0.165599633821644,0.27238019326643997,0.28752278393242597,0.52702543866090801]
[null,null,null,null,null,null,null,null,null,null,4006,0.123908340548828,0.123487243715715,0.113306778640997,0.48360164849822701,0.161741042627013,0.26713804890881798,0.27655199811618703,0.504399728580189]
[null,null,null,null,null,null,null,null,null,null,4007,0.12698175928734401,0.12496492174698499,0.113803396411974,0.48320395481033102,0.160557962773275,0.26620750401734,0.269710728161553,0.48716263851239799]
[null,null,null,null,null,null,null,null,null,null,4008,0.13274469902279701,0.12894367170686,0.115644524561259,0.48506686347476102,0.16134337286793701,0.26802030831391799,0.267096222152989,0.47694903272931299]
[null,null,null,null,null,null,null,null,null,null,4009,0.13837885747598799,0.13360731566875,0.117806939960639,0.48579055524291598,0.16341269256535701,0.27097980208617001,0.26841310180672501,0.47564003873715299]
[null,null,null,null,null,null,null,null,null,null,4010,0.14250905941240799,0.137785263115073,0.11996436463148399,0.48435650572328498,0.16683178105986099,0.27514604063824,0.27385078607073299,0.48495528489254702]
[null,null,null,null,null,null,null,null,null,null,4011,0.14562426728490699,0.14130604750546499,0.122373567938307,0.48277510485464997,0.17181135751555399,0.28138032894269799,0.283423457603656,0.50467210950907404]
[null,null,null,null,null,null,null,null,null,null,4012,0.14867882021333301,0.144236340226464,0.125149524484579,0.48153328745068102,0.178066778750442,0.28950785006784202,0.29606540957762401,0.53134547797770604]
[null,null,null,null,null,null,null,null,null,null,4013,0.152523992050622,0.14729555260994101,0.12876365470634199,0.48057663435223202,0.18552336894818,0.299561008742801,0.31081697442040201,0.56085394633577601]
[null,null,null,null,null,null,null,null,null,null,4014,0.15721600137707401,0.15090117598302899,0.13323067933028701,0.48007226678319598,0.19338000050399901,0.31049822311409803,0.32644084688931102,0.59014104401154199]
[null,null,null,null,null,null,null,null,null,null,4015,0.16163709567309301,0.154530649530325,0.137519524189578,0.47908763220120798,0.19945978248452201,0.31957691178585201,0.33953490871042602,0.61367843757232698]
[null,null,null,null,null,null,null,null,null,null,4016,0.164461190071609,0.15713094155461599,0.140136832163438,0.47444978061878701,0.201556523400195,0.32380200070714199,0.34615546972157102,0.62482622574685098]
[null,null,null,null,null,null,null,null,null,null,4017,0.165330218252394,0.15834222463056999,0.14049578845654401,0.464209263474747,0.199560601685354,0.32272166297877902,0.34477047543707401,0.62067170944719796]
[null,null,null,null,null,null,null,null,null,null,4018,0.16483875203224299,0.15819644547671199,0.13886289627189899,0.45273454770968202,0.19459726900989999,0.31740630140091902,0.33641880567161597,0.60306497489393596]
[null,null,null,null,null,null,null,null,null,null,4019,0.163176249255922,0.156487243225261,0.13576840988425801,0.44950622114211197,0.187887938440296,0.30905587798036099,0.32338473124871803,0.57692871981306504]
[null,null,null,null,null,null,null,null,null,null,4020,0.16030274320767501,0.1531200768962,0.13186235502504501,0.46191177513307802,0.180635974004967,0.29926878449519201,0.308987104453818,0.55055564427518999]
[null,null,null,null,null,null,null,null,null,null,4021,0.156203968439837,0.14826978555887399,0.127624550120222,0.48890312514096201,0.17361494838167199,0.289086193948911,0.29582604594660999,0.53070894844568595]
[null,null,null,null,null,null,null,null,null,null,4022,0.15121769065086901,0.14266876794591599,0.12364645463759601,0.52154524557891302,0.16764172846292999,0.27972961264326701,0.28567431054799097,0.51840500098041198]
[null,null,null,null,null,null,null,null,null,null,4023,0.14709296098340099,0.13859689084559201,0.121457653772457,0.54834669452618401,0.164934951028992,0.27476067167033902,0.28188278325378202,0.51600876927769102]
[null,null,null,null,null,null,null,null,null,null,4024,0.14581255216678199,0.138262520488209,0.12258814758492199,0.56240306834408804,0.167468869213176,0.27735958346902101,0.28758417091777599,0.52724579483751899]
[null,null,null,null,null,null,null,null,null,null,4025,0.148213553246828,0.14257491413564999,0.12734451922894099,0.56421613431566597,0.17531633609989999,0.28805139442133898,0.30292239153758499,0.55387404062978496]
[null,null,null,null,null,null,null,null,null,null,4026,0.153316152441032,0.15036015879332201,0.134290477920253,0.55748911209561103,0.185813993273028,0.30320248061417399,0.32357041531569303,0.59072689231291398]
[null,null,null,null,null,null,null,null,null,null,4027,0.15778054836170399,0.15795291035973599,0.140220879677113,0.54682173257502997,0.19350301962969799,0.31488568245412601,0.34048849446500201,0.62299075193346898]
[null,null,null,null,null,null,null,null,null,null,4028,0.15679690770060301,0.160256513829928,0.14111017352362801,0.53731035570669705,0.192609428913005,0.31385964832302399,0.343001814866702,0.62970010513748897]
[null,null,null,null,null,null,null,null,null,null,4029,0.14784146600794401,0.15455111637205399,0.13523887871117701,0.53544794649273197,0.181695812532333,0.29710080120903898,0.32710538951634499,0.60101165992076799]
[null,null,null,null,null,null,null,null,null,null,4030,0.13262473314503401,0.142305384217288,0.124270281337808,0.54585564566733502,0.164184679812066,0.26962865498178701,0.2977115772667,0.54440683825492397]
[null,null,null,null,null,null,null,null,null,null,4031,0.116333355518703,0.128497192074156,0.112460031715853,0.56657398814524496,0.146512430899503,0.24176514189568499,0.26610727224960701,0.48138133785624598]
[null,null,null,null,null,null,null,null,null,null,4032,0.10474933242824,0.11890291783069,0.10435342437998001,0.58812924828608903,0.135017658841949,0.22403606328259201,0.244360581777081,0.43663770727828899]
[null,null,null,null,null,null,null,null,null,null,4033,0.102054594861496,0.117294536066717,0.10305963047587199,0.59983553628522501,0.13380495900568701,0.22307856473757701,0.240300226714908,0.42841495409504099]
[null,null,null,null,null,null,null,null,null,null,4034,0.108997772616602,0.12408832828858,0.10925831618418901,0.596380064760893,0.14381226629271501,0.23993911710083701,0.25588010910592301,0.46231414736783699]
[null,null,null,null,null,null,null,null,null,null,4035,0.123697181647226,0.137388336233045,0.121654403895333,0.58144756056101099,0.16308006868729299,0.27110417043245799,0.28801050962601898,0.53310032812032404]
[null,null,null,null,null,null,null,null,null,null,4036,0.14166138995510999,0.153135535428187,0.13684674204304301,0.56732001558388701,0.18618565181795199,0.30778000767217301,0.327718760737989,0.62292876848823897]
[null,null,null,null,null,null,null,null,null,null,4037,0.15728066687649001,0.16632646080428201,0.15001074147685001,0.56381146252102998,0.20608177358320001,0.33893029992412799,0.36315350471621599,0.705710111709692]
[null,null,null,null,null,null,null,null,null,null,4038,0.16641402226111601,0.173488865158686,0.157516723079412,0.57110292822337705,0.21781113269612301,0.35666104011557098,0.38502464992892799,0.75875089158755704]
[null,null,null,null,null,null,null,null,null,null,4039,0.16845744633038401,0.17431056372822801,0.15870288001114899,0.58150454452020295,0.22072927073573301,0.36002849322828001,0.391154363958721,0.774105933794901]
[null,null,null,null,null,null,null,null,null,null,4040,0.16495393384142101,0.17037999058158401,0.15494006937591501,0.58723528121358404,0.216843762090387,0.35230480220178101,0.38414153458936701,0.756738733431078]
[null,null,null,null,null,null,null,null,null,null,4041,0.15786291330757199,0.163418872904841,0.14826284102697501,0.58473415319174704,0.20899901824730199,0.33801084423307998,0.36855931927629998,0.71749496399040702]
[null,null,null,null,null,null,null,null,null,null,4042,0.147763999750638,0.15394586917742001,0.13980442735884899,0.57449316549691998,0.19846520941873,0.31943644549455202,0.34715834065990803,0.66458262462014595]
[null,null,null,null,null,null,null,null,null,null,4043,0.134587869523666,0.14182456431014701,0.12995063110913799,0.55902592049001698,0.18535955592419401,0.29701405825903099,0.32091954025347502,0.60211180018355703]
[null,null,null,null,null,null,null,null,null,null,4044,0.12009177666482999,0.12885273153922999,0.120093754515501,0.54365849725466597,0.17131273110270401,0.27368882212490198,0.29315310665482902,0.53699083115415103]
[null,null,null,null,null,null,null,null,null,null,4045,0.109056995040612,0.119546919923315,0.113465443414656,0.53604391114760497,0.160705559550265,0.25683337629724001,0.270961506582794,0.48213602015644802]
[null,null,null,null,null,null,null,null,null,null,4046,0.10660749948404399,0.118651919660038,0.113321563336505,0.53761839415836099,0.15834896106381399,0.25419054993439899,0.26231200910520103,0.45290752339278401]
[null,null,null,null,null,null,null,null,null,null,4047,0.114517026349422,0.12748796173263399,0.120469933956131,0.541696714664889,0.165950137561334,0.26817154075988597,0.27059257887695298,0.45760902548399202]
[null,null,null,null,null,null,null,null,null,null,4048,0.12956825921780499,0.142663290192723,0.13237316131247401,0.53997305057265599,0.18065574359095901,0.29347750038714698,0.29207704982452798,0.492941367408255]
[null,null,null,null,null,null,null,null,null,null,4049,0.14627763368858199,0.15864140211003899,0.14497278101105401,0.52949822464449803,0.19729520979929899,0.32111921372164998,0.31881235788685502,0.54589368150945305]
[null,null,null,null,null,null,null,null,null,null,4050,0.15989010966404801,0.170929784540783,0.154952953584481,0.51633485515685396,0.21097488376713699,0.34315019435543098,0.342767770883395,0.59975246828151396]
[null,null,null,null,null,null,null,null,null,null,4051,0.16825786815225799,0.17748246353917799,0.160666579740046,0.50868789365398903,0.21887135815936401,0.35562567023909197,0.358497110595492,0.64019143990903105]
[null,null,null,null,null,null,null,null,null,null,4052,0.17072532279988101,0.17801041610884,0.16171611608554501,0.509777399995201,0.21974055540627199,0.35738446718006101,0.36361896256658999,0.65937251869750102]
[null,null,null,null,null,null,null,null,null,null,4053,0.167813694351239,0.17349467824701001,0.15881203180754699,0.51516541263892801,0.21495157424151801,0.35040122398282703,0.35975519163214997,0.65849679453526599]
[null,null,null,null,null,null,null,null,null,null,4054,0.161391827990638,0.166431126347826,0.15379861994025901,0.51658612073031895,0.20789770709804001,0.33932033016438201,0.35204796650819498,0.64811692152108502]
[null,null,null,null,null,null,null,null,null,null,4055,0.15390245150040899,0.159394930336938,0.148543951162904,0.50982131667580199,0.20182570928333499,0.32861184329265702,0.34501691434353998,0.638693642021821]
[null,null,null,null,null,null,null,null,null,null,4056,0.14761418218289299,0.15413108277353901,0.144256827402518,0.49636006243174402,0.198215136616228,0.32075440914021602,0.34092442105326698,0.63477530332297505]
[null,null,null,null,null,null,null,null,null,null,4057,0.14398639454915499,0.15141134820070301,0.141694673418894,0.48200948679229799,0.19699196084758899,0.31647280523039301,0.33971746824596599,0.63456972713758397]
[null,null,null,null,null,null,null,null,null,null,4058,0.14329148975105399,0.15129839808644599,0.14110278709007301,0.47165179050765199,0.19739765395130299,0.31534297162063701,0.34035504099131098,0.63530906307941903]
[null,null,null,null,null,null,null,null,null,null,4059,0.144211456182022,0.15291004418284301,0.142063032815616,0.468917313596033,0.19881196596767101,0.31649545657162198,0.34209453882866803,0.63722437917383801]
[null,null,null,null,null,null,null,null,null,null,4060,0.14388337015948799,0.15409362377209401,0.14288799012384301,0.47382442369827898,0.19964688951446899,0.317074425507268,0.34296756379189203,0.64037743416466097]
[null,null,null,null,null,null,null,null,null,null,4061,0.13936445948186499,0.15173801712625401,0.141149438130693,0.48330162403312399,0.197140592874881,0.31237402433779798,0.33883291106449798,0.639424143516508]
[null,null,null,null,null,null,null,null,null,null,4062,0.13053673453557599,0.14499064343163801,0.13607622747225001,0.49360168541822502,0.19020746437903499,0.30088312548792201,0.32749742296568202,0.62828926421790698]
[null,null,null,null,null,null,null,null,null,null,4063,0.122229841786301,0.13781524154521399,0.13081376621052901,0.50109622677571497,0.18289296650626999,0.289203222416404,0.31437523831417302,0.61196040346415104]
[null,null,null,null,null,null,null,null,null,null,4064,0.119909206974033,0.13551558293145499,0.12951643359539,0.50541333128825805,0.18062490576163201,0.28593950096798199,0.30795291362558302,0.60326934836842805]
[null,null,null,null,null,null,null,null,null,null,4065,0.12527251091151301,0.140224978261793,0.133934194734944,0.50782050314776495,0.185899161040426,0.29462779048064103,0.31336555565594598,0.61181531238547304]
[null,null,null,null,null,null,null,null,null,null,4066,0.13514133533792599,0.149341464501976,0.141977706276771,0.50930048062375899,0.19602343487620699,0.31076445687233101,0.32773014775417397,0.63561368425489395]
[null,null,null,null,null,null,null,null,null,null,4067,0.14500862841027901,0.15871216723843601,0.150185880891056,0.51004718152175499,0.20654086100247901,0.32710173221107403,0.34450289863641298,0.66507378331782396]
[null,null,null,null,null,null,null,null,null,null,4068,0.15200190143506601,0.16572063614493901,0.156007098160409,0.51031502264412598,0.21419417424440501,0.33854106468888101,0.358555466000128,0.69175761162428795]
[null,null,null,null,null,null,null,null,null,null,4069,0.154339170837717,0.16873090704763999,0.15786683076156299,0.51060122919442197,0.21720008610008301,0.34219081398713602,0.36638638802770401,0.70967866833771398]
[null,null,null,null,null,null,null,null,null,null,4070,0.15178848470190201,0.167267432310715,0.155454413695786,0.51396069548516599,0.215304624578187,0.33770583268577098,0.36664898434978399,0.71553132310308798]
[null,null,null,null,null,null,null,null,null,null,4071,0.146855151711346,0.16334917961204601,0.150857224588206,0.52585011551022198,0.21116212027185699,0.329621172431875,0.36278467743620102,0.71278443356418797]
[null,null,null,null,null,null,null,null,null,null,4072,0.143752865946874,0.160529286127916,0.14744633831932999,0.548131687541908,0.20838669834687301,0.32425538821741501,0.36063531211323002,0.70932163320644304]
[null,null,null,null,null,null,null,null,null,null,4073,0.14395305537745501,0.159739544029358,0.14621694349043801,0.57546341469216,0.20704662535002799,0.32248472607580497,0.36144901602596402,0.70610614123868498]
[null,null,null,null,null,null,null,null,null,null,4074,0.14425616055089399,0.15787268889756201,0.14448523193078699,0.59867706756679295,0.20296033514551101,0.317985893682731,0.35859040025746902,0.692290850879274]
[null,null,null,null,null,null,null,null,null,null,4075,0.14090258703967301,0.15184668421293401,0.13950902546037999,0.61122570184111102,0.192873288636636,0.30505662508712,0.34553538679527401,0.65604135254936602]
[null,null,null,null,null,null,null,null,null,null,4076,0.13475015694462,0.14330597009335699,0.13243666289905101,0.61367453917319104,0.17947648722412701,0.28672753999719502,0.32467928312281302,0.60156663582353798]
[null,null,null,null,null,null,null,null,null,null,4077,0.131274618741752,0.138089082740181,0.12813286040437399,0.61270265442059602,0.17023405369856001,0.27377696811824898,0.30769199386325802,0.55216547819541595]
[null,null,null,null,null,null,null,null,null,null,4078,0.13522497110939999,0.14108168679695399,0.13082438891703299,0.61508544779864605,0.171334024730183,0.27562981292274102,0.30571333929530198,0.53319919347897904]
[null,null,null,null,null,null,null,null,null,null,4079,0.14716233776965801,0.15255315632702601,0.14095542847185299,0.62219371395021605,0.18338423477461899,0.29363362071801702,0.32142049229055802,0.55375090106534197]
[null,null,null,null,null,null,null,null,null,null,4080,0.162652243893432,0.167697679126565,0.15445513985006701,0.63252033030249799,0.20042104858509699,0.31927705033214498,0.34622652680303501,0.59932371144197605]
[null,null,null,null,null,null,null,null,null,null,4081,0.17564054868312801,0.18028762009158,0.16601832335849301,0.64262960662961999,0.21512866316884199,0.34166612218418002,0.36777732644231798,0.64294816605265104]
[null,null,null,null,null,null,null,null,null,null,4082,0.18265585418223501,0.186993813039662,0.17272991915674901,0.64808135418226098,0.22370555221192601,0.35513274440090598,0.37905241469114098,0.66626832087166699]
[null,null,null,null,null,null,null,null,null,null,4083,0.184565608557411,0.18938710572050299,0.17573721980242701,0.64692391297601504,0.22793995647547899,0.362346645359784,0.38224067061239497,0.66919468895948697]
[null,null,null,null,null,null,null,null,null,null,4084,0.18492497667885599,0.19119471779508301,0.17808737435941199,0.64120810489267399,0.23177170181925699,0.369082162184378,0.38379238595090098,0.66223117849731905]
[null,null,null,null,null,null,null,null,null,null,4085,0.18734862723054099,0.19555899808546001,0.18220275260507601,0.63490772990644395,0.23742843203216599,0.37909394592668999,0.38817426090148599,0.65160777816005899]
[null,null,null,null,null,null,null,null,null,null,4086,0.19384922459360901,0.203959013571689,0.18912617124783701,0.63009092023850699,0.245601767181375,0.39374754550483299,0.396702926477489,0.63522824724850302]
[null,null,null,null,null,null,null,null,null,null,4087,0.203393171968868,0.21511128688929099,0.19778667660013999,0.62602545310895996,0.254835429946907,0.41058213780221198,0.40765110134346899,0.60896328180123804]
[null,null,null,null,null,null,null,null,null,null,4088,0.212418991211554,0.22554016096502899,0.205594048906309,0.61875335699343004,0.26268973142358298,0.42479795974089102,0.41756383765743998,0.57417047223519901]
[null,null,null,null,null,null,null,null,null,null,4089,0.21731529251085399,0.231335814255274,0.20971949468361101,0.60521398395271297,0.26626391975673103,0.43112464635361297,0.422344871668901,0.538157641913104]
[null,null,null,null,null,null,null,null,null,null,4090,0.21604813362620301,0.23016804162319801,0.20850014653292601,0.58585283397946797,0.263887365763318,0.42678517218357698,0.41901549639191099,0.50617525479621905]
[null,null,null,null,null,null,null,null,null,null,4091,0.21039663197120201,0.22370773431622701,0.203361043016864,0.56331805408802904,0.25737050740255302,0.41534641344996098,0.40947424908054197,0.48058860432012301]
[null,null,null,null,null,null,null,null,null,null,4092,0.20330103673727901,0.21524398956985899,0.196892030166709,0.54195039677159396,0.25024335307068002,0.40262577634373398,0.39899265877019402,0.46257738764978101]
[null,null,null,null,null,null,null,null,null,null,4093,0.19584279541809799,0.20640855937116401,0.19024846727049799,0.52669952870079795,0.244340940394215,0.39134687288606301,0.39133675055452799,0.45244761398970301]
[null,null,null,null,null,null,null,null,null,null,4094,0.186994237781029,0.19632926283291199,0.18250375560325799,0.52020990528212696,0.23881771649782299,0.37981284311052299,0.386227604864114,0.44921267531899001]
[null,null,null,null,null,null,null,null,null,null,4095,0.176275045118164,0.184384974306007,0.17302442318825501,0.52079662581699104,0.23212120201365999,0.36582122011819301,0.38079888035458498,0.44993808003798702]
[null,null,null,null,null,null,null,null,null,null,4096,0.16507657648311999,0.17188160307640801,0.162851802291404,0.52314737006438405,0.224267821161581,0.34995549530053199,0.37345337774817799,0.453688732696511]
[null,null,null,null,null,null,null,null,null,null,4097,0.155763187002329,0.160981106984174,0.153858405486863,0.52124067857173995,0.21567723948940401,0.33395027556489598,0.36366091973130399,0.46227830488125199]
[null,null,null,null,null,null,null,null,null,null,4098,0.14901069588566601,0.15238076450563501,0.146741712511606,0.513068896204951,0.206686214829646,0.31872711950301802,0.35146549198732902,0.47730936268266499]
[null,null,null,null,null,null,null,null,null,null,4099,0.143690344499073,0.14496738859039801,0.14070162057167501,0.50219850384479003,0.19710460207320801,0.30372013101482298,0.33761793698790699,0.50272984314322]
[null,null,null,null,null,null,null,null,null,null,4100,0.139315642329541,0.13871309391510001,0.13572222272203099,0.49210154522726102,0.18889715664382101,0.29104966840857099,0.32527331346131899,0.53965525042182705]
[null,null,null,null,null,null,null,null,null,null,4101,0.13804416130934499,0.13656541236436101,0.134009316005852,0.48278767241722198,0.18612065856471399,0.28639147776838297,0.32035846742249002,0.58188821256927703]
[null,null,null,null,null,null,null,null,null,null,4102,0.14152988117495599,0.140637972856097,0.137265572140437,0.47218523030066401,0.19088328494769899,0.293033710325171,0.32600455416442298,0.61450389314752896]
[null,null,null,null,null,null,null,null,null,null,4103,0.149560019325013,0.150514628732516,0.14537907011184301,0.46027402454967398,0.20208063597732501,0.30989367239346799,0.340790792896075,0.625976306923688]
[null,null,null,null,null,null,null,null,null,null,4104,0.16075480815865401,0.16393953842299999,0.15686302300857899,0.45101958414127102,0.217225868660368,0.33323890378211901,0.36205664660301301,0.61985577509380696]
[null,null,null,null,null,null,null,null,null,null,4105,0.172514067265257,0.17750533774990199,0.16887960681184599,0.44904122477655201,0.232537076897912,0.35708163928580899,0.38508378921907199,0.60924337850236499]
[null,null,null,null,null,null,null,null,null,null,4106,0.18210177752619899,0.18813886500589699,0.17848285891916699,0.45499298140539002,0.244103537972018,0.37523405316206299,0.40386665058187099,0.60177262594324299]
[null,null,null,null,null,null,null,null,null,null,4107,0.18681369808474901,0.19314301741631701,0.183061106728996,0.46378507891777798,0.248038768815148,0.38199414587618202,0.41121293820763299,0.59284436288184394]
[null,null,null,null,null,null,null,null,null,null,4108,0.185099580153649,0.19143742400101099,0.18171078941275201,0.46778814445908701,0.24344720548958401,0.37599331884956799,0.404532882174098,0.57652232931574998]
[null,null,null,null,null,null,null,null,null,null,4109,0.17805230688622001,0.184291575777941,0.17562763310392299,0.46303502869581498,0.232707896777786,0.36077642272680499,0.38745712302972501,0.553846365291221]
[null,null,null,null,null,null,null,null,null,null,4110,0.16900705678399999,0.17514668322136201,0.16784003314232199,0.45216377933664298,0.22063390796614099,0.34327303974118101,0.36767527123536697,0.53041529412176103]
[null,null,null,null,null,null,null,null,null,null,4111,0.16192666230627101,0.16819933910125501,0.16179864719887899,0.44309752946972603,0.21192887780488801,0.33039167116090901,0.35256591162185802,0.51291259701052105]
[null,null,null,null,null,null,null,null,null,null,4112,0.15955683594815401,0.16616912200487299,0.15969609610496899,0.44227534893399101,0.20891674292199899,0.32566277828172502,0.34533372821432601,0.50403095401229803]
[null,null,null,null,null,null,null,null,null,null,4113,0.16187355327369099,0.16880101310548601,0.16127719943315799,0.45248467077563598,0.21099556536759001,0.32797969738965199,0.34521280556524298,0.50340259068589299]
[null,null,null,null,null,null,null,null,null,null,4114,0.16596654256238699,0.172924953098577,0.164040157474697,0.47012007823656399,0.215201466187039,0.332941501121506,0.348724483140956,0.50827552888717598]
[null,null,null,null,null,null,null,null,null,null,4115,0.168586612871752,0.17547642856208501,0.16581590247920999,0.48912729225052898,0.21895454518604701,0.33702964613605102,0.35311517235784701,0.51733069243237395]
[null,null,null,null,null,null,null,null,null,null,4116,0.16797941910921799,0.17518254278260301,0.16583823804638101,0.50437479591255296,0.22099799487423299,0.338748882866097,0.35712847158990102,0.52901312644672105]
[null,null,null,null,null,null,null,null,null,null,4117,0.164244564562436,0.17243617795844501,0.164385096575525,0.51321403580186198,0.221243502319,0.338220074644695,0.36016491049760002,0.54126313294752604]
[null,null,null,null,null,null,null,null,null,null,4118,0.15962766587430299,0.16919072374021399,0.16278681643854001,0.51524861332076199,0.22039483397780599,0.33664217699226401,0.36200231290261697,0.551768453200985]
[null,null,null,null,null,null,null,null,null,null,4119,0.156546676807786,0.16722911940960999,0.16209313607218001,0.51376836804658799,0.219191761537504,0.33508866925302599,0.36144342390619899,0.55740777863398905]
[null,null,null,null,null,null,null,null,null,null,4120,0.15681321698998499,0.16806787934446099,0.16328365997081401,0.51547356509659603,0.219148303358258,0.33568979310603902,0.35988938349388899,0.55960896092260304]
[null,null,null,null,null,null,null,null,null,null,4121,0.16015496028422599,0.17166796692595299,0.166304146307233,0.52708144527694101,0.22114625338431201,0.339601475582473,0.35895981298761798,0.56066576480795005]
[null,null,null,null,null,null,null,null,null,null,4122,0.16608690238325799,0.17802897907498499,0.17155507141371401,0.55029240263827295,0.22606106845969801,0.348101831119495,0.36155129897601501,0.56304181224710304]
[null,null,null,null,null,null,null,null,null,null,4123,0.17359299724257801,0.18667042099655201,0.17922056926447399,0.57979058230238401,0.23392477201701201,0.36117065543305898,0.36906197031673099,0.56783287606481603]
[null,null,null,null,null,null,null,null,null,null,4124,0.181824244518381,0.19655758807982901,0.18855469878061801,0.60514972815867696,0.24318464269773499,0.37651872088765898,0.38002262171432,0.57364510799783297]
[null,null,null,null,null,null,null,null,null,null,4125,0.18788729095182,0.20390509821335501,0.19591402274782499,0.61805481351404401,0.249184290230967,0.38696676294040799,0.38777845167818198,0.57484790016009801]
[null,null,null,null,null,null,null,null,null,null,4126,0.18876099201604399,0.20510906105197599,0.19747486498109701,0.61533066372852097,0.24806074556958299,0.38617175663064601,0.38592561742649101,0.56495675160623104]
[null,null,null,null,null,null,null,null,null,null,4127,0.1833791498365,0.199158749360833,0.19211402486092699,0.60055074107720297,0.239640562029768,0.373295942276823,0.37359459705294901,0.54333403307011696]
[null,null,null,null,null,null,null,null,null,null,4128,0.17354098168694701,0.18852021124012699,0.18227721110234199,0.58034105037015105,0.22782907714331899,0.35401240047144,0.35615457111134502,0.51697283385360504]
[null,null,null,null,null,null,null,null,null,null,4129,0.161931792458156,0.17652212753267399,0.171314155361279,0.55870016169140002,0.21662766502889599,0.33495931321498601,0.33974709888731103,0.49401133733203301]
[null,null,null,null,null,null,null,null,null,null,4130,0.15108601218026699,0.16566262946475399,0.161634701063855,0.53571635184766997,0.20817213102093901,0.32018198970774597,0.32778567650967899,0.47873291696836601]
[null,null,null,null,null,null,null,null,null,null,4131,0.142887758473349,0.15753653145947499,0.15442847935042101,0.51056691021009504,0.202647865874241,0.31066446778698698,0.31984365088414801,0.46909945773205097]
[null,null,null,null,null,null,null,null,null,null,4132,0.13896408769117999,0.153455960129571,0.15059035326368,0.486465797165678,0.200347894030631,0.30683594265346398,0.315509655531165,0.462396653371764]
[null,null,null,null,null,null,null,null,null,null,4133,0.140335721756457,0.154467293965248,0.15105986770438701,0.47003701700351902,0.20221257913007101,0.30958750996340501,0.31498105383588798,0.458760584695592]
[null,null,null,null,null,null,null,null,null,null,4134,0.146900092651054,0.16051568250464901,0.15605972186612699,0.46574982983861601,0.208641643218065,0.31901290457334103,0.31958901903674802,0.46119764775246203]
[null,null,null,null,null,null,null,null,null,null,4135,0.15604858549146799,0.169268406547848,0.16381483372616901,0.47128664531876502,0.21809862283471801,0.33231660820464598,0.32885704853801001,0.47208108794231701]
[null,null,null,null,null,null,null,null,null,null,4136,0.16524512418479601,0.17871680056074099,0.17253425546069201,0.481163051299762,0.22883975324016001,0.34697363454443703,0.342398764102816,0.49242565797261001]
[null,null,null,null,null,null,null,null,null,null,4137,0.17155450367772601,0.185898560927762,0.17955455911517099,0.49006706606065997,0.23775817791189699,0.35874203335094101,0.35671662820049499,0.51749046270951504]
[null,null,null,null,null,null,null,null,null,null,4138,0.17370337759073701,0.18919921213978999,0.18321287204630601,0.49686735682847999,0.24285856165165801,0.36508634025448899,0.36813380871775903,0.54039611835441104]
[null,null,null,null,null,null,null,null,null,null,4139,0.17062921930792599,0.18691375394456,0.18193302078264301,0.50367822966937903,0.242714928469425,0.36352991827622899,0.372815570649493,0.55492183023160002]
[null,null,null,null,null,null,null,null,null,null,4140,0.16208178476120499,0.17836112515510799,0.17508996327498499,0.51290862371939006,0.23726865507070399,0.35330659920565,0.36914745982663499,0.55912877465299105]
[null,null,null,null,null,null,null,null,null,null,4141,0.14848103258755499,0.16411311266616099,0.163306280984124,0.52361199725326601,0.227065730618596,0.33511289445237602,0.35733963249664602,0.55411161566902101]
[null,null,null,null,null,null,null,null,null,null,4142,0.133333697122896,0.14803719885417499,0.150163427571751,0.53075324706698201,0.215704689935281,0.31473166046288797,0.34267596331726302,0.54629368005546097]
[null,null,null,null,null,null,null,null,null,null,4143,0.12295786647326,0.13716538215074001,0.141715003875965,0.52985727255591297,0.20947460426403999,0.30243453924008301,0.33460132939808301,0.546945104584737]
[null,null,null,null,null,null,null,null,null,null,4144,0.122022845248887,0.136672394597566,0.142285396024003,0.52037894462409495,0.21290936528555099,0.30550255612624699,0.34046018816121398,0.56456734146838505]
[null,null,null,null,null,null,null,null,null,null,4145,0.130459055981339,0.14655470416291899,0.15141080832477699,0.50751114418633003,0.22525676280736701,0.32271040110618898,0.35914824087504899,0.59737605553844797]
[null,null,null,null,null,null,null,null,null,null,4146,0.14322499095230101,0.16113050089768199,0.16408629687361601,0.49935759704142602,0.24008468560687499,0.34475098426207101,0.38169160326732199,0.63326810933174404]
[null,null,null,null,null,null,null,null,null,null,4147,0.153687216885321,0.173047738343128,0.17402194423203601,0.49999902753946701,0.24990211772624199,0.36050516824134898,0.39718128822950999,0.65711487887730602]
[null,null,null,null,null,null,null,null,null,null,4148,0.158665407605037,0.179022834838164,0.17855523001923701,0.50880654643405998,0.252388899155362,0.36599616689960301,0.40164556252233002,0.66401584453067197]
[null,null,null,null,null,null,null,null,null,null,4149,0.158493787560818,0.17965045934112001,0.17836835926526901,0.52032934867976,0.249544244674751,0.36297553077421701,0.39766779620819198,0.66003138449505605]
[null,null,null,null,null,null,null,null,null,null,4150,0.155884752390649,0.17792879837658601,0.17607704850997799,0.52866946636395695,0.24550370853386499,0.356640602629196,0.391236470709937,0.65531560515399001]
[null,null,null,null,null,null,null,null,null,null,4151,0.153587591717017,0.17658512326602199,0.174220665652601,0.53181761845534703,0.243612915843054,0.35194863707687202,0.38775526648891301,0.65751525105508202]
[null,null,null,null,null,null,null,null,null,null,4152,0.153435559326593,0.17741882546243301,0.17457598994750501,0.53233487712355998,0.24581975230707301,0.35270400304998001,0.39062875924774598,0.669952660871445]
[null,null,null,null,null,null,null,null,null,null,4153,0.155532539224708,0.18067069553000201,0.17747388684109799,0.53359457595530502,0.25180947356778199,0.359562290496028,0.39941603405257098,0.69162737922793804]
[null,null,null,null,null,null,null,null,null,null,4154,0.15932999363584099,0.185787340133273,0.182382300947738,0.53703588553547199,0.26007111784043602,0.37094774161063998,0.41179380026447199,0.71888657178855697]
[null,null,null,null,null,null,null,null,null,null,4155,0.16430793230236801,0.19211634118645801,0.18862329905073399,0.54313514895040504,0.269211176213005,0.38472356572501698,0.42567125424404301,0.74734517819678603]
[null,null,null,null,null,null,null,null,null,null,4156,0.17057140189825101,0.19918466748140701,0.195765982365709,0.55231531587507299,0.27852444528019699,0.39943367899447701,0.44066080472114399,0.77436930085479505]
[null,null,null,null,null,null,null,null,null,null,4157,0.17769432778948899,0.20595534283404299,0.202801808059413,0.56524649961921702,0.28754818605260501,0.41337663488625098,0.45630717699543499,0.79871734184992704]
[null,null,null,null,null,null,null,null,null,null,4158,0.184971036115645,0.211680041060405,0.20889383573804099,0.58209622638842695,0.29592887007854202,0.42556431839227399,0.47191291646900801,0.82172431817480696]
[null,null,null,null,null,null,null,null,null,null,4159,0.19074246566765099,0.21545298929496901,0.21306449429985999,0.59934973517949097,0.302900400645923,0.43457257844432201,0.48600810490048502,0.84431119912431396]
[null,null,null,null,null,null,null,null,null,null,4160,0.194396825670727,0.21765918145597099,0.215509628130025,0.61167583607988596,0.308481126010967,0.440772632723753,0.497803329003143,0.86587613182185097]
[null,null,null,null,null,null,null,null,null,null,4161,0.19637858151887699,0.219253203439876,0.217021048679262,0.61388873926228305,0.31227129281029298,0.44355372453199599,0.50659623388043196,0.88353205220870001]
[null,null,null,null,null,null,null,null,null,null,4162,0.19612083638598701,0.21908106236379199,0.21672421860851099,0.60479117301273899,0.31218111601530701,0.44062458810144201,0.50927805537436799,0.89034692104067603]
[null,null,null,null,null,null,null,null,null,null,4163,0.192411376273882,0.214930878119024,0.212859018170409,0.58888249397200298,0.30644947746120799,0.42759626099068898,0.50265177883165901,0.88043609714166005]
[null,null,null,null,null,null,null,null,null,null,4164,0.185223977304005,0.206412455900331,0.20537820471368201,0.57573315791653301,0.29643719078849701,0.405678841694468,0.48779797456630902,0.85519538807778595]
[null,null,null,null,null,null,null,null,null,null,4165,0.176619773227952,0.196186185914828,0.19666384569308101,0.57191650838251396,0.28588621708016099,0.38234315671591101,0.46988230218313998,0.82174820167274698]
[null,null,null,null,null,null,null,null,null,null,4166,0.16961835066581299,0.18768188077692299,0.189444428377264,0.57707165025243501,0.27767524931742898,0.366003871468571,0.45381817085925302,0.78757763419006599]
[null,null,null,null,null,null,null,null,null,null,4167,0.16554755123390599,0.18224675203990601,0.18470443849669499,0.58571909601493199,0.272251349499678,0.35956215038436601,0.441652673011105,0.75586288419458303]
[null,null,null,null,null,null,null,null,null,null,4168,0.164218601704442,0.17965066191196599,0.182011311330874,0.59270690565614204,0.2685071603527,0.35989504181988602,0.43286638997917998,0.72722771240777895]
[null,null,null,null,null,null,null,null,null,null,4169,0.16335748804509301,0.17756606162607799,0.179319951636112,0.59486808319015005,0.26359942480825099,0.35961520686705201,0.42371564474289097,0.69783028011245296]
[null,null,null,null,null,null,null,null,null,null,4170,0.16028758467453899,0.17337801792825899,0.17443028003302399,0.59067507929116303,0.25457851111963797,0.35256787537162798,0.40876089539269,0.66120003530073601]
[null,null,null,null,null,null,null,null,null,null,4171,0.15353114316272701,0.165816294421366,0.16650901131430801,0.58105743883823602,0.240750501384695,0.33731388446045801,0.38509900737744002,0.61341259602968301]
[null,null,null,null,null,null,null,null,null,null,4172,0.14483704275513801,0.15678045847203601,0.15745644343613099,0.57004435602372405,0.22515219067728801,0.31883402970569102,0.356018748994339,0.55785288704727298]
[null,null,null,null,null,null,null,null,null,null,4173,0.13872845715246601,0.15122219468842499,0.15175348763037999,0.56368393594001598,0.214062807137824,0.305625231524214,0.331317892038833,0.50730625911936]
[null,null,null,null,null,null,null,null,null,null,4174,0.13846555625720999,0.152525243753423,0.15255373530281999,0.56648806107972405,0.211440326780344,0.30465107825385901,0.31930123280309902,0.47501704150077001]
[null,null,null,null,null,null,null,null,null,null,4175,0.14362396898947699,0.160120282671876,0.15945839325363401,0.57674776600851196,0.21699668505418401,0.31527749219057999,0.321406673052339,0.46607521474825098]
[null,null,null,null,null,null,null,null,null,null,4176,0.15150852362169401,0.17072315059958701,0.16980250496208499,0.58772673443149404,0.22748826224373001,0.33282587931593,0.33338763577583602,0.478933407857768]
[null,null,null,null,null,null,null,null,null,null,4177,0.159582763851596,0.18166183654708901,0.18117039842008001,0.59132325143469899,0.23997636304828501,0.35286637578299401,0.34992721083727601,0.50619831854101205]
[null,null,null,null,null,null,null,null,null,null,4178,0.16691123854145001,0.19186511882107299,0.192161345404261,0.58474853593400899,0.25273985340983901,0.37264305880909199,0.36719009889144899,0.53867549180652397]
[null,null,null,null,null,null,null,null,null,null,4179,0.172443158404223,0.19961611724061801,0.200762580090041,0.57332240230163001,0.26369035746374597,0.38856995731004901,0.381957444786444,0.566586507793995]
[null,null,null,null,null,null,null,null,null,null,4180,0.17569330547387199,0.203660468219898,0.20535727751032401,0.56625326544369603,0.27125538141926497,0.39798220427418202,0.392182710859665,0.58406523969842405]
[null,null,null,null,null,null,null,null,null,null,4181,0.17741510925132201,0.20430702013274701,0.20592392315865901,0.56929955198383897,0.27505314988301699,0.40064680121311302,0.39755210727450002,0.591329148349378]
[null,null,null,null,null,null,null,null,null,null,4182,0.17935532027239701,0.20368328226294799,0.20449899415605999,0.58107900039726501,0.27638821666649899,0.39956751183928302,0.39982463102152699,0.59331507961871199]
[null,null,null,null,null,null,null,null,null,null,4183,0.183185229410327,0.204848783101755,0.20429336560483999,0.59675345436205796,0.27763479994530299,0.39960901724408898,0.40239870875663603,0.59581327258455397]
[null,null,null,null,null,null,null,null,null,null,4184,0.187916695479518,0.20781467234038201,0.20576405219186,0.61109465128162099,0.27824266321040197,0.40102803586944602,0.40542300974954198,0.59931746811840503]
[null,null,null,null,null,null,null,null,null,null,4185,0.19039029219116099,0.209856029959125,0.206751515295199,0.62035218034492901,0.276435813908537,0.40051132025736003,0.40637956326386498,0.60004337842486299]
[null,null,null,null,null,null,null,null,null,null,4186,0.189207160094296,0.20889963403151199,0.20547301994606301,0.62388172791150798,0.271903866936827,0.396162728198106,0.40424068185301398,0.59725385803661601]
[null,null,null,null,null,null,null,null,null,null,4187,0.185978596915087,0.20559070836309101,0.202388623842745,0.62416421285788204,0.267017944982197,0.38992539139639798,0.40136508431393803,0.59381405049793301]
[null,null,null,null,null,null,null,null,null,null,4188,0.18349321709736599,0.201841228859229,0.19898049223773001,0.62482830251062205,0.26382891053573498,0.38444120297133999,0.40061391915174599,0.59458525175857602]
[null,null,null,null,null,null,null,null,null,null,4189,0.182555503643132,0.198768194969169,0.19588672833214199,0.62575853428268202,0.262810271740127,0.38054281541602297,0.40243189274656899,0.60073521746612801]
[null,null,null,null,null,null,null,null,null,null,4190,0.18327813917718699,0.197639737412068,0.194152754544793,0.621635004379683,0.26480387675318201,0.37991978735806198,0.40754916469396602,0.61293737335036502]
[null,null,null,null,null,null,null,null,null,null,4191,0.185837577195751,0.199848325523279,0.19500289071827301,0.60706731071005904,0.27099376364665601,0.38504461181157301,0.41807324519119299,0.63329998272968302]
[null,null,null,null,null,null,null,null,null,null,4192,0.18981175951099699,0.20514437901910501,0.19840878173243501,0.58385598804139405,0.280276432620645,0.39531138727013299,0.43322113063286899,0.65927152448230597]
[null,null,null,null,null,null,null,null,null,null,4193,0.19286364068266099,0.21038085401908299,0.20211353904518101,0.56103209945153398,0.28814090071203002,0.40471954408698602,0.44727659992185698,0.681546144504934]
[null,null,null,null,null,null,null,null,null,null,4194,0.19129297657585501,0.21084034293539999,0.202496367611462,0.54752951852634901,0.28912223131857201,0.40523404309226502,0.45236697894298,0.68841791961795795]
[null,null,null,null,null,null,null,null,null,null,4195,0.183940930978089,0.20462687187774301,0.198054330022327,0.54721783028828097,0.28194474755341398,0.39432504649095901,0.44558176789889098,0.67576398601194398]
[null,null,null,null,null,null,null,null,null,null,4196,0.17294071384543699,0.19330445625682299,0.18963828068893701,0.55756876672395095,0.26926563758718303,0.37526280849486099,0.42987326714653401,0.64903680883810899]
[null,null,null,null,null,null,null,null,null,null,4197,0.16144945781040301,0.17993070395413999,0.179079986654331,0.57379875183061502,0.25482314873481499,0.35300680892999098,0.41034374782301702,0.6165660859548]
[null,null,null,null,null,null,null,null,null,null,4198,0.15232225126398,0.16781277696300301,0.16870807609903801,0.59236075751716599,0.24191999391535501,0.33254202365857699,0.39236576833610998,0.58716274015962899]
[null,null,null,null,null,null,null,null,null,null,4199,0.14657397319088999,0.159209455888431,0.16054818198389101,0.60976271306676699,0.23291152878952801,0.31750050439404698,0.38006823558844299,0.56808307692534699]
[null,null,null,null,null,null,null,null,null,null,4200,0.14416610248353401,0.15536622998260899,0.15615543974023899,0.62215606186412098,0.22894225589418801,0.30985777628850097,0.37529646244562997,0.56375002543890695]
[null,null,null,null,null,null,null,null,null,null,4201,0.14482387357948001,0.15645738127046399,0.156091876923795,0.62774523759959799,0.22961772085424101,0.30964582961464598,0.37688508330398401,0.57208800180305597]
[null,null,null,null,null,null,null,null,null,null,4202,0.148331016980466,0.16140494649381501,0.159750082117048,0.62815680048079103,0.23307524041187,0.314750309014732,0.38114868282054198,0.58469056080250903]
[null,null,null,null,null,null,null,null,null,null,4203,0.15476928335875201,0.16926926123747699,0.166348052917249,0.62642450437907804,0.238111344472342,0.323743253111694,0.38624299644691801,0.59422313099228097]
[null,null,null,null,null,null,null,null,null,null,4204,0.16341796586385299,0.178925389896086,0.174630716514383,0.623692938893738,0.24419859533444199,0.33527477991876597,0.391427641005266,0.59663655775529401]
[null,null,null,null,null,null,null,null,null,null,4205,0.17348654061232899,0.18974987893,0.184189845029125,0.61985283980547701,0.252127121120239,0.349200239221584,0.39814965529335,0.59416379437164202]
[null,null,null,null,null,null,null,null,null,null,4206,0.18451344420534399,0.20183879437105201,0.19537426461389101,0.616045474627545,0.26270860564055998,0.36607696718516702,0.40820303493688098,0.59175878658220005]
[null,null,null,null,null,null,null,null,null,null,4207,0.195205231368937,0.213972361276587,0.20712868202228699,0.61595694280552904,0.274038081343211,0.383789522530882,0.41962934840382099,0.59042319276213695]
[null,null,null,null,null,null,null,null,null,null,4208,0.20341420912708,0.223548208244845,0.21700307825950599,0.62147306759445897,0.28245841160715801,0.39803275864392901,0.427535893888422,0.58599536599852498]
[null,null,null,null,null,null,null,null,null,null,4209,0.207171285765303,0.228351292530658,0.22247805128134099,0.63107310133338002,0.28476264253235001,0.40452540015174798,0.42678730661323799,0.572009971644306]
[null,null,null,null,null,null,null,null,null,null,4210,0.20672249808198701,0.228525202819787,0.22307528626815601,0.64235731874433799,0.28050607254474502,0.40237216772310702,0.416428030097169,0.54581338202016105]
[null,null,null,null,null,null,null,null,null,null,4211,0.20298989639883,0.22519582619322501,0.21932188320596499,0.65299035299306096,0.27069183491766702,0.39247221214696598,0.39766084251213302,0.50815774371126998]
[null,null,null,null,null,null,null,null,null,null,4212,0.196791877784424,0.21923971439673101,0.212222145096262,0.66128691103747606,0.25692138684921101,0.376375590405222,0.37309686847603701,0.46261418845239599]
[null,null,null,null,null,null,null,null,null,null,4213,0.18860642577855799,0.210762388181787,0.20257458330438399,0.66670634584272903,0.24015637070745699,0.355149172027522,0.344593894116558,0.41262867684931598]
[null,null,null,null,null,null,null,null,null,null,4214,0.18096184206153901,0.20140360268601501,0.192538113189723,0.66929683723392497,0.22282422916165801,0.33208080756358099,0.31526353683741298,0.36234702797873303]
[null,null,null,null,null,null,null,null,null,null,4215,0.178293745209156,0.19513394072404999,0.18596446372425701,0.66984053610120398,0.20952750359052399,0.31378986769355999,0.291354869964917,0.31961396778347301]
[null,null,null,null,null,null,null,null,null,null,4216,0.183558799601933,0.195294319741948,0.18554575647335,0.66903762850960902,0.20373313041764299,0.30547317587053902,0.27805970419558701,0.29086310150177302]
[null,null,null,null,null,null,null,null,null,null,4217,0.19471728950754699,0.20127883788748099,0.19025662281228101,0.66776152792959798,0.204314063148715,0.30601203292919299,0.27496172885557602,0.276159843094262]
[null,null,null,null,null,null,null,null,null,null,4218,0.206248719849489,0.20911025950540299,0.19623639529412301,0.66706342643991201,0.206693705570096,0.30933187952327701,0.27661820557823902,0.26906747973343598]
[null,null,null,null,null,null,null,null,null,null,4219,0.212428218309549,0.21382798231971301,0.19884124588531099,0.66582383901130204,0.20549204510876401,0.308062220062579,0.27567429405032301,0.26027459338299902]
[null,null,null,null,null,null,null,null,null,null,4220,0.209654522627745,0.21143444594674601,0.19489062074087499,0.66081488506406405,0.19794372610177499,0.29783731266279601,0.26735769544108201,0.243490281035384]
[null,null,null,null,null,null,null,null,null,null,4221,0.19677033392425,0.199839230002018,0.183186734469932,0.64787110596864195,0.18383333689208201,0.27770683707374699,0.249742200481472,0.217305312171613]
[null,null,null,null,null,null,null,null,null,null,4222,0.17457326716629101,0.17871493440896499,0.16419405116717101,0.62613691834159702,0.16410641034013401,0.24861253720013099,0.223226273164326,0.18397937546363399]
[null,null,null,null,null,null,null,null,null,null,4223,0.14557350299522501,0.15009752258915701,0.139777171281007,0.59809118534027905,0.140462538594786,0.21304447559765,0.189470789648503,0.14689617525276299]
[null,null,null,null,null,null,null,null,null,null,4224,0.114843720529549,0.11905084568551701,0.113760606159478,0.56693302399310197,0.116137482601695,0.17593872560915699,0.15333129355247599,0.11123783785592101]
[null,null,null,null,null,null,null,null,null,null,4225,8.7861416180155805E-2,9.1392774279000999E-2,9.0479753830771698E-2,0.53478994014443604,9.5061364107063506E-2,0.143259348623134,0.12086734380439999,8.1930754723874802E-2]
[null,null,null,null,null,null,null,null,null,null,4226,7.1178167971168202E-2,7.3751312393641397E-2,7.5266269255959306E-2,0.50328913103173001,8.2439292503732803E-2,0.122594404151718,9.9983848530870598E-2,6.37730285593721E-2]
[null,null,null,null,null,null,null,null,null,null,4227,6.9092365680897896E-2,7.0607598417375197E-2,7.1985152130561295E-2,0.47485939887540302,8.1916721590889904E-2,0.119292269217009,9.6660008960200494E-2,6.0530670921993303E-2]
[null,null,null,null,null,null,null,null,null,null,4228,8.1982497439148497E-2,8.2314168442049696E-2,8.1193778393772106E-2,0.45178828239124602,9.3485798890572E-2,0.13362406644998701,0.11239447048262299,7.3524765702565498E-2]
[null,null,null,null,null,null,null,null,null,null,4229,0.105567195160993,0.104946207552936,9.9667928464497998E-2,0.435409991536158,0.11288708346350899,0.16012650853566601,0.142325678055857,0.10028923205791899]
[null,null,null,null,null,null,null,null,null,null,4230,0.13210684726255001,0.13126150691653299,0.121558182301078,0.42618429764244398,0.133956192142591,0.190300279349366,0.177917294855059,0.13610204324400299]
[null,null,null,null,null,null,null,null,null,null,4231,0.15404666750009499,0.15417533061593,0.14109015697649099,0.42426008787346497,0.15174064237613399,0.21670224393982701,0.21067079372077699,0.17530376293570199]
[null,null,null,null,null,null,null,null,null,null,4232,0.16777673804307899,0.16998580474128799,0.155294577827855,0.42909225802397299,0.16518048581754699,0.23673728329983301,0.236443961995986,0.21348978162776899]
[null,null,null,null,null,null,null,null,null,null,4233,0.174380718174868,0.17915940229886601,0.16465866498663501,0.43769488259803602,0.176588429157024,0.25259898457702701,0.25674852330740799,0.24928451753386399]
[null,null,null,null,null,null,null,null,null,null,4234,0.177605303493062,0.18458108999852901,0.171693939230014,0.44635774185069399,0.1889488787027,0.268155138795515,0.27618222550214999,0.28421546441412099]
[null,null,null,null,null,null,null,null,null,null,4235,0.18066100020472001,0.189134149193947,0.178467602762094,0.45313556674052202,0.203586217191116,0.28564546031676902,0.29841629695956701,0.32025772954715798]
[null,null,null,null,null,null,null,null,null,null,4236,0.185136462796995,0.194455209450801,0.18554348892050099,0.45920566168870303,0.21940419301770001,0.30431043801024099,0.32359793221697603,0.357764767534623]
[null,null,null,null,null,null,null,null,null,null,4237,0.19076062323889201,0.200376090661158,0.19210818192382201,0.467413428641824,0.234031869702607,0.32140679077119599,0.34845860471456203,0.39444074991806]
[null,null,null,null,null,null,null,null,null,null,4238,0.19691684268793699,0.206117953145115,0.19761218550757301,0.47914643494245601,0.24602641909134201,0.33504728955510199,0.36945089971197898,0.42713559697760101]
[null,null,null,null,null,null,null,null,null,null,4239,0.20359828623364301,0.21148405248640401,0.202546422619025,0.49257997605457199,0.255878412063829,0.34587384492232698,0.38514107030092998,0.45349074063044198]
[null,null,null,null,null,null,null,null,null,null,4240,0.21156600174336701,0.21744679018664601,0.208371951717985,0.50388996665543195,0.26567397504180801,0.356881191302722,0.39764908069494298,0.47404847327730698]
[null,null,null,null,null,null,null,null,null,null,4241,0.222742834298186,0.22621957185908001,0.21710539132047599,0.50937286277845994,0.27837758654996497,0.37223735947657499,0.41155270041313502,0.49274366154902599]
[null,null,null,null,null,null,null,null,null,null,4242,0.23781733464852201,0.23882053033404599,0.22925307831067901,0.507964854524527,0.29447108166044,0.39303101303303201,0.42982319442627798,0.51450304485915599]
[null,null,null,null,null,null,null,null,null,null,4243,0.25411499585492697,0.25290767489147098,0.24234136774368301,0.50079278991655296,0.31083380858876403,0.41490079830010901,0.45074829843493203,0.54114013905227298]
[null,null,null,null,null,null,null,null,null,null,4244,0.26656393245100002,0.26374221192162001,0.25197858137450502,0.490538483200127,0.32229408652145197,0.43028510195393999,0.46901545794507599,0.57016338437270597]
[null,null,null,null,null,null,null,null,null,null,4245,0.26981972844123803,0.26664774266643498,0.25419279362504099,0.47995941363266698,0.32512727411616599,0.43326211358359501,0.47931120239980002,0.59581755024348004]
[null,null,null,null,null,null,null,null,null,null,4246,0.26256720031552,0.26084583529379501,0.248808542054618,0.47117518125175101,0.32039479051165598,0.42486199011039399,0.48078090665974799,0.61423248869268199]
[null,null,null,null,null,null,null,null,null,null,4247,0.24786913378691999,0.24949570769967599,0.23887404561075101,0.46614428245185602,0.31161821221250002,0.410534906582529,0.47570964651556602,0.62401448217851796]
[null,null,null,null,null,null,null,null,null,null,4248,0.229861038337075,0.236166140178099,0.22725755312229101,0.46604586502684198,0.30065536405420701,0.39387470924744999,0.46519238576955901,0.62295004105548102]
[null,null,null,null,null,null,null,null,null,null,4249,0.21105469308188199,0.22213777759593401,0.21427643116682099,0.47036186597440299,0.28640784055598201,0.37376427845319998,0.44750691333328402,0.60701730916726404]
[null,null,null,null,null,null,null,null,null,null,4250,0.19338983212048,0.20830248001433399,0.19999261253466599,0.47698423670654899,0.26866880448831099,0.34949126145634102,0.42208152199428201,0.57514462667146005]
[null,null,null,null,null,null,null,null,null,null,4251,0.178859400680277,0.19614781164421399,0.18572591531772001,0.48316346884318201,0.24917410037436699,0.32328833337036,0.39133057214876898,0.53045496116229596]
[null,null,null,null,null,null,null,null,null,null,4252,0.168533855077936,0.18717704903582799,0.17355785309393301,0.48788305545500699,0.230806991033535,0.29913669474215898,0.35910736897842799,0.47879055626765399]
[null,null,null,null,null,null,null,null,null,null,4253,0.16279617564889901,0.18231420773674201,0.165501030655749,0.49213370773419701,0.21696292849493501,0.28147611927794502,0.33075356372008202,0.42907592926092503]
[null,null,null,null,null,null,null,null,null,null,4254,0.16308259661958299,0.183225044517485,0.16381988628781,0.49842432935519998,0.21157962778206199,0.27522713437892599,0.312784575461379,0.39229500089839803]
[null,null,null,null,null,null,null,null,null,null,4255,0.170783069035053,0.19073612550980701,0.16945946897383499,0.50914731470952101,0.216408103940152,0.28257715821917301,0.309881545888951,0.37681624741324898]
[null,null,null,null,null,null,null,null,null,null,4256,0.183813769609325,0.20255292003207101,0.18013377643938,0.52532251522476103,0.22840666253109401,0.29967281914788801,0.32000392934079303,0.38191379436184503]
[null,null,null,null,null,null,null,null,null,null,4257,0.19575603182641499,0.212547814877526,0.19039918629105401,0.54587645685060204,0.24055262221756499,0.31703482749179301,0.33450495333146901,0.39693794657112103]
[null,null,null,null,null,null,null,null,null,null,4258,0.20084377403179099,0.21576233231665001,0.19594166954959,0.56627211898904595,0.24858501879422901,0.327806342414315,0.34587256363708901,0.411052221718887]
[null,null,null,null,null,null,null,null,null,null,4259,0.199886235904423,0.21347316702807401,0.19770649179903901,0.580615742970638,0.254289919538709,0.33361413658432099,0.35414988581839602,0.42234008911579901]
[null,null,null,null,null,null,null,null,null,null,4260,0.19945763954717599,0.21189198956486699,0.20028266536419401,0.58482091924458801,0.26253749494962297,0.34140436968582499,0.36372187726260302,0.43500756458615703]
[null,null,null,null,null,null,null,null,null,null,4261,0.20618466398378699,0.21679644933747999,0.20761257225667401,0.57902729176017098,0.27607147934631199,0.35618993239326202,0.37757567060549801,0.45272604924439602]
[null,null,null,null,null,null,null,null,null,null,4262,0.22244706838676301,0.230290809906156,0.22073601303554699,0.56815817651441702,0.29435801032561298,0.37852660895715701,0.39546306592763902,0.47562242875973698]
[null,null,null,null,null,null,null,null,null,null,4263,0.244163861907784,0.248866190738528,0.236820612831115,0.55938093611503603,0.31320656540061398,0.40354110897036399,0.41385519649409502,0.49973296686273599]
[null,null,null,null,null,null,null,null,null,null,4264,0.26423014932921002,0.26647552357961202,0.25135403540488399,0.55780151507361397,0.32811553574532398,0.424747362192399,0.42865903102007502,0.51904194986452601]
[null,null,null,null,null,null,null,null,null,null,4265,0.27575375138478497,0.277125410070377,0.25993391457025999,0.56376555861549704,0.33555686072381402,0.43651856093511099,0.43704270040677601,0.52954849381819702]
[null,null,null,null,null,null,null,null,null,null,4266,0.275338845755488,0.27784608793290499,0.26035677217976499,0.57100045954030498,0.33456767966672102,0.43659123572296499,0.43812448215411498,0.53048705453673795]
[null,null,null,null,null,null,null,null,null,null,4267,0.26333083876401098,0.268779885974674,0.25277141686621202,0.57017283756193304,0.32577317269984901,0.42553558414718901,0.43209287294305199,0.52322847941469497]
[null,null,null,null,null,null,null,null,null,null,4268,0.24254693367659699,0.25244570365185498,0.23891101336160001,0.555497644892603,0.310528344903436,0.40545758494732798,0.41892427331689602,0.50832701841286698]
[null,null,null,null,null,null,null,null,null,null,4269,0.216076644898998,0.231056133943918,0.22029761009026499,0.52951426335923502,0.28928593358681398,0.37733308203303501,0.397405507683878,0.48365895342094201]
[null,null,null,null,null,null,null,null,null,null,4270,0.187559697546339,0.207235472407275,0.19887540960281599,0.50041910962973701,0.263847241632302,0.34334343572706499,0.36762873271874402,0.44717712454248698]
[null,null,null,null,null,null,null,null,null,null,4271,0.16254445993233901,0.18591326359166399,0.17871714396036101,0.476549446106179,0.238861983600481,0.309719318201986,0.33463487854771101,0.40210675082395703]
[null,null,null,null,null,null,null,null,null,null,4272,0.145966793817457,0.17144308499014899,0.16374443865322899,0.462656933297727,0.21896398158363001,0.28308788689314401,0.30469655251959898,0.35530138443124298]
[null,null,null,null,null,null,null,null,null,null,4273,0.140972582324106,0.166665412752103,0.15693061004652401,0.45933421887065101,0.20793232397980199,0.26860107386040999,0.28402454556082501,0.315640565408288]
[null,null,null,null,null,null,null,null,null,null,4274,0.14798610946551,0.17188303376525099,0.15950380379638299,0.46380216874114999,0.20805211232505399,0.26886921705321898,0.27681152142659898,0.29120334659885899]
[null,null,null,null,null,null,null,null,null,null,4275,0.165242813764374,0.18576300828228501,0.17124341451278299,0.47206648817333102,0.21997799731159201,0.28446803882889299,0.28477097769899901,0.286823428573316]
[null,null,null,null,null,null,null,null,null,null,4276,0.189776925719537,0.206221654724389,0.19051125316273501,0.48075905691522902,0.24227715895958599,0.313467062335061,0.30667000784109899,0.30207230510425898]
[null,null,null,null,null,null,null,null,null,null,4277,0.215691628208283,0.22819329134941899,0.21232717930543499,0.488837895338122,0.26914486766148099,0.34832099130619798,0.33640766566449498,0.33016183737444899]
[null,null,null,null,null,null,null,null,null,null,4278,0.23505115707760499,0.24445377847546301,0.22930092353708301,0.496781533781814,0.29186490667863002,0.377047283311367,0.36347305183296302,0.35962297173449798]
[null,null,null,null,null,null,null,null,null,null,4279,0.24331779131689099,0.25080645259260298,0.23690175252498599,0.505509052617518,0.30437377496824303,0.39151190635010102,0.38008593153471998,0.38140711228817598]
[null,null,null,null,null,null,null,null,null,null,4280,0.24190656445409101,0.24875615690290201,0.236089892976585,0.51588607940659204,0.30639280147723202,0.39189561211992102,0.38498045307044598,0.392704403695392]
[null,null,null,null,null,null,null,null,null,null,4281,0.23605436536780999,0.243176886118497,0.23135218012835701,0.52843631138535097,0.30180301812480798,0.38417513479378701,0.38210675736053901,0.39596562304560701]
[null,null,null,null,null,null,null,null,null,null,4282,0.230662439023891,0.23820699676847501,0.22690216101358601,0.54191001469812705,0.295750467873023,0.37540756471029402,0.37734519870799299,0.396711538217074]
[null,null,null,null,null,null,null,null,null,null,4283,0.227673943559456,0.235189950369812,0.224352485059815,0.55309339969632498,0.29143626423277103,0.36940092504974498,0.37483570575708702,0.40086305705939801]
[null,null,null,null,null,null,null,null,null,null,4284,0.225691315105534,0.23211686540430099,0.22179357099899799,0.55913663940263902,0.28736576278797599,0.36384579557665298,0.37380896488542298,0.409405934681003]
[null,null,null,null,null,null,null,null,null,null,4285,0.22235365411871999,0.22665998308584401,0.216439062146904,0.55912937918877803,0.28021938729407297,0.35409722549696698,0.370559836120395,0.41810752806710799]
[null,null,null,null,null,null,null,null,null,null,4286,0.21572268421167701,0.21741970391287799,0.20654764989196001,0.55468886180686405,0.26706811489745003,0.33651776333581301,0.36132337698970501,0.42089342665597401]
[null,null,null,null,null,null,null,null,null,null,4287,0.204008947705654,0.20384786342637401,0.19187773313913301,0.54906049037501303,0.24754408776158701,0.31090044245281001,0.343992730164633,0.412171899748633]
[null,null,null,null,null,null,null,null,null,null,4288,0.18873718051830199,0.18831461942813299,0.175221895143606,0.54605657257351603,0.225879436085068,0.28289205140270202,0.32182879554279797,0.39301509877944701]
[null,null,null,null,null,null,null,null,null,null,4289,0.174352171714068,0.175214308380614,0.16138544666485499,0.54719405889936901,0.20940700922280001,0.26148078412192299,0.30319464294463799,0.37231501342527701]
[null,null,null,null,null,null,null,null,null,null,4290,0.167599654090688,0.170760804798535,0.15654616344491401,0.55061407244965899,0.20705997654960201,0.25712532505352897,0.29941627157191397,0.36445638215029702]
[null,null,null,null,null,null,null,null,null,null,4291,0.172572842051018,0.178257805691658,0.163880627102653,0.55256235319078695,0.22209587127024799,0.27385380317087898,0.31685497007626301,0.37953410145035299]
[null,null,null,null,null,null,null,null,null,null,4292,0.18647521993448399,0.19465916155514501,0.180561803419026,0.55101063448210197,0.24942676674227601,0.30554141350641101,0.35053813140696399,0.41412678663012498]
[null,null,null,null,null,null,null,null,null,null,4293,0.202706769187941,0.213010988685888,0.19984736000348299,0.54672897940328802,0.27829653532357901,0.33940610010121802,0.38659553399043101,0.45324500126071099]
[null,null,null,null,null,null,null,null,null,null,4294,0.21556863986890701,0.22728466867104399,0.21541353128650201,0.54071102613465405,0.29958678870544297,0.364650357032621,0.41136246161041801,0.480160672692028]
[null,null,null,null,null,null,null,null,null,null,4295,0.22258658139916301,0.234714632212424,0.224265060795029,0.53422585667697797,0.30977749496266499,0.37721151659459701,0.41884801260489701,0.48724470821537003]
[null,null,null,null,null,null,null,null,null,null,4296,0.22282885205546599,0.234207061814481,0.225224166220205,0.53093737076612602,0.30814088674228701,0.37618619153219002,0.40951572195915498,0.47567082993440402]
[null,null,null,null,null,null,null,null,null,null,4297,0.21529867028472699,0.22513158413220899,0.217961255342149,0.53546762654816105,0.29565833435562799,0.36210076720233503,0.38732371790123599,0.45191871903762798]
[null,null,null,null,null,null,null,null,null,null,4298,0.201461933610946,0.209574719187793,0.204627847624998,0.54814194298642305,0.276177245564523,0.33896411546242,0.35898125849771101,0.42438592862788699]
[null,null,null,null,null,null,null,null,null,null,4299,0.186381912984531,0.193502721665571,0.19089873917161601,0.56369445283219899,0.2578339933921,0.31617862060516599,0.33375842254395399,0.401232939664111]
[null,null,null,null,null,null,null,null,null,null,4300,0.17635582278765,0.18365194156189801,0.18299308270481801,0.57589911132070304,0.248950589486892,0.303861204517827,0.320623447341849,0.38901961830588]
[null,null,null,null,null,null,null,null,null,null,4301,0.17337473758213401,0.182130846798576,0.182800179594199,0.58214161190274505,0.25191520907825399,0.30496405273599198,0.322153212553077,0.38925346121522397]
[null,null,null,null,null,null,null,null,null,null,4302,0.17570018920275901,0.18704090184236899,0.188427440257662,0.58342332366806604,0.26377454311718801,0.31654736471109601,0.33551226645091697,0.40017420109046398]
[null,null,null,null,null,null,null,null,null,null,4303,0.17827444523481201,0.192656774858733,0.194327790912001,0.58140489635201698,0.27578838787719701,0.32886081695364899,0.35132984596293898,0.41476803084449398]
[null,null,null,null,null,null,null,null,null,null,4304,0.17651470526080601,0.19390567611089399,0.19540946338357601,0.57773354018982304,0.28015522784017499,0.33277588737886699,0.35992696374746103,0.42392675382947298]
[null,null,null,null,null,null,null,null,null,null,4305,0.168636844915906,0.188453716312106,0.18968738770447999,0.57400848022522999,0.274148606228928,0.32447792878277798,0.35623918847751301,0.42094022958220201]
[null,null,null,null,null,null,null,null,null,null,4306,0.157010739691334,0.17856755184229001,0.179988328105985,0.57096460771347901,0.26277309906282598,0.30919840500631501,0.343611106686736,0.40650047544254903]
[null,null,null,null,null,null,null,null,null,null,4307,0.14792459311831499,0.17060782827979201,0.1731137159824,0.56946878123226996,0.25575703616171103,0.29907646079796202,0.33190388483316502,0.38872577772698802]
[null,null,null,null,null,null,null,null,null,null,4308,0.14834961312917699,0.17144035835485999,0.175719000269974,0.57063798518304598,0.26105222105620701,0.30498784992920802,0.33000698511822002,0.37606736565800403]
[null,null,null,null,null,null,null,null,null,null,4309,0.16138555163114701,0.18391253038810401,0.18982723826870199,0.57465335847264998,0.27900706016764798,0.32894226035194002,0.33945327029966799,0.37094901188960899]
[null,null,null,null,null,null,null,null,null,null,4310,0.18374786305559301,0.204789309690036,0.21140941284357601,0.57790752260290401,0.30256275368400698,0.36282269069988898,0.35373759618498002,0.36821968529119697]
[null,null,null,null,null,null,null,null,null,null,4311,0.20993290288403299,0.22834316616904499,0.233780433134539,0.57498458890174897,0.32184680353172301,0.39406622987883599,0.36406825799099402,0.36097683288076998]
[null,null,null,null,null,null,null,null,null,null,4312,0.23356589097903799,0.248022824732891,0.25013093600591102,0.56486749404713699,0.329094857504727,0.41121838108918701,0.36364169639006,0.344873407131631]
[null,null,null,null,null,null,null,null,null,null,4313,0.25370694989181802,0.26310255385387699,0.25968149756351999,0.55196305366486298,0.32528360847033999,0.41372124049569797,0.353284521115517,0.32102311260189098]
[null,null,null,null,null,null,null,null,null,null,4314,0.27396031704432,0.27819308209342702,0.26782357657535899,0.54168063968051905,0.31947517813852799,0.41216446934469098,0.34166082689580501,0.29629662525475597]
[null,null,null,null,null,null,null,null,null,null,4315,0.297641442530867,0.29754874705898998,0.28025538172241599,0.53626957254027596,0.32026194359022903,0.41781619145514598,0.33772288585242,0.27806745376901099]
[null,null,null,null,null,null,null,null,null,null,4316,0.32195497117010902,0.318999722692698,0.29627245482630699,0.53457387815816604,0.32808989057357801,0.43155514661283501,0.34316209544647502,0.26971547483640201]
[null,null,null,null,null,null,null,null,null,null,4317,0.34011982479917102,0.33602773574845701,0.31005502633947302,0.53374480739427899,0.33731692496675397,0.44569378923949599,0.35287286384230399,0.26930969391711601]
[null,null,null,null,null,null,null,null,null,null,4318,0.34636285516544002,0.34292051786442801,0.31607393555921598,0.53167984349906205,0.34303589124261602,0.452453671458736,0.36176223642698901,0.27427879897669499]
[null,null,null,null,null,null,null,null,null,null,4319,0.34083997860516102,0.33957940893086502,0.31372670783519002,0.52888878941051498,0.34482787169851398,0.45103078514422901,0.36869548942714803,0.28322325875266902]
[null,null,null,null,null,null,null,null,null,null,4320,0.32752865277536602,0.329366649698764,0.30605620061444699,0.52755054549200797,0.34520014370758301,0.44526028947453,0.37539604917095998,0.295916361974356]
[null,null,null,null,null,null,null,null,null,null,4321,0.30985437238213198,0.31519634077414899,0.29567682251370597,0.52810202334164502,0.344887763914699,0.43773257474521698,0.38154365650396199,0.31063879305944497]
[null,null,null,null,null,null,null,null,null,null,4322,0.288105663546873,0.29759567436620799,0.28281583704421498,0.52832906180533701,0.34203311301450001,0.42730250553940602,0.38477442492097702,0.32490147628094301]
[null,null,null,null,null,null,null,null,null,null,4323,0.26309452709468201,0.27715052783995198,0.26720445569544699,0.52291351200809899,0.33420847641030599,0.41172963033319698,0.382893218138594,0.336070643822028]
[null,null,null,null,null,null,null,null,null,null,4324,0.23839046435816599,0.25641998825816198,0.25032147914301101,0.51107123662091203,0.32249887730820198,0.39214842990483301,0.37687555275426898,0.34407240684319501]
[null,null,null,null,null,null,null,null,null,null,4325,0.22316328314606701,0.24331615588592301,0.238607705470753,0.498647573621183,0.31434916414215103,0.37773383014296602,0.37378512042274398,0.35331196937697101]
[null,null,null,null,null,null,null,null,null,null,4326,0.22651114167427899,0.246176963969122,0.23965287930506299,0.49350383426279698,0.31885999740625198,0.38021959937354699,0.382212291719075,0.36902607073946198]
[null,null,null,null,null,null,null,null,null,null,4327,0.24991388881607701,0.266264126648244,0.25520914612072998,0.499179319010358,0.33755249071370402,0.40269117761274997,0.40373724574106901,0.39073222202596503]
[null,null,null,null,null,null,null,null,null,null,4328,0.28275681877268499,0.29375237424552703,0.27765167935480101,0.51312590644527101,0.36208523419001098,0.43464230978033802,0.42945349344045902,0.41061652671784898]
[null,null,null,null,null,null,null,null,null,null,4329,0.31233168865912397,0.31765208266744199,0.29771998948781397,0.53022319410451202,0.38304456594788999,0.46329194730783602,0.44920974062090202,0.42135389302291898]
[null,null,null,null,null,null,null,null,null,null,4330,0.33223543206971401,0.333425204718515,0.31144895215393298,0.54611311015290098,0.39780308857332197,0.48341100324181902,0.46023211224885902,0.42290937974883602]
[null,null,null,null,null,null,null,null,null,null,4331,0.345091973593038,0.34443987838270701,0.321411664728461,0.55860561470509895,0.41031758521929401,0.49911445253055398,0.46830196284363101,0.42226643229461902]
[null,null,null,null,null,null,null,null,null,null,4332,0.35500762684678799,0.35404472670661602,0.330266350872714,0.56733193837855,0.42344130628045401,0.51393505654795502,0.47913734891640197,0.426381456491292]
[null,null,null,null,null,null,null,null,null,null,4333,0.36339177124425998,0.36240189810474699,0.33819155168155701,0.57128964152692296,0.43599903633567899,0.52721185261556003,0.49324509751555601,0.43661015759768301]
[null,null,null,null,null,null,null,null,null,null,4334,0.36742027125864601,0.366295165487876,0.34205085643222399,0.57123313021640898,0.44203762325275803,0.53313787158939696,0.50533458938658904,0.44878234307951798]
[null,null,null,null,null,null,null,null,null,null,4335,0.36133440839674502,0.36023787763771797,0.336720028944477,0.56888981517284398,0.43405008978903697,0.52325434860708298,0.50637560173116303,0.45514141908862699]
[null,null,null,null,null,null,null,null,null,null,4336,0.34235616524310802,0.34179265082187998,0.31989082654951201,0.56844836557405398,0.40975661429877402,0.49483021687140999,0.49071325971263002,0.44945871600126602]
[null,null,null,null,null,null,null,null,null,null,4337,0.31432598138628298,0.31476076256000501,0.29520086953325703,0.57248251255369098,0.37513067747286699,0.45432573553773498,0.46117265540019498,0.43263622476261598]
[null,null,null,null,null,null,null,null,null,null,4338,0.28635838405394998,0.28760641746180798,0.27073167916188501,0.58033318410575097,0.34188684111469603,0.41495295700205298,0.42902021703184301,0.41335626293168698]
[null,null,null,null,null,null,null,null,null,null,4339,0.267761105219122,0.26916205234560098,0.254609853094034,0.59006964497469505,0.32064556114592002,0.38897718362468697,0.40632449652222602,0.40034893186518999]
[null,null,null,null,null,null,null,null,null,null,4340,0.26362453274155201,0.26454840092555398,0.25137612236054202,0.59998337152794301,0.31691544623919099,0.38292593910456901,0.40028404386898597,0.39681991144045498]
[null,null,null,null,null,null,null,null,null,null,4341,0.27294837106838998,0.27323865862211799,0.26016798792628099,0.60968655956637297,0.328273278916976,0.394830611117366,0.41002095487851198,0.40042540237562502]
[null,null,null,null,null,null,null,null,null,null,4342,0.29028780155017597,0.29022679166248999,0.275855732470555,0.61689838689248599,0.34668792015480898,0.41577506909478901,0.42714199954036203,0.405445768513851]
[null,null,null,null,null,null,null,null,null,null,4343,0.30970181948865999,0.30937833086150102,0.29248507806187901,0.61758988753106203,0.36452171446088599,0.436642417868007,0.44315436982938899,0.408842488247735]
[null,null,null,null,null,null,null,null,null,null,4344,0.32632923969747601,0.32546823318941798,0.30528971068614003,0.61017736577078097,0.37720185350310798,0.451451287115545,0.45316879301920898,0.410252684284865]
[null,null,null,null,null,null,null,null,null,null,4345,0.33920063204409501,0.33737327169387399,0.313940213850537,0.59862021100565899,0.38626485784707099,0.461670209561029,0.45883851892709299,0.41104372381514098]
[null,null,null,null,null,null,null,null,null,null,4346,0.34989099030946003,0.34680199110978899,0.32091956334037303,0.59046271232913405,0.395122253191661,0.47187685969377802,0.46453720529416298,0.41269236302045997]
[null,null,null,null,null,null,null,null,null,null,4347,0.35921090311220399,0.35467299880369602,0.32773432426836102,0.58977478113189197,0.405041186404485,0.48363419340085301,0.47222977092556601,0.41585163998296298]
[null,null,null,null,null,null,null,null,null,null,4348,0.36447660686601402,0.35860113170720698,0.33191665777191898,0.59445453755529698,0.41142436900196899,0.49165343654399701,0.47732009824580801,0.417607716065726]
[null,null,null,null,null,null,null,null,null,null,4349,0.36049408347791501,0.35425169826949399,0.32884363346367301,0.59847851302060995,0.40736970521768801,0.48763463863787998,0.47135631960102298,0.41155587766146201]
[null,null,null,null,null,null,null,null,null,null,4350,0.34436754390746299,0.3393093630815,0.31617874448306998,0.598958415952899,0.38961625671963701,0.46735196702573001,0.44881134667362299,0.39264600604498701]
[null,null,null,null,null,null,null,null,null,null,4351,0.32204360596169301,0.31941796725974902,0.29908104959060899,0.59804587550926303,0.36408429622196398,0.43814225818570002,0.41307127203789601,0.361357963951775]
[null,null,null,null,null,null,null,null,null,null,4352,0.30599790938614602,0.305876739214896,0.28773255305732498,0.59798763843527203,0.34277678155201202,0.41513878204661497,0.37596590461707602,0.32519309910280297]
[null,null,null,null,null,null,null,null,null,null,4353,0.304648540288045,0.30595869051451702,0.28845841348095203,0.59765878865892097,0.33383708574319798,0.40880101972117899,0.349366213799638,0.29426518942836999]
[null,null,null,null,null,null,null,null,null,null,4354,0.316661587999717,0.31851797050228903,0.29984935272811702,0.59699978749110505,0.33729805918797601,0.41833546507993502,0.33764392333154603,0.274372855550918]
[null,null,null,null,null,null,null,null,null,null,4355,0.33470150767774998,0.33691410006509798,0.31602804550601399,0.59996146258803296,0.34853718146363399,0.43637881578847998,0.33960872099893902,0.26718037011771401]
[null,null,null,null,null,null,null,null,null,null,4356,0.35004548133466301,0.35305676931825197,0.330004430505,0.61149389209372595,0.36101827925580199,0.45347479292475601,0.35047966689834098,0.27086450864199502]
[null,null,null,null,null,null,null,null,null,null,4357,0.35684874068813199,0.36129873314653999,0.33687959909953702,0.63332816798606495,0.36988580613114103,0.463093307491238,0.36457814963388502,0.28078400988563101]
[null,null,null,null,null,null,null,null,null,null,4358,0.35397801451389899,0.35995123874264201,0.33531744958443699,0.66233151931425505,0.37298478745439001,0.46303343144509101,0.37618582695435299,0.29164608665310998]
[null,null,null,null,null,null,null,null,null,null,4359,0.34716597255723503,0.35388752534387502,0.32967486308869298,0.69191015391539901,0.37354387393292399,0.45853958052365401,0.38395603815365398,0.30049224103397199]
[null,null,null,null,null,null,null,null,null,null,4360,0.34480525639499399,0.350762083642015,0.32675351990995699,0.715990279728003,0.375872431666462,0.45708481251051802,0.38954039523649397,0.306875662811876]
[null,null,null,null,null,null,null,null,null,null,4361,0.35100370648003698,0.35502283116077299,0.33066071871938901,0.73006601787417702,0.38244095367345698,0.46321024682609102,0.395905506574529,0.31208461199326798]
[null,null,null,null,null,null,null,null,null,null,4362,0.36422188073138001,0.36562962161169699,0.34051223328649199,0.73132904797759601,0.39253863984792797,0.47575114052390899,0.40480923354673598,0.31769890051239302]
[null,null,null,null,null,null,null,null,null,null,4363,0.379093038510247,0.37753556615241401,0.35156472873585398,0.720820403266624,0.40292800305535498,0.48914591718348399,0.41531629522007302,0.32435641113618202]
[null,null,null,null,null,null,null,null,null,null,4364,0.39041989883453498,0.38596492518321102,0.35953442540127201,0.70498757591099603,0.41097183989867597,0.498804084122074,0.42597767672807502,0.33211427485577599]
[null,null,null,null,null,null,null,null,null,null,4365,0.39288594604904398,0.38654621700120401,0.36072591092650202,0.69148942164620397,0.41408531034524498,0.50094039860971895,0.43404191564530498,0.33965469302458701]
[null,null,null,null,null,null,null,null,null,null,4366,0.38447060155887203,0.37824784841229198,0.35422645183637602,0.68503458391044203,0.41157118750039801,0.49477915591787303,0.43714797316189802,0.34506463989970498]
[null,null,null,null,null,null,null,null,null,null,4367,0.369867702951444,0.36550012965485301,0.34382817921400699,0.68712383671885502,0.40650665202286901,0.484729151692952,0.43640301144939397,0.34794405657181798]
[null,null,null,null,null,null,null,null,null,null,4368,0.35664508312337101,0.35444092686279799,0.33480710279352,0.69742583759179,0.40281529532569899,0.47645415751341003,0.43496013939246397,0.35015137216245801]
[null,null,null,null,null,null,null,null,null,null,4369,0.35020088541082001,0.34917740102880102,0.33086649989432498,0.71361812279608305,0.40330377214394397,0.473923085453404,0.43634080793957403,0.35373418600800899]
[null,null,null,null,null,null,null,null,null,null,4370,0.34873247708518901,0.34752692909421501,0.330242528713036,0.73012984971629702,0.406008939519932,0.47472385952157198,0.44033050125789602,0.35925368483484699]
[null,null,null,null,null,null,null,null,null,null,4371,0.346018152247901,0.34430775326813701,0.32797885833555701,0.73884061583374605,0.40692248591403102,0.47321616269729999,0.44391970823700899,0.36548362861404099]
[null,null,null,null,null,null,null,null,null,null,4372,0.33770797636810002,0.33658011464440202,0.32097484417767902,0.73618743238001205,0.40369974739196202,0.466132336155959,0.44562341209044998,0.37185223963142799]
[null,null,null,null,null,null,null,null,null,null,4373,0.323897784136367,0.32556870421758899,0.31030018070903898,0.72647569497313902,0.39745842981680002,0.45476895762688202,0.445880908245192,0.37820583095631999]
[null,null,null,null,null,null,null,null,null,null,4374,0.31104698963705601,0.317167360827872,0.30152195244782498,0.71805653053705898,0.39347881015254299,0.44569359865483599,0.44820968068651501,0.384963534730146]
[null,null,null,null,null,null,null,null,null,null,4375,0.30676827959610597,0.31736171788870599,0.30065147584222301,0.71690475647770502,0.39776505376711402,0.44606368839077198,0.45660874811504998,0.39393733489935501]
[null,null,null,null,null,null,null,null,null,null,4376,0.314688932436472,0.32797909851940099,0.30966016997526602,0.72328902258665895,0.41131569492108999,0.45775130866848102,0.47234480255604899,0.40705329844781502]
[null,null,null,null,null,null,null,null,null,null,4377,0.32917229540846799,0.34306567281745898,0.32310091104598498,0.73471166933468302,0.42735971159786201,0.47334372105068101,0.49021540642441103,0.42271468889375502]
[null,null,null,null,null,null,null,null,null,null,4378,0.33846596780869198,0.35221116835840499,0.33143161479437799,0.74755759820295797,0.43623136053811501,0.48111227324729799,0.50206939516087801,0.43687080038297699]
[null,null,null,null,null,null,null,null,null,null,4379,0.33373477110391297,0.34870520992354398,0.32861530437958197,0.75839387990158602,0.43360042433315599,0.47497469817628901,0.50350643702001496,0.44629372033685499]
[null,null,null,null,null,null,null,null,null,null,4380,0.31233318335584698,0.33082473811732699,0.31320350925948898,0.76213383059147299,0.41966590024720901,0.45473237489831397,0.49399446387433898,0.450174245930411]
[null,null,null,null,null,null,null,null,null,null,4381,0.27853851319192402,0.30190384105752499,0.28817582171239697,0.75349502997756501,0.39710976019310001,0.424467510407813,0.47472356923179598,0.44787743626285098]
[null,null,null,null,null,null,null,null,null,null,4382,0.24084814608718899,0.26845298338064499,0.259140226795051,0.730799076046455,0.36983591626118101,0.389912457503577,0.44806367820209703,0.43828628068015502]
[null,null,null,null,null,null,null,null,null,null,4383,0.21183408801262699,0.24196354174246301,0.23604611544639101,0.70047633160516098,0.34738021280518899,0.36223375761218601,0.42225724097072997,0.42431910994669497]
[null,null,null,null,null,null,null,null,null,null,4384,0.203240171706597,0.23441404251902601,0.22941259758018001,0.67498589459150704,0.34082416109462199,0.35422175208354201,0.41025730352971401,0.41480756056913498]
[null,null,null,null,null,null,null,null,null,null,4385,0.217075202101676,0.24841453525787599,0.241756510567676,0.66563830663113599,0.35336885502123,0.36924556009152398,0.41827088891365599,0.41688160100296301]
[null,null,null,null,null,null,null,null,null,null,4386,0.24418962740114999,0.27468243249517299,0.26496780901938699,0.67508125420688503,0.375583105458208,0.39684362649739502,0.43919203806081702,0.42811806693025101]
[null,null,null,null,null,null,null,null,null,null,4387,0.27078080337070598,0.29918690391818398,0.28653895909715499,0.69484424241839804,0.393786858447082,0.420998922818414,0.45784376056504,0.43768259131682702]
[null,null,null,null,null,null,null,null,null,null,4388,0.28853505393885498,0.31380064226340398,0.29925059860857001,0.71484339741554404,0.40139285078812698,0.43310000181777403,0.46552625165378297,0.4390324768501]
[null,null,null,null,null,null,null,null,null,null,4389,0.29751413257141002,0.31934340445572801,0.304070199256672,0.73337295039143502,0.40226263887819702,0.43596644498661802,0.46523343704708198,0.43472982821820799]
[null,null,null,null,null,null,null,null,null,null,4390,0.30193219310436198,0.32096522225485502,0.305987931466152,0.75455337269553202,0.40369099635987798,0.43741402695609999,0.46495487888422199,0.43202902823001299]
[null,null,null,null,null,null,null,null,null,null,4391,0.30645187454828798,0.32358880860938799,0.30953597168029001,0.78167226756938701,0.40899588273759202,0.44266163904607198,0.46824629469400098,0.433266273941674]
[null,null,null,null,null,null,null,null,null,null,4392,0.31210838974745903,0.32758307221684801,0.314467011892201,0.81051039154490701,0.41371940840462901,0.44895647450192,0.46956382533401397,0.43232505463323401]
[null,null,null,null,null,null,null,null,null,null,4393,0.31874073079462301,0.331977056064577,0.31920682133815098,0.83298835750837696,0.41345856497226702,0.45243414964993001,0.46176986190733199,0.42126079770390201]
[null,null,null,null,null,null,null,null,null,null,4394,0.32759365187358203,0.33805808975329898,0.324676158285917,0.84305200927744395,0.40949370705778099,0.45420944503020699,0.44484201693367997,0.39842000154743301]
[null,null,null,null,null,null,null,null,null,null,4395,0.34078648807379902,0.34839135614856398,0.333542620638765,0.83869582253784702,0.40758806234983702,0.459311213273772,0.42640418539987401,0.37092579119956898]
[null,null,null,null,null,null,null,null,null,null,4396,0.357295660322272,0.362553969582321,0.34587557815324299,0.82120258263802404,0.41060118295820303,0.46941583350869198,0.41394019131409798,0.34808915708903698]
[null,null,null,null,null,null,null,null,null,null,4397,0.37124129276041301,0.37489937971002302,0.35666005975940202,0.797274022062192,0.41561170148531601,0.47927503529215199,0.40850169811678,0.33490397838063302]
[null,null,null,null,null,null,null,null,null,null,4398,0.375582723832669,0.37868877960493202,0.35987462505634799,0.77740899712473899,0.41748917346186998,0.48176937505458201,0.40662235152951198,0.33088317530254202]
[null,null,null,null,null,null,null,null,null,null,4399,0.368767385259125,0.37299681741097601,0.354400724608947,0.766562210033221,0.414749365496898,0.47535670555943998,0.40517759920090701,0.33227370840106202]
[null,null,null,null,null,null,null,null,null,null,4400,0.35547328505423398,0.36273463987758497,0.34451142537430801,0.76022829623526,0.41029560709325202,0.464841328304468,0.40511603751158498,0.33691741870633501]
[null,null,null,null,null,null,null,null,null,null,4401,0.33940017853688298,0.35117343714164301,0.33304961603035199,0.75028651767237597,0.40523897864912101,0.453188662623283,0.40737029552308202,0.34407844492089001]
[null,null,null,null,null,null,null,null,null,null,4402,0.31812496182448302,0.33530513911471999,0.31717591774943898,0.73561373426037702,0.395042450384262,0.436136772543537,0.407247959382467,0.35050932817108499]
[null,null,null,null,null,null,null,null,null,null,4403,0.28930417159854199,0.31204274081715699,0.29417000096408202,0.72569972652618597,0.37623373664864801,0.40974492373932903,0.399972602926781,0.35258472323142198]
[null,null,null,null,null,null,null,null,null,null,4404,0.25812658895407498,0.28567914818863799,0.26793141748150501,0.72966318708202904,0.35268302846454402,0.37846643541087099,0.38663361012403602,0.350107804119757]
[null,null,null,null,null,null,null,null,null,null,4405,0.23578346409803499,0.26595935278128802,0.24755794463814701,0.74684915335994195,0.33365139550079098,0.35319474013430102,0.37393043682673999,0.34660295674415997]
[null,null,null,null,null,null,null,null,null,null,4406,0.23057030947476001,0.26037775740456498,0.24071876879741699,0.77034212486855802,0.32767452855102303,0.34383436677530899,0.36904025616845598,0.34664608891411902]
[null,null,null,null,null,null,null,null,null,null,4407,0.24266062293722099,0.26904202673939298,0.24891493900897799,0.79388536741409099,0.33769129771156597,0.35330575744290199,0.37500617811079401,0.35344854647076801]
[null,null,null,null,null,null,null,null,null,null,4408,0.267979302107902,0.28937044030620201,0.27017405804221301,0.81395425320358805,0.36357241040719801,0.38063154906660801,0.39345581478972902,0.36921817816861802]
[null,null,null,null,null,null,null,null,null,null,4409,0.30107409879152403,0.31747329800821,0.299936159294931,0.83009544465083196,0.400157266089057,0.42019936018252801,0.42306358068617,0.39361668025693197]
[null,null,null,null,null,null,null,null,null,null,4410,0.33388356950472398,0.34650927913481,0.330146119449653,0.84311271841878999,0.437298495519647,0.46091262779191899,0.457329316496772,0.42174048652964302]
[null,null,null,null,null,null,null,null,null,null,4411,0.357125902769524,0.36817763514471202,0.35191962126204002,0.85458539582885495,0.46433291312596198,0.49068587859211199,0.48739070076158297,0.44704674918075499]
[null,null,null,null,null,null,null,null,null,null,4412,0.36291222550104701,0.37517394242167101,0.35848454192518597,0.86630667472470702,0.47485948867994598,0.500860872492075,0.50540053162850396,0.46395516778656998]
[null,null,null,null,null,null,null,null,null,null,4413,0.35156648768471299,0.367680733141383,0.35073627131045998,0.87841257942268902,0.47127018823012601,0.493211275420956,0.51128096914559296,0.47247267863313303]
[null,null,null,null,null,null,null,null,null,null,4414,0.33195922813758399,0.35300660031592201,0.33646694156146001,0.88726032293449097,0.46175091994296102,0.47750613479353798,0.50980285128092895,0.47514422021793401]
[null,null,null,null,null,null,null,null,null,null,4415,0.31739419715351702,0.341669007265966,0.32627400309662902,0.88558898497635397,0.45631478334898901,0.466690047957528,0.50765787493328596,0.47509287550950702]
[null,null,null,null,null,null,null,null,null,null,4416,0.31823586395167602,0.34219527129378702,0.328261344293728,0.86299594367117904,0.46229480089430097,0.47075570141074802,0.51007072718011004,0.47428240746141898]
[null,null,null,null,null,null,null,null,null,null,4417,0.33467524444866098,0.35477851522285397,0.34193277278253198,0.81126985366367999,0.47673740743371501,0.487930074986346,0.51559092865824696,0.47035037136347402]
[null,null,null,null,null,null,null,null,null,null,4418,0.35669495235696103,0.37116326532445798,0.35857912860146501,0.73285384548416299,0.48854404438219401,0.50610475409747702,0.51653863026951596,0.45805463884035802]
[null,null,null,null,null,null,null,null,null,null,4419,0.37202188447303502,0.38093950629352302,0.36815098842764699,0.64132375959146404,0.48592619224155997,0.51179677475504504,0.50335262495181798,0.43157675421036501]
[null,null,null,null,null,null,null,null,null,null,4420,0.37507063721858402,0.38005736322257,0.36699184039543098,0.55511310928052504,0.46617809585923897,0.500778011097892,0.47281925685201598,0.38974670194062899]
[null,null,null,null,null,null,null,null,null,null,4421,0.36772002514817298,0.37121436065194102,0.35823200276366302,0.49019627213604899,0.43525973152575798,0.478205445153848,0.42941532133714,0.33710351542662897]
[null,null,null,null,null,null,null,null,null,null,4422,0.35747442293336701,0.36159561387960498,0.34853602105924802,0.45418371049936201,0.40275566235691201,0.453816676703999,0.38244428983265299,0.28203565799702401]
[null,null,null,null,null,null,null,null,null,null,4423,0.35212392949389298,0.35779183775192003,0.34372434569997701,0.44532493217109698,0.37729119389294102,0.43633268199997199,0.34256307426287202,0.234651238938266]
[null,null,null,null,null,null,null,null,null,null,4424,0.35332195672679501,0.35966885571255802,0.34336351542747501,0.45359639509115302,0.36033038912606202,0.42631316228195099,0.31446139747638002,0.20103479628156801]
[null,null,null,null,null,null,null,null,null,null,4425,0.357200493879402,0.36278484408311001,0.34369901052266799,0.466900391491819,0.34990606445683098,0.42026952876089402,0.298136100004187,0.18190006422757601]
[null,null,null,null,null,null,null,null,null,null,4426,0.36070685658713098,0.36476943015464097,0.34328074337599801,0.47586885151591302,0.34501862250028598,0.41683428692873098,0.29226232369718902,0.17460259664479699]
[null,null,null,null,null,null,null,null,null,null,4427,0.36258886583630301,0.36519951566276598,0.342631419451285,0.47760556346794197,0.345529146368389,0.41634853078640699,0.29454336598645398,0.17597315710181399]
[null,null,null,null,null,null,null,null,null,null,4428,0.36290095630221703,0.36483912292786502,0.34307877678650101,0.47446584950951198,0.35160041019748201,0.41971215412072999,0.30243975757152097,0.183780736469801]
[null,null,null,null,null,null,null,null,null,null,4429,0.36238773036579103,0.36479656155466,0.34552305586572801,0.47001668876682001,0.361964192055307,0.42671010249324998,0.31324276345367602,0.195375401637915]
[null,null,null,null,null,null,null,null,null,null,4430,0.36224444766385999,0.36595354301491001,0.349789481054471,0.46805002067801599,0.374200520267081,0.43582054799025899,0.32477305204103402,0.20852531498370699]
[null,null,null,null,null,null,null,null,null,null,4431,0.36226725980819702,0.36741621766064497,0.35366997539221501,0.47195295559849099,0.38434244427338798,0.44350195650047503,0.335320636236974,0.22114218033668701]
[null,null,null,null,null,null,null,null,null,null,4432,0.359135722133892,0.36498917271608999,0.35235370546712103,0.48381038761906198,0.38623344120203101,0.44300637422535599,0.34112428250815102,0.23047969581143399]
[null,null,null,null,null,null,null,null,null,null,4433,0.34896845667276299,0.35475060822482701,0.34215937573881999,0.50266572745207305,0.37666534512344202,0.42966825804790698,0.33828567145259297,0.233899947958914]
[null,null,null,null,null,null,null,null,null,null,4434,0.33622646754819002,0.34163636072470599,0.32828201073543201,0.52475895600477995,0.36075403215049401,0.409631875022549,0.32808454118198999,0.23132834388214399]
[null,null,null,null,null,null,null,null,null,null,4435,0.331137394793726,0.33622536961060701,0.32162548772072103,0.54576843978435496,0.34992858644799701,0.39644714803887598,0.31738853864740602,0.226083116072161]
[null,null,null,null,null,null,null,null,null,null,4436,0.34218692981050902,0.346793845605117,0.33039529058524802,0.56329635406473599,0.35270437348754802,0.40087366977145,0.31351623546833302,0.22269790069581399]
[null,null,null,null,null,null,null,null,null,null,4437,0.36640333899359401,0.37012558899056203,0.35163780027033398,0.57756796125139798,0.36755404751806398,0.42073657016529598,0.31788899252108799,0.223257978073862]
[null,null,null,null,null,null,null,null,null,null,4438,0.39240938105013901,0.395217033424201,0.37484356426322701,0.58910308626241004,0.38617115997010099,0.44499794297586998,0.32683543732397002,0.227281356856743]
[null,null,null,null,null,null,null,null,null,null,4439,0.406916410722935,0.40952095579832098,0.38816105804608098,0.59736685340373696,0.398550132966767,0.46026103063124801,0.33413558664599902,0.23241837649743]
[null,null,null,null,null,null,null,null,null,null,4440,0.40396356035453201,0.40784432085762501,0.386750932646104,0.600368654994752,0.40050384341621897,0.46050066180187899,0.33604563604812399,0.23684506747892001]
[null,null,null,null,null,null,null,null,null,null,4441,0.38875429354305302,0.39489205305214398,0.37497969921030999,0.59577279437361996,0.39533162338584799,0.449963460474118,0.33370698465858001,0.24036613244428001]
[null,null,null,null,null,null,null,null,null,null,4442,0.37408302983073299,0.38184743867313198,0.36309587738210303,0.58278620350482702,0.390681962887243,0.43942219341980698,0.33154967376960498,0.24391160105156301]
[null,null,null,null,null,null,null,null,null,null,4443,0.37234939038973502,0.37999425614280702,0.36143227858943,0.56308028240321795,0.39478269889518602,0.44030446255254102,0.33577368013397602,0.249326405246455]
[null,null,null,null,null,null,null,null,null,null,4444,0.38676664664350802,0.392652255205234,0.37308330039316201,0.54009341623204898,0.410107884253125,0.45588168260025702,0.34964435119758203,0.25839655755189]
[null,null,null,null,null,null,null,null,null,null,4445,0.40863423417450301,0.41288544491393903,0.39189679124384902,0.51841675524646702,0.432831851506566,0.47969248623625999,0.371330357728684,0.271790667031099]
[null,null,null,null,null,null,null,null,null,null,4446,0.42810746579479297,0.43187405237033699,0.41012008950879902,0.50437497607686499,0.45682535783610501,0.50331594428169601,0.39610357658064499,0.28865158512713002]
[null,null,null,null,null,null,null,null,null,null,4447,0.43849337845349601,0.44229220265348601,0.42115722238135,0.50370442725249698,0.47549884970679901,0.51905378797845203,0.41773346281489898,0.30593290527359102]
[null,null,null,null,null,null,null,null,null,null,4448,0.43910441867383498,0.44245974976867303,0.42309364127771398,0.51717072386982998,0.48547712847996,0.52421351133772398,0.43148447627898601,0.31993052514076498]
[null,null,null,null,null,null,null,null,null,null,4449,0.433711070532034,0.435687963228713,0.41822415502184002,0.53936192952002004,0.48753521062745198,0.52094085213965702,0.43624532127147903,0.32871810095093001]
[null,null,null,null,null,null,null,null,null,null,4450,0.42540548932109201,0.425822483232218,0.40965769823394899,0.56242741937523599,0.483846699264321,0.51236695765012696,0.43389042325757199,0.33286641566678898]
[null,null,null,null,null,null,null,null,null,null,4451,0.41517205340486402,0.41465310911262099,0.39929780891385303,0.58102073002080601,0.47615849411954198,0.50042203080105396,0.427622047175093,0.33427848908577001]
[null,null,null,null,null,null,null,null,null,null,4452,0.40175544700649002,0.40148863240383298,0.38697201044799501,0.59395885609824095,0.46451966982438397,0.48491492510011103,0.41967726809704903,0.33398615995300701]
[null,null,null,null,null,null,null,null,null,null,4453,0.38414733345312702,0.38555670626154998,0.37226758942382399,0.60067195773097404,0.449588115805232,0.46584026278532098,0.41075303903972998,0.33187176964217202]
[null,null,null,null,null,null,null,null,null,null,4454,0.36451256412736899,0.368893716694567,0.35678359937022802,0.60286824815488504,0.43386440505146501,0.44565515246715898,0.40194542085231699,0.32841611891582601]
[null,null,null,null,null,null,null,null,null,null,4455,0.34831184033791401,0.35644527274457699,0.34463989809346901,0.60460517092503396,0.42203507598710699,0.429744063688758,0.39551623406778902,0.32518685900856797]
[null,null,null,null,null,null,null,null,null,null,4456,0.338833151032223,0.35038972130499801,0.33768006314534699,0.60833356795997595,0.41563329216767497,0.42063913666004998,0.39325125164222302,0.32457075049780498]
[null,null,null,null,null,null,null,null,null,null,4457,0.33305454597066902,0.34717071873615502,0.33276364399555303,0.61268280666875996,0.41048793307554199,0.41455671838873398,0.39165209623637498,0.324726777884077]
[null,null,null,null,null,null,null,null,null,null,4458,0.32792151217341298,0.34331923856280699,0.32698124892975799,0.61507674310937899,0.401261723243511,0.40692534277811798,0.38527655603723299,0.32006716807872898]
[null,null,null,null,null,null,null,null,null,null,4459,0.32227229779869598,0.33761068213147999,0.31929688441277299,0.61353385216017098,0.38479403702957199,0.39491642252591402,0.36958190827925802,0.304957956134569]
[null,null,null,null,null,null,null,null,null,null,4460,0.31769090102357,0.33228437289318702,0.31198699851360501,0.60800799135077399,0.36372487279398102,0.38043480711016597,0.34500878823605102,0.27841616220545901]
[null,null,null,null,null,null,null,null,null,null,4461,0.320353076864201,0.33331099386138402,0.31095376737582497,0.59696231990106996,0.34531689358555401,0.37046119707854502,0.317369322572434,0.24541120938303701]
[null,null,null,null,null,null,null,null,null,null,4462,0.33281066087776001,0.34324570454507602,0.318743006960367,0.57856799992866403,0.33411395726937698,0.36878235173256402,0.29252858567696999,0.21267128123621101]
[null,null,null,null,null,null,null,null,null,null,4463,0.35242993867619299,0.35957623052347598,0.33277568825316201,0.55440060394912705,0.32988637067975302,0.373676323129503,0.27403660082313402,0.18587935941169401]
[null,null,null,null,null,null,null,null,null,null,4464,0.37112651427570298,0.37515625400849201,0.346066769802712,0.53158949909318998,0.32812101447917102,0.378627091096983,0.26181681414200703,0.167201559624815]
[null,null,null,null,null,null,null,null,null,null,4465,0.38263054875358898,0.38478163413646599,0.35399113906506702,0.51660611510330301,0.32650652093696397,0.37983471601907698,0.25477482768169801,0.15648883259138799]
[null,null,null,null,null,null,null,null,null,null,4466,0.38587723353823,0.38740860107221398,0.35628814650979301,0.51014047254911099,0.32576834033758001,0.37823055214923101,0.25259090186364902,0.15281753198845399]
[null,null,null,null,null,null,null,null,null,null,4467,0.38444693922065398,0.38615990733034,0.356137036011687,0.50833178465809603,0.32804287524335601,0.37726719350504401,0.25467015072712101,0.15417639909905301]
[null,null,null,null,null,null,null,null,null,null,4468,0.38290910469707701,0.38491243349937898,0.35674782135540301,0.50676406756457804,0.33343950020663998,0.37907214690332097,0.26030389316669,0.15901064003787599]
[null,null,null,null,null,null,null,null,null,null,4469,0.38438989807333501,0.38630995221687803,0.35944581858388702,0.50359045438891503,0.33934584288727998,0.38255391645928399,0.26659715093747099,0.16459112740657]
[null,null,null,null,null,null,null,null,null,null,4470,0.391363336040912,0.392670666345107,0.36569114168998201,0.50159202426108795,0.34537690279097699,0.387999056438662,0.27287316028812902,0.16942237944585201]
[null,null,null,null,null,null,null,null,null,null,4471,0.40465567640739403,0.40479042997088999,0.37648756499726499,0.50337609381355997,0.35306093490915402,0.39688457019774198,0.280251420509459,0.17376954320964599]
[null,null,null,null,null,null,null,null,null,null,4472,0.42116391885758198,0.42017724427735798,0.39034753022749402,0.51035459461063304,0.36372653268801403,0.40920871799726399,0.290052820862918,0.17864860085342801]
[null,null,null,null,null,null,null,null,null,null,4473,0.43755643479266099,0.43568575050352298,0.404955260174299,0.52004503308820504,0.37713995078838097,0.42363055826479601,0.30256276657439601,0.18502975037482899]
[null,null,null,null,null,null,null,null,null,null,4474,0.45193113900203202,0.44978662090718802,0.41870380498471199,0.52548032851336601,0.39222713335160198,0.43844960436067698,0.316800741433099,0.19315318274416299]
[null,null,null,null,null,null,null,null,null,null,4475,0.46477719627788899,0.46279783469378399,0.43129928865378497,0.52140301430055802,0.40786999010354802,0.45297631403427602,0.331874656917311,0.20300727409334601]
[null,null,null,null,null,null,null,null,null,null,4476,0.476063561542726,0.474294553803084,0.442072399126615,0.50763502566148,0.42235175751085202,0.46613482465867201,0.34637508250342403,0.21398422321229399]
[null,null,null,null,null,null,null,null,null,null,4477,0.48182306764039901,0.480473039620604,0.44776316505723202,0.49044910609005299,0.432659645433358,0.47468076614390198,0.358071114669192,0.22478279561658401]
[null,null,null,null,null,null,null,null,null,null,4478,0.47672512965507202,0.47647064576728398,0.44445051176543798,0.47866017583750398,0.43595882650264001,0.47470989583726703,0.365117358871834,0.23412142985812301]
[null,null,null,null,null,null,null,null,null,null,4479,0.45976929238360698,0.46175195563013199,0.43146658799077198,0.47877092291540602,0.43070336024190597,0.46456246075149199,0.36625325449819501,0.24057169247606]
[null,null,null,null,null,null,null,null,null,null,4480,0.43852395385457499,0.44340528462640699,0.414969763863626,0.49139970934913302,0.42034838904038502,0.44932564706724298,0.36298440486225497,0.24376172739762]
[null,null,null,null,null,null,null,null,null,null,4481,0.425121554123842,0.43248401865547997,0.404972980648936,0.51103681388993805,0.412176469128953,0.43869867586038302,0.35886106086853198,0.24476150964566901]
[null,null,null,null,null,null,null,null,null,null,4482,0.427798830341939,0.43633733616866599,0.40843173457398702,0.52966254813450997,0.41324352670335701,0.44038621789362897,0.35777026316455701,0.24586841527737199]
[null,null,null,null,null,null,null,null,null,null,4483,0.446109068096326,0.45432408315475697,0.42522139043261398,0.54207242211618301,0.42573755759302501,0.455613198797573,0.36207022376129699,0.24927822103960401]
[null,null,null,null,null,null,null,null,null,null,4484,0.47151309871774999,0.47839905087968498,0.447765646868649,0.54662026124038599,0.44457085665281398,0.47755145323460302,0.37074386589757302,0.25525098152689102]
[null,null,null,null,null,null,null,null,null,null,4485,0.49134348719632798,0.49720052286481797,0.46544527842241901,0.54539705730950805,0.46160591931550499,0.49615571396718,0.38027056761088202,0.26212637250342402]
[null,null,null,null,null,null,null,null,null,null,4486,0.49643263805938997,0.50263011084137998,0.470800776883463,0.54277047110497501,0.47064630432946902,0.50392152718999295,0.38749203784525998,0.26805393622693902]
[null,null,null,null,null,null,null,null,null,null,4487,0.48452106717093002,0.492648712925571,0.46212843449603302,0.54325722375068897,0.469797149395001,0.498525141343724,0.39027464486639901,0.271598037092182]
[null,null,null,null,null,null,null,null,null,null,4488,0.46304897945825502,0.47401246062755797,0.44564895893119799,0.54942912668986499,0.46336401686114598,0.485121488518237,0.38994168766909199,0.27342327279588702]
[null,null,null,null,null,null,null,null,null,null,4489,0.44254627166416199,0.45665687676710498,0.43059165619022399,0.55981270147197404,0.45828701605494998,0.47251751478446302,0.39028268325561499,0.27578119880355201]
[null,null,null,null,null,null,null,null,null,null,4490,0.43170964301687098,0.44900345815899001,0.425206587462445,0.57079293264643904,0.46195753762607,0.469771642525185,0.397049309029537,0.28199374284335299]
[null,null,null,null,null,null,null,null,null,null,4491,0.42967004267865799,0.44977735373686301,0.42833658043351103,0.58044250011668896,0.47265099360965701,0.476085627426998,0.41043560464818402,0.29237357631295802]
[null,null,null,null,null,null,null,null,null,null,4492,0.42798130132836998,0.45047019716204401,0.43145895296840397,0.58993625265913896,0.48247702588555902,0.48268293202527002,0.42487388881731403,0.30323211341515199]
[null,null,null,null,null,null,null,null,null,null,4493,0.41936940840153297,0.44358051375044,0.42662523517758799,0.60202405433097395,0.483442469327094,0.48073742309327799,0.43382715991270798,0.31037221150452499]
[null,null,null,null,null,null,null,null,null,null,4494,0.404960716292801,0.42958456337860601,0.41335554603578301,0.61735011907552395,0.47424613676203198,0.46861288071874801,0.43407107744658802,0.311447132806002]
[null,null,null,null,null,null,null,null,null,null,4495,0.39460874339494301,0.41754086665937601,0.40029405922526801,0.63420758937145705,0.46258501818196301,0.45472328815530899,0.429179022838582,0.30785971684790697]
[null,null,null,null,null,null,null,null,null,null,4496,0.39777241307102501,0.41701308923702801,0.39736166208833901,0.64879833400951403,0.45796663713408903,0.44938794647746999,0.42550894192932598,0.30315200892757399]
[null,null,null,null,null,null,null,null,null,null,4497,0.41604876505795302,0.43098976936004102,0.40859047802543802,0.65668553061649504,0.464600476520519,0.45734864723047303,0.426711902693933,0.299906386185888]
[null,null,null,null,null,null,null,null,null,null,4498,0.44287378621086398,0.45416085383806498,0.42972964424468202,0.65406538722208096,0.47851436050155299,0.47477850043953002,0.43171958081125,0.29872794538827901]
[null,null,null,null,null,null,null,null,null,null,4499,0.46756962366217703,0.47648317198705198,0.45115631754237201,0.64011322969881601,0.490865126332311,0.49212665287983498,0.43481449297680302,0.29756580578546099]
[null,null,null,null,null,null,null,null,null,null,4500,0.48543197490641299,0.49321437151212999,0.46758786251155898,0.61941740587230698,0.497205816146225,0.50410430079230095,0.43251794825022299,0.29429710125565101]
[null,null,null,null,null,null,null,null,null,null,4501,0.49953264378974399,0.50644298123649201,0.48009685929241203,0.59767110822891401,0.497819712515919,0.51109264285985101,0.42524556309238798,0.28798533274008098]
[null,null,null,null,null,null,null,null,null,null,4502,0.51547304715882203,0.52053852878751306,0.49244201632217999,0.57837848970194905,0.495383430268174,0.51598493838278703,0.41533898925595403,0.27893830269769998]
[null,null,null,null,null,null,null,null,null,null,4503,0.53248639421280297,0.53419523465394403,0.50343581692686901,0.56060770474912403,0.48853050865216202,0.51696418121320098,0.40219608482646502,0.26734947191980402]
[null,null,null,null,null,null,null,null,null,null,4504,0.54283316998560305,0.54092889236172204,0.50738987746883002,0.54759074086046799,0.475007383349481,0.509672092729064,0.38379805422380098,0.25318294728232998]
[null,null,null,null,null,null,null,null,null,null,4505,0.54103206099803502,0.53725386407027498,0.50148406414883295,0.54741294488991099,0.456098702209083,0.49374186018597799,0.36151305717421001,0.23810087696542601]
[null,null,null,null,null,null,null,null,null,null,4506,0.53011914138174299,0.52702630111147397,0.48958416662946802,0.56739656601865696,0.43724067200414402,0.47481769119607098,0.34001644155142602,0.22480482810556099]
[null,null,null,null,null,null,null,null,null,null,4507,0.51938356627798898,0.51843404360457501,0.47933049411039702,0.60565903636986396,0.42462841193101603,0.46082551795131799,0.32517814762397801,0.21606028611092401]
[null,null,null,null,null,null,null,null,null,null,4508,0.51468592735006202,0.51541690151985797,0.47446231373777698,0.65081725692147896,0.42057934700621802,0.45485409366843099,0.31960685272538503,0.21352752247408999]
[null,null,null,null,null,null,null,null,null,null,4509,0.51486887110694601,0.51565393897212697,0.47302661968584597,0.69018692144648797,0.42264869265101002,0.45434729358819098,0.321954687565491,0.21681503369918401]
[null,null,null,null,null,null,null,null,null,null,4510,0.51451931987710198,0.51425936393286598,0.47082610667519298,0.71366686196620699,0.42656043895444201,0.45461404483381901,0.32827015338649901,0.223571247174015]
[null,null,null,null,null,null,null,null,null,null,4511,0.50904907446078196,0.50856052221284997,0.46558237862123703,0.716910354304374,0.42968229722839402,0.45298480077122599,0.334585613846132,0.230600438343672]
[null,null,null,null,null,null,null,null,null,null,4512,0.49883016800388702,0.50056092108588801,0.45931284416852902,0.70150764200856597,0.433227597726072,0.451319984230028,0.33984745806472899,0.23586133442891699]
[null,null,null,null,null,null,null,null,null,null,4513,0.48764291404730598,0.49384256580592301,0.45533003288454499,0.67451121899517597,0.43936435129095702,0.45262164912140301,0.34528848851530097,0.23931863727740299]
[null,null,null,null,null,null,null,null,null,null,4514,0.480257064696611,0.491059526024552,0.455918556295626,0.64777350748394702,0.44902543426299202,0.45861536564516397,0.35244496677333897,0.24232423993095401]
[null,null,null,null,null,null,null,null,null,null,4515,0.477132927563089,0.49028850050977002,0.45867621108498402,0.63014326196466897,0.45903003176935098,0.46617187161155499,0.36051117729659099,0.24595060237403901]
[null,null,null,null,null,null,null,null,null,null,4516,0.47700336471378502,0.48909639409166999,0.46065503347460501,0.62618149296928505,0.46654627110170199,0.47180720757087102,0.368052144081217,0.25062377679852199]
[null,null,null,null,null,null,null,null,null,null,4517,0.47877723221698298,0.487361620911264,0.46104507541079298,0.63481366501206105,0.47172037468718397,0.47469654372873599,0.37519119256003503,0.25654173646450001]
[null,null,null,null,null,null,null,null,null,null,4518,0.48389834705047702,0.48855975859239498,0.46303025287288002,0.65206259493321395,0.47837531290383301,0.47846882558420201,0.38431467017415799,0.264382053278163]
[null,null,null,null,null,null,null,null,null,null,4519,0.49383971909869701,0.495606635512162,0.46978650515540099,0.67269683137383196,0.488739711711355,0.48642042299218802,0.39749031561679099,0.27434481266023403]
[null,null,null,null,null,null,null,null,null,null,4520,0.50382913126366802,0.50424625040023996,0.47786186717092399,0.69267717638251702,0.49951585516589098,0.49559288326902501,0.411937163774243,0.28473006249509097]
[null,null,null,null,null,null,null,null,null,null,4521,0.506297784413408,0.50660753792890301,0.48031022368239601,0.70986099895926202,0.50549960285287499,0.49982307731943298,0.42251645467750099,0.29303598608502102]
[null,null,null,null,null,null,null,null,null,null,4522,0.49672157497694902,0.49808366311458802,0.47300200081285398,0.72406546998172105,0.50424465654218298,0.49542205708640702,0.42593397613395001,0.29779874512188598]
[null,null,null,null,null,null,null,null,null,null,4523,0.477413767407734,0.48131023468279099,0.45827220234355298,0.73654286422353499,0.49774786653623498,0.484302237752815,0.42294040729106103,0.29968067341071403]
[null,null,null,null,null,null,null,null,null,null,4524,0.453512055422363,0.46101626943058199,0.44033882895502502,0.74625285181991896,0.48767388664549699,0.46940466377733098,0.41626026156976997,0.30012501425062599]
[null,null,null,null,null,null,null,null,null,null,4525,0.42788481681830398,0.43944640032879601,0.42067043030645401,0.75010774193608798,0.47399123329797999,0.45145086614449997,0.407537472194341,0.299906563673774]
[null,null,null,null,null,null,null,null,null,null,4526,0.40220578250072397,0.41838409468939097,0.40042873940344598,0.74372486958766404,0.45898007800900997,0.43210800127402599,0.39833004911188902,0.29954786851298798]
[null,null,null,null,null,null,null,null,null,null,4527,0.380460028614723,0.40192422040810699,0.38350962894075702,0.72400474141924598,0.44811825937528998,0.41632354650033998,0.39195595355377399,0.30032982979081202]
[null,null,null,null,null,null,null,null,null,null,4528,0.367704451510868,0.39415801473596501,0.37463451701773298,0.69509358180168002,0.446342356629787,0.40923017717938298,0.39148717908273201,0.30388684222579698]
[null,null,null,null,null,null,null,null,null,null,4529,0.36675188821876298,0.39603821239750597,0.37539418890495102,0.66774455975572899,0.45332946385866302,0.41178479760507802,0.39724625139307601,0.31105393957497701]
[null,null,null,null,null,null,null,null,null,null,4530,0.37471064525480602,0.40267252974305101,0.38156850136593601,0.65282826993168097,0.46300889336189399,0.418765477733201,0.40580157964463198,0.320581346621091]
[null,null,null,null,null,null,null,null,null,null,4531,0.385747400835245,0.40777276804464302,0.38723483308402701,0.65208767965042003,0.46840299705234301,0.42348310076301199,0.41245251018250001,0.33014202122700098]
[null,null,null,null,null,null,null,null,null,null,4532,0.39355659178737401,0.40655606552269802,0.38736511421592401,0.66046149620861905,0.46531194871437698,0.421274115956355,0.41365554201725002,0.33706029300082901]
[null,null,null,null,null,null,null,null,null,null,4533,0.39501936226689299,0.39887245854158998,0.38118748513570799,0.67205477039327299,0.45527167560946202,0.41240650227750603,0.40864641084446202,0.33922761496021098]
[null,null,null,null,null,null,null,null,null,null,4534,0.39496491922715898,0.39282432756772301,0.375930146364999,0.68309595803599499,0.44816236095885198,0.40539062655043401,0.40294576593744702,0.33728570341339598]
[null,null,null,null,null,null,null,null,null,null,4535,0.40251111226402703,0.39948008132125801,0.38199371181674302,0.69243304681978401,0.45572127551804198,0.41145297105752099,0.405768856411312,0.33544175373441398]
[null,null,null,null,null,null,null,null,null,null,4536,0.42135935317669798,0.422151072825031,0.40329643205145399,0.69979891937732497,0.48169925663812801,0.43477882790326799,0.42279095729552002,0.33860638952075001]
[null,null,null,null,null,null,null,null,null,null,4537,0.44574927987303098,0.45246248831798103,0.43244325061897199,0.70698797784603196,0.516673848757219,0.46721569683742498,0.45013182649954903,0.34811755179571002]
[null,null,null,null,null,null,null,null,null,null,4538,0.46299609442327,0.47529362109586698,0.455083716954373,0.71380829967054504,0.54562338645125796,0.49374334558555399,0.476907971923763,0.36056680410269398]
[null,null,null,null,null,null,null,null,null,null,4539,0.46695341820905101,0.48339808288861502,0.46384696595022501,0.71600623680050701,0.56051804458936705,0.50623132414343497,0.494735790860867,0.371061452732171]
[null,null,null,null,null,null,null,null,null,null,4540,0.46143888530623001,0.48056016966751802,0.46188511320992698,0.71123437857392902,0.56379586182925001,0.50713721439088699,0.50234836355037804,0.376203158478013]
[null,null,null,null,null,null,null,null,null,null,4541,0.45625805420030502,0.477008153807847,0.45885158881828297,0.69944935742047898,0.56297846358764703,0.50529891410978101,0.50428105928775602,0.37615988916251503]
[null,null,null,null,null,null,null,null,null,null,4542,0.45613168601341197,0.47688335447675301,0.459121220580335,0.68176619938491501,0.56123361630486102,0.50456854386178596,0.503990517578219,0.37309656567146599]
[null,null,null,null,null,null,null,null,null,null,4543,0.45874302893825902,0.47775913521336799,0.46044854256218798,0.65897704259123802,0.55655721148589499,0.50258677949657504,0.50061420419082803,0.36828112114285699]
[null,null,null,null,null,null,null,null,null,null,4544,0.46077733947689797,0.47709471773579598,0.45971853797384798,0.63571242445788401,0.54724800631121195,0.49673707351812901,0.49237670663612498,0.36188803642677803]
[null,null,null,null,null,null,null,null,null,null,4545,0.461944737725419,0.47554323087363898,0.45691004544684599,0.61897570603534902,0.53294043463862995,0.486799652329792,0.47799536544256399,0.35251428304454302]
[null,null,null,null,null,null,null,null,null,null,4546,0.46469907047293701,0.47573080019442199,0.45462161316215699,0.61410787698070701,0.51532185215822401,0.47513223368199298,0.45832590701467701,0.33920750394449101]
[null,null,null,null,null,null,null,null,null,null,4547,0.46916523503230101,0.47763867973427898,0.45346967507716501,0.620519909310836,0.49602404272672701,0.46314205417367199,0.43502834485818598,0.32284029984860402]
[null,null,null,null,null,null,null,null,null,null,4548,0.47368187898839997,0.480540496555388,0.453728481552785,0.63511885440075799,0.47927744902421798,0.45325583843909401,0.41166992845543299,0.306503420585926]
[null,null,null,null,null,null,null,null,null,null,4549,0.47689153460109401,0.483692004350459,0.45519963676367098,0.65483063058135604,0.46788631724582203,0.44711852673921498,0.391975906595321,0.29333615591197998]
[null,null,null,null,null,null,null,null,null,null,4550,0.477715369016803,0.48578789454721599,0.45651074474166198,0.67588715073938999,0.46180438491932302,0.44409251239653202,0.37904990311672099,0.28536038981184603]
[null,null,null,null,null,null,null,null,null,null,4551,0.47359066550129902,0.483680555396934,0.45404194359912298,0.69398404237336597,0.45711710454291399,0.440259109577118,0.37243810454892901,0.28207934966796999]
[null,null,null,null,null,null,null,null,null,null,4552,0.46353674260399602,0.47603145215336801,0.44616722207975501,0.707809882149947,0.45200827546376798,0.43352312062388598,0.36986991047440798,0.28177605048281101]
[null,null,null,null,null,null,null,null,null,null,4553,0.451913703444771,0.467192670237154,0.43729867905089898,0.71854553125503695,0.450141868843695,0.42762227330339198,0.37076649542206502,0.283688563407826]
[null,null,null,null,null,null,null,null,null,null,4554,0.44769576215721002,0.46545429962667101,0.43627010967691299,0.72800074972376405,0.45869741799268199,0.43046741826067902,0.37766411333948302,0.28923281929231198]
[null,null,null,null,null,null,null,null,null,null,4555,0.457756663668199,0.47659625994753302,0.44920645609471299,0.73758781885452596,0.48103352047450798,0.44704718474739402,0.39288607769594702,0.29923200983433801]
[null,null,null,null,null,null,null,null,null,null,4556,0.48091980999009798,0.49948541660863,0.47465204918872,0.74807496186419897,0.51434900260614302,0.47560583899986503,0.41571332424837598,0.31312060225659699]
[null,null,null,null,null,null,null,null,null,null,4557,0.508914446498967,0.52625278615864601,0.50398574663915496,0.75643592745124799,0.55026076945010705,0.50804228677597196,0.44182883769050002,0.32885895824100603]
[null,null,null,null,null,null,null,null,null,null,4558,0.53131661360767302,0.54718028373000505,0.52658862704165899,0.75822569810529605,0.57983397392645297,0.53455636605191004,0.46558751752116001,0.343924395901476]
[null,null,null,null,null,null,null,null,null,null,4559,0.54175637473364502,0.556323917873354,0.53642689589075698,0.75090677809053497,0.59827624859661099,0.54967445048066299,0.48326913545765399,0.356485846558874]
[null,null,null,null,null,null,null,null,null,null,4560,0.54056554838885895,0.55419699743522299,0.53459540365260805,0.73915064978091205,0.60637733797898097,0.554179747719311,0.49445898141731398,0.36535610694836801]
[null,null,null,null,null,null,null,null,null,null,4561,0.53088244008766505,0.54385550213870404,0.52520363094909805,0.727842366032463,0.60767591323246595,0.55180098761652696,0.50026704503720998,0.37027024307261203]
[null,null,null,null,null,null,null,null,null,null,4562,0.51636283322122301,0.52947048952778297,0.51345159145109998,0.71839761904080002,0.60781120710242298,0.547658076172157,0.50410241646899501,0.37337236884089198]
[null,null,null,null,null,null,null,null,null,null,4563,0.50130876859803797,0.51642121577239497,0.50466630740627705,0.70991809741187495,0.61230700829151496,0.54687038069541904,0.50983320143688904,0.37751280174233298]
[null,null,null,null,null,null,null,null,null,null,4564,0.49238970594431503,0.51170892620475805,0.50483648184027796,0.70346728314520701,0.62531467501654703,0.55455570355049699,0.52087420670626206,0.384968180779938]
[null,null,null,null,null,null,null,null,null,null,4565,0.49577571328633901,0.519895235216291,0.51700229517215301,0.70195530085927804,0.64698090182150103,0.57247831063774002,0.53752222446327003,0.39586628916118799]
[null,null,null,null,null,null,null,null,null,null,4566,0.51125994640708206,0.53833798198305705,0.537623139247695,0.70530419151990498,0.67238746944383498,0.59635088885966103,0.556409009015435,0.40829554467456097]
[null,null,null,null,null,null,null,null,null,null,4567,0.53037447793217296,0.55724419404703396,0.55709989823349004,0.70892534841267596,0.69387108520240104,0.61727686661431103,0.57292885772966595,0.41998791594241203]
[null,null,null,null,null,null,null,null,null,null,4568,0.54228010733528897,0.56647395396787004,0.56616970680578205,0.709489674986021,0.70491387508672299,0.62701453665478002,0.58348139838036495,0.42894209606142197]
[null,null,null,null,null,null,null,null,null,null,4569,0.54096695362395397,0.56132739178264801,0.56106834168356901,0.70603258158369198,0.70344277466288496,0.62253610006131799,0.58706184348294399,0.43432947435312902]
[null,null,null,null,null,null,null,null,null,null,4570,0.52919479611611597,0.54613826914795405,0.54639745304118703,0.69925033177163398,0.695156167059791,0.60912116947443995,0.58658731459482905,0.437553917753225]
[null,null,null,null,null,null,null,null,null,null,4571,0.51824630507360603,0.53290399313414605,0.53407476515574503,0.69074519318750005,0.69107698085760005,0.59866434844926097,0.58837165088924803,0.44216781087944002]
[null,null,null,null,null,null,null,null,null,null,4572,0.51683000080251496,0.530494360111887,0.53228379013696803,0.68308475166017601,0.69623572217690399,0.59852749471047295,0.59597254724428494,0.44992469641140798]
[null,null,null,null,null,null,null,null,null,null,4573,0.52474119426867905,0.53876874582056999,0.54008587104207795,0.67720363703227004,0.70719925037507303,0.60693787113833397,0.60671334967825996,0.45909878930404002]
[null,null,null,null,null,null,null,null,null,null,4574,0.534492508732894,0.55011243879556504,0.54965515954069399,0.67453281348679195,0.71592042867667105,0.61589280135947799,0.61465420996127196,0.466406195959578]
[null,null,null,null,null,null,null,null,null,null,4575,0.539123988561792,0.55682606976906901,0.55391461017875099,0.67563183728585896,0.71767041562511003,0.618884128871101,0.61594527078162797,0.47011614122577]
[null,null,null,null,null,null,null,null,null,null,4576,0.53546398872218803,0.55535967441257195,0.55044434580328305,0.68185387777634598,0.71336469767041799,0.614589731174779,0.61248676871683005,0.47242485665688999]
[null,null,null,null,null,null,null,null,null,null,4577,0.524017340998022,0.54610445042068601,0.54035592026337298,0.696239829662603,0.70466829278574605,0.60447260520253399,0.60666234583382705,0.47408540965940699]
[null,null,null,null,null,null,null,null,null,null,4578,0.50666092160546605,0.53091178118124305,0.52578284577232803,0.71889039836036395,0.69167593607577205,0.59016329240187504,0.59728926880384403,0.471716220137885]
[null,null,null,null,null,null,null,null,null,null,4579,0.489013904659235,0.51535237866860695,0.51195011238221,0.74615808555913399,0.67629336620324898,0.575560251596137,0.58203031284440698,0.46018303074238098]
[null,null,null,null,null,null,null,null,null,null,4580,0.47970175931952003,0.50734181187791705,0.50603270591517702,0.77190897463535502,0.66165295475014196,0.56597563650581395,0.56092819658314697,0.43684583197188698]
[null,null,null,null,null,null,null,null,null,null,4581,0.481736230896463,0.50888074051249099,0.50862991299746396,0.789543266595778,0.64399693816533099,0.55977745990587302,0.53268124154466501,0.40165642521372802]
[null,null,null,null,null,null,null,null,null,null,4582,0.49032046307543498,0.51499024317597197,0.51281942061451902,0.79531543311146002,0.61278995714171902,0.54766610404971106,0.49255214347362603,0.35483438705813602]
[null,null,null,null,null,null,null,null,null,null,4583,0.49817376752999099,0.51849512409668097,0.51033984802215404,0.78815482991920705,0.56122339266005405,0.52108716742067496,0.43721959016583001,0.297973128612052]
[null,null,null,null,null,null,null,null,null,null,4584,0.50151503611028903,0.516384086960892,0.49857966525519098,0.77063062750943001,0.494283459302787,0.48043614615536301,0.37141510326006499,0.23658968877570399]
[null,null,null,null,null,null,null,null,null,null,4585,0.50389297301450697,0.51342272345989104,0.48406894048458998,0.74493599346796602,0.42888252614710998,0.43735884899844302,0.307990331911002,0.18031912637321601]
[null,null,null,null,null,null,null,null,null,null,4586,0.51094381548997703,0.516014932212702,0.475208220586335,0.71420934861208996,0.380556555564599,0.40475520691220601,0.25968040137028198,0.138066568123138]
[null,null,null,null,null,null,null,null,null,null,4587,0.52455627234641999,0.52558692323226797,0.47527784614473001,0.68255639990400696,0.35445338771206703,0.38784927960584997,0.23098938921866699,0.112405384943795]
[null,null,null,null,null,null,null,null,null,null,4588,0.53976711884190398,0.53655829549739698,0.480256652051127,0.65806307773789097,0.34641532607409198,0.38325298679500602,0.219352363886096,0.10156143081380301]
[null,null,null,null,null,null,null,null,null,null,4589,0.54747608288609595,0.54050645182670698,0.48214739102836601,0.647043084985926,0.34763467338772702,0.382994272965753,0.21846453179398101,0.100760210793475]
[null,null,null,null,null,null,null,null,null,null,4590,0.54273115255466797,0.53405169385596396,0.47689034335876601,0.64770105520831101,0.351568675630405,0.38185145404945797,0.222772850513165,0.105731635477958]
[null,null,null,null,null,null,null,null,null,null,4591,0.527261551859178,0.51996556492504997,0.46567284572379902,0.65367891712653903,0.35464023394927402,0.37837501195418199,0.22820336897542101,0.112744953277587]
[null,null,null,null,null,null,null,null,null,null,4592,0.50795125609956504,0.50487088859589302,0.45371626093109302,0.66000517901436195,0.357396492113709,0.37494315031285003,0.233314024419354,0.119257741372889]
[null,null,null,null,null,null,null,null,null,null,4593,0.49079758867357298,0.49350169696611501,0.44529168920215101,0.66760018134514998,0.36209310323517202,0.37415406413951402,0.23848754474079201,0.12456798730731899]
[null,null,null,null,null,null,null,null,null,null,4594,0.48049686377831002,0.48964540379930799,0.443911810356443,0.68189929423321305,0.37121254043385998,0.37844071650469702,0.245204601960821,0.12939237733501099]
[null,null,null,null,null,null,null,null,null,null,4595,0.47807456247334601,0.49301768590865902,0.449376262786364,0.70434177257040398,0.38487259856093903,0.38768640364069201,0.254352777749355,0.13485389188615901]
[null,null,null,null,null,null,null,null,null,null,4596,0.48212597138674701,0.50085747381621004,0.45867522030762697,0.73153802721350103,0.40056975949093898,0.39960739068648599,0.26552820764768698,0.14133216776149199]
[null,null,null,null,null,null,null,null,null,null,4597,0.48994728250946201,0.50930193798353995,0.46799429448879898,0.75793002855849001,0.41442704036561701,0.41087947754163201,0.27659260306068301,0.14807675398678799]
[null,null,null,null,null,null,null,null,null,null,4598,0.49707502655515801,0.514701020419843,0.473994337538655,0.77955349891881098,0.42407752297162998,0.41902817812535198,0.28557209726389898,0.15415341971079999]
[null,null,null,null,null,null,null,null,null,null,4599,0.50123731243015202,0.51672734056338099,0.47664454326057099,0.79294169838165296,0.43051034869778498,0.42450992065268101,0.292256259661203,0.159530345596131]
[null,null,null,null,null,null,null,null,null,null,4600,0.50236002633031296,0.51715277459657205,0.47778627529107698,0.79930117813606405,0.43645086445970299,0.42933091648913302,0.297523586324006,0.165074811499034]
[null,null,null,null,null,null,null,null,null,null,4601,0.501233053825905,0.51744656438930803,0.47844405292166903,0.79718660914651795,0.44343511553960302,0.43449794612285397,0.30264093459893698,0.171271912676524]
[null,null,null,null,null,null,null,null,null,null,4602,0.49915796682619001,0.51840859131496497,0.479392285882071,0.78714531031138502,0.45152075766959598,0.43996998326158898,0.30827619164651898,0.17761138155933601]
[null,null,null,null,null,null,null,null,null,null,4603,0.49715580548768701,0.51991342390066397,0.480902339125653,0.77488504394619395,0.45953422944878902,0.44503241084381001,0.314426982674616,0.18300440749353]
[null,null,null,null,null,null,null,null,null,null,4604,0.49697801764218003,0.52182274943047502,0.482954642791876,0.76551102343367805,0.46592440240418798,0.44871166889231701,0.32019111007774098,0.18664057298319001]
[null,null,null,null,null,null,null,null,null,null,4605,0.50269596664695504,0.52667904019144396,0.48812790124104799,0.75687197540489903,0.47341499176322699,0.45344552536077398,0.32622443652718303,0.18901970941920901]
[null,null,null,null,null,null,null,null,null,null,4606,0.518921373189559,0.53863826895427702,0.50088422717713299,0.74605110186911106,0.48823593546403299,0.46494552333580602,0.33614999666467299,0.19305817325182301]
[null,null,null,null,null,null,null,null,null,null,4607,0.545033093034196,0.55814953525664002,0.52257287875735003,0.73266248959924196,0.51531346903899899,0.487106468835523,0.35490696128779903,0.20266537126980499]
[null,null,null,null,null,null,null,null,null,null,4608,0.57252364334981498,0.57950332298396101,0.54803732803124605,0.71936823538115402,0.55265544852604498,0.51748557854385702,0.38362424289233998,0.220073200370663]
[null,null,null,null,null,null,null,null,null,null,4609,0.59127561287799402,0.59543683143241599,0.56914953336991603,0.70844549242705801,0.59095227827209196,0.54787246557925495,0.41694093292256201,0.24313443671445301]
[null,null,null,null,null,null,null,null,null,null,4610,0.59588495527333996,0.60180056163895401,0.58021660724139201,0.70048145851200905,0.62051976639518502,0.57018733228091001,0.44608985286784503,0.26639922541947397]
[null,null,null,null,null,null,null,null,null,null,4611,0.58971129015379697,0.60034766173406195,0.58201829411258299,0.695704537831906,0.63764350028963801,0.58178814482805996,0.465068555654986,0.28506468577863298]
[null,null,null,null,null,null,null,null,null,null,4612,0.58192023299969098,0.59700268246297805,0.58061934175991803,0.69539230855971301,0.64763410127898202,0.58708376810556795,0.47487252771096999,0.29829572088163803]
[null,null,null,null,null,null,null,null,null,null,4613,0.58029971301273797,0.59666681056034399,0.581593434806981,0.697520620420228,0.65793709878123097,0.592472403212988,0.48153844884462199,0.30897844765319399]
[null,null,null,null,null,null,null,null,null,null,4614,0.58643628666636605,0.60009117983363303,0.58618755733481998,0.69474216982625903,0.67133261188725402,0.60072168903822298,0.48979499462381598,0.31951003320513999]
[null,null,null,null,null,null,null,null,null,null,4615,0.59761666087593202,0.60618315742648299,0.59351377580386699,0.68429602315148397,0.68603884392749903,0.61155223565512495,0.50062063380940303,0.32997683170881298]
[null,null,null,null,null,null,null,null,null,null,4616,0.60916356002074801,0.612032995028854,0.60060699628751602,0.67125354560133099,0.69591128394029,0.62087058453227595,0.51034563768776597,0.338212631622826]
[null,null,null,null,null,null,null,null,null,null,4617,0.61620031611577597,0.614790435267066,0.60409224607801904,0.66532098312235199,0.69641141466445,0.62407938545761299,0.51420482328199502,0.34147869241579099]
[null,null,null,null,null,null,null,null,null,null,4618,0.61688414967793703,0.61367448059207896,0.60253986661327297,0.67674287616550799,0.68705273444992798,0.61922407256699197,0.51034868841014303,0.338995054357635]
[null,null,null,null,null,null,null,null,null,null,4619,0.61367914469349805,0.61109050820771604,0.59810261003722298,0.70758174433652898,0.67182228442942304,0.60868858712179497,0.50088635702247597,0.332025744327551]
[null,null,null,null,null,null,null,null,null,null,4620,0.60992262167424804,0.60917206143151303,0.59360593779976101,0.75178369907350795,0.65538399522378898,0.59671249758690403,0.48930037733177201,0.32330132101333903]
[null,null,null,null,null,null,null,null,null,null,4621,0.60720964566223701,0.60847070302388995,0.589929092905769,0.79801055612256799,0.63852347852078895,0.58506315654414098,0.47644503893303303,0.31398722577572202]
[null,null,null,null,null,null,null,null,null,null,4622,0.605388990690366,0.60810543399888695,0.58584430161315404,0.83345656241011901,0.61905440102019005,0.57254567996933903,0.46043416370283902,0.30277857885350801]
[null,null,null,null,null,null,null,null,null,null,4623,0.60198249034558104,0.60520686249101896,0.577939213167601,0.85393033988001998,0.59176992194306399,0.55470858079750296,0.437785428362996,0.28673788250711302]
[null,null,null,null,null,null,null,null,null,null,4624,0.59583288351775399,0.59824289758323101,0.56408641946535298,0.86204294550914895,0.55384807761982702,0.52821322368499002,0.40599734292166401,0.26333980993286599]
[null,null,null,null,null,null,null,null,null,null,4625,0.58839869054356297,0.58831044207795202,0.545302699851829,0.86227347720040304,0.50687261245455995,0.49357907286476499,0.36558100768845497,0.23327222112368701]
[null,null,null,null,null,null,null,null,null,null,4626,0.58181272654095495,0.57739715795295399,0.52417101830627899,0.85362719830351796,0.45689537612084902,0.45482658284754601,0.321176170127011,0.20048247035664701]
[null,null,null,null,null,null,null,null,null,null,4627,0.57781251460566296,0.56808753374364596,0.50469435360272097,0.83156410121200497,0.41339029537598898,0.41921299123022798,0.28074226086890203,0.17094844720636501]
[null,null,null,null,null,null,null,null,null,null,4628,0.57745702645471098,0.56285491829024503,0.49108499911627801,0.78853221588875499,0.38371114450972099,0.39361920285385799,0.25165018118353499,0.14966021095324999]
[null,null,null,null,null,null,null,null,null,null,4629,0.58060942461575005,0.562695326524011,0.485482906434137,0.71961663802498699,0.36966688041045798,0.38086483455423997,0.23670261051823099,0.13816277837353999]
[null,null,null,null,null,null,null,null,null,null,4630,0.58499298997155202,0.56555785547575799,0.48599544510515003,0.62917237409260796,0.36770862430721901,0.37869440599970899,0.23389046994868701,0.13483319476630501]
[null,null,null,null,null,null,null,null,null,null,4631,0.58628180991795198,0.56685296001770202,0.48765189359328198,0.53242088947373101,0.37218665361708297,0.381841006777139,0.238417832859836,0.136504911184546]
[null,null,null,null,null,null,null,null,null,null,4632,0.58028019063451197,0.56166534048273598,0.48501685369047498,0.45057287990070899,0.377685937392645,0.38465453266877703,0.24552923921914199,0.14055285180750199]
[null,null,null,null,null,null,null,null,null,null,4633,0.56725286095016603,0.54970896274455605,0.47656883200394601,0.39812562915211802,0.38066507254548898,0.383842691133433,0.251315753555516,0.14505037815636199]
[null,null,null,null,null,null,null,null,null,null,4634,0.55302487231804998,0.53585495601532496,0.465784300680254,0.37336433550077203,0.38109305412245997,0.37995220098127802,0.25447869698696302,0.148882276641086]
[null,null,null,null,null,null,null,null,null,null,4635,0.54141881667716496,0.52382878245577402,0.455900901916587,0.36530111490726003,0.38081499864163798,0.37491350493703202,0.25601297968556402,0.15210451689450399]
[null,null,null,null,null,null,null,null,null,null,4636,0.53195132831791303,0.51382135107891302,0.447483821080502,0.364646457557954,0.38121849918008099,0.36988507650612901,0.25810166135983997,0.15532982130089301]
[null,null,null,null,null,null,null,null,null,null,4637,0.52174941506014405,0.50390027433834195,0.43951673585084899,0.36913060771164002,0.38242766109218701,0.36519246974092501,0.26171033472067501,0.15910828470480501]
[null,null,null,null,null,null,null,null,null,null,4638,0.51014841596091398,0.49441948762226801,0.43242773755980701,0.38122639266514802,0.383937588423856,0.36145640322781802,0.26701877408812602,0.16347375616159401]
[null,null,null,null,null,null,null,null,null,null,4639,0.50136429920099101,0.48975710966952501,0.42938009377149999,0.40243597111346502,0.38598090469535601,0.36028364095170901,0.27343388882153802,0.16804462281056901]
[null,null,null,null,null,null,null,null,null,null,4640,0.50026320448003303,0.49409513522722598,0.433354550294753,0.42870817219046597,0.38917710887790502,0.36299271158136698,0.28032685597347201,0.17229712769012201]
[null,null,null,null,null,null,null,null,null,null,4641,0.50700674915780697,0.506295634081115,0.44348339888156002,0.45244042100776,0.393553829439662,0.368965330473217,0.287238588320328,0.17596881317430099]
[null,null,null,null,null,null,null,null,null,null,4642,0.51511503580474405,0.51871683133499902,0.454126628932775,0.46833435162245302,0.398431709184147,0.37564816363473102,0.29356405296388399,0.17906643659424501]
[null,null,null,null,null,null,null,null,null,null,4643,0.51542162921645995,0.52201354349345297,0.45806013932801098,0.47414778972535898,0.402815991527535,0.37991430578857399,0.29875047934466398,0.18194058543768299]
[null,null,null,null,null,null,null,null,null,null,4644,0.50364816995401995,0.51234481155797096,0.45226725312884503,0.47099527493424798,0.40646729387650998,0.38048970983142599,0.302916308310061,0.185019801409642]
[null,null,null,null,null,null,null,null,null,null,4645,0.48390922049659502,0.49493187516487103,0.44066977518741601,0.46175249038275401,0.410940432990681,0.37927511332394998,0.306798873223041,0.18871480396639201]
[null,null,null,null,null,null,null,null,null,null,4646,0.46684862807522598,0.48052341528694098,0.43169540576801901,0.45068272341952098,0.41838456480203001,0.38029363352506901,0.31187680440450599,0.19351073291710399]
[null,null,null,null,null,null,null,null,null,null,4647,0.46108291142532898,0.47727931032564902,0.43153965903642499,0.44481179153480099,0.42956365142997899,0.38632658768037198,0.31853697014560201,0.19918194827694799]
[null,null,null,null,null,null,null,null,null,null,4648,0.47063149980317498,0.48787793649616201,0.44200609583449002,0.451661658064685,0.44355190005919198,0.39813970884510702,0.32687597510392102,0.205229193520436]
[null,null,null,null,null,null,null,null,null,null,4649,0.49170323748942302,0.50686998513077997,0.45846588476984501,0.47502281867082702,0.45771648571125001,0.41292022694129399,0.336111629810255,0.21086900283940899]
[null,null,null,null,null,null,null,null,null,null,4650,0.51617840496393796,0.526316424498386,0.47485418500326898,0.51068598127818499,0.47043063970160898,0.42745346095597497,0.34532539263477302,0.21581799887866701]
[null,null,null,null,null,null,null,null,null,null,4651,0.53586497427003399,0.53990225523020996,0.48672015511219602,0.54788617621670699,0.48047888053915799,0.43904434280355598,0.35362287858130398,0.22042055469569699]
[null,null,null,null,null,null,null,null,null,null,4652,0.54564852380762296,0.54503750784278004,0.49258856883526098,0.57627595073520599,0.48735466654155801,0.44639240378204897,0.35966674221883199,0.22509334739317699]
[null,null,null,null,null,null,null,null,null,null,4653,0.54424040999090695,0.54211058984211702,0.492670242750124,0.59048888506858099,0.49032623744265602,0.44901780926849999,0.362830620935437,0.229949401555437]
[null,null,null,null,null,null,null,null,null,null,4654,0.536574277955711,0.53578834213358895,0.490250733165085,0.58909607952393594,0.49116863985208098,0.44911826637664898,0.36387365092518997,0.23458704326419499]
[null,null,null,null,null,null,null,null,null,null,4655,0.53243997571127999,0.53411992076566195,0.491601842406311,0.57410154426259197,0.49463708842453302,0.45196113601023002,0.36613517361723102,0.239082550971325]
[null,null,null,null,null,null,null,null,null,null,4656,0.54094017028295804,0.54425426647350705,0.50300314959569403,0.55385533400485099,0.50580514620644501,0.46304249180270901,0.37333212547425898,0.24420020650836499]
[null,null,null,null,null,null,null,null,null,null,4657,0.56403045448713196,0.56756705963228904,0.52598823732912603,0.54060072833059503,0.526457169690564,0.48409583813371099,0.38683766921664597,0.25049494514434301]
[null,null,null,null,null,null,null,null,null,null,4658,0.59474863959072999,0.59733292745922095,0.55503018184341602,0.542928858193651,0.55268099330526999,0.51093816220090305,0.40436345810076801,0.25777136586660798]
[null,null,null,null,null,null,null,null,null,null,4659,0.62030006037615004,0.622002067384407,0.57988352413757704,0.56246093897509897,0.57730081566418301,0.53543497800590101,0.42126978331363102,0.26485929981853401]
[null,null,null,null,null,null,null,null,null,null,4660,0.630643717380173,0.63285825621684499,0.59268768425909901,0.59293954436868301,0.59482088478096296,0.55130308333701505,0.434562444307944,0.27108508860589797]
[null,null,null,null,null,null,null,null,null,null,4661,0.62250437977315998,0.62729196007361998,0.59092003033920504,0.62511850715051898,0.60330084338617795,0.55630896227327298,0.44395299486679202,0.27694795870892303]
[null,null,null,null,null,null,null,null,null,null,4662,0.60095578216173695,0.61011781281181798,0.57854878182462399,0.65061276127565904,0.60427784575257604,0.55274762738413297,0.45038495671734902,0.28317393513713401]
[null,null,null,null,null,null,null,null,null,null,4663,0.57401254368410204,0.58822146079816795,0.56123716519025901,0.664479799100821,0.59894966637476899,0.54370372251298205,0.453908460002861,0.28938892518439702]
[null,null,null,null,null,null,null,null,null,null,4664,0.54680101527390901,0.56532984681614196,0.54169312835546302,0.66497791390531202,0.58655090931002096,0.529946248304493,0.45238446588643999,0.29351211208441602]
[null,null,null,null,null,null,null,null,null,null,4665,0.51994243181201505,0.54112068036530303,0.51900650110647095,0.654111971829058,0.56510090184120498,0.50996757330443399,0.443190482020553,0.29335765950459902]
[null,null,null,null,null,null,null,null,null,null,4666,0.49459569377263302,0.515897783280716,0.49243604136793101,0.633313289628196,0.53424803258743203,0.48270148649028199,0.42400356342953299,0.28711115800470399]
[null,null,null,null,null,null,null,null,null,null,4667,0.476455316495909,0.49496665769232001,0.46623949407723497,0.60333702769781705,0.498620049923929,0.45173018806425802,0.39622795870898703,0.274803277387002]
[null,null,null,null,null,null,null,null,null,null,4668,0.47333230818439798,0.486121421706045,0.44815772990629699,0.56553658329716205,0.46520105231824399,0.42387390367477401,0.36461819480854102,0.25842695944293298]
[null,null,null,null,null,null,null,null,null,null,4669,0.48750754858771,0.492320639430679,0.44284005454490299,0.52612050366070195,0.43958551343900198,0.40458298038489598,0.33539371217400998,0.24112103613896901]
[null,null,null,null,null,null,null,null,null,null,4670,0.51199364291962701,0.50802515141859805,0.44779576554047301,0.491855928651597,0.42311537580455899,0.39431145807999501,0.312983131192971,0.226067752901879]
[null,null,null,null,null,null,null,null,null,null,4671,0.53635106747375405,0.52473622821629995,0.45687647601290898,0.46940901651323402,0.41483198522668702,0.39073512059342003,0.29908809313808798,0.215414415897932]
[null,null,null,null,null,null,null,null,null,null,4672,0.55236647428894403,0.53582576363256496,0.46431481695114402,0.46139371524535999,0.41288435567716703,0.39107160993350698,0.29337986575914299,0.209839797363537]
[null,null,null,null,null,null,null,null,null,null,4673,0.559239410464204,0.54115176865353598,0.46888309672029999,0.46905158250463702,0.41627206148094198,0.39467135722153801,0.29433092781155801,0.208828052373771]
[null,null,null,null,null,null,null,null,null,null,4674,0.56187411119188202,0.54486912515849295,0.47294751482189501,0.49414443785156598,0.42396239966766303,0.40196569333965698,0.30012915510696703,0.21096424177158099]
[null,null,null,null,null,null,null,null,null,null,4675,0.56552005988685605,0.55090983892730006,0.47933502381216703,0.53699568233703798,0.43489366359805298,0.41310934431773899,0.30860774808449998,0.21476100285210101]
[null,null,null,null,null,null,null,null,null,null,4676,0.57097833770206796,0.55871160217719995,0.48766610860390602,0.59066461952746896,0.44640159289937997,0.42591888774104503,0.317594268712167,0.21887373186710801]
[null,null,null,null,null,null,null,null,null,null,4677,0.57347068918718802,0.56288545233970599,0.49345641627734599,0.64373021784341899,0.45506361455773497,0.43601010827540698,0.32482122775094102,0.22266268093170599]
[null,null,null,null,null,null,null,null,null,null,4678,0.568982573587824,0.55923839904045003,0.49263765800674802,0.68473272140646702,0.45838387893660498,0.43988868199993503,0.32897887929665598,0.22583579127935399]
[null,null,null,null,null,null,null,null,null,null,4679,0.55745550305174696,0.54766787021052099,0.484550011890785,0.70962678736450202,0.45615627112226598,0.437104754357097,0.32997843016634698,0.228252306356868]
[null,null,null,null,null,null,null,null,null,null,4680,0.54407534072416897,0.53371213129876804,0.47380281848535799,0.72216655922268003,0.45190034710938098,0.43165816543226299,0.32947636267590602,0.23030929106869999]
[null,null,null,null,null,null,null,null,null,null,4681,0.53590024230253697,0.52484781369040101,0.46733441892676397,0.73096058020847099,0.45089549158361403,0.42939596292586002,0.33037895514450899,0.232871960304319]
[null,null,null,null,null,null,null,null,null,null,4682,0.53564726400618401,0.52438724026596095,0.46884100544484097,0.74010171232970701,0.45696049839390601,0.43383178008621398,0.33505019979732797,0.23704196220111501]
[null,null,null,null,null,null,null,null,null,null,4683,0.541791429129304,0.53120919658550603,0.47772791926991698,0.75021922635160498,0.47023415029642401,0.44481579150827499,0.34442213301954899,0.243281936862941]
[null,null,null,null,null,null,null,null,null,null,4684,0.54865288947563495,0.53960662651963898,0.48889551528688902,0.75888057787639596,0.48701026748778098,0.45845700586191401,0.357177488417244,0.25125143262736799]
[null,null,null,null,null,null,null,null,null,null,4685,0.55116471772461595,0.54437384557448498,0.49702981633229698,0.76293826040542401,0.50317682575873901,0.47045827421111502,0.37107305759647902,0.26003121179560401]
[null,null,null,null,null,null,null,null,null,null,4686,0.54845646034792706,0.54454420426942696,0.50046847767574199,0.75710202875493104,0.51692770820675604,0.47922715125993098,0.384767761621227,0.26897452823115497]
[null,null,null,null,null,null,null,null,null,null,4687,0.54397724513422396,0.54335803393583704,0.50188277918220803,0.73596914837602301,0.52923224655725598,0.48668236301828299,0.39840748392591402,0.27835349556539701]
[null,null,null,null,null,null,null,null,null,null,4688,0.54132191843858102,0.54393724914772501,0.50438923658076995,0.70165155114705402,0.54055413391021701,0.494764961451229,0.41189286002356001,0.288379766167846]
[null,null,null,null,null,null,null,null,null,null,4689,0.54118246779483603,0.546815493602966,0.50887220858911097,0.66498266681670903,0.54993455006018799,0.50390525511420303,0.423857293245329,0.29853559813858799]
[null,null,null,null,null,null,null,null,null,null,4690,0.54299201376968598,0.55184686437852903,0.51552799835128005,0.64196855161541899,0.556719961780204,0.51429471940911897,0.433312442972625,0.30794607177677702]
[null,null,null,null,null,null,null,null,null,null,4691,0.54686200713025501,0.55941233462838202,0.52467137740894099,0.64601903170160502,0.56146584600396199,0.52628316626141003,0.44044583817821698,0.31606213854263099]
[null,null,null,null,null,null,null,null,null,null,4692,0.55430558778501005,0.57053090008346996,0.53697653078200702,0.67982276932374297,0.566354521427753,0.54027860552915397,0.446235937365486,0.32278264247948502]
[null,null,null,null,null,null,null,null,null,null,4693,0.56678713318804097,0.58534908846282696,0.55239776927548201,0.73265478588020705,0.572808345942451,0.55567328744304301,0.45167701909548302,0.32853620147198898]
[null,null,null,null,null,null,null,null,null,null,4694,0.58151420962705103,0.60053434610892598,0.56789351384961095,0.78626624811349299,0.580312696025158,0.57000154248199797,0.45641167716812397,0.33327598472453701]
[null,null,null,null,null,null,null,null,null,null,4695,0.59275741810415805,0.61091863771633603,0.57915496545015999,0.82370902188380002,0.58681632118541105,0.58037387170558097,0.46036568442231601,0.33708965128502799]
[null,null,null,null,null,null,null,null,null,null,4696,0.59348400159029702,0.61147516494801801,0.58179312890704804,0.83812096189626695,0.59068730014197202,0.58439178173008299,0.46351214658760698,0.340409166801937]
[null,null,null,null,null,null,null,null,null,null,4697,0.58180526501332896,0.60205817856728105,0.57556222772098498,0.83477751355815899,0.59254924007989696,0.58250514188246305,0.46677332407075101,0.34409555646180301]
[null,null,null,null,null,null,null,null,null,null,4698,0.56253268218045605,0.58761895812034404,0.56516249805184304,0.82696761880825198,0.59544041876794096,0.57865461108365401,0.47143802785774902,0.34902545762873599]
[null,null,null,null,null,null,null,null,null,null,4699,0.54554093679248405,0.57649418982616496,0.55828670258456103,0.82617815647066795,0.60242891862638404,0.57866646779822195,0.47931663942552999,0.35598360774668703]
[null,null,null,null,null,null,null,null,null,null,4700,0.53713184065263098,0.57220652277891704,0.55886248064009303,0.83536851764376296,0.614008284987419,0.58518970237152101,0.49081153230185498,0.364948214639229]
[null,null,null,null,null,null,null,null,null,null,4701,0.53715711013436995,0.57305942585288705,0.56502662316788399,0.84666775553320395,0.62719485078898796,0.59607002271159004,0.50459444426470901,0.37522658699355399]
[null,null,null,null,null,null,null,null,null,null,4702,0.54163957245826699,0.57576415134391701,0.57226975268247005,0.84870215008660599,0.63757663779920604,0.60650788498460195,0.51683776236852996,0.38462190715473699]
[null,null,null,null,null,null,null,null,null,null,4703,0.54718251358275105,0.57884957785830105,0.57735107527179896,0.83733073293495897,0.64206690171967296,0.61262903117869605,0.52363000488853895,0.390658366092068]
[null,null,null,null,null,null,null,null,null,null,4704,0.550627595782331,0.58068803651671697,0.57781025866064495,0.81861468153552297,0.63903030144520201,0.61182958774474405,0.52258185839643601,0.39132684073318902]
[null,null,null,null,null,null,null,null,null,null,4705,0.54924301340707904,0.57862019270107001,0.57218427978876096,0.80274087017274298,0.62929115426937898,0.60328528331393405,0.51377179882167501,0.38645267006002498]
[null,null,null,null,null,null,null,null,null,null,4706,0.54254120156430197,0.571495049991259,0.56113323723449404,0.79685800556370001,0.61687636321566997,0.58962431105211799,0.50048335403526301,0.37793307375503898]
[null,null,null,null,null,null,null,null,null,null,4707,0.53378168094350897,0.56176978208095996,0.54846025662134301,0.79825436088133195,0.60732589233464296,0.57625341351324,0.48806231649570597,0.36960868687522203]
[null,null,null,null,null,null,null,null,null,null,4708,0.52840909986416496,0.55500565637513599,0.54023002034294898,0.79735408081194004,0.60490609341316204,0.56919241248296404,0.48143801468963598,0.36517233850474201]
[null,null,null,null,null,null,null,null,null,null,4709,0.53082622531928902,0.556242233004824,0.54104892509309399,0.78149771979999605,0.60833714509852999,0.57034190382938599,0.48215699803766099,0.365814475247213]
[null,null,null,null,null,null,null,null,null,null,4710,0.54008742771084906,0.56513788260155395,0.54995124344027801,0.74679303595356195,0.61166336602539695,0.57576989151637903,0.486452774540441,0.36878634999631699]
[null,null,null,null,null,null,null,null,null,null,4711,0.55097115225245796,0.576885839846907,0.56049696601343102,0.70510244885669004,0.60782143763144902,0.57825917448853403,0.487938330985067,0.36941916069508801]
[null,null,null,null,null,null,null,null,null,null,4712,0.55698312988469101,0.58413167038868297,0.56463694604942105,0.67331286581680905,0.59353919261450505,0.57214671338164402,0.481320789951665,0.36429081705108501]
[null,null,null,null,null,null,null,null,null,null,4713,0.55607623177166199,0.58350547432721001,0.55906283025613701,0.66053592967159802,0.57158039467552901,0.55723516784972105,0.466173623588713,0.353605515296462]
[null,null,null,null,null,null,null,null,null,null,4714,0.55317805081895299,0.57888382026581797,0.54832285442420303,0.66320307279595803,0.549368997288183,0.53944122124834404,0.44671471019185999,0.34033940637048798]
[null,null,null,null,null,null,null,null,null,null,4715,0.55577498168718797,0.57781589225543595,0.54106108908896,0.67298357825034605,0.53530811818597401,0.52723233084793697,0.42957704440809502,0.32851850598826199]
[null,null,null,null,null,null,null,null,null,null,4716,0.56738795294597599,0.58474278681958802,0.54282671941718397,0.68890457734775001,0.53306174278765905,0.52592346352905395,0.420437763767463,0.32152389147920701]
[null,null,null,null,null,null,null,null,null,null,4717,0.58532098796993404,0.59785842907782605,0.55305059414012403,0.70993748302483395,0.54085478262366604,0.534712005152991,0.42037798112540098,0.32049791343242401]
[null,null,null,null,null,null,null,null,null,null,4718,0.60430327028544895,0.61255256303987904,0.56757408840290002,0.73337326631105904,0.554166361991829,0.54943153974953096,0.42785108188467802,0.32479566867741699]
[null,null,null,null,null,null,null,null,null,null,4719,0.61905978150666396,0.62400089150528903,0.581043897906663,0.75730373255976902,0.56793853014793905,0.56420653332777404,0.439304551191043,0.33254865734047301]
[null,null,null,null,null,null,null,null,null,null,4720,0.62652813419494002,0.62973343877416998,0.58981274151965801,0.78494616956387597,0.57906736575337103,0.57474858234730997,0.45118237011595502,0.34126432011318197]
[null,null,null,null,null,null,null,null,null,null,4721,0.62687875019134598,0.63004628537508001,0.59305373648160198,0.817657016253034,0.58659266577291302,0.57994642235892402,0.46128098320697197,0.34907915141850299]
[null,null,null,null,null,null,null,null,null,null,4722,0.62319407020964801,0.62792780152941297,0.59323116483712601,0.847434755091937,0.59227106890792802,0.58231802824366297,0.46925884355525599,0.35515601354594301]
[null,null,null,null,null,null,null,null,null,null,4723,0.61924197195687403,0.62692208013654604,0.59399162987348197,0.86331687256505196,0.599162988522423,0.58599237996164399,0.47666886914652701,0.36015821255693597]
[null,null,null,null,null,null,null,null,null,null,4724,0.61463964958396899,0.62617904967842397,0.59559421481911801,0.85881371872232004,0.60766854840809703,0.59194512250985198,0.48532646538102597,0.36565392242102102]
[null,null,null,null,null,null,null,null,null,null,4725,0.60319157463338802,0.61955171980241497,0.59300994494260695,0.83546149469553999,0.61507241195016205,0.59595883258601301,0.49494246449603502,0.37260178858901599]
[null,null,null,null,null,null,null,null,null,null,4726,0.57987733735815605,0.60195871574059001,0.58130818491376401,0.79893220622138605,0.61868102427570204,0.593185299270519,0.50400329085453499,0.38109576340611401]
[null,null,null,null,null,null,null,null,null,null,4727,0.546861887647483,0.57610710059431103,0.56216199100782205,0.75659894939179695,0.62020912087718205,0.58449838916987296,0.51204710362139105,0.39087197369298698]
[null,null,null,null,null,null,null,null,null,null,4728,0.51493068772028805,0.55171176608874595,0.54375091957677102,0.71751169616062005,0.62335855932268402,0.57602273766177303,0.52036446410676995,0.40190811981311397]
[null,null,null,null,null,null,null,null,null,null,4729,0.49319368363720001,0.53749978054360004,0.53351379221611805,0.68779479108358099,0.63014911713074495,0.57301567226925498,0.52961220732177094,0.41366629457593002]
[null,null,null,null,null,null,null,null,null,null,4730,0.485515352858362,0.53631286135333101,0.534043466519879,0.67164982369627602,0.63966721934017901,0.57704505903213998,0.539576329683774,0.42512004433893802]
[null,null,null,null,null,null,null,null,null,null,4731,0.49050414591946401,0.54498115615070797,0.54252015052748503,0.66611040878713201,0.64905902426766804,0.58565943362821105,0.54871964601182899,0.43491308691526798]
[null,null,null,null,null,null,null,null,null,null,4732,0.50484410546578895,0.55862637114131597,0.55498459725245597,0.66054777891683703,0.65662961847768897,0.59604741429771002,0.55590410328011897,0.44168411539549801]
[null,null,null,null,null,null,null,null,null,null,4733,0.52576171525758597,0.57437714043881205,0.56937751813132997,0.649797363781069,0.662026982659217,0.60721228574259001,0.56027933123368601,0.44380304822511701]
[null,null,null,null,null,null,null,null,null,null,4734,0.548357243914389,0.58944287474758394,0.58348861949366704,0.64341635748489601,0.66302189244837295,0.61708381751475305,0.56064389356246502,0.43976588256841198]
[null,null,null,null,null,null,null,null,null,null,4735,0.56724942630069297,0.60113316366134995,0.59413920165073597,0.65678485781405105,0.65629855539045601,0.62175262987831403,0.55396106874864803,0.42751474064626799]
[null,null,null,null,null,null,null,null,null,null,4736,0.58024602994034302,0.60817208022682501,0.59941629151185405,0.69541624202254604,0.64162108783031602,0.61897075557978398,0.53908793317359205,0.40702597294107201]
[null,null,null,null,null,null,null,null,null,null,4737,0.58830532800241997,0.61101816927951302,0.60014866840417003,0.746990438616839,0.62576676708321399,0.61170908365216503,0.52093446990814596,0.38408808884838802]
[null,null,null,null,null,null,null,null,null,null,4738,0.59292657835728502,0.61075621748907005,0.59884714885964896,0.79237081378600605,0.61775519117883704,0.60600571504191802,0.50905406519945995,0.36899622850816]
[null,null,null,null,null,null,null,null,null,null,4739,0.59287853049359296,0.60732470849134601,0.59639553698897296,0.82432369597504396,0.62132032751407495,0.60520585184078601,0.51077004976711204,0.36966259307206301]
[null,null,null,null,null,null,null,null,null,null,4740,0.58795073800461295,0.60095780805058296,0.59265729502396702,0.84761945844650299,0.633432282466312,0.60829998326072099,0.52576550339571304,0.38569820647806602]
[null,null,null,null,null,null,null,null,null,null,4741,0.58027908754968305,0.59450965204156403,0.58894902649110703,0.868942719018862,0.64926534052340001,0.61351891262402203,0.54744528445096496,0.40919277045184999]
[null,null,null,null,null,null,null,null,null,null,4742,0.57495620389188395,0.59264490325969299,0.58937869370055196,0.88848076130737497,0.66699804286916697,0.62208572361163295,0.56976339586457903,0.43197099729413002]
[null,null,null,null,null,null,null,null,null,null,4743,0.57471717958939394,0.59713768589104399,0.595843579499436,0.90141294164069197,0.68583588843097698,0.63489318940876904,0.58993571112975396,0.45036348823073402]
[null,null,null,null,null,null,null,null,null,null,4744,0.57877949181103705,0.60575498006874795,0.60690050052990996,0.90200703001557003,0.70476652184078703,0.65073036573292997,0.60839080507882703,0.46516948244480799]
[null,null,null,null,null,null,null,null,null,null,4745,0.58558765094517795,0.61580985787750397,0.62020070646076297,0.89072085388269595,0.72321601441324401,0.66776083844029799,0.62641748775165595,0.47835107772418101]
[null,null,null,null,null,null,null,null,null,null,4746,0.59359165550394299,0.62521742283340098,0.63355704720575901,0.87595397921595197,0.74080990921748602,0.68432427743985702,0.64575528411816496,0.49208804636478798]
[null,null,null,null,null,null,null,null,null,null,4747,0.60074572800602599,0.63271533416451398,0.64520645467160798,0.86799584687971698,0.75821918794172505,0.69954815180332997,0.667384114514606,0.50784507965347703]
[null,null,null,null,null,null,null,null,null,null,4748,0.60568364409900399,0.63789907891608499,0.65420365482865395,0.87561131069248499,0.77535938927159198,0.71300736258435304,0.690834053640068,0.52595883812801603]
[null,null,null,null,null,null,null,null,null,null,4749,0.60700311826874997,0.63991999175044001,0.65975196796546698,0.89947491735986895,0.79197052929764,0.72430944951356002,0.71490307320067703,0.54614839941627902]
[null,null,null,null,null,null,null,null,null,null,4750,0.60434688268534797,0.63881610147979295,0.66269521425901801,0.93045273400261597,0.80825350892384396,0.734042541656315,0.73907013062071103,0.56839289528133796]
[null,null,null,null,null,null,null,null,null,null,4751,0.59801019232233399,0.63476949434254804,0.66348909486190699,0.95525668019510501,0.82279303248638902,0.74162148953384099,0.76184908426037301,0.59204773344627803]
[null,null,null,null,null,null,null,null,null,null,4752,0.58915178454392203,0.629247835833184,0.66333911147862601,0.96585141262965302,0.83580503400412498,0.74754599779698205,0.78266431117924895,0.61615370744993403]
[null,null,null,null,null,null,null,null,null,null,4753,0.58065990866341199,0.62447687138336905,0.66359754155633399,0.96510715607994801,0.84651775487077396,0.75259674544170496,0.80079476207792399,0.63857154985228903]
[null,null,null,null,null,null,null,null,null,null,4754,0.57460410405434703,0.62089764958117899,0.66377508629470805,0.96132126304833099,0.85081429736831604,0.75544815403471099,0.81353267914444605,0.65561101499324104]
[null,null,null,null,null,null,null,null,null,null,4755,0.57095165469244802,0.61669778590142699,0.66042360267370404,0.96057850165674497,0.83874756979699605,0.75028427081576898,0.81263339626642395,0.659274765137151]
[null,null,null,null,null,null,null,null,null,null,4756,0.56808216777392595,0.60898538389454804,0.64836915044138799,0.96256188931279996,0.79929051990736899,0.72840395488437604,0.78560713132598903,0.63844635111713999]
[null,null,null,null,null,null,null,null,null,null,4757,0.56490215556059797,0.59735304016120305,0.62550623208310396,0.96284072787303299,0.72964430726012897,0.68547264362527704,0.72430233929655696,0.58518275316413104]
[null,null,null,null,null,null,null,null,null,null,4758,0.56212150170713904,0.58425546853138399,0.59419046003627796,0.95574559661358305,0.637262163087568,0.62421446148656101,0.63229364322037895,0.50156612839163095]
[null,null,null,null,null,null,null,null,null,null,4759,0.55993651970521496,0.57143654377534003,0.55799263008606204,0.93653991686253701,0.53602740013033401,0.55218137083707497,0.52355918478107899,0.40025795929108099]
[null,null,null,null,null,null,null,null,null,null,4760,0.55709051690074196,0.55850603832057899,0.51972678377367298,0.903765225971911,0.43962790592252199,0.47816366629364798,0.41527600157362299,0.29881943895836499]
[null,null,null,null,null,null,null,null,null,null,4761,0.550795009743129,0.54339057677100999,0.48154477984085903,0.86506543585369899,0.35809150418139402,0.41001603692328298,0.32095281425809702,0.211850424563442]
[null,null,null,null,null,null,null,null,null,null,4762,0.54033605012604502,0.52651748749428495,0.447317450787384,0.83470840742002095,0.29782515945966098,0.35512000204143801,0.249309341421935,0.14777247573129501]
[null,null,null,null,null,null,null,null,null,null,4763,0.52698095157437097,0.509920949768078,0.42016757086595302,0.82411589199012203,0.25913504238377599,0.31658537523989599,0.20202024547728201,0.107495753551113]
[null,null,null,null,null,null,null,null,null,null,4764,0.513747494198599,0.496606508119804,0.40190070304160003,0.83370195670968705,0.238670922781971,0.29389472881164802,0.175655839764711,8.6543595007162605E-2]
[null,null,null,null,null,null,null,null,null,null,4765,0.50436567510282204,0.48889387603597401,0.39238274029047898,0.85688742299357801,0.231316141336813,0.28346374706863903,0.16374201823012899,7.7954731142818298E-2]
[null,null,null,null,null,null,null,null,null,null,4766,0.502025534595402,0.48796077186345399,0.39090526538611098,0.88827917331400597,0.233542347497394,0.28183738357573102,0.16074308256066699,7.6250209859926393E-2]
[null,null,null,null,null,null,null,null,null,null,4767,0.50851596280605305,0.49368283434319199,0.39654467054871301,0.92508314192952301,0.242852294845919,0.28651457893406601,0.163195272196313,7.8110566632539194E-2]
[null,null,null,null,null,null,null,null,null,null,4768,0.52119334458438704,0.50277736545928797,0.40581919875357497,0.96229951519646695,0.25589406772484402,0.29406308043617302,0.16863340778588601,8.1624813586335096E-2]
[null,null,null,null,null,null,null,null,null,null,4769,0.53425603387673604,0.51081216780816896,0.41486241508152799,0.990481752029714,0.27050995938660799,0.30201413709464697,0.175694467159381,8.5763456194280704E-2]
[null,null,null,null,null,null,null,null,null,null,4770,0.542647191320766,0.51533556027607197,0.42209121696693203,1.0018695683968699,0.28630304191290901,0.31020752396747903,0.18486505099719,9.0319927246263004E-2]
[null,null,null,null,null,null,null,null,null,null,4771,0.54555653379318902,0.51718162073157103,0.42875412987643502,0.99822566628370202,0.30530598302505402,0.32053395568223603,0.19733158099362599,9.5927502741010903E-2]
[null,null,null,null,null,null,null,null,null,null,4772,0.54712889591858904,0.52016182570484804,0.43787221557268702,0.988568642695142,0.33032166146833303,0.33578102013323502,0.215102902621925,0.104123243758917]
[null,null,null,null,null,null,null,null,null,null,4773,0.55109693656806003,0.52638723366559304,0.45084415679121898,0.98093587173118901,0.36191611257613099,0.356935658719016,0.23937850988259801,0.11651084157724099]
[null,null,null,null,null,null,null,null,null,null,4774,0.55774319533618599,0.53471395045797698,0.46590513117174598,0.97666325471116999,0.395901780441478,0.38155190672572598,0.26871464462813199,0.13332722037768899]
[null,null,null,null,null,null,null,null,null,null,4775,0.563977239240394,0.54123124364408304,0.47864401200039802,0.97198862364420502,0.42376905284660898,0.40392819294329202,0.297813812068777,0.15177646263557101]
[null,null,null,null,null,null,null,null,null,null,4776,0.56678124003681996,0.54275030052402196,0.48468293043816102,0.96457436952250897,0.436694336704335,0.41744997244707399,0.31848031981263297,0.16629727936618899]
[null,null,null,null,null,null,null,null,null,null,4777,0.56531701066565199,0.53888546190960396,0.482448006781723,0.95715639959072096,0.43210505696234303,0.418946542732127,0.32446830838007001,0.17195461871444201]
[null,null,null,null,null,null,null,null,null,null,4778,0.55991345643300305,0.53102074288462198,0.47356827740317797,0.95375140579523898,0.41572891022102298,0.41039659584905402,0.31646351480568602,0.1680252990668]
[null,null,null,null,null,null,null,null,null,null,4779,0.55106586048011696,0.52080092002011102,0.46189039296760398,0.95472905522372897,0.39809868640645002,0.39794217637493901,0.30174278869249899,0.158957353524385]
[null,null,null,null,null,null,null,null,null,null,4780,0.53944417365763098,0.50956304933199204,0.451159313007163,0.95723116252376095,0.38721009693636599,0.38770496862866899,0.289576878385019,0.15094143748314801]
[null,null,null,null,null,null,null,null,null,null,4781,0.52595857537538704,0.49872631713238103,0.44354666960421701,0.95770265214297701,0.385048791952257,0.38263907804401998,0.28475452546513402,0.147916635240008]
[null,null,null,null,null,null,null,null,null,null,4782,0.51317863261631103,0.49052142641574897,0.44037999894281699,0.95496018102323699,0.38976772477454802,0.38313323213922601,0.28728035530234902,0.150078110347004]
[null,null,null,null,null,null,null,null,null,null,4783,0.50462443699981196,0.48710540997580298,0.44250292163198501,0.95082017389561302,0.39953435507466201,0.38874646936950402,0.29410236337319901,0.155739449944893]
[null,null,null,null,null,null,null,null,null,null,4784,0.50239146491362496,0.488868957246756,0.44972352451619702,0.947341621495569,0.41258429936452601,0.39866908646016103,0.30243196053295301,0.163117965905442]
[null,null,null,null,null,null,null,null,null,null,4785,0.50550993037593805,0.49393071520176901,0.45984790177762902,0.94528310004455096,0.42728964557777699,0.411219707338007,0.31048352321592498,0.17091263076122801]
[null,null,null,null,null,null,null,null,null,null,4786,0.51065352237050599,0.49923356766258098,0.469552804762705,0.94252168581404705,0.44150818207628401,0.42378431732397498,0.31783895033611398,0.17840851250336301]
[null,null,null,null,null,null,null,null,null,null,4787,0.51505432052588196,0.50275140508589999,0.476616344282002,0.93703937874542997,0.45399290369411799,0.43429757474741898,0.32481337345896599,0.18519204509819501]
[null,null,null,null,null,null,null,null,null,null,4788,0.51823562604199902,0.50492776303657505,0.48156787891352598,0.92620403886528602,0.46525389844606002,0.44263370935688301,0.33189094628590299,0.19124064101306201]
[null,null,null,null,null,null,null,null,null,null,4789,0.52186128681535504,0.50801636283031004,0.48706739939514598,0.90848803291882996,0.47784812810501798,0.45109393986816398,0.33974730474187997,0.19734692868364201]
[null,null,null,null,null,null,null,null,null,null,4790,0.52879194603672597,0.514751930065381,0.49631979436254903,0.87773399226485205,0.49389618558023102,0.462242760968054,0.34920239885986099,0.20459636054066899]
[null,null,null,null,null,null,null,null,null,null,4791,0.54124014740401505,0.52686766895975301,0.51112385706044505,0.83184632443821904,0.513646961710577,0.47735870578003198,0.36062179778775599,0.213403852688763]
[null,null,null,null,null,null,null,null,null,null,4792,0.55983276604959398,0.544680285707561,0.53147009026604097,0.783021279936572,0.53487159359534897,0.49582966883345397,0.37381425881900099,0.222964458177282]
[null,null,null,null,null,null,null,null,null,null,4793,0.58095685805865604,0.56517922391446296,0.55389134235945103,0.75390397388551,0.55309011586705503,0.51442577873597195,0.38681680762211501,0.232003916638885]
[null,null,null,null,null,null,null,null,null,null,4794,0.59795531789499701,0.58260924978273998,0.57250194470988303,0.76056516506090599,0.56501259637474999,0.52869282353378799,0.39789285511837802,0.24020890548645299]
[null,null,null,null,null,null,null,null,null,null,4795,0.60537568881533799,0.59153763574850204,0.58213400349192201,0.79852211787867999,0.57051728442429295,0.53562964527383194,0.40678983940448499,0.248796123559407]
[null,null,null,null,null,null,null,null,null,null,4796,0.60123573959180499,0.58944836621383701,0.58103891006240205,0.84808902121221796,0.57255302319052603,0.53509051506739203,0.41559712069899601,0.26020421418101503]
[null,null,null,null,null,null,null,null,null,null,4797,0.58907334025123803,0.57910680577420304,0.57239477213525103,0.89406439617377698,0.57570432417143202,0.53057783726826502,0.42662116230980701,0.27587332994161301]
[null,null,null,null,null,null,null,null,null,null,4798,0.57601229559322897,0.56721933650696599,0.56314723242712805,0.92966834290747202,0.58402452278166594,0.528013296595783,0.44112114684819898,0.29508650614406801]
[null,null,null,null,null,null,null,null,null,null,4799,0.56936848495750103,0.560666176018914,0.55943891928615297,0.95379221293348404,0.59649281118688502,0.53096706319335996,0.45674581437529999,0.31406459396956798]
[null,null,null,null,null,null,null,null,null,null,4800,0.57310192566431895,0.56315097260982105,0.56294666350100098,0.96343219406383596,0.60559934282180905,0.53775455550171403,0.46733366428219297,0.32634049318180097]
[null,null,null,null,null,null,null,null,null,null,4801,0.586203355197498,0.57311766886911697,0.56933334027266402,0.95989971150142195,0.59963322924043205,0.54102005596400704,0.46490414517572198,0.32490305116920398]
[null,null,null,null,null,null,null,null,null,null,4802,0.60115501162797103,0.58306998311327896,0.56914200926525704,0.945906108880325,0.56946410391182001,0.53089203393569195,0.44275711731544398,0.30562431762251702]
[null,null,null,null,null,null,null,null,null,null,4803,0.60855341236636795,0.584183771857542,0.55417739643309105,0.92393076517182904,0.51702095986095997,0.50189560121881405,0.40082767766321797,0.270705825888375]
[null,null,null,null,null,null,null,null,null,null,4804,0.60358352007701799,0.57312115399223096,0.52439087023915099,0.900503248596488,0.45550818293357098,0.45821059645984602,0.34779767857965699,0.228578958019346]
[null,null,null,null,null,null,null,null,null,null,4805,0.58947724499024901,0.55421158660899394,0.487944832033404,0.88432423194579102,0.40034304603525001,0.41091668245806001,0.296707624979972,0.18961195845721801]
[null,null,null,null,null,null,null,null,null,null,4806,0.57325175923732996,0.535268351724692,0.45505468539164801,0.88252680770858705,0.36111875461043003,0.371085318822165,0.25783026176819501,0.16075964785616201]
[null,null,null,null,null,null,null,null,null,null,4807,0.561875834994229,0.52319957820976104,0.43266662023254698,0.89486087213748999,0.339212747643587,0.34479442937215099,0.23414592733299899,0.143451363828525]
[null,null,null,null,null,null,null,null,null,null,4808,0.558742366809591,0.52049914321014001,0.422406907423166,0.91078147039557,0.33119902977392202,0.33214904792933397,0.22337049752131299,0.13581122059349801]
[null,null,null,null,null,null,null,null,null,null,4809,0.56303440163380003,0.52518062423488598,0.42214896284507702,0.92203017326325798,0.33219113063781902,0.33017403571360998,0.221125944656512,0.134789537704227]
[null,null,null,null,null,null,null,null,null,null,4810,0.57063247693663799,0.53288959502349098,0.42844661482309698,0.92581714958310901,0.33886122274708702,0.33569917885814898,0.22413633614791501,0.137764685117053]
[null,null,null,null,null,null,null,null,null,null,4811,0.57695578853924201,0.53962568039974002,0.43790028417624299,0.92431343509557895,0.34924567352731001,0.34586144842328798,0.23025292876480599,0.14279222516680201]
[null,null,null,null,null,null,null,null,null,null,4812,0.57996711918296895,0.543977560123864,0.44837837288318999,0.92017026406819802,0.362651904218387,0.358749366924772,0.23834502841455199,0.14874245974674399]
[null,null,null,null,null,null,null,null,null,null,4813,0.58068671799568805,0.54664473859901197,0.45948265541005301,0.91853817164783602,0.37883390298059599,0.37341422721522,0.24830383652655799,0.15520723811557599]
[null,null,null,null,null,null,null,null,null,null,4814,0.58166029348515802,0.54958162770342101,0.471311746826305,0.92946077610647804,0.39733920988593002,0.38929718639404698,0.26041112200578098,0.162095547487556]
[null,null,null,null,null,null,null,null,null,null,4815,0.58567164113301695,0.554705110432551,0.48391371594604898,0.95702490187153799,0.41748184834942398,0.40584949414452998,0.27478517101421002,0.169462703465454]
[null,null,null,null,null,null,null,null,null,null,4816,0.59424019188244104,0.56332377407085099,0.49757327461920797,0.99699631494102103,0.43861980631359698,0.42274290491642902,0.29109966695555201,0.17724253568509199]
[null,null,null,null,null,null,null,null,null,null,4817,0.60739721963861704,0.57504570550741796,0.51210146657859401,1.03911905614286,0.458322796338544,0.43887788709246101,0.30785081256295299,0.18509005807871401]
[null,null,null,null,null,null,null,null,null,null,4818,0.62055291869845997,0.58589550503952104,0.52489784974290998,1.0729129888078199,0.472609178141985,0.45167349034628002,0.321856022233585,0.19221182196410599]
[null,null,null,null,null,null,null,null,null,null,4819,0.62837828221156999,0.59217056723424799,0.53338392535067303,1.0947037505849899,0.47910716643640699,0.459062578631868,0.33012682362062501,0.19781331785259201]
[null,null,null,null,null,null,null,null,null,null,4820,0.62728034029247304,0.59231120106820001,0.53658369784246795,1.1038029051631799,0.47858808843335698,0.46076356493008802,0.33231550262079301,0.20180770337918799]
[null,null,null,null,null,null,null,null,null,null,4821,0.61687009695371997,0.58696668066668201,0.535691439176332,1.10192010935361,0.47508117136279299,0.458894761582472,0.331005241710846,0.204731147664589]
[null,null,null,null,null,null,null,null,null,null,4822,0.60058518166166597,0.57840451599318099,0.53338526400924402,1.0918769863081199,0.47285436032105599,0.456490804698654,0.32981699056566599,0.20760486221125099]
[null,null,null,null,null,null,null,null,null,null,4823,0.585002398101923,0.570276009873666,0.53244586207245403,1.07572493633452,0.47460006934191201,0.45615152044882301,0.33095949430172,0.21120194134234499]
[null,null,null,null,null,null,null,null,null,null,4824,0.57673825863472905,0.56662490181351099,0.53466690218244395,1.0549668491955799,0.47985279714352103,0.45867130828271202,0.33462243161296801,0.215706288362635]
[null,null,null,null,null,null,null,null,null,null,4825,0.57683811596313195,0.56771629582233296,0.53873836237316497,1.0320279296619199,0.48623648563736999,0.46276268916546598,0.33986346656184202,0.220844213659144]
[null,null,null,null,null,null,null,null,null,null,4826,0.58053105467986699,0.57011596326801295,0.54182206722662396,1.0124180800490901,0.49137643639148199,0.46607209360368201,0.346024352927148,0.22634282681281301]
[null,null,null,null,null,null,null,null,null,null,4827,0.58195553134300304,0.56967231567670396,0.54150311307921695,0.99957324465222797,0.49389483177293803,0.46703503469775298,0.35193421407624298,0.23198873997424599]
[null,null,null,null,null,null,null,null,null,null,4828,0.57972092616202997,0.56582327839961999,0.53829855701516405,0.99301654220056701,0.49453319748055702,0.46614103876509899,0.356945599208154,0.23774909125247501]
[null,null,null,null,null,null,null,null,null,null,4829,0.57529069987040804,0.56011197471885499,0.53344823235461902,0.98959912332159405,0.49396849844438001,0.46418743153143499,0.36064845616680702,0.24371637688370701]
[null,null,null,null,null,null,null,null,null,null,4830,0.569045800417465,0.553200944967292,0.52705775352495299,0.98630293947603198,0.49409312215614998,0.46167022632371602,0.36327569818728001,0.249814229856265]
[null,null,null,null,null,null,null,null,null,null,4831,0.56199750181475905,0.54674752152530004,0.52121702492362498,0.97890544596024898,0.498981951504543,0.46097812226253798,0.36656919787178099,0.25599132616666098]
[null,null,null,null,null,null,null,null,null,null,4832,0.55859329475479302,0.54548405836893499,0.52165758133573004,0.96390469750905605,0.51244780884758301,0.466900292676867,0.37340580982076599,0.26259898015815503]
[null,null,null,null,null,null,null,null,null,null,4833,0.56253751251542705,0.55255060082226104,0.53189694328806403,0.93781929305168299,0.53379653899517299,0.48180826527833298,0.38574623910725903,0.27046879211680702]
[null,null,null,null,null,null,null,null,null,null,4834,0.57201854459240697,0.56529357126379298,0.54894371950659904,0.90374479744592395,0.55824122647837104,0.50240887656892097,0.403002951661936,0.28029701637576399]
[null,null,null,null,null,null,null,null,null,null,4835,0.58122556926660096,0.57717027135057097,0.56570604777978695,0.87582960608090099,0.58198436314393298,0.52307808480455698,0.42316958128714399,0.29259352892613899]
[null,null,null,null,null,null,null,null,null,null,4836,0.58537949810847301,0.58343103066605595,0.57749298077884903,0.87148738025057504,0.60281326600209495,0.54007467900506101,0.44490853324979002,0.30775183861405098]
[null,null,null,null,null,null,null,null,null,null,4837,0.58396838436388698,0.583833714423307,0.58412425310273897,0.898340155192488,0.61819920878911805,0.55233183884209003,0.46563172997579799,0.324114975589887]
[null,null,null,null,null,null,null,null,null,null,4838,0.57858608049384996,0.58011985081678596,0.58712082068106997,0.94627184768338202,0.62466701721576701,0.559192303704246,0.48080705926099598,0.33744840853428998]
[null,null,null,null,null,null,null,null,null,null,4839,0.57155980404492401,0.57439415655612303,0.58687460673219705,0.99370463213510596,0.62090969497020998,0.55957985816350897,0.48489542929113499,0.342968693950016]
[null,null,null,null,null,null,null,null,null,null,4840,0.56619905327730502,0.56943713404456797,0.58414935330973194,1.0266191901728501,0.61029418486320897,0.55425770304699795,0.47668607784196598,0.33870436605809701]
[null,null,null,null,null,null,null,null,null,null,4841,0.56393040582366205,0.56677952947275401,0.57965743782215595,1.04520945933293,0.59761875490212601,0.54526678419481101,0.46016861184290497,0.32709644467291399]
[null,null,null,null,null,null,null,null,null,null,4842,0.56486114602809301,0.56704000030235502,0.57501045676765195,1.0584309311767399,0.58758843456371301,0.53604710165154201,0.44217201763814301,0.31335201223963999]
[null,null,null,null,null,null,null,null,null,null,4843,0.56887957433691105,0.57039017750704901,0.57228015976218205,1.0682249395780901,0.58270582988417197,0.52966337174723999,0.42872628449813799,0.30259986367534503]
[null,null,null,null,null,null,null,null,null,null,4844,0.57621972911337005,0.57719909217404697,0.57335358433356198,1.0710038752283,0.58207298986933798,0.52766452725385504,0.42214633653571498,0.29734048193607698]
[null,null,null,null,null,null,null,null,null,null,4845,0.58535141700829596,0.58565110909775997,0.57640122480590095,1.0638492413254901,0.57895017509824898,0.52710043233722303,0.41977133422837298,0.29636594911958902]
[null,null,null,null,null,null,null,null,null,null,4846,0.59114654041953696,0.59010504264415897,0.57490316613121895,1.04936355003869,0.564843088518171,0.52081942526452196,0.415010760975907,0.29508003960240098]
[null,null,null,null,null,null,null,null,null,null,4847,0.59061051101429296,0.58735919243007595,0.56443048715170596,1.0347119735294601,0.53825241164418502,0.50454335208628798,0.402377973159526,0.28928842047819697]
[null,null,null,null,null,null,null,null,null,null,4848,0.58717389163358902,0.58040276186731699,0.54752052864423595,1.02536612559633,0.50586401208312903,0.48119774381557401,0.38295977249350999,0.27912872612117201]
[null,null,null,null,null,null,null,null,null,null,4849,0.58614984514722901,0.574936588962212,0.53083694575650597,1.0219984309433301,0.47764016163369699,0.45782018095265598,0.36246322076187598,0.26806327436646299]
[null,null,null,null,null,null,null,null,null,null,4850,0.588576148771914,0.57338312692161697,0.51954226983435803,1.02186445207805,0.46082777732459002,0.44119165277224698,0.34720265433602399,0.25988202488059298]
[null,null,null,null,null,null,null,null,null,null,4851,0.59121067317614995,0.57410194399183201,0.51494713436149397,1.0184207893177999,0.4575012767894,0.43467110377413398,0.34073023399415397,0.25702042400522801]
[null,null,null,null,null,null,null,null,null,null,4852,0.59014512157774801,0.57405291336970099,0.51564291596044698,1.00682008999023,0.46448164909822198,0.43785171609276602,0.34309171035598202,0.25977588517883099]
[null,null,null,null,null,null,null,null,null,null,4853,0.58328724194922399,0.570704247519634,0.51822634555221703,0.98570145168177603,0.47568322257724199,0.44627561560065598,0.35136510857507802,0.26657220774026602]
[null,null,null,null,null,null,null,null,null,null,4854,0.57346466264389095,0.56528087056411602,0.52066606679576599,0.961600951459602,0.4857688306381,0.45525053353806599,0.36131748479833897,0.27462274589961]
[null,null,null,null,null,null,null,null,null,null,4855,0.566327450086338,0.56184589507229099,0.52286329207272697,0.94419841788038605,0.49165053593270802,0.46152913034436699,0.36934509700100998,0.28097935152943698]
[null,null,null,null,null,null,null,null,null,null,4856,0.56447200041869094,0.56217663465711798,0.52496318718380597,0.93864226930332695,0.49292713340461602,0.46385537867927501,0.373480214593852,0.28392083249440497]
[null,null,null,null,null,null,null,null,null,null,4857,0.56461043734963801,0.56397764447978205,0.52662004241353899,0.93932827339449998,0.49079581589728399,0.462905456897166,0.37391447508463699,0.28390356251606702]
[null,null,null,null,null,null,null,null,null,null,4858,0.55928597835555505,0.55997730222764097,0.52440810397378002,0.93854120499930505,0.48515187494395601,0.45767640768022899,0.37188655776634399,0.28287266171444198]
[null,null,null,null,null,null,null,null,null,null,4859,0.54266970144529503,0.54459303067930498,0.51591632570972901,0.928284135338168,0.47827438330637001,0.448428568929569,0.36929199310725103,0.283040006018417]
[null,null,null,null,null,null,null,null,null,null,4860,0.52032292620345899,0.52284683174350999,0.50487121057324702,0.91072536583367103,0.47453188478532199,0.43925329793009799,0.36857360121919702,0.28573463431623403]
[null,null,null,null,null,null,null,null,null,null,4861,0.50353252048119901,0.50596640355907996,0.49813404062864303,0.89755305140114805,0.477986294608856,0.43594044068383098,0.37136050617815602,0.29052995993220898]
[null,null,null,null,null,null,null,null,null,null,4862,0.50055613518006903,0.50261573585979902,0.50057851131927,0.902764978734935,0.489152146954902,0.44197031914755502,0.37780371509404898,0.29625489888141499]
[null,null,null,null,null,null,null,null,null,null,4863,0.51029088358526697,0.51220484722831605,0.51130318849676404,0.92846387123121499,0.50486457916815597,0.45547453093233498,0.38670912436559202,0.30215029611330901]
[null,null,null,null,null,null,null,null,null,null,4864,0.52702531769260696,0.52888998698726997,0.52656964739216106,0.96287382438090097,0.52098044513396302,0.47220824839372399,0.396601864183379,0.30814379249852403]
[null,null,null,null,null,null,null,null,null,null,4865,0.54382419529873205,0.54576445990405997,0.54179842020714997,0.989273377932262,0.53522203440926397,0.48765783916682898,0.40601420026002699,0.31421122055454898]
[null,null,null,null,null,null,null,null,null,null,4866,0.55668434579426196,0.55893565874604201,0.55430792356473202,0.99741348306711097,0.54787620924570901,0.50008725807144505,0.41441939191827398,0.32032333625919801]
[null,null,null,null,null,null,null,null,null,null,4867,0.56398854005310795,0.56742916880649297,0.56339339846882996,0.98599494406757804,0.55946586093887296,0.50958288552210596,0.42203872336828702,0.32650094693828802]
[null,null,null,null,null,null,null,null,null,null,4868,0.56489728326300204,0.57059288063912095,0.56849495146950202,0.95786504014128404,0.56969968911499302,0.51635376870009497,0.429552979908504,0.33292983823776301]
[null,null,null,null,null,null,null,null,null,null,4869,0.55849490517679501,0.56839809735922597,0.57001059922411801,0.91814044541128104,0.57944737253557199,0.521854437108493,0.438157698326059,0.33995373100762399]
[null,null,null,null,null,null,null,null,null,null,4870,0.54749061606883798,0.56321864777312702,0.56990198368633405,0.88284579988776901,0.58912315211803901,0.52755751671439999,0.44867302758974398,0.34779277863576402]
[null,null,null,null,null,null,null,null,null,null,4871,0.53674360381625397,0.55843251697164797,0.57100010048623895,0.86297175507429302,0.60007883501543902,0.53498678950565204,0.460743610203114,0.35629881699364702]
[null,null,null,null,null,null,null,null,null,null,4872,0.53347198564376397,0.55868676239182502,0.57646181256809104,0.85878926715188297,0.611761658043942,0.54465105315686202,0.47334662378326697,0.36552503042012202]
[null,null,null,null,null,null,null,null,null,null,4873,0.53897483471727303,0.56397392973829297,0.58465856078421297,0.86465620680739996,0.62199915059104705,0.55445944477026698,0.484835098927902,0.37527163419876602]
[null,null,null,null,null,null,null,null,null,null,4874,0.55126736509586705,0.57307584929918598,0.59353139873757499,0.87992262342243599,0.63008990500173101,0.56339376071376801,0.49492345513863301,0.38553131444983302]
[null,null,null,null,null,null,null,null,null,null,4875,0.56584521791055697,0.58342875613481604,0.60117995235857702,0.90731942967115198,0.63711317197828998,0.571160728981573,0.50419693606470495,0.39575895532298799]
[null,null,null,null,null,null,null,null,null,null,4876,0.58128834455239298,0.59441391399694798,0.60832984243951205,0.946179883746606,0.64418465879518205,0.57857032929642205,0.51306450437808004,0.40516571459071499]
[null,null,null,null,null,null,null,null,null,null,4877,0.59661838859299399,0.60466011123343799,0.61507768373906602,0.98825144584968005,0.65112926331518906,0.58514432448707598,0.520741198024258,0.41270829745756199]
[null,null,null,null,null,null,null,null,null,null,4878,0.60796852479466601,0.61002781117039095,0.61880610726176,1.02459815104356,0.65573592805584302,0.58877960383559502,0.526256106396644,0.41853526137187502]
[null,null,null,null,null,null,null,null,null,null,4879,0.60950380709835394,0.60630311615397503,0.61631445064696,1.05257919602492,0.65766655169097499,0.588200034791865,0.52949904682716897,0.42335519230919999]
[null,null,null,null,null,null,null,null,null,null,4880,0.60031231011805797,0.59490422139676202,0.60895852958633401,1.07343981270946,0.65962364039911103,0.58552238363723597,0.53201540918700896,0.428276573509564]
[null,null,null,null,null,null,null,null,null,null,4881,0.58581794747155902,0.58255818681089999,0.60267699350308801,1.08684530923298,0.66589564645845001,0.58621921908972796,0.53670776490431704,0.43447554228360502]
[null,null,null,null,null,null,null,null,null,null,4882,0.57310626695920996,0.57557173756618296,0.60273105038885999,1.09200314369655,0.67758164363312101,0.59339840591358795,0.54505296639692302,0.44239824664180399]
[null,null,null,null,null,null,null,null,null,null,4883,0.56448774759278497,0.57436625778632899,0.60857054552262302,1.08899158190948,0.69269102830404905,0.60571367735551696,0.55679046077995398,0.45225705915490499]
[null,null,null,null,null,null,null,null,null,null,4884,0.55718488620583895,0.57444979696407406,0.61482652564581597,1.0810847272137001,0.70749374433351797,0.61788281938920697,0.57016612048190096,0.46369511211265602]
[null,null,null,null,null,null,null,null,null,null,4885,0.54899813214855098,0.57249051586997701,0.61739260483928804,1.07472659174769,0.72012387107842801,0.62628949570452197,0.58359953656528196,0.47613509729475401]
[null,null,null,null,null,null,null,null,null,null,4886,0.54203699389424698,0.56995747163948196,0.61738099329316498,1.0720531175287999,0.73108868029391905,0.63147399781604796,0.59623163541986102,0.489034350655141]
[null,null,null,null,null,null,null,null,null,null,4887,0.53961672048410503,0.56983446242083802,0.61804747507976998,1.07177993557769,0.74053881814975597,0.63600947969268096,0.60757323271522001,0.50139707245523901]
[null,null,null,null,null,null,null,null,null,null,4888,0.53949211701372501,0.57059452405391198,0.61855398975493603,1.07162308504215,0.74536193834019004,0.639185572107552,0.61621021624030203,0.51200600677342101]
[null,null,null,null,null,null,null,null,null,null,4889,0.53774732460992303,0.56992823397793502,0.61697392725139999,1.0710869094156099,0.74540641126776097,0.63982940086928997,0.62091859893158596,0.51930433382045604]
[null,null,null,null,null,null,null,null,null,null,4890,0.53649731413581903,0.57015975687879705,0.61552365451303004,1.0726965577415399,0.74227167151350504,0.63927808829968702,0.62178315397421902,0.52257225225377402]
[null,null,null,null,null,null,null,null,null,null,4891,0.54296514222367198,0.57688351681966499,0.61889211196348004,1.0723830136946699,0.739567596164875,0.64074438583952997,0.61932096156954897,0.52112519232733001]
[null,null,null,null,null,null,null,null,null,null,4892,0.56347117551223103,0.594614016884213,0.63111920309309599,1.06021273373532,0.73983263152291601,0.64700957646365098,0.61476144252417098,0.515491706096465]
[null,null,null,null,null,null,null,null,null,null,4893,0.59757074950769395,0.62253726969008605,0.65223261694914503,1.0346115897242201,0.74387780354202804,0.65870519129401395,0.61014675221548298,0.50774114252015201]
[null,null,null,null,null,null,null,null,null,null,4894,0.63681734496654596,0.65431999985044997,0.67801586646990697,1.00382871639301,0.75084079782118796,0.67358074806201496,0.60747711983658903,0.50106306278011703]
[null,null,null,null,null,null,null,null,null,null,4895,0.67028994383560703,0.68178292315658995,0.70238390118137894,0.97987486975374904,0.76005910872681104,0.688504111703926,0.60838398627416301,0.49853882622994]
[null,null,null,null,null,null,null,null,null,null,4896,0.69023231810496499,0.69887403533651404,0.72020682249856605,0.96407482207436701,0.77040848844992105,0.70142537066628097,0.61365368316339597,0.50182473088334101]
[null,null,null,null,null,null,null,null,null,null,4897,0.69439094703303295,0.70276753178232199,0.72779482150880004,0.95210481292714999,0.77952351327865599,0.71033783882397805,0.62256715719873601,0.51075870965688397]
[null,null,null,null,null,null,null,null,null,null,4898,0.68378428935050395,0.69310116810256595,0.72347305074680701,0.93993118671536302,0.78653810225911203,0.713358522206476,0.63364607642263704,0.52414611824094404]
[null,null,null,null,null,null,null,null,null,null,4899,0.66503775218064998,0.67548620674225901,0.71164780674537498,0.93329662879222197,0.79325356838804195,0.71233669134148203,0.64645037736458799,0.54029415876124198]
[null,null,null,null,null,null,null,null,null,null,4900,0.64599528285313501,0.65766029885561805,0.69924014655167699,0.93940316242570399,0.80145018115050504,0.71066866661330497,0.66019041768231201,0.55696980215111702]
[null,null,null,null,null,null,null,null,null,null,4901,0.63233057136585102,0.64546775089625896,0.69189941194973703,0.95988733145703697,0.81173374491959704,0.71168239311257098,0.67344963493409205,0.57153731603500701]
[null,null,null,null,null,null,null,null,null,null,4902,0.62582312474176105,0.64073052926657204,0.69150934893091398,0.99391839975697205,0.82400273967058801,0.71695333452687204,0.68472861915920302,0.58215977343646297]
[null,null,null,null,null,null,null,null,null,null,4903,0.62668900583092801,0.64329362243625399,0.698144934846605,1.0377612622566199,0.83989497076813102,0.72759528855768296,0.69459983363274802,0.58883107074402097]
[null,null,null,null,null,null,null,null,null,null,4904,0.63444590491040798,0.65243369393584405,0.71122551440130499,1.08336452118583,0.85989791216784905,0.74430667150934704,0.70644861820409999,0.59474592228182399]
[null,null,null,null,null,null,null,null,null,null,4905,0.64615032255202598,0.66508294801021695,0.72754066079883895,1.1236375411563599,0.88172960149791302,0.76469565605682599,0.72239986352832897,0.60325535707760702]
[null,null,null,null,null,null,null,null,null,null,4906,0.65520389867506801,0.674861581558163,0.74075677040936905,1.1506130202992999,0.89927876155566699,0.78277537019371402,0.74097475332795704,0.61587368449823998]
[null,null,null,null,null,null,null,null,null,null,4907,0.65412107476230996,0.67491915684163595,0.74431516448624402,1.15809632029593,0.91050792368356204,0.79248259483864802,0.75759498122049795,0.630783903676431]
[null,null,null,null,null,null,null,null,null,null,4908,0.64317021290540399,0.66593356911588097,0.73963545529760999,1.1400525049081001,0.91875199265507002,0.79512416006145303,0.77059919691562795,0.646060388859789]
[null,null,null,null,null,null,null,null,null,null,4909,0.62884213884078299,0.65435363581493999,0.73324944067388498,1.0904945353544599,0.93056062463213096,0.79703634480475405,0.78192623032115205,0.66140778315765203]
[null,null,null,null,null,null,null,null,null,null,4910,0.61935246611334305,0.64749976584466296,0.73199886094023603,1.0123597246524201,0.94902020872495696,0.80438882112156096,0.79584661222938402,0.67823454521682303]
[null,null,null,null,null,null,null,null,null,null,4911,0.61903652515288399,0.64844428874313698,0.73754155030129198,0.920147499261181,0.97095703822270996,0.81782910368317896,0.81376641674997496,0.69709895696695601]
[null,null,null,null,null,null,null,null,null,null,4912,0.62697398114504599,0.65593543858643899,0.74735327082799097,0.835499606171065,0.991767579652162,0.83373372232258003,0.83370144227227205,0.71675271887729297]
[null,null,null,null,null,null,null,null,null,null,4913,0.64005984451506104,0.66753500053801496,0.75889068889917199,0.77382516283180602,1.00701886417249,0.84853236392866904,0.852497125080945,0.734657780650804]
[null,null,null,null,null,null,null,null,null,null,4914,0.65306850380713799,0.67993578517594899,0.769513591428446,0.73754947130748905,1.0152295784130401,0.85916427212763202,0.866476981324938,0.74791914689024497]
[null,null,null,null,null,null,null,null,null,null,4915,0.66005877705441396,0.68855878863592301,0.77637791006245405,0.71904772129087402,1.01577890953756,0.86353098518459503,0.87434256006769895,0.75623521028589402]
[null,null,null,null,null,null,null,null,null,null,4916,0.65419953134733599,0.68672137209427997,0.77438813628625303,0.70856086292124099,1.0086160237783901,0.85885805147834104,0.87580593739845103,0.76175599258174098]
[null,null,null,null,null,null,null,null,null,null,4917,0.63162717265165402,0.66978730423079902,0.759506047594949,0.69888695649867205,0.99574316428694398,0.84415054870039197,0.87258985181307602,0.768082801126037]
[null,null,null,null,null,null,null,null,null,null,4918,0.59613754781515504,0.64027812834968001,0.73384514119471,0.68730415278160795,0.98345513335385804,0.82281976880268903,0.86820752150995195,0.77798715655051298]
[null,null,null,null,null,null,null,null,null,null,4919,0.56009847700471804,0.60911742394313695,0.70726341765031298,0.675743482479082,0.98043813111537703,0.80362876246602799,0.86767044931738702,0.79269413978046399]
[null,null,null,null,null,null,null,null,null,null,4920,0.53857356923043997,0.58995251980079699,0.69240421662352303,0.67083485215442396,0.99236670903968704,0.79630852777045202,0.87551341987257603,0.81152629240788599]
[null,null,null,null,null,null,null,null,null,null,4921,0.53937225638112596,0.59007896253080805,0.69626505167291697,0.67713694063824004,1.0183949850956799,0.80569417967957202,0.89317026398673505,0.83317948915349105]
[null,null,null,null,null,null,null,null,null,null,4922,0.55778233389844101,0.60557689264164705,0.71503938000315503,0.69344933716843904,1.04936614213916,0.82805297514169296,0.91891485284514995,0.85701598671992896]
[null,null,null,null,null,null,null,null,null,null,4923,0.58074219237292302,0.624591949991672,0.73651632437198999,0.71206627141850198,1.07670494028907,0.85299680344318696,0.94674902582708897,0.881064274212222]
[null,null,null,null,null,null,null,null,null,null,4924,0.60054067678694201,0.64025477810702303,0.75411664215615104,0.72783789451905101,1.1028416340186999,0.87688008375084003,0.97552395647727996,0.90507454259613296]
[null,null,null,null,null,null,null,null,null,null,4925,0.61798296274245801,0.65401376487459695,0.77036323536751805,0.740384431082596,1.1340289992538399,0.90349627225782503,1.00919661570373,0.93105609997088101]
[null,null,null,null,null,null,null,null,null,null,4926,0.63786780543910104,0.67104811429064903,0.79109186706852297,0.75235256505140402,1.1743559914283701,0.93716720199084502,1.0491758554888799,0.959579241821786]
[null,null,null,null,null,null,null,null,null,null,4927,0.66144977029503904,0.69257159280466996,0.81720276089468702,0.76498276585139502,1.2167497683694299,0.97585359667584604,1.0930615975364999,0.99053037212272299]
[null,null,null,null,null,null,null,null,null,null,4928,0.68359339968231703,0.71379230455275999,0.842341275277807,0.77752687518133801,1.2497640892405899,1.0107283807862899,1.13209519638435,1.01950859652328]
[null,null,null,null,null,null,null,null,null,null,4929,0.69781125097545704,0.72833084963900097,0.85851512546910702,0.78953354131673903,1.26513842809636,1.03230712545257,1.1584952902883401,1.0415226049956301]
[null,null,null,null,null,null,null,null,null,null,4930,0.70074381339682101,0.73261926271537003,0.86217523913685101,0.80081138660159601,1.2619017281727101,1.03733739703887,1.1709145007011399,1.0554161190986699]
[null,null,null,null,null,null,null,null,null,null,4931,0.69132902174995303,0.72492449156921401,0.85222517937910103,0.81147578348657701,1.24362995897406,1.0249123208156501,1.1688450109930799,1.05977177200497]
[null,null,null,null,null,null,null,null,null,null,4932,0.67290109196246795,0.70826201124839805,0.83296489796245798,0.818711454978446,1.2217519497752301,1.0017024420631,1.15763543694043,1.0578494941658501]
[null,null,null,null,null,null,null,null,null,null,4933,0.65273778029019003,0.68961769854253296,0.81248599740555305,0.82031709732764002,1.21079957085266,0.97936434409374395,1.14663517172483,1.0578253775066999]
[null,null,null,null,null,null,null,null,null,null,4934,0.63805919620114304,0.67641759840913596,0.79933244271623305,0.81675985859686195,1.21654929146194,0.96969141941236003,1.1480355937980999,1.07172670496622]
[null,null,null,null,null,null,null,null,null,null,4935,0.62792374592532696,0.667895118453119,0.79232184922590498,0.81123691559562705,1.22935525313259,0.97102405271825298,1.1632381825604301,1.1038753995388799]
[null,null,null,null,null,null,null,null,null,null,4936,0.61686644569236104,0.65821623304764298,0.78440182376017298,0.80554374318900701,1.2339581272581499,0.97254194382746295,1.1826136996124601,1.14510619536241]
[null,null,null,null,null,null,null,null,null,null,4937,0.60087407738798704,0.64353471567075804,0.77043239736331004,0.79989282916940996,1.22533698835951,0.96563864066586302,1.1951165480735699,1.1808887260399901]
[null,null,null,null,null,null,null,null,null,null,4938,0.585782065799896,0.62909319990692203,0.75561032589718402,0.79388848722745098,1.2158124670022901,0.95466611315185901,1.19871997381785,1.2029835945362199]
[null,null,null,null,null,null,null,null,null,null,4939,0.58229232181489099,0.62445334885022596,0.75069945142843397,0.78913302855279099,1.2185853390196699,0.95181627207763497,1.2030085492848499,1.2161589938644699]
[null,null,null,null,null,null,null,null,null,null,4940,0.59444844664006302,0.63323313341488396,0.76016351505360302,0.78806350594238395,1.2362251731118701,0.96358328187831999,1.2153867249463599,1.2281631790565499]
[null,null,null,null,null,null,null,null,null,null,4941,0.61622358307928604,0.65073268758922598,0.77917558041677504,0.79300622198614701,1.26592893407521,0.98647708283347002,1.2375769280029101,1.2443507575650401]
[null,null,null,null,null,null,null,null,null,null,4942,0.64020341229412703,0.67156976309497796,0.802551237147066,0.80470313654209702,1.3053236940767201,1.0168557306778601,1.27199003018837,1.27096837868514]
[null,null,null,null,null,null,null,null,null,null,4943,0.66000531749978497,0.69032976597527895,0.82486104752952605,0.81972794940469396,1.3509342770041199,1.04899002019414,1.3174586478263499,1.3107590401190099]
[null,null,null,null,null,null,null,null,null,null,4944,0.67421781222531196,0.70531301396321699,0.84466503531653703,0.83128373606839401,1.3961730383936299,1.08025516119446,1.3702048892606,1.36182383721831]
[null,null,null,null,null,null,null,null,null,null,4945,0.68359313965026502,0.71581475696334196,0.86066513015576895,0.83570849449927498,1.43402453069909,1.10660876717835,1.4181847115218,1.4132230103305199]
[null,null,null,null,null,null,null,null,null,null,4946,0.69110084698303698,0.72395554864614997,0.87413175418878997,0.83754907293668301,1.4635248858440899,1.12769630115816,1.4540485211816101,1.4557497316031101]
[null,null,null,null,null,null,null,null,null,null,4947,0.69887529249441205,0.73237659320480297,0.88691805690339898,0.84543043838919296,1.49026430590897,1.1457165850862301,1.4800004895232,1.48886879953151]
[null,null,null,null,null,null,null,null,null,null,4948,0.70787920424935002,0.74238263158124895,0.90040877771227501,0.86202033672610201,1.5152983042239201,1.1633756679938601,1.50477923450768,1.51726258009104]
[null,null,null,null,null,null,null,null,null,null,4949,0.71721425075391398,0.75277180124506804,0.91229738847134001,0.88157830851146002,1.5269548467249101,1.17843071077286,1.52662774623416,1.53518465247465]
[null,null,null,null,null,null,null,null,null,null,4950,0.72405545167264096,0.75859796456934103,0.91433666947393799,0.89461698140181201,1.5005021798076801,1.1780627663133401,1.5277051303136899,1.5246147124790499]
[null,null,null,null,null,null,null,null,null,null,4951,0.72543306219242898,0.754703125992919,0.89553316212114698,0.89786343186590001,1.40481689640089,1.14309441556953,1.47565626133519,1.4553387291023201]
[null,null,null,null,null,null,null,null,null,null,4952,0.71715201301667697,0.73541428772846695,0.84457708592037795,0.89402759254741004,1.2243942108822601,1.0545919020991299,1.3381394923510599,1.29851081551255]
[null,null,null,null,null,null,null,null,null,null,4953,0.69780089100271803,0.69966666888606399,0.75913691186226195,0.88768768690794897,0.97940147224680196,0.91006880404246004,1.1109994776101499,1.0531291556384399]
[null,null,null,null,null,null,null,null,null,null,4954,0.67028468649567197,0.65275909443583002,0.65183142832280805,0.88351095241386002,0.72131484480095098,0.73225056428023405,0.83201832417908705,0.75949231446365595]
[null,null,null,null,null,null,null,null,null,null,4955,0.636828258607961,0.60151021009018701,0.543960646311624,0.88424081663901799,0.50508312202605599,0.55879686970518305,0.56476334176995502,0.483540213992596]
[null,null,null,null,null,null,null,null,null,null,4956,0.60231038285448002,0.55505918687919897,0.45730639438063803,0.88969998329285704,0.36021032478756099,0.42443718078390502,0.36269538097202703,0.27849589708754602]
[null,null,null,null,null,null,null,null,null,null,4957,0.57613607072794104,0.52272192173054,0.40353982362712598,0.89594767480280502,0.28342200718003602,0.34277906186385798,0.24103347192698099,0.15725597506584599]
[null,null,null,null,null,null,null,null,null,null,4958,0.56945987215321703,0.511237063717633,0.38190618197263998,0.89869771129227705,0.25328488762898399,0.30681868156472902,0.183914056658042,0.10117518915425899]
[null,null,null,null,null,null,null,null,null,null,4959,0.58410692313864199,0.51872970227029502,0.38213916729941799,0.89372506438733401,0.247470439647868,0.29891573450173903,0.164442664833581,8.2230588161339602E-2]
[null,null,null,null,null,null,null,null,null,null,4960,0.60891184982939595,0.53455652243787299,0.39096622322997998,0.87986658517137994,0.25034374819873201,0.30242798175364,0.16260526577630899,8.0749518522426303E-2]
[null,null,null,null,null,null,null,null,null,null,4961,0.62952363572518899,0.54788050897832596,0.39880715549311802,0.860611658596667,0.25370813718363799,0.30760743886247399,0.16537417190460299,8.3325122451448796E-2]
[null,null,null,null,null,null,null,null,null,null,4962,0.63694196421073801,0.551991097245905,0.40091211825682199,0.84174592983361696,0.25656189781191402,0.30999935410316898,0.168414335840334,8.5983685676401703E-2]
[null,null,null,null,null,null,null,null,null,null,4963,0.63108032283081195,0.54765804035941401,0.39920077962579498,0.82825521043677297,0.26075431783782399,0.31154709164285599,0.17213760574275,8.86566560881384E-2]
[null,null,null,null,null,null,null,null,null,null,4964,0.61594280804948198,0.53827772408529395,0.39746492468399203,0.82021781284102102,0.26840683819821798,0.31526887385896801,0.17779012433129401,9.1972274297942497E-2]
[null,null,null,null,null,null,null,null,null,null,4965,0.597542008215044,0.52804683450761003,0.39879787166771102,0.815315046425796,0.28047772657233699,0.32337593784239099,0.18625330779678401,9.6517305167602693E-2]
[null,null,null,null,null,null,null,null,null,null,4966,0.58361256809713002,0.52212329215874398,0.405596334941346,0.81246583906935599,0.29720833397504798,0.33709934818209403,0.19753571884277099,0.102549155726032]
[null,null,null,null,null,null,null,null,null,null,4967,0.57960214011717204,0.52422817637459795,0.41900696590808501,0.81296063028063204,0.31732759566589303,0.35662937273585299,0.21097095454397499,0.10987754466213]
[null,null,null,null,null,null,null,null,null,null,4968,0.58619522744498798,0.53514610580206901,0.43833125252236499,0.81580023417632097,0.33721212056808703,0.379975322920651,0.224914060853593,0.11761207999946501]
[null,null,null,null,null,null,null,null,null,null,4969,0.60082050081732596,0.55287580812320802,0.46008215077699699,0.816742696287443,0.35132487133849699,0.40200940775261002,0.23623590708099501,0.124142483756227]
[null,null,null,null,null,null,null,null,null,null,4970,0.62008486707775801,0.57368833515599105,0.47952273517685701,0.816541434771483,0.356544492022832,0.41707677864915499,0.24209027915675899,0.12787348589366199]
[null,null,null,null,null,null,null,null,null,null,4971,0.64039812637419602,0.59372966631906798,0.49412594738529902,0.82022317507659404,0.35524575786670698,0.423542921997491,0.24233130224395999,0.12861807432116501]
[null,null,null,null,null,null,null,null,null,null,4972,0.65862480745256602,0.61045742367919198,0.50507012740111301,0.83008222719596303,0.35342030290373899,0.42554539962093102,0.24034857034585799,0.128016688731378]
[null,null,null,null,null,null,null,null,null,null,4973,0.67164885116298401,0.62247235603091899,0.514993698828899,0.84255170605841601,0.35532740093989401,0.42877173297681498,0.240491480355705,0.12831851040494299]
[null,null,null,null,null,null,null,null,null,null,4974,0.67754125432346501,0.62908885559786598,0.52482265931885497,0.84821111129644799,0.36108007458581298,0.43572325252209299,0.24465680295697501,0.130911770578511]
[null,null,null,null,null,null,null,null,null,null,4975,0.67510999704215202,0.629413517955274,0.53244394820253205,0.84130997830137999,0.36748037529758498,0.44416465075040801,0.25167932159777801,0.135615043688776]
[null,null,null,null,null,null,null,null,null,null,4976,0.66470152132929905,0.62290811001534996,0.53442538639701698,0.82398322162845905,0.370956033476873,0.44975915075020201,0.258684493085654,0.14114055650714599]
[null,null,null,null,null,null,null,null,null,null,4977,0.64710334651103796,0.60904711108338105,0.527954728562538,0.80452187983708601,0.36967469343470399,0.44887850406777502,0.26303501413522701,0.14607243668532999]
[null,null,null,null,null,null,null,null,null,null,4978,0.62540625743351297,0.58983279820273904,0.51369095822149902,0.79191900509733104,0.363954929055534,0.440727011071882,0.26367188229622002,0.149527105910812]
[null,null,null,null,null,null,null,null,null,null,4979,0.60261966236861497,0.56817162472715399,0.49501835847838599,0.79266697137262099,0.356336249237719,0.42761069176935501,0.26151774080523899,0.151780850512725]
[null,null,null,null,null,null,null,null,null,null,4980,0.57991365817961404,0.54647038808183201,0.47666656897089099,0.80987274993151104,0.35133920217890902,0.41427415091158698,0.25941156016049499,0.154144839674595]
[null,null,null,null,null,null,null,null,null,null,4981,0.55828968806873203,0.52820233638033898,0.46430045657907099,0.84211195410667605,0.35354925815621902,0.40695313053461302,0.26073870469285798,0.158272649675988]
[null,null,null,null,null,null,null,null,null,null,4982,0.54264842825288295,0.51907071357402401,0.46353479769282502,0.88245204167237801,0.36515832288262001,0.41099752939587902,0.26777362340053401,0.16513344645036199]
[null,null,null,null,null,null,null,null,null,null,4983,0.53821375642889702,0.52311813044607003,0.47622505761175798,0.92082015704104503,0.38416700487823002,0.427440483805059,0.28009443258678302,0.17429066820233999]
[null,null,null,null,null,null,null,null,null,null,4984,0.54662993544843796,0.53864949110224702,0.49826774949368402,0.94817330331868599,0.40637727584626299,0.45212917862977903,0.29530387182631301,0.18413497696441999]
[null,null,null,null,null,null,null,null,null,null,4985,0.56357004590895499,0.55888348437894497,0.52204540920421705,0.96308305856888099,0.42744378994683202,0.47843074438241501,0.31080565143029298,0.19307835388653699]
[null,null,null,null,null,null,null,null,null,null,4986,0.58184167048641,0.57635160080435199,0.54118394339347198,0.96784477046386796,0.44515391161096601,0.50054309384107798,0.32471106553489798,0.20045360634851001]
[null,null,null,null,null,null,null,null,null,null,4987,0.59717864404759202,0.58813881952355396,0.55429139868727695,0.96668687936034303,0.45848098266236198,0.51701580995971996,0.33678448699560798,0.20696682711636599]
[null,null,null,null,null,null,null,null,null,null,4988,0.60768985297053002,0.59402794853791796,0.56168097698908603,0.96124648334749496,0.465988046744157,0.52710358490223896,0.34644119488455699,0.213271992964086]
[null,null,null,null,null,null,null,null,null,null,4989,0.61232422488558402,0.59492297064601196,0.56402086143448305,0.95188597120909202,0.46831495518205402,0.53107100773923799,0.35299738087466198,0.219544464220468]
[null,null,null,null,null,null,null,null,null,null,4990,0.61482051961788498,0.59498984608457905,0.56445094311284405,0.93893361971414302,0.46867427736866002,0.53183390390128105,0.35729071441908899,0.22554645154303499]
[null,null,null,null,null,null,null,null,null,null,4991,0.61868156385956696,0.59748269515206698,0.56621554631209003,0.92544270975104304,0.47040886797779202,0.53326862516485096,0.36122232318359299,0.23117141118234799]
[null,null,null,null,null,null,null,null,null,null,4992,0.62377489175393797,0.60126852083670501,0.56937512301225401,0.91606872228916403,0.47510440964905798,0.53698688219570101,0.36654783219410603,0.23687430688074099]
[null,null,null,null,null,null,null,null,null,null,4993,0.62795025899516399,0.60397598226150395,0.57253211427520001,0.91615186357314304,0.48182841675464899,0.54287324176096896,0.37406957701662502,0.24334590477315801]
[null,null,null,null,null,null,null,null,null,null,4994,0.62970043738024095,0.60369563037459095,0.57302382585857803,0.92555273666799998,0.48734518396569199,0.54779910806227705,0.38193713833055698,0.24991604355460001]
[null,null,null,null,null,null,null,null,null,null,4995,0.62934979765647003,0.60099332038654496,0.56972413029790303,0.93672980837465503,0.48746403710707698,0.54873975216568505,0.38729797983497999,0.25508087924494199]
[null,null,null,null,null,null,null,null,null,null,4996,0.626758649160575,0.59590835155791999,0.56112950464150102,0.94329103258396296,0.47695676487970401,0.54180578944872004,0.38638807453156498,0.256032389632391]
[null,null,null,null,null,null,null,null,null,null,4997,0.62008270188207704,0.587043383140333,0.54500316255002101,0.94271913417060804,0.45274341192123402,0.52356901250531496,0.37526192527874902,0.24969794768380599]
[null,null,null,null,null,null,null,null,null,null,4998,0.60721699511442295,0.57297156345229805,0.52066253466434897,0.93898339445424195,0.41820711063520499,0.493748455545716,0.35244112181897702,0.234938179911519]
[null,null,null,null,null,null,null,null,null,null,4999,0.59121391281803903,0.55725598407327304,0.49369444437145499,0.93728669662839903,0.38300373369075502,0.45986923166541999,0.32255248893889898,0.21488576095190201]
[null,null,null,null,null,null,null,null,null,null,5000,0.578396739940231,0.54599605269342799,0.47187923719781,0.94033634845860004,0.35589714857259402,0.431021264764547,0.29383363181761402,0.19535795417936699]
[null,null,null,null,null,null,null,null,null,null,5001,0.571689494214075,0.54184646178275298,0.45891557449623999,0.94839967218426902,0.33945948345787602,0.41186642627291398,0.27286026622311899,0.18124242556431]
[null,null,null,null,null,null,null,null,null,null,5002,0.56997007688506895,0.54301596636809901,0.45303610036242697,0.95967376222631096,0.331312095694975,0.40075059309342798,0.26096795525008798,0.173701115334882]
[null,null,null,null,null,null,null,null,null,null,5003,0.56876019199084904,0.54484846719574798,0.45040295984129702,0.97304778552472604,0.32813317675536402,0.39411214240103698,0.25593734512686001,0.17125446950175699]
[null,null,null,null,null,null,null,null,null,null,5004,0.56370124510294495,0.54282125943913695,0.44777258845370699,0.98774202191858995,0.32793083887117203,0.38936782130891701,0.25483243252735099,0.172119258267176]
[null,null,null,null,null,null,null,null,null,null,5005,0.55652554532267895,0.53816336286387201,0.44600067575770103,1.00086569194507,0.33044798240086798,0.38782492719397399,0.25673910185055998,0.17552098379564099]
[null,null,null,null,null,null,null,null,null,null,5006,0.55351390896137798,0.53554681724521203,0.44681025716012901,1.0083702901656999,0.33479517713375301,0.390440047963651,0.26079132003641098,0.18033824442134899]
[null,null,null,null,null,null,null,null,null,null,5007,0.55813048649872099,0.53805731299290105,0.45101288326102501,1.0077119463528501,0.34075680519045998,0.39701644223939098,0.26656804280643798,0.185843151475207]
[null,null,null,null,null,null,null,null,null,null,5008,0.56953725879769501,0.54610257757901204,0.45902192618028897,1.00146173190157,0.34721810365020001,0.40658925622844899,0.27376555219736398,0.19144612769741701]
[null,null,null,null,null,null,null,null,null,null,5009,0.57969264367623496,0.55338628816078705,0.46651956659340499,0.99349624319172702,0.35153368999579498,0.41453018981129902,0.28060319045590898,0.19640324866015901]
[null,null,null,null,null,null,null,null,null,null,5010,0.58001112212232098,0.55252659444669905,0.467980273062302,0.98823144332769597,0.352096289101758,0.41650278297830701,0.28507652543989997,0.20012089970390901]
[null,null,null,null,null,null,null,null,null,null,5011,0.567452005890693,0.54000497292238203,0.46064981664635501,0.98904058453377897,0.349616483754702,0.41176622084373898,0.286482607439913,0.20276599782239799]
[null,null,null,null,null,null,null,null,null,null,5012,0.54614960838650095,0.51930225650724005,0.447521222609366,0.99669773726438005,0.34727569708613598,0.40433486633541499,0.28605803568683702,0.20515231725454]
[null,null,null,null,null,null,null,null,null,null,5013,0.52497576659416201,0.499025903547267,0.43571529011718502,1.00653463832473,0.34852300708109402,0.40017150609897101,0.28618483788359,0.208263740772233]
[null,null,null,null,null,null,null,null,null,null,5014,0.514422627593766,0.48968607051241397,0.43267857480768301,1.0123186652607199,0.35488739618476201,0.403375049359187,0.28851590216828898,0.21237394580451299]
[null,null,null,null,null,null,null,null,null,null,5015,0.51869147394884796,0.495877870913146,0.44126352033778399,1.0093193380995,0.36581075872983698,0.41409416379969699,0.29334127526964598,0.21700852381657501]
[null,null,null,null,null,null,null,null,null,null,5016,0.53438196682983397,0.51474143919416304,0.45904333605379599,0.99899833699199703,0.37823375954440902,0.42961667081959498,0.299957252850169,0.221523476234149]
[null,null,null,null,null,null,null,null,null,null,5017,0.55162213201451205,0.53634231033874502,0.47850750824571697,0.985136196602582,0.38878218678757298,0.44489180266272799,0.30647774675262102,0.22541873721250799]
[null,null,null,null,null,null,null,null,null,null,5018,0.56385520563463498,0.55272439409715401,0.493308888873011,0.97132014824124202,0.39563032249228203,0.45653274399384602,0.31205041254589999,0.22878302340135401]
[null,null,null,null,null,null,null,null,null,null,5019,0.56849336208803303,0.55977670277283897,0.50012652579670003,0.95928851905457602,0.39884596773065301,0.46324678505411798,0.31582076387410302,0.232287067116521]
[null,null,null,null,null,null,null,null,null,null,5020,0.566574982554091,0.55777341599705799,0.49959002743099601,0.94869451485649203,0.40063398543942402,0.46602287828463002,0.31809938844222302,0.236816751584632]
[null,null,null,null,null,null,null,null,null,null,5021,0.56248898740714104,0.55129615069350002,0.495541667417356,0.94004361500596301,0.40314700172517198,0.46716178514037698,0.32045910628834401,0.24281738216043899]
[null,null,null,null,null,null,null,null,null,null,5022,0.56179775177776503,0.54653891753305905,0.49286248688275403,0.93437596267564904,0.40809802143369101,0.469271942795501,0.325385320600387,0.25027847197601999]
[null,null,null,null,null,null,null,null,null,null,5023,0.56791749556492399,0.54818061235466597,0.49524387566206002,0.93230098359620905,0.41707309498874201,0.47502513098370602,0.33447181019733002,0.25862283943858599]
[null,null,null,null,null,null,null,null,null,null,5024,0.57944674120144002,0.55652197620001298,0.50409469399198403,0.93310002553001403,0.430522718859848,0.48663862053711199,0.34793334794676101,0.26742920623737099]
[null,null,null,null,null,null,null,null,null,null,5025,0.58887361624590795,0.566173368296645,0.516622978122526,0.93413375692940603,0.44864746499892699,0.50320874090857404,0.364303228665874,0.27651998097054298]
[null,null,null,null,null,null,null,null,null,null,5026,0.59207564801688795,0.57350169523309302,0.53000026305340997,0.93522483359603303,0.46915672031213701,0.52276997339225595,0.38226478493298399,0.28640081257592298]
[null,null,null,null,null,null,null,null,null,null,5027,0.59162281914519599,0.57894181830701097,0.54229465323562898,0.93566074749482298,0.48882823323643898,0.54199023744876496,0.39959307765594199,0.296840064558128]
[null,null,null,null,null,null,null,null,null,null,5028,0.59546494761981394,0.58720918763983199,0.55458404634650704,0.93529476157672697,0.504043649855895,0.55911676505017605,0.41469720521880099,0.30723221907450299]
[null,null,null,null,null,null,null,null,null,null,5029,0.60845104397792904,0.60075099339884797,0.567475390858592,0.93252648083947598,0.51435971994840501,0.57315460368698401,0.42579102400646301,0.31643487702552697]
[null,null,null,null,null,null,null,null,null,null,5030,0.62884615870771499,0.61772178421817603,0.58051019498074996,0.92811161605716697,0.521818687979137,0.58465835058908,0.43446153938315402,0.32433302222983801]
[null,null,null,null,null,null,null,null,null,null,5031,0.65056307322906703,0.63367952211761303,0.59206356640014302,0.925214050715648,0.53021371789120897,0.59434727863752701,0.44285425426980002,0.33174303829506802]
[null,null,null,null,null,null,null,null,null,null,5032,0.66611840713651105,0.64291065723924201,0.59953411330744799,0.92579773652684105,0.54019973584694303,0.60254714296051903,0.45345482757022099,0.34039778786347402]
[null,null,null,null,null,null,null,null,null,null,5033,0.66955610288735901,0.641307367611063,0.60003323169298595,0.93021760693815703,0.549112309809481,0.60775551231314795,0.46588788778151302,0.350590796382175]
[null,null,null,null,null,null,null,null,null,null,5034,0.65781397040346901,0.62752677311891003,0.59208844586832898,0.93717675752723395,0.55334654721610899,0.60830214849537001,0.47838100668742101,0.362215000888997]
[null,null,null,null,null,null,null,null,null,null,5035,0.63400391914627396,0.60560037657228305,0.577626566112309,0.94349694250607397,0.55369061045189605,0.60392591372708804,0.48829599964091402,0.37411570174161302]
[null,null,null,null,null,null,null,null,null,null,5036,0.60601134204382401,0.58255785796634696,0.56198922713649202,0.946926005585502,0.55247194072358496,0.59740702193653294,0.49621844534904402,0.386538610722714]
[null,null,null,null,null,null,null,null,null,null,5037,0.57907886705714895,0.56195158870921602,0.54836172163908903,0.94759036102722904,0.55396503956556498,0.59137888725183596,0.50359405297358895,0.39982224502570701]
[null,null,null,null,null,null,null,null,null,null,5038,0.55256980540590395,0.54180500766206696,0.536242462881654,0.94741926300252,0.55904605647945604,0.58737455016800899,0.51345090706813701,0.41586919515072401]
[null,null,null,null,null,null,null,null,null,null,5039,0.52495347536852599,0.52076024848472002,0.52469085345497002,0.94867595275888095,0.57015670042005095,0.58671923242123203,0.52657386866953504,0.43476048086396502]
[null,null,null,null,null,null,null,null,null,null,5040,0.50321259809697705,0.505820236832215,0.51982808268218195,0.95297911542032598,0.58963060511631504,0.59532402301118903,0.54414997752640004,0.45500151078630702]
[null,null,null,null,null,null,null,null,null,null,5041,0.49933577523023498,0.50744362847780999,0.52976526620748998,0.95900507274520397,0.61975650776395197,0.61880838050115095,0.56538721174404005,0.473190135972546]
[null,null,null,null,null,null,null,null,null,null,5042,0.52069647668895902,0.53070760897684399,0.55837614966842897,0.96487071120738799,0.65563996131605295,0.65817419072558603,0.58897361957614702,0.48660949784401197]
[null,null,null,null,null,null,null,null,null,null,5043,0.56171590890675904,0.56872382359846596,0.59871621522709595,0.96986891919166596,0.68980527091141397,0.70434615549996804,0.610676150733932,0.49398332332638201]
[null,null,null,null,null,null,null,null,null,null,5044,0.60901995298702605,0.60952413845975795,0.639575149714809,0.97181096537820999,0.71505304552702897,0.74618913368170103,0.62795115262873602,0.49703590088737898]
[null,null,null,null,null,null,null,null,null,null,5045,0.64732859749583405,0.64079884959557099,0.66923800803881905,0.96965895527495705,0.72650347440400198,0.77296238991151101,0.63842435900163297,0.49718011813624502]
[null,null,null,null,null,null,null,null,null,null,5046,0.66553497378820803,0.65500494690077204,0.68119938836900296,0.96351224571653504,0.72268045766307398,0.78049585631158103,0.64116609190688001,0.49561897493093499]
[null,null,null,null,null,null,null,null,null,null,5047,0.66000587910790098,0.64994676397011097,0.67349775351026098,0.95459207565600102,0.70520832144193102,0.768196821211657,0.63493458920592905,0.49183944490879999]
[null,null,null,null,null,null,null,null,null,null,5048,0.63690255086655301,0.63058616440551296,0.65092446283774097,0.943646587529123,0.678484789771435,0.74094476024056899,0.62049509688011395,0.48599427911809001]
[null,null,null,null,null,null,null,null,null,null,5049,0.60931722763889395,0.60757152731062203,0.62336077688028702,0.93147079026347401,0.65124043782014296,0.70778391206837699,0.60077665764396404,0.47864785741143201]
[null,null,null,null,null,null,null,null,null,null,5050,0.59057780187066,0.59177456267028805,0.60151310382850898,0.91694771572353795,0.63139659603711995,0.67900062495017,0.58197373692960297,0.472221271433373]
[null,null,null,null,null,null,null,null,null,null,5051,0.58534125080174304,0.58752306838749602,0.59148588317702699,0.90086795535191599,0.62596256021324304,0.66294218610100397,0.57121343063680796,0.47030441074923002]
[null,null,null,null,null,null,null,null,null,null,5052,0.59265744857429203,0.59415039504309197,0.59452605368751399,0.886242430535363,0.63620345641853204,0.66358943050896402,0.57374614837361604,0.47496376019653203]
[null,null,null,null,null,null,null,null,null,null,5053,0.60830660275779402,0.60752890273763505,0.60730236604867005,0.878007479916458,0.66099098568092696,0.67974392720152099,0.59098248888425897,0.48668119341411198]
[null,null,null,null,null,null,null,null,null,null,5054,0.62754185816166297,0.62361536831389097,0.62526121757849096,0.87733781993666504,0.69288316908814795,0.70662550616508002,0.620109120439023,0.50292753762845399]
[null,null,null,null,null,null,null,null,null,null,5055,0.64563085673575105,0.63888940490556301,0.64343654593488897,0.88342793190476598,0.72429714183010196,0.73635450536320002,0.65260757737943198,0.51739343065856402]
[null,null,null,null,null,null,null,null,null,null,5056,0.66086760112044296,0.65258247160549998,0.66020491836571205,0.89279413542622699,0.74919435833076298,0.764623433456317,0.68091658401234201,0.52498376649747103]
[null,null,null,null,null,null,null,null,null,null,5057,0.67234522842622102,0.66306707922428199,0.67338229336785405,0.90316025498202002,0.76534593406263995,0.78651985088829202,0.69853791997673997,0.52318273687053396]
[null,null,null,null,null,null,null,null,null,null,5058,0.68259448831929204,0.67169578037086597,0.68475001294113402,0.91243813415803199,0.77615144811580605,0.80358491406522303,0.70747340714692097,0.51686631889794599]
[null,null,null,null,null,null,null,null,null,null,5059,0.69130392068619995,0.67755796040906002,0.69388069059976498,0.91783696695434802,0.78357322233606497,0.81611418020049897,0.712166205803754,0.51259024522674801]
[null,null,null,null,null,null,null,null,null,null,5060,0.69656659381193198,0.67927646438322198,0.69981381293680101,0.91178871691461705,0.79007519750106503,0.82514954575438804,0.71718936935003397,0.51562872393235404]
[null,null,null,null,null,null,null,null,null,null,5061,0.69429788881029197,0.67414815022534802,0.69970119223286797,0.88864471559927405,0.79339469097696602,0.82954229180907602,0.72495188641871799,0.52724940473418902]
[null,null,null,null,null,null,null,null,null,null,5062,0.67944944309887101,0.65827884597347297,0.688707325172211,0.85242556828821303,0.78943885625211696,0.82442853093031498,0.73191575433493905,0.54314483335496899]
[null,null,null,null,null,null,null,null,null,null,5063,0.65156744356374596,0.63206463041752503,0.66667577047693705,0.81727121236456302,0.77752632240598996,0.80886222736508895,0.73425466937602701,0.55821325469326899]
[null,null,null,null,null,null,null,null,null,null,5064,0.61910537104706598,0.60342925863890196,0.640849640711874,0.79638214132389695,0.76279038357950602,0.78799597214496098,0.72928286039735901,0.56766250716047995]
[null,null,null,null,null,null,null,null,null,null,5065,0.59459583517765102,0.58347241072353595,0.62276961287000898,0.794141853827111,0.756805794250209,0.77393890386823205,0.72332054277602997,0.57376098758762795]
[null,null,null,null,null,null,null,null,null,null,5066,0.58467068174216397,0.57712758672453102,0.61856454467833599,0.80303412940363705,0.764149701883444,0.77440452188612696,0.72577035700307202,0.58280466292795396]
[null,null,null,null,null,null,null,null,null,null,5067,0.585373999330145,0.58014847871893405,0.62447599814149202,0.81371203213686205,0.784774860543346,0.78718793468302595,0.74018627320364505,0.59827880345281603]
[null,null,null,null,null,null,null,null,null,null,5068,0.59123470496228203,0.58731973372808499,0.63527895373913701,0.82239206640174001,0.81229657156364099,0.80768763394994803,0.76577510291925499,0.62045561246241598]
[null,null,null,null,null,null,null,null,null,null,5069,0.598140299704224,0.59439996852867705,0.64600898815194496,0.83044689861870902,0.83816903520015495,0.82861057045820696,0.79425419052452295,0.64362607720562204]
[null,null,null,null,null,null,null,null,null,null,5070,0.60476662129550895,0.60077331691635905,0.65563113489902602,0.83997951052986697,0.85737028621609701,0.84644750898503096,0.81970836930390401,0.66424652377141502]
[null,null,null,null,null,null,null,null,null,null,5071,0.61029915096205101,0.60651109771356604,0.66337785373089497,0.85209592911564802,0.86711055488996902,0.858519435991835,0.837243143321592,0.67974697597834]
[null,null,null,null,null,null,null,null,null,null,5072,0.61493455121788598,0.61299470884920104,0.67038725955217404,0.86385364227143502,0.87453537716183005,0.86692941602539597,0.84776256591773103,0.69195395925714198]
[null,null,null,null,null,null,null,null,null,null,5073,0.62049692616985197,0.62180529865149703,0.67879062568818604,0.87258624053881095,0.88438582925004205,0.87681907199535802,0.85871536084954103,0.70527563185827302]
[null,null,null,null,null,null,null,null,null,null,5074,0.62411090295327198,0.62863430132377596,0.68555248018347903,0.87861285034764502,0.89516585216086497,0.88700765450282104,0.87224441611164205,0.71979140407153397]
[null,null,null,null,null,null,null,null,null,null,5075,0.62187684144880495,0.62891882689133904,0.68704971258154302,0.88317380384514999,0.90280605248155898,0.89359064700330304,0.88578201345825602,0.73160860026534802]
[null,null,null,null,null,null,null,null,null,null,5076,0.61276662383137404,0.62186989116535396,0.68215691540381396,0.88686323398296496,0.90146405764743998,0.89279613421710102,0.893788338334365,0.73578403004718496]
[null,null,null,null,null,null,null,null,null,null,5077,0.59734796021719905,0.60904955227436397,0.67110565585984805,0.88595354309785901,0.89030480883406904,0.88189927881096197,0.89155799897172205,0.73002494888429004]
[null,null,null,null,null,null,null,null,null,null,5078,0.57648153551053904,0.59166975375228004,0.65408730848046304,0.87626787119969696,0.87007983551600399,0.86007968352178399,0.87959110691493603,0.71808036099592298]
[null,null,null,null,null,null,null,null,null,null,5079,0.55272850677795005,0.57182339162374596,0.632764539946152,0.85864858677514899,0.84923490729229301,0.83148733947700104,0.86149697376090495,0.70584204934063799]
[null,null,null,null,null,null,null,null,null,null,5080,0.53241993405952104,0.55417073324844701,0.61260054441225997,0.83969460379195204,0.83784571058981405,0.80670026134895401,0.84853464563646697,0.70352713353908802]
[null,null,null,null,null,null,null,null,null,null,5081,0.52306727985202495,0.54496991689878704,0.600622521117542,0.82679302841084101,0.84047889520889296,0.79585435983521402,0.85038104782900203,0.71742834913279196]
[null,null,null,null,null,null,null,null,null,null,5082,0.52604199909573801,0.54576782540111501,0.59929821869134903,0.82150639415804705,0.85617266571045803,0.80082263295372402,0.86765131765244696,0.746044935256574]
[null,null,null,null,null,null,null,null,null,null,5083,0.53835537885747198,0.55508763681703699,0.60773101016476505,0.82139928779692495,0.88019857350606701,0.81881482119302296,0.89501606860382399,0.78179072772867697]
[null,null,null,null,null,null,null,null,null,null,5084,0.55524471182103396,0.56998215966028698,0.62303951748224495,0.82383162395357701,0.90854080608993604,0.84482439372264195,0.92432951582712497,0.81536391022586896]
[null,null,null,null,null,null,null,null,null,null,5085,0.57403255103932005,0.58804100358233602,0.64253780316104703,0.82834894816478,0.93413857396132505,0.87414540853260103,0.94995853490998605,0.84049541478457102]
[null,null,null,null,null,null,null,null,null,null,5086,0.59097768878915202,0.60479914433318205,0.66104193478615803,0.83318707230493505,0.95072215531071802,0.89982279509581298,0.96595162198971596,0.85349557939059895]
[null,null,null,null,null,null,null,null,null,null,5087,0.604601626773554,0.61758472303213996,0.67521800890984895,0.83396207662450195,0.95872577927536695,0.91734834316375502,0.97022125502050205,0.85472965874435403]
[null,null,null,null,null,null,null,null,null,null,5088,0.615939656577975,0.627060226452126,0.68564264341399495,0.83008049106539505,0.96270050750593095,0.92886405170339903,0.96822369714386702,0.85023142050487999]
[null,null,null,null,null,null,null,null,null,null,5089,0.62626575215483504,0.63482989227057596,0.69393211050484005,0.82450906110185396,0.96858493208353102,0.93786290446145804,0.96733805528540395,0.84700930705603295]
[null,null,null,null,null,null,null,null,null,null,5090,0.63594969465451101,0.64244578191620605,0.70198824418112904,0.82148354334880902,0.979174500796821,0.94803064445805396,0.97358376936905699,0.85024737429918296]
[null,null,null,null,null,null,null,null,null,null,5091,0.64553930161842399,0.65103193360567801,0.71137979043357802,0.82106324355597504,0.99505267827660004,0.96170512919130602,0.98802607109016105,0.86106412881151595]
[null,null,null,null,null,null,null,null,null,null,5092,0.65332947355633098,0.65830601062613203,0.72056272367107699,0.81862063817578901,1.01208271411722,0.97705264582422002,1.00737448025494,0.87743678762037902]
[null,null,null,null,null,null,null,null,null,null,5093,0.65594622900079902,0.66033423619937803,0.72564089676148602,0.81268985055043097,1.02290774049698,0.988800187557213,1.02645237634079,0.89651947280686095]
[null,null,null,null,null,null,null,null,null,null,5094,0.64836154688768799,0.65304667681357997,0.72169145069864604,0.807221820880064,1.0222965146068299,0.98947300372344904,1.0368670071167301,0.91194068900899805]
[null,null,null,null,null,null,null,null,null,null,5095,0.63227020612450402,0.64021434495657603,0.71175368224998203,0.80899832325004095,1.0118578725999801,0.98029670031943394,1.0349494691330301,0.91772896508695201]
[null,null,null,null,null,null,null,null,null,null,5096,0.61211605764000598,0.62668560925949601,0.70037537911403203,0.81965409785978105,0.99825947013737604,0.96577548990529105,1.0232407452733401,0.91382874085093002]
[null,null,null,null,null,null,null,null,null,null,5097,0.59255952236241005,0.61517255791180003,0.69091654722194096,0.83444783312147897,0.98816944973288501,0.95027635929382204,1.0096680944101399,0.90647930981754299]
[null,null,null,null,null,null,null,null,null,null,5098,0.57604008385311101,0.60479124328016998,0.68297473743494896,0.84520554784669299,0.98630853454738698,0.93726523743854495,1.00240500149815,0.903390269199423]
[null,null,null,null,null,null,null,null,null,null,5099,0.56615081454845595,0.59639153274510603,0.67679283399993795,0.84588018390975195,0.992490332994581,0.92759141306830695,1.00482402058033,0.90571753855718895]
[null,null,null,null,null,null,null,null,null,null,5100,0.56628218816638198,0.59314525492704395,0.67435431390081302,0.83745454825917698,1.0038049343197999,0.92305726774879904,1.0135772134788701,0.90689733269737205]
[null,null,null,null,null,null,null,null,null,null,5101,0.57543027965450999,0.59584625517249801,0.67626481047350395,0.82448066454819702,1.0152212861473799,0.92494527307710495,1.02362459593786,0.90125754954647697]
[null,null,null,null,null,null,null,null,null,null,5102,0.58641407721330496,0.60037532198417698,0.67920486245036205,0.81269569774306405,1.0222106008223,0.93198758841263096,1.0302557790975999,0.88802846141130798]
[null,null,null,null,null,null,null,null,null,null,5103,0.59229848470184099,0.60248653153699205,0.68013706592467305,0.80494515454702997,1.02528696140943,0.94254172943714298,1.0345635425670201,0.87467841381886102]
[null,null,null,null,null,null,null,null,null,null,5104,0.59133210954942295,0.60112005501508803,0.67813954125053399,0.80090082043727195,1.0235105768753101,0.95252604506594296,1.0381688564764,0.86761048564913701]
[null,null,null,null,null,null,null,null,null,null,5105,0.58585534518781301,0.59747883032679305,0.67368739669731803,0.80065173563797698,1.0163148511575399,0.95670352920818902,1.0401870730765399,0.86774199397623797]
[null,null,null,null,null,null,null,null,null,null,5106,0.57744188736199198,0.59206969702248202,0.666653675494008,0.80363429958016497,1.00664478718801,0.95218469901554303,1.0392295445158299,0.87181332362348396]
[null,null,null,null,null,null,null,null,null,null,5107,0.56935760851702499,0.58770389725700301,0.66041238740370201,0.809748686363161,0.996993801192818,0.94352776509513803,1.0356341935023301,0.87386158819010096]
[null,null,null,null,null,null,null,null,null,null,5108,0.56265365931584299,0.58439377423577099,0.65559640555006105,0.81805931254481901,0.98971801707157303,0.934441390105337,1.0306150656139199,0.87097665939143798]
[null,null,null,null,null,null,null,null,null,null,5109,0.559046061027903,0.58288610183827805,0.65344856515285998,0.82776338975027697,0.98859894369311596,0.92923540739671295,1.0280357458988301,0.86699053585963703]
[null,null,null,null,null,null,null,null,null,null,5110,0.55919014163001701,0.58308908456198505,0.65424892530054801,0.83811098428210196,0.99714117855085405,0.93182792807424197,1.0337565310967101,0.87173371719870096]
[null,null,null,null,null,null,null,null,null,null,5111,0.56342250393774196,0.58563971353391797,0.65850859090219904,0.84850836504435101,1.0189608539258701,0.94372853512560995,1.05282866307101,0.89385679153159003]
[null,null,null,null,null,null,null,null,null,null,5112,0.57262821405999798,0.59339832746930998,0.66860783775270805,0.85967874273101996,1.0551018286867599,0.96678203718241196,1.0870764883600099,0.93375746346333799]
[null,null,null,null,null,null,null,null,null,null,5113,0.58818603540546799,0.60873343356152598,0.68692277637877097,0.87304906612602595,1.1009907030542001,1.0009992005522299,1.13363654508871,0.98422981332932502]
[null,null,null,null,null,null,null,null,null,null,5114,0.60854750568518901,0.62972326466777995,0.71139411314296996,0.88981070214915303,1.1496050131311699,1.0418868596278299,1.1845639611944401,1.03497458833435]
[null,null,null,null,null,null,null,null,null,null,5115,0.63034400105558497,0.65186239483484798,0.73734391659948795,0.90953144784518902,1.19479842755286,1.0835167466103199,1.2338766025166701,1.0816239778296901]
[null,null,null,null,null,null,null,null,null,null,5116,0.64840618013963802,0.66907752346518201,0.75796013763064196,0.92963657241271203,1.2304786148603799,1.11823682387526,1.2771285190163599,1.1241504486685101]
[null,null,null,null,null,null,null,null,null,null,5117,0.65840189874022503,0.67725922937479199,0.76818097132065699,0.94615653315138004,1.2521854096130101,1.13984598292251,1.3123848495844599,1.1641540009947]
[null,null,null,null,null,null,null,null,null,null,5118,0.65746604337083903,0.67432338806466496,0.76579955525257004,0.954790814322662,1.25785125825408,1.1451335453759099,1.3384544674897101,1.20107600624208]
[null,null,null,null,null,null,null,null,null,null,5119,0.64553996329102203,0.66126241885938497,0.752503243469684,0.95392274703656699,1.2489793779052001,1.13544279276876,1.3532562958816099,1.2309762177118899]
[null,null,null,null,null,null,null,null,null,null,5120,0.62469871373435004,0.640639240370662,0.73202002019608203,0.94372016747867304,1.2275933137610899,1.11501892234077,1.35487950293116,1.24804273213169]
[null,null,null,null,null,null,null,null,null,null,5121,0.59811332638168802,0.61564438574372704,0.707958030268515,0.92577291808029105,1.1992397736968601,1.0881030661879101,1.34246877800886,1.2482000915193101]
[null,null,null,null,null,null,null,null,null,null,5122,0.57013984980242405,0.59007801034109597,0.68397322577267905,0.90546139815482796,1.1704676554393201,1.0594089987122599,1.3204225177836799,1.23353894954419]
[null,null,null,null,null,null,null,null,null,null,5123,0.54573122008873598,0.56810860040340005,0.66343090626051104,0.89034674062816999,1.1511796885632599,1.03451541697856,1.2985335793299799,1.2152957607156001]
[null,null,null,null,null,null,null,null,null,null,5124,0.53068977374434201,0.55476564035995102,0.65040804822421805,0.88269037695160901,1.14283966668307,1.0191754959527199,1.2859749744057201,1.20475512372947]
[null,null,null,null,null,null,null,null,null,null,5125,0.52624253590052905,0.55070683195709602,0.64465428464513097,0.87916841313320604,1.1415908930404599,1.0124229857207301,1.28335646379683,1.20618481185316]
[null,null,null,null,null,null,null,null,null,null,5126,0.52832205071312,0.55205415275970404,0.64270040228029601,0.87496896178470196,1.14511207319217,1.00996609353962,1.2874842225115,1.21864943110229]
[null,null,null,null,null,null,null,null,null,null,5127,0.53168005640258198,0.55414351932087502,0.64189271135234205,0.86967799260427903,1.1568733694367599,1.0109837247325399,1.2993879277320399,1.24426916932399]
[null,null,null,null,null,null,null,null,null,null,5128,0.53441631020884806,0.55579450442115497,0.64336439155619496,0.867356554523255,1.1810920862046901,1.0198897877403801,1.32442376157533,1.2865519962547201]
[null,null,null,null,null,null,null,null,null,null,5129,0.54008750821099905,0.56132214119216906,0.65180193841826595,0.869235466839125,1.21664022888226,1.0418038940450101,1.36379921109457,1.3413297793550201]
[null,null,null,null,null,null,null,null,null,null,5130,0.55317239519378203,0.57487992011884304,0.66999513915994802,0.87102571541065299,1.25343874530166,1.07495395739394,1.40877544999086,1.39356384943829]
[null,null,null,null,null,null,null,null,null,null,5131,0.57298795558247695,0.59511323461106203,0.69486860220080704,0.86762823427893698,1.2832784903663199,1.11048410616719,1.44470678046217,1.4250898203632001]
[null,null,null,null,null,null,null,null,null,null,5132,0.595368281143139,0.61723175935597996,0.72085056774571299,0.85885876958512297,1.30283384078854,1.1413837189832701,1.46388433798162,1.42937839946329]
[null,null,null,null,null,null,null,null,null,null,5133,0.61576748875339904,0.63717469131283599,0.743396939846802,0.84837625924836602,1.3131040258909501,1.16480781752679,1.46733190670742,1.4125526248310201]
[null,null,null,null,null,null,null,null,null,null,5134,0.63029213285280905,0.65179028720385002,0.75907538785541195,0.84194504518611302,1.3132505788369599,1.17924056215962,1.4598398201888501,1.3856636891815499]
[null,null,null,null,null,null,null,null,null,null,5135,0.63747506575280499,0.66084447439790694,0.76745924650960295,0.84455642135898101,1.3040171113499499,1.1846270687687299,1.4443745580146601,1.3576960186467]
[null,null,null,null,null,null,null,null,null,null,5136,0.63720128106166196,0.66359117638313203,0.76817289475058004,0.85721878678928798,1.2823590594468901,1.1792000770903801,1.4209647413076101,1.33174203354509]
[null,null,null,null,null,null,null,null,null,null,5137,0.62889448753187904,0.65885652071491096,0.76022559942118395,0.87716418110092398,1.25333467872161,1.16196051868654,1.3887848303250301,1.3082412470187601]
[null,null,null,null,null,null,null,null,null,null,5138,0.61711361554449595,0.65013892756717495,0.74777311299798599,0.89950350667783396,1.2286294766275301,1.1398468919704501,1.35515491164879,1.28955921947338]
[null,null,null,null,null,null,null,null,null,null,5139,0.60854895737821901,0.64317797701020896,0.73797522483237099,0.91932718307108097,1.2149881789072901,1.1236730243487001,1.3309855882435599,1.2798893564179401]
[null,null,null,null,null,null,null,null,null,null,5140,0.60433312926764804,0.638213047907919,0.73197887157224095,0.93457673068102198,1.2073122666476599,1.11418523294793,1.3190307558747301,1.27877239544788]
[null,null,null,null,null,null,null,null,null,null,5141,0.60045560137986198,0.632143620596058,0.72612785764142296,0.94551410295306104,1.1990505883123399,1.1061894613822401,1.31354744678883,1.2811138259178201]
[null,null,null,null,null,null,null,null,null,null,5142,0.59366306476074704,0.62243141028375404,0.71664764029002903,0.95183641348304804,1.1872424389513301,1.09503955094582,1.3087583220347001,1.28333139471246]
[null,null,null,null,null,null,null,null,null,null,5143,0.58466033362917902,0.61007113288821202,0.70396101626850605,0.95384662325916103,1.17591441855072,1.08207982904355,1.30422278662172,1.28606633506294]
[null,null,null,null,null,null,null,null,null,null,5144,0.575826679472495,0.59772571997018997,0.69097919089062798,0.95358636439831901,1.16745870367463,1.07078639513205,1.30356418486272,1.29356844416684]
[null,null,null,null,null,null,null,null,null,null,5145,0.56877501073360304,0.58778530256436601,0.68049107217030402,0.95419090267636197,1.1634161799703,1.0628285403855,1.3070832656609701,1.3063966738373201]
[null,null,null,null,null,null,null,null,null,null,5146,0.56334089861731795,0.58153972506320795,0.67414481959926298,0.95747563759786303,1.1646151173831401,1.0588031404368601,1.3152277698050501,1.32424693428253]
[null,null,null,null,null,null,null,null,null,null,5147,0.55996174269749899,0.57971891128919995,0.672545572460437,0.96417918453460305,1.1707514768618901,1.05908984079529,1.32771940269898,1.3457117521150299]
[null,null,null,null,null,null,null,null,null,null,5148,0.55908835276699798,0.58082446743061,0.67376750502307903,0.97258599527008605,1.17464524417498,1.0616359969856499,1.3427527204497001,1.36772294147122]
[null,null,null,null,null,null,null,null,null,null,5149,0.55692743515656795,0.57838657895413403,0.67062023702733198,0.97844689388921502,1.16622498095806,1.0565696762757699,1.35112464467483,1.38239708882437]
[null,null,null,null,null,null,null,null,null,null,5150,0.54982670944163003,0.56801441268095498,0.65830749374064301,0.97717507258396297,1.14861065177261,1.0388859558052299,1.3461791286031299,1.38337102179467]
[null,null,null,null,null,null,null,null,null,null,5151,0.53960029087940298,0.55328789151200897,0.64184452032233696,0.969120380758272,1.13828077283629,1.01907544915477,1.33762502390528,1.37926392563321]
[null,null,null,null,null,null,null,null,null,null,5152,0.53103860396418201,0.54168645871407595,0.63087743498944204,0.96124408512523596,1.15350342669356,1.01393786799806,1.34461431799431,1.38742943761335]
[null,null,null,null,null,null,null,null,null,null,5153,0.53180267736214004,0.542913289148647,0.63643600205384698,0.96184335324071402,1.20197719309119,1.0379873052111099,1.3818545209297,1.4205771630997299]
[null,null,null,null,null,null,null,null,null,null,5154,0.54643806410307705,0.56109741864868601,0.66175537755033198,0.97328941187917795,1.27337526960585,1.0900588527050501,1.44619359213281,1.47475976839529]
[null,null,null,null,null,null,null,null,null,null,5155,0.57403382506622203,0.59360620081895099,0.70191549696046895,0.99150586834514298,1.3520056503392599,1.1576765550789201,1.5217100501608001,1.53614123944226]
[null,null,null,null,null,null,null,null,null,null,5156,0.60877012507855699,0.63269584756861397,0.74746940318180799,1.00831278231916,1.42139745868807,1.2259644343482601,1.5945127718753001,1.59464294302521]
[null,null,null,null,null,null,null,null,null,null,5157,0.64019985980039296,0.66679766790279105,0.78607436626763005,1.0180049249955201,1.4711892693447499,1.2799419416446001,1.65463132845788,1.6461430201459499]
[null,null,null,null,null,null,null,null,null,null,5158,0.66143444318358402,0.68978916632829901,0.81143430801604199,1.0168281839504401,1.5014259582944001,1.3142030785496801,1.69974862488944,1.6903102863203801]
[null,null,null,null,null,null,null,null,null,null,5159,0.67220561932873402,0.70228185068759197,0.82480851480432005,1.0080272177349401,1.5180267357897499,1.33249867593745,1.73313461731352,1.7282627001078501]
[null,null,null,null,null,null,null,null,null,null,5160,0.67482429558138302,0.70710508921618198,0.83012810626203004,0.99509814395880603,1.5253913778728301,1.3414706502004099,1.7589939031328099,1.76139950338284]
[null,null,null,null,null,null,null,null,null,null,5161,0.67031992738680102,0.704231628249532,0.82787975292231097,0.98176931191142303,1.51742416137578,1.34042356809204,1.7738858768999299,1.7848208502726599]
[null,null,null,null,null,null,null,null,null,null,5162,0.65657902304451898,0.69079767166261397,0.81408791924076795,0.96974848494980903,1.47888038276653,1.31988586979225,1.7639049314831901,1.7841158290250101]
[null,null,null,null,null,null,null,null,null,null,5163,0.63006622864335904,0.66268209737212203,0.78178507783201301,0.95944194613518496,1.3863806820361799,1.2644832968425299,1.7064341722706899,1.73270258656036]
[null,null,null,null,null,null,null,null,null,null,5164,0.587502451060123,0.61583328386555003,0.72293144599187298,0.95157330861003397,1.22296898052992,1.1573917561195,1.57233815420011,1.59418411359346]
[null,null,null,null,null,null,null,null,null,null,5165,0.53261168780202295,0.55298592504983002,0.63743717525025401,0.94614966073237095,0.99668184708625696,0.99604805140656405,1.34680694022228,1.34979941986954]
[null,null,null,null,null,null,null,null,null,null,5166,0.475191485619812,0.48399408086356599,0.53587191136386103,0.943950131950686,0.74669666995501505,0.79973231482430296,1.0508797014993101,1.0258589398802]
[null,null,null,null,null,null,null,null,null,null,5167,0.42988864310750602,0.42493407246278098,0.43880489316946902,0.94723786481521,0.52654037567767298,0.60804836943328,0.74360372175645495,0.69189697295264296]
[null,null,null,null,null,null,null,null,null,null,5168,0.40704778147014198,0.38812735809590898,0.36611759380860898,0.95519908111329399,0.37248506871155102,0.45967157069554099,0.490556319536531,0.42039838760217502]
[null,null,null,null,null,null,null,null,null,null,5169,0.40310640390241997,0.37247046927560501,0.32449095899042801,0.963239086067048,0.28752008478294,0.369277729114522,0.32541557763609402,0.245918464013715]
[null,null,null,null,null,null,null,null,null,null,5170,0.40354137290769199,0.36643297062008701,0.30693173318872002,0.964774492346686,0.25271528705743901,0.32706890125874399,0.24097867961137401,0.157805750122226]
[null,null,null,null,null,null,null,null,null,null,5171,0.39866736353394999,0.361527821954989,0.30301999440817301,0.95775917034977098,0.244910476579139,0.31454100014924602,0.20986899539244899,0.124838898046706]
[null,null,null,null,null,null,null,null,null,null,5172,0.39249622342181001,0.358969043083882,0.30519973497616498,0.946850818428004,0.248707888010164,0.31547775547539703,0.20494941526340801,0.119276971538056]
[null,null,null,null,null,null,null,null,null,null,5173,0.39850372742759399,0.366784715083186,0.31213963914371101,0.94015369627058099,0.25640569126431501,0.32295716668713498,0.20923540241140701,0.123061435359473]
[null,null,null,null,null,null,null,null,null,null,5174,0.424132937313425,0.38936694415444401,0.32500303155749799,0.94153252299546397,0.26596430619168698,0.33494995157364899,0.21458263614383699,0.127534133486402]
[null,null,null,null,null,null,null,null,null,null,5175,0.46296736769379399,0.42144091497145197,0.34300547100082701,0.94932268612103599,0.27638553093430102,0.350935226266745,0.220393084534102,0.13171406985241901]
[null,null,null,null,null,null,null,null,null,null,5176,0.50006914715847905,0.45123695781177797,0.361619733063545,0.96109439950126596,0.28600332813158802,0.36792823476494602,0.22703630526516599,0.135826010988225]
[null,null,null,null,null,null,null,null,null,null,5177,0.52433733742162802,0.46993107810165602,0.37630128578636901,0.97540410932652399,0.29437341324780403,0.38328968203875902,0.23456141156909599,0.140299221994234]
[null,null,null,null,null,null,null,null,null,null,5178,0.53102460747756097,0.474048458478526,0.3847757419724,0.99072051331700095,0.301816205196481,0.395455922093435,0.242628272109772,0.14541511261739101]
[null,null,null,null,null,null,null,null,null,null,5179,0.52002691242049004,0.46445806800200501,0.38716454279936602,1.0036904934070201,0.30930873727900798,0.40440288336485702,0.25084870221546601,0.151333065519313]
[null,null,null,null,null,null,null,null,null,null,5180,0.49478605686277599,0.44506171273277201,0.38557781661683499,1.00922183771409,0.31700503339505498,0.41098962197491401,0.25912465733519302,0.15808077753849201]
[null,null,null,null,null,null,null,null,null,null,5181,0.46131798925474798,0.421088911284627,0.38248253207688099,1.0053506689418701,0.32490661564182099,0.41594601389338998,0.267461964318496,0.165502699462061]
[null,null,null,null,null,null,null,null,null,null,5182,0.43110244109901702,0.401605315758646,0.38195315608381403,0.99790876337982304,0.33354600357679898,0.42158259270748399,0.27627046357141999,0.173272521808605]
[null,null,null,null,null,null,null,null,null,null,5183,0.41883950930818198,0.39752556884954598,0.38862013687640301,0.99432446541561204,0.34385200425902301,0.43125168359833399,0.28599921981633197,0.181032195522011]
[null,null,null,null,null,null,null,null,null,null,5184,0.43624088250728799,0.41700948278835098,0.40568205039886401,0.99965785462503998,0.35643988324443698,0.44729513235836699,0.29682730921758099,0.188704758538116]
[null,null,null,null,null,null,null,null,null,null,5185,0.48286759942048402,0.45853058173142203,0.43191970736908097,1.0135205892278301,0.37078523555248499,0.46912710572608901,0.30830002821458502,0.19638290114986001]
[null,null,null,null,null,null,null,null,null,null,5186,0.54287744451764997,0.50926897283374195,0.460907708118516,1.0287070089003201,0.38510421049565902,0.49248511783448501,0.31966769675330903,0.204333432129923]
[null,null,null,null,null,null,null,null,null,null,5187,0.59617299904493504,0.55385809932136398,0.485082517696035,1.03596822498273,0.39774919376756901,0.512689203683519,0.33051264240526701,0.212907670389895]
[null,null,null,null,null,null,null,null,null,null,5188,0.62999747875025502,0.58232214966126905,0.49944791148550799,1.03118318732738,0.40781524666374203,0.52664565046309098,0.34071628847806901,0.222395181415001]
[null,null,null,null,null,null,null,null,null,null,5189,0.641141862012375,0.59191238988082695,0.50226240834931202,1.0147737100321199,0.41451289140992997,0.53308941196353699,0.35035126348562801,0.232800370678791]
[null,null,null,null,null,null,null,null,null,null,5190,0.63046387687602501,0.58324175733712802,0.49364452601019598,0.99223836711880797,0.418264803447425,0.53146295009948497,0.35930388698071097,0.2441337937077]
[null,null,null,null,null,null,null,null,null,null,5191,0.60382682710159497,0.56211607313828404,0.47799981291692001,0.97185701570142302,0.42168375419736598,0.52525085331431498,0.36826997562689401,0.25645629780860002]
[null,null,null,null,null,null,null,null,null,null,5192,0.57499775231944605,0.54117763941356101,0.46454332384633501,0.96241818116112399,0.42846072587662398,0.52183594458464799,0.37877499808841097,0.269369612351886]
[null,null,null,null,null,null,null,null,null,null,5193,0.55801597290696103,0.53235462282892898,0.46192377218101799,0.96627074078219999,0.44136033873987501,0.52822956310594604,0.39207659536072098,0.28243788960048699]
[null,null,null,null,null,null,null,null,null,null,5194,0.56012339991355697,0.54166875617602805,0.47444374750373902,0.97890001633316204,0.460523118539369,0.54749524081080903,0.40836391257261001,0.29542226954010398]
[null,null,null,null,null,null,null,null,null,null,5195,0.57874903975531899,0.56581316336839604,0.49941158283479897,0.994143028862989,0.482955474335658,0.57676869135381104,0.42650380373822,0.30804709584689599]
[null,null,null,null,null,null,null,null,null,null,5196,0.60493378080317695,0.59528261691697404,0.52858185202438701,1.0087995144384501,0.50354163818418096,0.60811388892129004,0.44390032201565099,0.31948312093243297]
[null,null,null,null,null,null,null,null,null,null,5197,0.63100318179706105,0.62144369354437501,0.55352494078415704,1.02272095482474,0.51815932981809698,0.63324695458441405,0.45789356092905797,0.32808333808252199]
[null,null,null,null,null,null,null,null,null,null,5198,0.65043018442002898,0.63820635584780505,0.568759434949628,1.03477215295672,0.52512403227566695,0.64723081194847099,0.46651045925908502,0.33277226266763998]
[null,null,null,null,null,null,null,null,null,null,5199,0.65877302304408203,0.64338741260403298,0.573067917276741,1.0406466961121601,0.52435982918325796,0.64962726124317804,0.46955666685532099,0.33343546220987202]
[null,null,null,null,null,null,null,null,null,null,5200,0.65432275686602004,0.63757424815994901,0.56748514942630601,1.0399669299320899,0.51729152920497001,0.64247325139026901,0.467347652783832,0.33099917729940898]
[null,null,null,null,null,null,null,null,null,null,5201,0.63830760800616804,0.62274683750958304,0.55366537556343898,1.03546094097299,0.50393377474680301,0.62728329480825396,0.46007182951473502,0.32566311126733299]
[null,null,null,null,null,null,null,null,null,null,5202,0.61144423554098803,0.59967590400597304,0.53183661723057596,1.03148826079635,0.4848236069579,0.60398191486220598,0.44769345413241501,0.31751333580083801]
[null,null,null,null,null,null,null,null,null,null,5203,0.57355722888779903,0.56779365666436998,0.50262731488775203,1.0295371265865501,0.46233607066514498,0.57348481704221599,0.43116356632122799,0.30707284644812899]
[null,null,null,null,null,null,null,null,null,null,5204,0.52832567747562997,0.53027040446451201,0.47012705590185799,1.03145637399445,0.44252681344650502,0.54125408941159803,0.41402894817359598,0.29697333880404198]
[null,null,null,null,null,null,null,null,null,null,5205,0.48350187632305502,0.49269899818408802,0.440328795956209,1.0366766005568799,0.43100261994832101,0.51468793459980999,0.40139659257904498,0.290978196246578]
[null,null,null,null,null,null,null,null,null,null,5206,0.447299784621702,0.46168763415589598,0.41904300431499403,1.0443468672642,0.43028825571629398,0.50004233733090897,0.39717335136606702,0.292025339832094]
[null,null,null,null,null,null,null,null,null,null,5207,0.42660430527842502,0.44262880115806702,0.40951008888124002,1.0547763322038,0.438109699018917,0.49875859178801402,0.40219431455010901,0.30020228113992198]
[null,null,null,null,null,null,null,null,null,null,5208,0.42400061722768301,0.43813372485747198,0.41141945132061802,1.0681011197513699,0.45146757594647602,0.50828419466813202,0.41378635085177001,0.313196419191068]
[null,null,null,null,null,null,null,null,null,null,5209,0.44261081404046898,0.45229439021624601,0.425828264290389,1.0832960913810199,0.47012176030748298,0.52792269341669495,0.42988551935455499,0.32842279208421399]
[null,null,null,null,null,null,null,null,null,null,5210,0.48280299376993702,0.48746603586905801,0.45420856111010299,1.0956405917515299,0.49484374562686101,0.55873964479909299,0.44970741034918299,0.34448744840971302]
[null,null,null,null,null,null,null,null,null,null,5211,0.53850768316516395,0.53947460140395898,0.49439261276271401,1.09963534573426,0.52297548243256298,0.59836520386631697,0.472146548465052,0.36007217511672501]
[null,null,null,null,null,null,null,null,null,null,5212,0.59660827363753199,0.59676988661883301,0.53857450720645905,1.0962928706485799,0.549565093968716,0.64015787274979796,0.49416726207095601,0.37410525371176701]
[null,null,null,null,null,null,null,null,null,null,5213,0.64295295388685103,0.64511687715622401,0.57651895619468196,1.0927955328321,0.56916676956901702,0.67467341048379204,0.51183829958039295,0.38548848140860598]
[null,null,null,null,null,null,null,null,null,null,5214,0.67184888075870497,0.67736069933392196,0.60244740446073297,1.09485152123978,0.58024263571770196,0.69749260677444203,0.52344625898683395,0.394477783830741]
[null,null,null,null,null,null,null,null,null,null,5215,0.68517211131783995,0.69355168700287395,0.61638276261750202,1.09992676444523,0.585635776348852,0.70947222748203398,0.529915384391483,0.401848029402051]
[null,null,null,null,null,null,null,null,null,null,5216,0.692275929378249,0.70171576754659604,0.62427450028535503,1.10176507382643,0.59028590260140401,0.71680013216318705,0.53443752464913397,0.408931574709468]
[null,null,null,null,null,null,null,null,null,null,5217,0.70123682051008696,0.70862624484018899,0.63117088310580305,1.0982766599273199,0.59676208483917503,0.72397715919881001,0.53953417515296298,0.41650217476294499]
[null,null,null,null,null,null,null,null,null,null,5218,0.71361239699161905,0.71646705456651605,0.63883876200741296,1.09500952545708,0.60669512275452897,0.73312012372867597,0.54667084740129401,0.425407614250844]
[null,null,null,null,null,null,null,null,null,null,5219,0.72615778779914297,0.72386540207508498,0.64684141441797305,1.0986239169643699,0.61978865382578696,0.74481366201457,0.55744782130399595,0.43680760610569502]
[null,null,null,null,null,null,null,null,null,null,5220,0.732655703410933,0.72691630085738801,0.65252281719371696,1.1089034755743199,0.63371240921340399,0.75696567566593798,0.57146731976235099,0.45049148959181701]
[null,null,null,null,null,null,null,null,null,null,5221,0.72806493682540696,0.72126116772069004,0.65229860127588102,1.11832906942678,0.64341932840532501,0.76480466263630298,0.58631739321148202,0.46478582083679998]
[null,null,null,null,null,null,null,null,null,null,5222,0.707808317473966,0.70178689255002802,0.64134971096540605,1.1155670218499401,0.64323208528021703,0.760734606879099,0.597149375472668,0.47669349968695801]
[null,null,null,null,null,null,null,null,null,null,5223,0.67277740781949702,0.66948208745630899,0.61918465464277295,1.09440102561895,0.63373123267914599,0.74217365749210196,0.59997229682324005,0.48340543575114697]
[null,null,null,null,null,null,null,null,null,null,5224,0.63098557097872199,0.63322257105354496,0.592696289626093,1.05787252203368,0.62287290751103996,0.71716873987377605,0.59633151536562501,0.48523697595719301]
[null,null,null,null,null,null,null,null,null,null,5225,0.59493116889423103,0.60598727821021403,0.57339502479715199,1.0169619262696299,0.62326007653314397,0.70036378306115799,0.59273931363068799,0.48485768096384102]
[null,null,null,null,null,null,null,null,null,null,5226,0.57979822862730301,0.60098812714894601,0.57363677472691199,0.98492502972408802,0.64346020096116896,0.70773544953048395,0.59747975509838103,0.484596802000342]
[null,null,null,null,null,null,null,null,null,null,5227,0.59276677628933605,0.62201289707976304,0.59773817989761102,0.97120505191718298,0.68315338486285304,0.74431178337340498,0.61452634164827502,0.48474280884014498]
[null,null,null,null,null,null,null,null,null,null,5228,0.62901746085014698,0.66194721424615399,0.63974548262718101,0.976143348739549,0.73246337670413797,0.80217588879651602,0.64188600194382495,0.48429653200779799]
[null,null,null,null,null,null,null,null,null,null,5229,0.67332067857766198,0.70605267365778901,0.68584068391677899,0.99234126085732899,0.77785824945489002,0.86400508749911398,0.67295996554062198,0.48328421889795597]
[null,null,null,null,null,null,null,null,null,null,5230,0.70775985316653101,0.73922668972359096,0.72122158836494399,1.0104919103065499,0.80912985393398995,0.91171820828209005,0.70047269120220801,0.48329858252198499]
[null,null,null,null,null,null,null,null,null,null,5231,0.72231663333745399,0.75379889214247098,0.73791378799515095,1.0241803646701,0.82474221488403499,0.93631557041926805,0.72066187007244698,0.48671657130733798]
[null,null,null,null,null,null,null,null,null,null,5232,0.71943550426302705,0.752320330873399,0.73801672972035703,1.0323990570375301,0.82982609882760305,0.94040347428304005,0.733547443856996,0.494214175924031]
[null,null,null,null,null,null,null,null,null,null,5233,0.71130596790794998,0.74512427369549505,0.73127495753639404,1.0372180730204901,0.83230608439405196,0.93546226043665903,0.74203602488282505,0.50520811628375195]
[null,null,null,null,null,null,null,null,null,null,5234,0.71020142971132805,0.74253231299035405,0.72724254092738605,1.03985895722794,0.83586601977321195,0.93237404149275205,0.74911984075078497,0.51832156573565202]
[null,null,null,null,null,null,null,null,null,null,5235,0.721978049731134,0.74950995390140196,0.73005242956198102,1.0415501887059699,0.83849725472691605,0.93511537270045497,0.75509020741046295,0.53131856747027095]
[null,null,null,null,null,null,null,null,null,null,5236,0.74153325138678405,0.76186977191394301,0.73497698637464504,1.04272100561203,0.83336546014929502,0.93741025733947003,0.75695257237315094,0.54162063387460302]
[null,null,null,null,null,null,null,null,null,null,5237,0.75773841298160904,0.76978714685787397,0.73299887602835101,1.04375940363112,0.81423091452726304,0.92835250414725901,0.75040768865876994,0.547298194479934]
[null,null,null,null,null,null,null,null,null,null,5238,0.76420914507424598,0.76834657871491097,0.71936398149772296,1.0444122761352499,0.77957677225729305,0.90190025954130004,0.73167981508976598,0.54587286631191601]
[null,null,null,null,null,null,null,null,null,null,5239,0.76377841037529703,0.76059407472554796,0.69782405930982505,1.04530245071738,0.73630732697516099,0.86191798841744804,0.70099345060215701,0.536422851000254]
[null,null,null,null,null,null,null,null,null,null,5240,0.76364118134268999,0.75365420475804101,0.67765097501318206,1.04643254285368,0.69705723709808198,0.82098336182800302,0.664553987130728,0.52122309737973205]
[null,null,null,null,null,null,null,null,null,null,5241,0.76886729300078105,0.75287113167281305,0.66733086538456998,1.0476301907094501,0.67255863232032298,0.79320893611753895,0.63303340961424204,0.50621141436554196]
[null,null,null,null,null,null,null,null,null,null,5242,0.77742355849465805,0.75652207442404296,0.66718875066999195,1.04713556230336,0.66321418595072901,0.782459018986425,0.61386839989664199,0.49626043709619999]
[null,null,null,null,null,null,null,null,null,null,5243,0.78295412300164902,0.75818436186661098,0.66999677194546003,1.0422015828306099,0.661339058837355,0.78152155684274804,0.60716179784859803,0.49288661782006499]
[null,null,null,null,null,null,null,null,null,null,5244,0.77670578109038002,0.74888074228142998,0.664869995102499,1.0305444510799799,0.65578783496750004,0.77570874569657,0.60615496482188302,0.49260978610064599]
[null,null,null,null,null,null,null,null,null,null,5245,0.75285185302148006,0.72336088826733902,0.645123201323764,1.0138407352991401,0.64305546874189901,0.75551930136764101,0.60352839722198104,0.49154492875488498]
[null,null,null,null,null,null,null,null,null,null,5246,0.71593603002122597,0.68792201874701797,0.615645562142214,0.99726627662868605,0.62941486076281605,0.72660827826835495,0.59867832516275998,0.49015627711946103]
[null,null,null,null,null,null,null,null,null,null,5247,0.67972750644803004,0.65631134001316704,0.58961372181784399,0.98575701005401495,0.622860868188579,0.70374639154331098,0.59686601701659003,0.492609506838249]
[null,null,null,null,null,null,null,null,null,null,5248,0.65509513825547205,0.63865555582425704,0.57660991723511801,0.98013558199147799,0.627183674452502,0.69707760693965104,0.602627145366049,0.50217892281698695]
[null,null,null,null,null,null,null,null,null,null,5249,0.64395780108010203,0.63445029667364305,0.57714452471437405,0.98087674037469996,0.64053394044408396,0.706106113663724,0.61685833961831105,0.519195353933399]
[null,null,null,null,null,null,null,null,null,null,5250,0.64164859470588798,0.63708182946244096,0.58513444496587197,0.98767820049087096,0.66026192474656697,0.72322851069647698,0.63616506396332795,0.53991899473115801]
[null,null,null,null,null,null,null,null,null,null,5251,0.64654769499838305,0.64454318920137599,0.59843039475712601,1.00074716046135,0.68559237797895101,0.74575873217158095,0.65826416215502004,0.56092396165879899]
[null,null,null,null,null,null,null,null,null,null,5252,0.65880405461548797,0.65737795616289796,0.61674539807391604,1.0176908817625401,0.71353243259576205,0.77216244870581396,0.68104137234198203,0.579273311991644]
[null,null,null,null,null,null,null,null,null,null,5253,0.67485695292095804,0.67371203107391797,0.63785525648963703,1.0337851599999099,0.74107820952347503,0.80042983583062799,0.70277638465342496,0.59524564674052205]
[null,null,null,null,null,null,null,null,null,null,5254,0.69126337045489405,0.69090878046244897,0.65850700831028097,1.04695872127421,0.76747658657569295,0.82878465222446296,0.72355154973722602,0.61160730457947998]
[null,null,null,null,null,null,null,null,null,null,5255,0.71010632630966397,0.71063550341623005,0.67951663627014403,1.060884074584,0.79643878629876197,0.85962138588745696,0.74559112799151395,0.632348133059913]
[null,null,null,null,null,null,null,null,null,null,5256,0.73564349753065394,0.73620607603588795,0.70417991453631401,1.0811728503673801,0.82748615701952399,0.895453901527695,0.77107983673415703,0.65762702520696703]
[null,null,null,null,null,null,null,null,null,null,5257,0.76404985373376699,0.76327965703129996,0.72943731204267304,1.10867931039349,0.85207431188946703,0.92917496778303099,0.79511811586390102,0.67978720298046802]
[null,null,null,null,null,null,null,null,null,null,5258,0.78499954236282998,0.78273800664325299,0.74721641160721297,1.13732420339215,0.85931713992084902,0.94876023572864199,0.80780442741076597,0.68826998757561098]
[null,null,null,null,null,null,null,null,null,null,5259,0.78830278904774298,0.78585435848947705,0.74994255324311598,1.1581527613973499,0.84568774323881801,0.94532350002486498,0.80130621725422302,0.67773481482675901]
[null,null,null,null,null,null,null,null,null,null,5260,0.77086434861461095,0.77091453165169499,0.73692677084594904,1.16445550253506,0.81670959858543002,0.92138621549674704,0.77779786350927504,0.65320083253175898]
[null,null,null,null,null,null,null,null,null,null,5261,0.73538686294615296,0.74081543974229103,0.71182697347993396,1.16062764634703,0.78117493527093296,0.88461189351068303,0.74604792940076703,0.62447529489022602]
[null,null,null,null,null,null,null,null,null,null,5262,0.689866253163125,0.70237901028828598,0.68027221679375105,1.1582009417823,0.74581029356893103,0.84337356918017603,0.71426263774211596,0.59851286017211702]
[null,null,null,null,null,null,null,null,null,null,5263,0.64453657478432402,0.66451975115506401,0.64867861614791,1.1672668915797699,0.71534636449890998,0.804793574556946,0.68735992708660099,0.578387089563839]
[null,null,null,null,null,null,null,null,null,null,5264,0.60773611839449504,0.634306697133036,0.621977378691003,1.1891727948195201,0.69292305835650803,0.77335917251242903,0.66705119650612199,0.56475874493119804]
[null,null,null,null,null,null,null,null,null,null,5265,0.58400339616466601,0.61626303021032602,0.60416981179933404,1.2152862641703599,0.68185051871026603,0.75334299707137697,0.65455967432448503,0.55878615873275095]
[null,null,null,null,null,null,null,null,null,null,5266,0.57303784159051496,0.61017651371446402,0.595759630581015,1.23366323582829,0.678813115458889,0.74525278444830301,0.65069968468945205,0.56003244790946305]
[null,null,null,null,null,null,null,null,null,null,5267,0.56639371958056495,0.60724163592886904,0.59002339298935802,1.2384107574079499,0.67717419077909102,0.74118344936612102,0.65132528600971196,0.56466131777358897]
[null,null,null,null,null,null,null,null,null,null,5268,0.55671921943038805,0.60042547390505197,0.58151339515343303,1.2322323848133001,0.67618682328049096,0.735043000654515,0.65272853337895298,0.57015290778766903]
[null,null,null,null,null,null,null,null,null,null,5269,0.54806553564563498,0.59406863160019097,0.574877116905676,1.22264276890879,0.68548712899376996,0.73308932846671004,0.65743007470272896,0.57903137681918404]
[null,null,null,null,null,null,null,null,null,null,5270,0.55458933237861296,0.601675897272404,0.58288473516930395,1.21555773865641,0.71351829075638795,0.74975575062544997,0.67342164461689102,0.59620583871371402]
[null,null,null,null,null,null,null,null,null,null,5271,0.58444638214974598,0.63033984604974602,0.61202110546847599,1.2118541015243001,0.757837762552932,0.79096883352110503,0.70362634869445695,0.621402474478286]
[null,null,null,null,null,null,null,null,null,null,5272,0.63140935227690798,0.67333956723756105,0.655544145153242,1.2068765355687101,0.80367330600254006,0.84625646252834497,0.74178222641851799,0.648081993235887]
[null,null,null,null,null,null,null,null,null,null,5273,0.67708810825896204,0.71344594044214404,0.69682205292119803,1.1958653916852899,0.83796653868649695,0.89538832020592796,0.77542018898186704,0.66615174147595202]
[null,null,null,null,null,null,null,null,null,null,5274,0.71140040001273797,0.74212940634086699,0.72664341839346203,1.17731572251718,0.85837806452118304,0.92829904354271897,0.796599885734807,0.66955212340242498]
[null,null,null,null,null,null,null,null,null,null,5275,0.73748296459426099,0.76264986640667998,0.74699038937253703,1.1527119251183799,0.87143522067036805,0.94843758071502104,0.80590112885551901,0.660030981107674]
[null,null,null,null,null,null,null,null,null,null,5276,0.76274810326957798,0.78198018554112303,0.76424504461174403,1.1249941319082699,0.88274739739732699,0.96437832509173405,0.80886736344777899,0.64544790067705704]
[null,null,null,null,null,null,null,null,null,null,5277,0.78827309023925296,0.80126272704074697,0.78025983729831105,1.09773761146514,0.89348113052674305,0.97933655110292905,0.80983644177259195,0.63435248363672703]
[null,null,null,null,null,null,null,null,null,null,5278,0.80832172452472295,0.81623840808778703,0.79243133633572604,1.07261044032314,0.90138831169817102,0.99139570490650797,0.81109293213757605,0.63114495714812702]
[null,null,null,null,null,null,null,null,null,null,5279,0.81354383144692399,0.81935362246806998,0.79587632284088905,1.0516892821614401,0.90470942112191,0.99635495313355205,0.81330422428766702,0.63528674502093196]
[null,null,null,null,null,null,null,null,null,null,5280,0.80171998253645604,0.80867813245036502,0.78923537326138304,1.0380827003416699,0.90466139683120605,0.99328054096818397,0.81678495378298599,0.64404319498504203]
[null,null,null,null,null,null,null,null,null,null,5281,0.78041342874837205,0.79056328117011498,0.77737128543617995,1.0340360919668401,0.906670223790213,0.98780615619408996,0.82309395055160695,0.65628282733846599]
[null,null,null,null,null,null,null,null,null,null,5282,0.76199025609928905,0.77549900139361505,0.76854087721939801,1.0385798947560301,0.91586665826678204,0.98797078628203605,0.83437064099018599,0.67202099450629305]
[null,null,null,null,null,null,null,null,null,null,5283,0.75722519053724402,0.77312275779255102,0.77031341295519795,1.0473050843641001,0.93545002147281098,1.00060314295606,0.85157790409492495,0.69046563898888302]
[null,null,null,null,null,null,null,null,null,null,5284,0.77144520733491695,0.78770483853848905,0.78605560268810104,1.0556280764516599,0.96310217939499998,1.02658880136717,0.87400157598373696,0.71035397958063795]
[null,null,null,null,null,null,null,null,null,null,5285,0.79982589359776102,0.81388637611878401,0.81101824366384001,1.0608699540453299,0.99264593760706799,1.0590386141957699,0.89868791555284899,0.73000757932691995]
[null,null,null,null,null,null,null,null,null,null,5286,0.82977331488835404,0.83960592344788798,0.83479115602136,1.0626799556491999,1.01585119986408,1.08708928767584,0.92209558348019205,0.74821021027525303]
[null,null,null,null,null,null,null,null,null,null,5287,0.84974872181640304,0.85472820705387098,0.84833700928335098,1.0631540494674501,1.02886385522443,1.1028272537841499,0.94037278773426503,0.76391122364582298]
[null,null,null,null,null,null,null,null,null,null,5288,0.85703095184413403,0.85805017608288503,0.85063184059032404,1.0653297540451501,1.0340759879301,1.1071384517047,0.952590716296705,0.77729902852136501]
[null,null,null,null,null,null,null,null,null,null,5289,0.85764984760824703,0.85587904460337905,0.847554253322234,1.0713535943225001,1.0378441514960499,1.1072296072222101,0.96054622434179204,0.78946434380109198]
[null,null,null,null,null,null,null,null,null,null,5290,0.85833558316795699,0.85497336452455797,0.84606438143344098,1.08057911713235,1.0461989943624399,1.1107999111523501,0.96833385436422603,0.802230630842799]
[null,null,null,null,null,null,null,null,null,null,5291,0.85891971641672604,0.85602824714423498,0.84836647221865003,1.09118412034598,1.0594437573436799,1.1197586129302299,0.97985741617272404,0.81685796813107203]
[null,null,null,null,null,null,null,null,null,null,5292,0.85567742887637199,0.85563389202919604,0.85158296881212203,1.1021435809710001,1.0730274632430801,1.1302325383956,0.99485479843271296,0.832433555744999]
[null,null,null,null,null,null,null,null,null,null,5293,0.84453504665411905,0.84848630242668099,0.850341672530604,1.1134841568715601,1.07912736134931,1.1353970042819399,1.0100283946087301,0.84665558963819099]
[null,null,null,null,null,null,null,null,null,null,5294,0.82278992938150797,0.83057044086854703,0.83924115101722496,1.12420232545163,1.0712406436767401,1.1275906616676199,1.01940776742524,0.85601250223832204]
[null,null,null,null,null,null,null,null,null,null,5295,0.78956262085240403,0.80038254619857496,0.81508245934119805,1.1330985486537399,1.04841652201436,1.1016555526862499,1.01757705375026,0.85737977444278501]
[null,null,null,null,null,null,null,null,null,null,5296,0.74892949107490503,0.76292445787045104,0.78183837493950104,1.1385989775502401,1.0202664141420801,1.0630993235678301,1.0049094788361601,0.85226856866894896]
[null,null,null,null,null,null,null,null,null,null,5297,0.71371747775027405,0.730942945193094,0.75180499537674494,1.1395596065481199,1.00117612309399,1.0280377385853601,0.989869076824893,0.84746346310369003]
[null,null,null,null,null,null,null,null,null,null,5298,0.69702110582866394,0.71617705007440802,0.73685322725476099,1.1359755399586899,1.0005678967923599,1.0122225968273999,0.98310904140840405,0.85082706295354904]
[null,null,null,null,null,null,null,null,null,null,5299,0.70257387297573004,0.72165585084823203,0.74047552513708303,1.1304217414111799,1.0180170161212601,1.0195052501611801,0.98991463129850399,0.86577656928021196]
[null,null,null,null,null,null,null,null,null,null,5300,0.72365914524992503,0.74177058080948799,0.75808636388261696,1.12521845680456,1.0482140840369301,1.0438635302817001,1.0085513166122599,0.88993463823617702]
[null,null,null,null,null,null,null,null,null,null,5301,0.75262150715968501,0.77005547528650697,0.78405787282481898,1.1200512459683301,1.0853298699387,1.0787014743223,1.0351059114739301,0.91831616791071302]
[null,null,null,null,null,null,null,null,null,null,5302,0.78622967756918005,0.80272754664873103,0.81529240052199003,1.1136779352444699,1.12367265207753,1.11993081430858,1.0659982865858799,0.94574697634741001]
[null,null,null,null,null,null,null,null,null,null,5303,0.82277800944894897,0.83635752066676805,0.84785880990911799,1.1083217957649201,1.15361927121527,1.16018794199486,1.0964095308658,0.96606425488729697]
[null,null,null,null,null,null,null,null,null,null,5304,0.85651531278297599,0.86473807426081795,0.874220198623895,1.1088426742932,1.16363336648813,1.1874378156163901,1.1171742974747201,0.97303822730859002]
[null,null,null,null,null,null,null,null,null,null,5305,0.87983537845456405,0.881332542840355,0.88646338061831598,1.1181727048847301,1.14500613483474,1.1902104247208101,1.1172256246304499,0.96157200340743498]
[null,null,null,null,null,null,null,null,null,null,5306,0.89021381609486605,0.88555378784430205,0.88303606341707097,1.1319971340905901,1.10214101788851,1.1671856854776601,1.0899338113828201,0.93111455672237597]
[null,null,null,null,null,null,null,null,null,null,5307,0.89270127646598096,0.88343075297458096,0.87101659607226201,1.1425824005129901,1.0496505594249199,1.12960207648908,1.04070770832397,0.88805293691613696]
[null,null,null,null,null,null,null,null,null,null,5308,0.89317056401877704,0.88147419988176501,0.85920327158059995,1.1433763823604901,1.0033384342035101,1.0927056413032299,0.98435353898463396,0.843169156614337]
[null,null,null,null,null,null,null,null,null,null,5309,0.89451698510278099,0.88244241106821197,0.85189929280180998,1.1314205691721899,0.96939989739699095,1.06530028605175,0.93574633382552597,0.80583980288941903]
[null,null,null,null,null,null,null,null,null,null,5310,0.89485173266047202,0.88360266207649996,0.84681583886087097,1.1064583659526901,0.94627459210354303,1.0463730011905701,0.900816935276745,0.77951356641180003]
[null,null,null,null,null,null,null,null,null,null,5311,0.89118186721013004,0.88137872632481995,0.84038557786393397,1.0716581317098799,0.93206982143288797,1.0316726584606599,0.87900104405578505,0.76395622418143405]
[null,null,null,null,null,null,null,null,null,null,5312,0.88375896502961004,0.876176752747722,0.83364266057062597,1.03252734404746,0.92920326047485302,1.0217315489955101,0.86874589071358799,0.75850160726446603]
[null,null,null,null,null,null,null,null,null,null,5313,0.87599074610823702,0.87167412590593496,0.83042894716693105,0.99467624137191601,0.93901958619956605,1.0204478217027799,0.87004287169504402,0.76269456382221901]
[null,null,null,null,null,null,null,null,null,null,5314,0.86973326051781596,0.86972292712992705,0.83254863801759305,0.96187133300025096,0.957191694485103,1.02794560610396,0.881081724582644,0.77436616049256202]
[null,null,null,null,null,null,null,null,null,null,5315,0.864975032694976,0.86944664486596202,0.83789102079531397,0.93575094675417303,0.97680042921840904,1.03926371946281,0.897201884783565,0.78869454160684005]
[null,null,null,null,null,null,null,null,null,null,5316,0.860350418588397,0.868258332114483,0.842672283879073,0.91692297319299199,0.99211011622068002,1.0490996314791601,0.91392025678264499,0.80141169628447795]
[null,null,null,null,null,null,null,null,null,null,5317,0.85461275899441302,0.86436786215936001,0.844010795790201,0.90646567090629204,1.0004147432144299,1.0542996497821,0.92816454265100601,0.80996719496801595]
[null,null,null,null,null,null,null,null,null,null,5318,0.84844246181168204,0.85843479082531604,0.84186987596100904,0.90446193975932998,1.0030950289518901,1.05532924856795,0.93803294585410701,0.81338870328533397]
[null,null,null,null,null,null,null,null,null,null,5319,0.84237136652790101,0.85193629899109302,0.83823487386899298,0.90778946558517803,1.00337314046601,1.0546438110880401,0.94377379023381702,0.81327175196482304]
[null,null,null,null,null,null,null,null,null,null,5320,0.83718534585426696,0.84658845603552402,0.83552225442032901,0.91161037557830205,1.00337461755887,1.0544756476678001,0.94653008708209296,0.81180885807492098]
[null,null,null,null,null,null,null,null,null,null,5321,0.83118431012491401,0.84181844037710896,0.83353546955440105,0.91398398019299298,1.0039198981725901,1.0540603826022801,0.94770531554294002,0.81074571452147404]
[null,null,null,null,null,null,null,null,null,null,5322,0.82181537550475703,0.83630629675985402,0.831130208866526,0.91580337520163402,1.0046772969897,1.0527579727955001,0.94833550851591397,0.81043722780628702]
[null,null,null,null,null,null,null,null,null,null,5323,0.80645251409605101,0.82766367984750699,0.825808416456009,0.91890144839666599,1.00385693833282,1.0485784096389299,0.94797850905572301,0.80953266458559103]
[null,null,null,null,null,null,null,null,null,null,5324,0.78519649381907897,0.81503703639366898,0.81624032752914599,0.92161415319747697,0.99708346457112196,1.0402517625673799,0.94521694614858598,0.80684286759592805]
[null,null,null,null,null,null,null,null,null,null,5325,0.75665756340548296,0.79437158927761298,0.797783589790654,0.91934424663124503,0.977480221203615,1.02163496791231,0.93583600775558895,0.80002295796260303]
[null,null,null,null,null,null,null,null,null,null,5326,0.71782109572177899,0.76067708379471799,0.76602942215588898,0.90967423322628105,0.94572153477467802,0.98702149615841905,0.91695403143179099,0.78889992128784303]
[null,null,null,null,null,null,null,null,null,null,5327,0.67397090967166096,0.71908509623498895,0.72660393768558296,0.89599703466660996,0.915584311514414,0.94364962943560704,0.89339221769322996,0.77812569619997196]
[null,null,null,null,null,null,null,null,null,null,5328,0.64217201828133197,0.68663932053015297,0.69609099507257299,0.88410885090435598,0.90555577768338402,0.91179657696183403,0.87758812707959,0.77506708937501601]
[null,null,null,null,null,null,null,null,null,null,5329,0.64045160473359297,0.68133370793868198,0.690890925081873,0.87732579946731004,0.92261452468788296,0.90999393485342095,0.88002982344944902,0.78406982597457797]
[null,null,null,null,null,null,null,null,null,null,5330,0.67151454975832203,0.70580121866552703,0.71297097305284196,0.87582060663007499,0.95706625079170704,0.93863945414424299,0.89925580164403696,0.80178731073806497]
[null,null,null,null,null,null,null,null,null,null,5331,0.719288177697468,0.74580537065893704,0.74899710828940402,0.87916899952984995,0.99300590622007501,0.98042414269753098,0.92433072212518996,0.82028603111453702]
[null,null,null,null,null,null,null,null,null,null,5332,0.76672047793694698,0.78642638209801996,0.78542368274168906,0.88682933531418395,1.02161067644876,1.0194597323725501,0.94572370780261905,0.834362414373643]
[null,null,null,null,null,null,null,null,null,null,5333,0.805639736217306,0.82014145700755203,0.81549816679007903,0.89705869744952305,1.0426617662434801,1.0490551870123399,0.96217963719920496,0.84408442559535801]
[null,null,null,null,null,null,null,null,null,null,5334,0.83532678367587498,0.84567029574964603,0.83812437048463795,0.90529036807112795,1.05709554422792,1.07018986940344,0.97701523949663405,0.85181621014367304]
[null,null,null,null,null,null,null,null,null,null,5335,0.85330299896749695,0.85967493419303898,0.85049387893171402,0.90640058955228497,1.06312382553382,1.0809569001669099,0.98977645628486299,0.85735249139779601]
[null,null,null,null,null,null,null,null,null,null,5336,0.85789965179391403,0.86112638971747102,0.85192234914364795,0.89911849184897497,1.06115185336381,1.0816179599190701,0.99844856809404603,0.86041145255419405]
[null,null,null,null,null,null,null,null,null,null,5337,0.85006210383297698,0.85215279056145998,0.84454491470330095,0.88683025917785596,1.0519577032976299,1.07422985531119,1.0017631501036199,0.86106463033671798]
[null,null,null,null,null,null,null,null,null,null,5338,0.83045197882512001,0.83446921607475799,0.83002134993059695,0.87391738542449604,1.0388332265771201,1.0596959676054301,1.00011730877182,0.86055435313579098]
[null,null,null,null,null,null,null,null,null,null,5339,0.80393216035659598,0.81323945340446702,0.81258914107439595,0.86280667015093204,1.02749529324758,1.0419734975351,0.99619873793661995,0.86052918315177696]
[null,null,null,null,null,null,null,null,null,null,5340,0.780154059912752,0.79553571554495495,0.79834130040286,0.85285449166139204,1.0232045877107101,1.02736072635383,0.99373749739408801,0.86210488671410201]
[null,null,null,null,null,null,null,null,null,null,5341,0.76930343962373204,0.78837842288446303,0.79361235534430397,0.84344669578794296,1.0297192451719701,1.0227008858540401,0.99620095188783997,0.86597172331379302]
[null,null,null,null,null,null,null,null,null,null,5342,0.77536670944943098,0.79422416411312702,0.80142982991612699,0.83492434575032504,1.04369951232604,1.03169490475874,1.0054739384979601,0.87245167662107403]
[null,null,null,null,null,null,null,null,null,null,5343,0.78954344592914805,0.80636457211270196,0.81559836513510597,0.82921360890802798,1.0570964986856,1.04652650949174,1.0176293717845399,0.87860601830481699]
[null,null,null,null,null,null,null,null,null,null,5344,0.80076483600581205,0.81708305506178602,0.82831920891469601,0.82862947378898499,1.0651906746173201,1.0587685114949501,1.0270389165873199,0.88279208636627604]
[null,null,null,null,null,null,null,null,null,null,5345,0.80412170523661797,0.822946567750799,0.83540312379688497,0.834114058902795,1.0697038474115601,1.06472599721812,1.03173162167369,0.88568518876864399]
[null,null,null,null,null,null,null,null,null,null,5346,0.80131805857299898,0.82467726457598001,0.83773920420553305,0.84465918264014395,1.07604697598113,1.06762468601705,1.0359509625476799,0.89214316867920995]
[null,null,null,null,null,null,null,null,null,null,5347,0.79518946265186696,0.82318499941593704,0.83751029228944796,0.85638377315024505,1.08847815031589,1.0717066584125301,1.0458837056500501,0.90780492923245504]
[null,null,null,null,null,null,null,null,null,null,5348,0.78908907660820804,0.82011825821165596,0.83755514963684696,0.86445296864768895,1.11214707365739,1.08075154190305,1.06633190712104,0.93574855642404997]
[null,null,null,null,null,null,null,null,null,null,5349,0.79069097550690903,0.82221253157251695,0.84523533044673604,0.86424757297378096,1.1516572218249801,1.10267270161222,1.1000109436797001,0.97552141207607701]
[null,null,null,null,null,null,null,null,null,null,5350,0.80581174845247305,0.83464717302482405,0.86564873491595395,0.85163685622858099,1.2044662847410199,1.14137537882004,1.14546485064815,1.02197319014697]
[null,null,null,null,null,null,null,null,null,null,5351,0.83345888266063495,0.85695641375997,0.89704208000799102,0.82289397826081001,1.2608222596159799,1.1921196239998,1.19465827170453,1.06621234977362]
[null,null,null,null,null,null,null,null,null,null,5352,0.86721178092078199,0.883839530057145,0.93196748872907698,0.77714842763736502,1.30570778543982,1.2441010523983,1.23680179385442,1.09970343741261]
[null,null,null,null,null,null,null,null,null,null,5353,0.89815410685610797,0.90780426710893602,0.96038775305240598,0.72439614489823401,1.32728423585014,1.2823906780818399,1.2604475254754599,1.11473203624524]
[null,null,null,null,null,null,null,null,null,null,5354,0.9232604919131,0.92667084731061999,0.97807804427777201,0.68381157250206404,1.3196258601789701,1.2988855345518899,1.2585801342262599,1.10715805910506]
[null,null,null,null,null,null,null,null,null,null,5355,0.94175872172014696,0.93989894385787298,0.98437584141853995,0.66998576761058404,1.28395598536495,1.2908665661896399,1.2300438913665599,1.07652625642061]
[null,null,null,null,null,null,null,null,null,null,5356,0.95398349669455595,0.94779929403082497,0.98097085507339798,0.68165787225223995,1.2287487319444499,1.26200277659381,1.1800280220894599,1.02817215243424]
[null,null,null,null,null,null,null,null,null,null,5357,0.95983387272514797,0.950267179134344,0.96987805968359897,0.70115596850217299,1.1669473081150199,1.21991344180738,1.1190981300826399,0.97180400257316302]
[null,null,null,null,null,null,null,null,null,null,5358,0.95914158938022098,0.94701208106683799,0.95349249260138802,0.70820077609282495,1.11065285232432,1.1735552028912699,1.0591053069726699,0.91798255935145701]
[null,null,null,null,null,null,null,null,null,null,5359,0.951161824255916,0.93755626787593205,0.93423808693583099,0.69778795382886305,1.0677767688851501,1.13088278583595,1.0097454705815601,0.87507153126714898]
[null,null,null,null,null,null,null,null,null,null,5360,0.93566047624056703,0.92198015759359897,0.91464427364546397,0.68238630714744797,1.0404071671955999,1.0970594220383101,0.97639282140921102,0.84667457558424897]
[null,null,null,null,null,null,null,null,null,null,5361,0.916862231579883,0.90450217555919199,0.89858320853559004,0.67685828980695695,1.0258482679319201,1.0749714494298901,0.95806504907136003,0.83050620537703401]
[null,null,null,null,null,null,null,null,null,null,5362,0.90071249860067804,0.890317334798711,0.88849741936059901,0.685897082799796,1.0173377588871899,1.0633871659948799,0.948822008138548,0.81951407752681904]
[null,null,null,null,null,null,null,null,null,null,5363,0.89032499110667396,0.88197228976587505,0.88337593844866602,0.70408765054932099,1.0098546188627,1.0567343418270201,0.93998253623654504,0.80617215751666904]
[null,null,null,null,null,null,null,null,null,null,5364,0.88510270767294597,0.87851411962544301,0.88084501872874299,0.723710747267164,1.0031773992355499,1.05199733691495,0.92901819136207697,0.78968234879403298]
[null,null,null,null,null,null,null,null,null,null,5365,0.88113139874456703,0.87676072293247498,0.87870641459530996,0.74109100533711703,0.999487504781717,1.0482781617624699,0.91937376959140304,0.77460704954681803]
[null,null,null,null,null,null,null,null,null,null,5366,0.87451394267312599,0.87357266249465804,0.87526250251583704,0.75587549834035705,0.99802327462267904,1.04478945179421,0.91475764665733805,0.76566975638954704]
[null,null,null,null,null,null,null,null,null,null,5367,0.86098648342749695,0.86543049200022304,0.86803569166296501,0.76551628804611904,0.99643153849222399,1.0397744722823701,0.91567962602338904,0.76464919721160596]
[null,null,null,null,null,null,null,null,null,null,5368,0.837845814133933,0.84961217330063898,0.85406363269016705,0.76778873472945597,0.99041644754934899,1.02936267402244,0.91916122823794799,0.76874327145462096]
[null,null,null,null,null,null,null,null,null,null,5369,0.80534959000718398,0.82602878204705898,0.83237303564477405,0.76419378235426605,0.98103756655296004,1.0122171030456699,0.92141577599839897,0.77472826472423295]
[null,null,null,null,null,null,null,null,null,null,5370,0.77439260413155198,0.803840091127352,0.81107057569785002,0.75841649393007904,0.97671924617269301,0.99617900198535903,0.92294370635800005,0.78205107444980604]
[null,null,null,null,null,null,null,null,null,null,5371,0.761890381408595,0.79691458873006804,0.80400617765917404,0.75496669317771004,0.98787277701276999,0.99510585093095005,0.92935874684196895,0.79324233155129698]
[null,null,null,null,null,null,null,null,null,null,5372,0.77749693707456702,0.81247559148821502,0.82021163921459705,0.75644541303797397,1.01775563790817,1.0176424604718399,0.94600852922976997,0.81090554441075802]
[null,null,null,null,null,null,null,null,null,null,5373,0.81631176768839997,0.845402357554769,0.85595426285970699,0.76188412037583197,1.05780509311117,1.05878442394543,0.97282235138356399,0.83424941936207697]
[null,null,null,null,null,null,null,null,null,null,5374,0.860156544083297,0.880181331891698,0.89563835726517005,0.76808719822240601,1.09437041529808,1.10205436640744,1.00316213892058,0.85858877026575597]
[null,null,null,null,null,null,null,null,null,null,5375,0.89231988531671402,0.90465661924760399,0.92548837866665301,0.77152651350252299,1.1213745457027899,1.134176157065,1.0296353128190501,0.87957787630517803]
[null,null,null,null,null,null,null,null,null,null,5376,0.90904467732697902,0.91734424451524899,0.94325185290679403,0.77028237215131901,1.14217881992973,1.1551059581109999,1.0509317964582201,0.89667706779784495]
[null,null,null,null,null,null,null,null,null,null,5377,0.91688715003508703,0.92455114856901899,0.95549705026123199,0.765356976387496,1.16270216233975,1.1733031729346599,1.07072193988372,0.91263656753044398]
[null,null,null,null,null,null,null,null,null,null,5378,0.92166009265441196,0.92990227908013101,0.96632997959889999,0.76009570553678296,1.1817924424547099,1.19209200028218,1.09167425886013,0.92945753459400104]
[null,null,null,null,null,null,null,null,null,null,5379,0.922990142525006,0.93153066067006296,0.97320389968750598,0.75850375990353203,1.19571188723206,1.2072549961732499,1.11237047150998,0.94695163974072205]
[null,null,null,null,null,null,null,null,null,null,5380,0.91883690709751098,0.92690848909867896,0.97251371962203803,0.76226646601604997,1.2020632023032101,1.21290376966582,1.1299584253847199,0.96296618851440197]
[null,null,null,null,null,null,null,null,null,null,5381,0.90907197156866604,0.916389547381526,0.96444456478796603,0.77005483277336695,1.2021695054469099,1.2087211892852701,1.1420655536145901,0.97485195454042295]
[null,null,null,null,null,null,null,null,null,null,5382,0.89761272345253695,0.90419160574217206,0.95376401022179402,0.77858529112780495,1.2001318388901701,1.2000203201574999,1.14814785660704,0.98087072204604897]
[null,null,null,null,null,null,null,null,null,null,5383,0.88938890539688997,0.895092973234769,0.94584358761371201,0.78529662991628002,1.19915303718098,1.1933341458411,1.1501176273657501,0.981630253703212]
[null,null,null,null,null,null,null,null,null,null,5384,0.88465396655228701,0.89092640751752095,0.94258024875130997,0.78778166739532995,1.2008152356895401,1.19131278306963,1.15000328050278,0.97947725790350604]
[null,null,null,null,null,null,null,null,null,null,5385,0.88201922321160697,0.89090625984149596,0.94315118538045195,0.78526616217981204,1.20357400746432,1.19288251107846,1.15008089929554,0.977302963462926]
[null,null,null,null,null,null,null,null,null,null,5386,0.87651606020153405,0.89040894532537995,0.94288168331229205,0.77953300330748898,1.2030297851240701,1.1926194197239599,1.1498356129812599,0.97647153576967405]
[null,null,null,null,null,null,null,null,null,null,5387,0.86321406022676594,0.88391800523338504,0.93635071306003304,0.77446549994115899,1.1952241481475501,1.18389403399097,1.1472633148890199,0.97677729472415897]
[null,null,null,null,null,null,null,null,null,null,5388,0.84114724724823797,0.86848493907901703,0.92077690939599799,0.77319884041159503,1.1795839934265699,1.1632755354444699,1.1397385950050101,0.97660101614579897]
[null,null,null,null,null,null,null,null,null,null,5389,0.81673680320849396,0.84848963766899599,0.90006271829415496,0.77673549976595502,1.1607664764038099,1.1359223299094701,1.12714664051795,0.97425675410328905]
[null,null,null,null,null,null,null,null,null,null,5390,0.79836083252717704,0.83148525662017303,0.88220401449086905,0.78316225878718804,1.14723782629838,1.1126164083660699,1.1132857088024199,0.97015342683924699]
[null,null,null,null,null,null,null,null,null,null,5391,0.792072452139026,0.82388235822132205,0.87437008492244805,0.79042827317463404,1.14033564814715,1.1025848048020801,1.10424769816756,0.96657940393432396]
[null,null,null,null,null,null,null,null,null,null,5392,0.79322186227144698,0.82243528129745302,0.87361370804989003,0.79715851326758902,1.13656002579828,1.1015063517114201,1.1007694510660799,0.96395160971610705]
[null,null,null,null,null,null,null,null,null,null,5393,0.79470456187676397,0.82156948501101401,0.87387349449555396,0.80331037267880001,1.1291880732339501,1.1013137379126801,1.1003943512096299,0.96241351216135795]
[null,null,null,null,null,null,null,null,null,null,5394,0.78866915591218301,0.81449664556442103,0.867262180303774,0.80908344036871405,1.1160214087377001,1.09210175689446,1.09776040729619,0.96169664053411197]
[null,null,null,null,null,null,null,null,null,null,5395,0.77407170722912799,0.80114273930288404,0.853859602243634,0.81525005069846301,1.1055722600911899,1.07585921721569,1.0935308623106399,0.96544208237828899]
[null,null,null,null,null,null,null,null,null,null,5396,0.75790283929836999,0.78949582512574101,0.84272143934306598,0.82131012098072098,1.11265568171516,1.0653101754929299,1.09541781818095,0.97972137458085395]
[null,null,null,null,null,null,null,null,null,null,5397,0.75339307281786605,0.79089782315511803,0.84658997781129697,0.82537355966442505,1.1467313664377099,1.0763890464558801,1.1144805247607801,1.0090623667773699]
[null,null,null,null,null,null,null,null,null,null,5398,0.76701743133830502,0.80868932146033801,0.86947894997011299,0.82714041047812803,1.2013065560205001,1.11297010957223,1.1542603770788999,1.0518980713966899]
[null,null,null,null,null,null,null,null,null,null,5399,0.79226165390474002,0.83421083306309396,0.90210729859053196,0.82899305676594304,1.2581779893645899,1.1624209443836999,1.20642463728674,1.10047816569228]
[null,null,null,null,null,null,null,null,null,null,5400,0.81572914956837195,0.85441771483138995,0.92965655399149205,0.83338799815545395,1.2985626681611699,1.2053268219940101,1.2561250069405401,1.14454532362513]
[null,null,null,null,null,null,null,null,null,null,5401,0.82611769847705097,0.86064518972151105,0.94162779044287204,0.84099233602962697,1.3135358044312599,1.2274587825549601,1.2900674162385599,1.1748076185410099]
[null,null,null,null,null,null,null,null,null,null,5402,0.81955090846026102,0.85231151324704302,0.93643044438079703,0.84969380865438504,1.3026785038012101,1.2253015011189099,1.30275579122041,1.18613607376302]
[null,null,null,null,null,null,null,null,null,null,5403,0.79743899120675799,0.83254642815937996,0.91677263799384401,0.85638324661631804,1.2685801977175299,1.2005210474963599,1.2935925439742599,1.1776378593382599]
[null,null,null,null,null,null,null,null,null,null,5404,0.76391029864132998,0.804904677719532,0.88585585562889202,0.85917202692423,1.22121036335692,1.1569079762530801,1.2643424897770701,1.15179706960018]
[null,null,null,null,null,null,null,null,null,null,5405,0.73138807393546501,0.77964868985544999,0.85454157259599395,0.86033504612377598,1.1768483037452799,1.1094895284715101,1.22378085181109,1.1159671132384099]
[null,null,null,null,null,null,null,null,null,null,5406,0.71386298400952897,0.76623289045421905,0.83376674879857204,0.86378305361017804,1.14501163736015,1.07300725095292,1.18340943364894,1.0784682194859101]
[null,null,null,null,null,null,null,null,null,null,5407,0.71434233543404602,0.76547930641510198,0.826104782739154,0.87225478020387004,1.12502615336381,1.0526434888741201,1.1499160997064299,1.0435015919591399]
[null,null,null,null,null,null,null,null,null,null,5408,0.72602953942530202,0.77218989780860503,0.82741746181012299,0.88488541411368304,1.11322345900454,1.0444565546132001,1.12314234998884,1.0112597406219199]
[null,null,null,null,null,null,null,null,null,null,5409,0.74329400779964605,0.78462815679448705,0.83602106457673597,0.89675074865457105,1.11138946813923,1.04708432360427,1.10260398609098,0.98250847659085805]
[null,null,null,null,null,null,null,null,null,null,5410,0.76696615911113497,0.80545826378785101,0.85467451096187697,0.90220807224797495,1.1232117831053501,1.0634007525621301,1.0912736906857201,0.96072284684262299]
[null,null,null,null,null,null,null,null,null,null,5411,0.79908147582002498,0.83594828618361505,0.88472900779254104,0.89746562989675205,1.1483635230167299,1.0943936256354101,1.0923447052658299,0.94122732169374401]
[null,null,null,null,null,null,null,null,null,null,5412,0.83622668614641804,0.87134699806934302,0.92138381394602198,0.88217082775154498,1.17976993649619,1.1341281490328099,1.10527066456621,0.91511584899477005]
[null,null,null,null,null,null,null,null,null,null,5413,0.86973197373956901,0.90291106431347101,0.95610599668658502,0.86147533390209596,1.21204836595929,1.1729919995565601,1.1248959711651501,0.85946729247181397]
[null,null,null,null,null,null,null,null,null,null,5414,0.89521031178919397,0.92644704007922596,0.98473123286321096,0.84409605017091804,1.24219181996376,1.20686400281692,1.14741883471534,0.75111686095653996]
[null,null,null,null,null,null,null,null,null,null,5415,0.91300681083511304,0.94217987702460904,1.00657840593981,0.83534391254693896,1.2696103933485301,1.2350104489629501,1.1705580619318601,0.58680819009891305]
[null,null,null,null,null,null,null,null,null,null,5416,0.92455470125010797,0.95102974753613501,1.02164894860414,0.83442957131774498,1.2934190767568401,1.2577430251405499,1.19396006501907,0.395592247504296]
[null,null,null,null,null,null,null,null,null,null,5417,0.92852621085100595,0.95265778219134201,1.02913666659957,0.83657551931315,1.3125610187185499,1.2736952312076999,1.2169588977286401,0.223196562415785]
[null,null,null,null,null,null,null,null,null,null,5418,0.924684500416737,0.94766202728513504,1.02980141510463,0.83607862124244803,1.32515328181617,1.2824101441893201,1.2383373979766801,0.102790111004865]
[null,null,null,null,null,null,null,null,null,null,5419,0.91455608104259301,0.93849337424104096,1.02574490436161,0.83016739682323604,1.33094140448515,1.2846910186799601,1.25559802357524,3.7329867135583901E-2]
[null,null,null,null,null,null,null,null,null,null,5420,0.90446213621258098,0.93088614008191095,1.02181394061407,0.82084378289126403,1.3304106484923801,1.2838725534433499,1.2664205242665101,9.5317939168709596E-3]
[null,null,null,null,null,null,null,null,null,null,5421,0.89948216519026802,0.92806709625360595,1.0202048930677901,0.81364126773015299,1.32434907641094,1.2803898241240499,1.2689359819905299,3.1059286330880102E-4]
[null,null,null,null,null,null,null,null,null,null,5422,0.89966248785212399,0.92868439154923399,1.01961745359115,0.81437202841336198,1.31578027256337,1.2742269529326899,1.2644222492186401,7.7059144084207004E-5]
[null,null,null,null,null,null,null,null,null,null,5423,0.902465881669411,0.92951607799316005,1.0181983136919801,0.82467091151563698,1.3097807165779101,1.26653441848223,1.2572110411175099,7.7731276378262498E-5]
[null,null,null,null,null,null,null,null,null,null,5424,0.90548893334109104,0.929009615403528,1.0159758416804301,0.84117629702272201,1.3098831895999701,1.26165282699093,1.2538999868023299,7.8053837379300699E-5]
[null,null,null,null,null,null,null,null,null,null,5425,0.90822220345019899,0.92848715254728598,1.01504030597602,0.85758106709651405,1.3156094864187899,1.26258486646398,1.25704899314387,7.8052909018007504E-5]
[null,null,null,null,null,null,null,null,null,null,5426,0.90877393441508603,0.92779961639342101,1.01488656294298,0.86942835805573604,1.3171559900290799,1.2659447184707699,1.2642946977563501,7.8052463490912999E-5]
[null,null,null,null,null,null,null,null,null,null,5427,0.89874410030446805,0.92004019150863703,1.0068122363491401,0.87521323868243195,1.3031553097397399,1.25836315917411,1.2658758070201701,7.8052464773182401E-5]
[null,null,null,null,null,null,null,null,null,null,5428,0.87350435116738601,0.90102337553048195,0.98546340658583398,0.87672510176447804,1.2753183085264701,1.2333101448761099,1.25479766738739,7.8052465388552501E-5]
[null,null,null,null,null,null,null,null,null,null,5429,0.84031792834906005,0.87617419575342703,0.95644736167205102,0.87789979670775697,1.2441626516644499,1.19844539774892,1.2336364187284301,7.8052465386781403E-5]
[null,null,null,null,null,null,null,null,null,null,5430,0.81258727140642995,0.85588330470712604,0.93139234734770204,0.88208614221904802,1.22040689276192,1.16814339705936,1.2103099035887499,7.8052465385931402E-5]
[null,null,null,null,null,null,null,null,null,null,5431,0.796565767753593,0.84472073824343297,0.91606414218461496,0.89050176074654797,1.20501325191787,1.1487711843277399,1.1919611641971799,7.8052465385933896E-5]
[null,null,null,null,null,null,null,null,null,null,5432,0.78764035207887495,0.83885129221666299,0.90753247807522097,0.90193653568965604,1.19632596330839,1.1370916913411,1.1808100657729901,7.8052465385935102E-5]
[null,null,null,null,null,null,null,null,null,null,5433,0.77936945540868596,0.83275983715363899,0.90110667535169897,0.91341386221182896,1.1960488295099101,1.12834134110984,1.1778385917021901,7.8052465385935102E-5]
[null,null,null,null,null,null,null,null,null,null,5434,0.77219556323518002,0.827190453909321,0.89837200503828796,0.92205466102946798,1.21119654759803,1.1269024024440899,1.18712007614531,7.8052465385935102E-5]
[null,null,null,null,null,null,null,null,null,null,5435,0.77370277354428996,0.828054166144228,0.90531729344668799,0.92587431388692298,1.2445043830629501,1.14001248098925,1.21212897940839,7.8052465385935102E-5]
[null,null,null,null,null,null,null,null,null,null,5436,0.78897122374417195,0.83908238382945199,0.92440595536996595,0.92505872371181996,1.29076318370522,1.1696379855408501,1.2520996842365399,7.8052465385935102E-5]
[null,null,null,null,null,null,null,null,null,null,5437,0.81731281140580703,0.86041425281454997,0.95416024075359596,0.92107241255606798,1.34505573743064,1.2124164095748999,1.30044264137184,7.8052465385935102E-5]
[null,null,null,null,null,null,null,null,null,null,5438,0.855277446140288,0.89104561710154895,0.99311080669741403,0.91573006877906304,1.40350477063509,1.2656199952437099,1.35223306504199,7.8052465385935102E-5]
[null,null,null,null,null,null,null,null,null,null,5439,0.89527942723166298,0.925835899391804,1.03601823287316,0.91053948136726404,1.45996765115988,1.3230585825201999,1.4030215018771901,7.8052465385935102E-5]
[null,null,null,null,null,null,null,null,null,null,5440,0.92886096102035098,0.95825022158124595,1.07622251873458,0.90543393226980695,1.5103982878681801,1.3771435782011101,1.4500520769816601,7.8052465385935102E-5]
[null,null,null,null,null,null,null,null,null,null,5441,0.950924274951089,0.98260038763855795,1.10758409751026,0.90047971864979903,1.5456362698728801,1.42065907500039,1.4918708273954799,7.8052465385935102E-5]
[null,null,null,null,null,null,null,null,null,null,5442,0.95608166840821496,0.99168288520966497,1.1223718460360601,0.89706504816463795,1.55825431511512,1.44402434539181,1.5221829677398699,7.8052465385935102E-5]
[null,null,null,null,null,null,null,null,null,null,5443,0.94338978228405801,0.98178469579625305,1.1149013414667699,0.89709072326834105,1.53345978050619,1.43852676792524,1.5317928291646801,7.8052465385935102E-5]
[null,null,null,null,null,null,null,null,null,null,5444,0.91020563523655595,0.94822050181810402,1.07634419572106,0.90083757596049996,1.4568710134088201,1.3898703134608801,1.50249714092453,7.8052465385935102E-5]
[null,null,null,null,null,null,null,null,null,null,5445,0.86222180790703495,0.89600085217254399,1.00575053061702,0.90645178562713802,1.32335164808758,1.2912710645621199,1.4168337906541799,7.8052465385936796E-5]
[null,null,null,null,null,null,null,null,null,null,5446,0.81392928142524001,0.83813352170474897,0.91222238806165101,0.91099816815597301,1.1475780253543699,1.15015132904758,1.2694331157571901,7.8052465385940198E-5]
[null,null,null,null,null,null,null,null,null,null,5447,0.78452117600476301,0.79253155944418596,0.81489005763119504,0.91313616085420501,0.96116852013028398,0.99113868162682195,1.0782786509998401,7.8052465384724997E-5]
[null,null,null,null,null,null,null,null,null,null,5448,0.78374761085221301,0.76933841296934802,0.73175866450535898,0.91560499567000597,0.79787139633802395,0.84391644799283605,0.87993852273823203,7.8052465382192693E-5]
[null,null,null,null,null,null,null,null,null,null,5449,0.80447742911625797,0.76549256539267596,0.671803708528392,0.92261170160352601,0.67881903581120795,0.72969131752840199,0.71186542745893,7.8052466262036106E-5]
[null,null,null,null,null,null,null,null,null,null,5450,0.82928987758337003,0.76996327419923905,0.63474826724321798,0.93505005448687595,0.60775359451093403,0.65512735655134902,0.59536934333067704,7.8052468095398506E-5]
[null,null,null,null,null,null,null,null,null,null,5451,0.84259692917811602,0.77203652823174396,0.61484444311506603,0.949748032775383,0.57405022773501901,0.61506661948456698,0.53110292150697203,7.80518310899631E-5]
[null,null,null,null,null,null,null,null,null,null,5452,0.838825696127105,0.76684876993056905,0.60482845902839,0.962612665927569,0.56335422804928303,0.59806828449506699,0.50556420735701801,7.8050503738165506E-5]
[null,null,null,null,null,null,null,null,null,null,5453,0.82029418900231699,0.75469224058595197,0.59883381158567695,0.97288738643934103,0.56183506163694796,0.59334344926226101,0.50267745379163697,7.8511694793516402E-5]
[null,null,null,null,null,null,null,null,null,null,5454,0.79457882847125405,0.73945782073954103,0.59333034810652396,0.98290494891125402,0.56394239476581498,0.59196068202679697,0.50786468244400396,7.9472695661672094E-5]
[null,null,null,null,null,null,null,null,null,null,5455,0.77583874966716604,0.73066897471002101,0.59135924039784504,0.99534850176974898,0.56828352849531505,0.59312183811708497,0.51454531462828501,-2.54428991407014E-4]
[null,null,null,null,null,null,null,null,null,null,5456,0.77485618733063599,0.73430084494178105,0.59547833514880499,1.0109607825082001,0.57588385162477096,0.59698643924228101,0.51992680347451703,2.62576424469757E-3]
[null,null,null,null,null,null,null,null,null,null,5457,0.79386785535471305,0.75064522496070896,0.60691134727521101,1.0284683079428101,0.58692406195088198,0.60499226472974099,0.52501553841280402,1.3100034342902901E-2]
[null,null,null,null,null,null,null,null,null,null,5458,0.82084559109618505,0.77014154190655904,0.62142499582279398,1.0442609700735599,0.60067286743118398,0.61611458439431599,0.53146254586885699,4.02814236112548E-2]
[null,null,null,null,null,null,null,null,null,null,5459,0.84116837360804497,0.78369171237183199,0.63538544930799301,1.0535933376294699,0.61739436764576705,0.62986625790395301,0.54046492371933896,9.4678617323711703E-2]
[null,null,null,null,null,null,null,null,null,null,5460,0.84817844776434703,0.789151488014606,0.64844203451131899,1.0541350525883,0.638007626632624,0.64665641246961303,0.55229790277877799,0.17937861202386399]
[null,null,null,null,null,null,null,null,null,null,5461,0.84448215511462099,0.79011686481547305,0.66229383281987897,1.0468255018117201,0.66238342910495296,0.66672435560277998,0.56688699231430295,0.282596947694147]
[null,null,null,null,null,null,null,null,null,null,5462,0.83849361767370101,0.79214461849312001,0.67806052379897996,1.03387705697831,0.68757262383478601,0.68840037774736795,0.58381904790706496,0.38180250525451498]
[null,null,null,null,null,null,null,null,null,null,5463,0.83601005650814897,0.79702652144942998,0.69422341235339402,1.0182032331012001,0.71019652762315,0.70859498699840495,0.60228853459767695,0.45797480160409498]
[null,null,null,null,null,null,null,null,null,null,5464,0.83988877222410896,0.80514800334442804,0.70971409689379406,1.0027105819236899,0.72806121650121502,0.72576682419763605,0.62058439084172501,0.50530773093040704]
[null,null,null,null,null,null,null,null,null,null,5465,0.84733527131821396,0.81484165880206705,0.72410813095525695,0.99043729240092304,0.74085945614016502,0.74006743441156297,0.63617333429369305,0.52893198862358903]
[null,null,null,null,null,null,null,null,null,null,5466,0.85411091441913201,0.82419191334889996,0.73735496649534404,0.98406329518930802,0.74904050632953001,0.75208301672934297,0.64663869671416596,0.536922149398672]
[null,null,null,null,null,null,null,null,null,null,5467,0.85712325904792996,0.83033830989017798,0.74769157721193502,0.98399800507023905,0.75266228544529501,0.76074064064272895,0.650934258612899,0.53377296919383399]
[null,null,null,null,null,null,null,null,null,null,5468,0.85332928261270502,0.83020093712027498,0.75259280624880498,0.98745860725969403,0.75342560416556603,0.76457453179715695,0.64983113585297603,0.52506794906893595]
[null,null,null,null,null,null,null,null,null,null,5469,0.84353031450994598,0.82389424893388696,0.75211154593892704,0.98943192605935304,0.754403237087652,0.76454767754020903,0.646485004196234,0.51490484921415602]
[null,null,null,null,null,null,null,null,null,null,5470,0.83104522677639103,0.81451828175876795,0.748936464361041,0.98664334504300399,0.75817770172800902,0.76372469967993994,0.64511440052486901,0.50771928307953396]
[null,null,null,null,null,null,null,null,null,null,5471,0.81916220374604998,0.80498132466823202,0.74579721373556795,0.980531630773681,0.76504979707987697,0.764747645757473,0.648503360025242,0.50652022718003697]
[null,null,null,null,null,null,null,null,null,null,5472,0.80844953992011204,0.79609996036286201,0.74345513108239503,0.976791040487481,0.77342966290923698,0.76769575982708105,0.656551736697086,0.51129253792419904]
[null,null,null,null,null,null,null,null,null,null,5473,0.79822999191905897,0.78759915564688698,0.74129082025164805,0.98025384959109096,0.78123675759850097,0.77102444708872098,0.66698396903941803,0.51964754983080297]
[null,null,null,null,null,null,null,null,null,null,5474,0.78768016179707501,0.78016463453588103,0.73939143563632304,0.99038822289845296,0.78753352147230504,0.77382073173155497,0.677248247786569,0.52886740713883595]
[null,null,null,null,null,null,null,null,null,null,5475,0.77860783081917295,0.77606549629640098,0.73947401173782401,1.0021929917715899,0.79306709801647002,0.77670231407081403,0.68618062255885903,0.53757411788751697]
[null,null,null,null,null,null,null,null,null,null,5476,0.77441182078140702,0.77766251310866996,0.74347126648647399,1.0106355792561399,0.79968635638501095,0.78145249809889505,0.69419679679082502,0.54555712414518898]
[null,null,null,null,null,null,null,null,null,null,5477,0.77933405116473697,0.78650305820392696,0.75263065073273505,1.0145620281443499,0.80898681154315699,0.78977824909823702,0.70241024490367798,0.55325273686351895]
[null,null,null,null,null,null,null,null,null,null,5478,0.79198760632976395,0.79980824836255204,0.76536452674770705,1.01628285284145,0.82086076745360403,0.80162395523822205,0.711719763497629,0.56176853587344999]
[null,null,null,null,null,null,null,null,null,null,5479,0.80430814745245205,0.81074894164672595,0.77720947432033305,1.01762257929582,0.83377975507340696,0.81474351531156197,0.72275514022382803,0.572055478552282]
[null,null,null,null,null,null,null,null,null,null,5480,0.80753223850915301,0.81380811518902196,0.78466112958141698,1.01851364305624,0.84724736887427499,0.82704996008598397,0.73552762778482395,0.58448191524843296]
[null,null,null,null,null,null,null,null,null,null,5481,0.80314217989307901,0.811738719491229,0.79004487509511501,1.01926905076556,0.86259071848333702,0.83967106486324505,0.75022602482400103,0.59832642877458198]
[null,null,null,null,null,null,null,null,null,null,5482,0.80293028800602595,0.81389062499785403,0.79986965488448503,1.02228390612746,0.88044148065925998,0.85567876426455403,0.76635222087675503,0.61209988144500604]
[null,null,null,null,null,null,null,null,null,null,5483,0.81479942064808497,0.825515632848422,0.81711911021619599,1.0296824033654599,0.89873285151005899,0.87542894547202399,0.78250696748228699,0.624397809755175]
[null,null,null,null,null,null,null,null,null,null,5484,0.83499777235940298,0.84298669581569596,0.83781210518435301,1.04081693464284,0.91334006032563397,0.89506595424315005,0.79695589194261096,0.63458806148534297]
[null,null,null,null,null,null,null,null,null,null,5485,0.851835515859939,0.8566808109224,0.85341678379651198,1.0528220354560101,0.92132818852170195,0.90850998355148305,0.807869749330825,0.64285212623810495]
[null,null,null,null,null,null,null,null,null,null,5486,0.857028145346867,0.86068047408318804,0.85917648356410103,1.06321569367594,0.923102093509369,0.91343528701148402,0.81451325267004104,0.64974790282557404]
[null,null,null,null,null,null,null,null,null,null,5487,0.85271655152447401,0.85671882916348896,0.856865622809453,1.0713313172697601,0.92084115274227096,0.91150411139849796,0.81769268645792903,0.65621116070222496]
[null,null,null,null,null,null,null,null,null,null,5488,0.84536221510118104,0.84964202563141999,0.850567911109819,1.0783039719560099,0.91793853510476697,0.90591488541989995,0.81928497558135704,0.66342488466842198]
[null,null,null,null,null,null,null,null,null,null,5489,0.841223503783326,0.84500341222076603,0.84503126791410699,1.08591274466479,0.91895533017119202,0.90063963367453903,0.82198831628270097,0.67202964294217704]
[null,null,null,null,null,null,null,null,null,null,5490,0.84254817942304505,0.84600691825366403,0.84441317954657502,1.0948086330772999,0.92707338232718695,0.90056636994274197,0.82862058654054804,0.68200304815244805]
[null,null,null,null,null,null,null,null,null,null,5491,0.84687897147028401,0.85247028012923298,0.85020011145919205,1.10421056991696,0.94136995991790295,0.90832889986531495,0.84001966712062404,0.69206760488554997]
[null,null,null,null,null,null,null,null,null,null,5492,0.85056300083424097,0.86087350679589403,0.85953665071149099,1.11244967365645,0.95543171551407702,0.92101587084287195,0.85326200970302202,0.699983844789973]
[null,null,null,null,null,null,null,null,null,null,5493,0.85113559413611595,0.86706576239761501,0.866655168856731,1.1180393749078199,0.95987421184226296,0.93042652551670002,0.86222783631685795,0.70266124940128805]
[null,null,null,null,null,null,null,null,null,null,5494,0.84939423314875995,0.86844477134815701,0.86541190356958098,1.1205683205093599,0.945547992970178,0.92655517011967503,0.85883587451593202,0.69574582585198297]
[null,null,null,null,null,null,null,null,null,null,5495,0.84593073705410404,0.86390699066057297,0.85219173690573402,1.1216953772409799,0.91038677384538302,0.90314600981123105,0.83696986992981004,0.67597606260506704]
[null,null,null,null,null,null,null,null,null,null,5496,0.84402228175906702,0.85641103882955605,0.82966745740855496,1.12407677210359,0.86149334981165704,0.86331096490795201,0.79774736590161699,0.64487212493871404]
[null,null,null,null,null,null,null,null,null,null,5497,0.84606550788087898,0.84971790885639298,0.80428332708873995,1.1295505986649901,0.812461348846376,0.81736757215122202,0.75015145285863405,0.60961781220366495]
[null,null,null,null,null,null,null,null,null,null,5500,0.86719906358130505,0.84669808229740895,0.762230614980976,1.1340547969820201,0.74255159208036303,0.73746217582542795,0.66014158336968798,0.54967406932193796]
[null,null,null,null,null,null,null,null,null,null,5501,0.862901487924849,0.84366080988861902,0.75980995668389795,1.12731963696894,0.744234071793893,0.73451969927474503,0.65644192363651699,0.54966022536899695]
[null,null,null,null,null,null,null,null,null,null,5503,0.84081620020667502,0.83691712106668803,0.76849318955383505,1.12314510070938,0.76543049779392203,0.75130957597428805,0.67130162370083302,0.56512973210092099]
[null,null,null,null,null,null,null,null,null,null,5504,0.82955108174432302,0.83307891818569801,0.77376791610004703,1.1296410151599401,0.77558098305604495,0.76278113190802899,0.68250165581278599,0.57520894482337903]
[null,null,null,null,null,null,null,null,null,null,5507,0.81797118847052497,0.83136130003702802,0.78907586593477197,1.175750339952,0.80941023328538997,0.79475961198328704,0.71490935714874204,0.60825667659075999]
[null,null,null,null,null,null,null,null,null,null,5508,0.82749080988100798,0.84000962391581002,0.80090330833911805,1.1942776240233599,0.82434140821234203,0.80947159607795105,0.72798062646493999,0.62082685406414195]
[null,null,null,null,null,null,null,null,null,null,5510,0.82734180300460503,0.83588469145023003,0.80641112354772904,1.2232536168849399,0.83957955300398202,0.82404497224703499,0.75114186880962197,0.64370573815087195]
[null,null,null,null,null,null,null,null,null,null,5511,0.80855853878423101,0.81673834122100197,0.79377577700681601,1.22996287977156,0.83936268858839103,0.819149385834263,0.75792037086465502,0.65290989736644101]
[null,null,null,null,null,null,null,null,null,null,5514,0.75585071737959597,0.77142053814170897,0.76395436674371897,1.2220778898679701,0.86177906269609394,0.81395300934854797,0.77802411173330799,0.681123644417157]
[null,null,null,null,null,null,null,null,null,null,5515,0.76248411875758604,0.78280674376201997,0.77822225542990398,1.2159620385527901,0.88773294204275099,0.83408017412803903,0.793985368180815,0.69360545479677804]
[null,null,null,null,null,null,null,null,null,null,5517,0.81694329860319903,0.84478931187641704,0.84569577012177499,1.2025473285634201,0.95488041834408499,0.90696724699258902,0.84233224291721098,0.72284235516796902]
[null,null,null,null,null,null,null,null,null,null,5518,0.85293155090783002,0.88112511415272199,0.88434494119790796,1.19567155969427,0.98240885788171595,0.94470968948541301,0.86797965367338303,0.73719871102044598]
[null,null,null,null,null,null,null,null,null,null,5521,0.90762987625562896,0.936069608292741,0.94028385683840199,1.17229932020703,1.0039207668102701,0.98889977404269902,0.90582391868354395,0.76521837042129504]
[null,null,null,null,null,null,null,null,null,null,5522,0.90871033208868002,0.93786249059494098,0.940186064257023,1.16679663760452,0.99724013665947098,0.98382253753886795,0.90441648825896903,0.76806269653961301]
[null,null,null,null,null,null,null,null,null,null,5524,0.90020104212952101,0.92765766403805205,0.92550083983794396,1.1739451543757999,0.97283145293137296,0.95920422377654802,0.88686503495885904,0.76324018976534103]
[null,null,null,null,null,null,null,null,null,null,5525,0.88810501372890605,0.91471896105539696,0.91295070243211496,1.17860836445783,0.96064281014245301,0.94402357383504898,0.87462140852917103,0.75887596511682798]
[null,null,null,null,null,null,null,null,null,null,5527,0.85345541725882201,0.88177024411041305,0.89003003958222104,1.16279399683897,0.95147101314112104,0.92375785831244495,0.85908364047168795,0.75761008528746798]
[null,null,null,null,null,null,null,null,null,null,5528,0.84351427400254697,0.87408735057720199,0.88847091089610297,1.14768892108201,0.95624675113508395,0.92454293884249505,0.859014956743817,0.76179526197510306]
[null,null,null,null,null,null,null,null,null,null,5531,0.86942059719973797,0.89931063315609205,0.91371113120345704,1.1755187566649401,0.97590627346456404,0.95047943715319905,0.87550665229376001,0.78124328660192]
[null,null,null,null,null,null,null,null,null,null,5532,0.87510062447646597,0.90331032240459197,0.91427689530114697,1.21066446225698,0.97828329774005895,0.95286008089669505,0.88046294652838297,0.78652670452573403]
[null,null,null,null,null,null,null,null,null,null,5534,0.86983616639498196,0.90192250451093803,0.91014333339529296,1.2677473842453999,0.99257972794636395,0.95920520475012505,0.89602204498963101,0.79950495897700702]
[null,null,null,null,null,null,null,null,null,null,5535,0.86734678535036602,0.90373442864366904,0.91393101714375902,1.28093950561495,1.0094350316218199,0.97091234332012,0.91212548144959504,0.81284984963229601]
[null,null,null,null,null,null,null,null,null,null,5538,0.88405346865567003,0.928814238709467,0.948544496600909,1.28777689589782,1.0656725170157499,1.0203572526910001,0.97681729303547005,0.878631844615957]
[null,null,null,null,null,null,null,null,null,null,5539,0.89792947949050195,0.94217254223620595,0.96365313697136601,1.2866250257537699,1.0798299527133599,1.03449056651489,0.99324722138496602,0.89722436400639605]
[null,null,null,null,null,null,null,null,null,null,5541,0.91937328478032598,0.96005010910398003,0.98754336954126598,1.27215755362422,1.1023790311828601,1.0610653184618399,1.01875890959171,0.92551773495869105]
[null,null,null,null,null,null,null,null,null,null,5542,0.91766341173625099,0.95766586143355303,0.98994184093008297,1.25511272277404,1.1059364744725899,1.0681019631778801,1.02632025448783,0.93532609670252698]
[null,null,null,null,null,null,null,null,null,null,5545,0.89802844677012605,0.93665512879197799,0.97455587902471597,1.20011025557205,1.08591426044316,1.0519443155707799,1.0181527955949199,0.93795280324522101]
[null,null,null,null,null,null,null,null,null,null,5546,0.90077834121993205,0.93781507289867105,0.97278599117418196,1.1959104845998401,1.08169790220527,1.0449434919386,1.01182302264979,0.93420218943869604]
[null,null,null,null,null,null,null,null,null,null,5548,0.92665528089123395,0.95834078047654203,0.98500856230349998,1.2146763171514801,1.08326638404793,1.04672154964296,1.00769779786261,0.929261279626726]
[null,null,null,null,null,null,null,null,null,null,5549,0.94124990484718296,0.96960313999255399,0.99135433741808898,1.2285981091004201,1.08120598406429,1.0483004276139201,1.00801297658932,0.92683916540739197]
[null,null,null,null,null,null,null,null,null,null,5552,0.94030284384538698,0.96680080773337795,0.97479226755252002,1.2451498014953,1.05869569200957,1.0213482702600001,1.0066756987141501,0.921680580713367]
[null,null,null,null,null,null,null,null,null,null,5553,0.929097805481094,0.95682262520056205,0.96410179869966295,1.23920101810184,1.0551204626236399,1.0113725094321799,1.01014977616395,0.926026436816483]
[null,null,null,null,null,null,null,null,null,null,5555,0.90848821376923905,0.93672896389125704,0.94631771587936397,1.22579127275636,1.05465787156631,0.99948967031188596,1.02256056213923,0.94090167936423297]
[null,null,null,null,null,null,null,null,null,null,5556,0.90165721234144902,0.92929422696414798,0.93915900069114,1.2303820407430199,1.0544101267599,0.99492528240646805,1.0277319061453101,0.94681634920802504]
[null,null,null,null,null,null,null,null,null,null,5559,0.89283062935159596,0.92340155338211705,0.93076385513917304,1.28725970829959,1.04892558697039,0.98719763582283304,1.02687621659734,0.94557505349988302]
[null,null,null,null,null,null,null,null,null,null,5560,0.89106988918165497,0.92357457439317803,0.93149711047542105,1.3038380264748799,1.0475287478369799,0.98775781830166898,1.0216032478506001,0.94043309026587696]
[null,null,null,null,null,null,null,null,null,null,5562,0.88236655520282503,0.91748072568581696,0.93196266805486405,1.31765255481694,1.0509578215023201,0.99307527858459199,1.0145451490350099,0.93515719847235201]
[null,null,null,null,null,null,null,null,null,null,5563,0.87725486721914103,0.91256746316771797,0.931014030679718,1.31915643557758,1.0545857618359,0.99681623611519099,1.01562771782192,0.93713392409685004]
[null,null,null,null,null,null,null,null,null,null,5566,0.85924997608658105,0.89827834063729906,0.92007320819521099,1.2701376890064899,1.04661043943697,0.99537866782321605,1.0125733118432101,0.92405056847935296]
[null,null,null,null,null,null,null,null,null,null,5567,0.858615376828338,0.89921977852318802,0.91919530001028205,1.2434499749007399,1.0317457904438401,0.98938903448086601,0.99618547114114597,0.89776360852796899]
[null,null,null,null,null,null,null,null,null,null,5569,0.87112567182905998,0.91163146621828595,0.92509828436337205,1.2378822730463399,0.990358007500038,0.97235338894199097,0.93413513693552197,0.81217709005192595]
[null,null,null,null,null,null,null,null,null,null,5570,0.88046547796808905,0.91941676843025999,0.92830267291216495,1.25491242372171,0.97157872127005795,0.96325841160321402,0.89909057201292797,0.76856211459846802]
[null,null,null,null,null,null,null,null,null,null,5573,0.89501583580148303,0.93199995995823903,0.92498261130645199,1.28287782028773,0.9486811258965,0.94194116367708502,0.84401566974986297,0.708442043578559]
[null,null,null,null,null,null,null,null,null,null,5574,0.89919272910913295,0.93549598481318397,0.92483234524955704,1.2823308802473199,0.95370146163846503,0.94233274271740197,0.84725363097179696,0.712969505840092]
[null,null,null,null,null,null,null,null,null,null,5576,0.91037900160784302,0.94505422000162798,0.93525581224875398,1.2926967147983099,0.97738784108555798,0.95940085696743604,0.87579824012940699,0.74303680638690806]
[null,null,null,null,null,null,null,null,null,null,5577,0.91312648324618695,0.94813599493783796,0.94211395552438404,1.3091020465116301,0.99053883107040397,0.97061218467523203,0.89331671569000803,0.76121113733452805]
[null,null,null,null,null,null,null,null,null,null,5580,0.91538822769712302,0.94950739099611303,0.95150260241204199,1.34465953303974,1.00583051062676,0.98463105872073398,0.92384708680864402,0.79201486687740696]
[null,null,null,null,null,null,null,null,null,null,5581,0.91199284577383799,0.94594230855089001,0.948486810465069,1.33783493896435,1.0030049228304401,0.98119439642221995,0.92511350376144397,0.79192873019709797]
[null,null,null,null,null,null,null,null,null,null,5583,0.89053329565557104,0.93032007058732602,0.93565590074379501,1.2966096238279601,1.0017986118173501,0.97341599971195203,0.926137418970014,0.79344558038750901]
[null,null,null,null,null,null,null,null,null,null,5584,0.87209872025277302,0.917755183562601,0.92753707001583796,1.26579900365086,1.0053070371503601,0.97225823578515502,0.93137933120994798,0.80166244890642901]
[null,null,null,null,null,null,null,null,null,null,5587,0.80099227052266397,0.861669637129715,0.89220224506157397,1.2375121477333599,1.0051968759916801,0.96384816705200604,0.94939006734959996,0.82738104197697204]
[null,null,null,null,null,null,null,null,null,null,5588,0.78638490868617505,0.84760666175222299,0.88231221022728501,1.2637364147104899,0.99866933185005602,0.95814820586229599,0.94493249820911696,0.82079746958545197]
[null,null,null,null,null,null,null,null,null,null,5590,0.788428128018834,0.84513451744312496,0.87970124788726201,1.30093247168237,0.97986528100669701,0.95102267515432404,0.91841826596718501,0.78304622135780799]
[null,null,null,null,null,null,null,null,null,null,5591,0.79997606460630699,0.853846528223834,0.88491090359971603,1.3011011081967301,0.96891860148796605,0.94888501381464196,0.89901483336006605,0.75736370928722097]
[null,null,null,null,null,null,null,null,null,null,5593,0.83015186027349297,0.87760119328438801,0.89775758905668401,1.3106822354373799,0.94470212365913397,0.94254799057726002,0.85521664953983301,0.70486057482415199]
[null,null,null,null,null,null,null,null,null,null,5594,0.84812382068546799,0.89033037755997202,0.90119837492208699,1.3291671928537001,0.92681568420148097,0.934699495668328,0.83194021059009804,0.67915714610091305]
[null,null,null,null,null,null,null,null,null,null,5597,0.86773018061928497,0.87479837903935598,0.83602122992300398,1.33289886581207,0.81273043153176605,0.83601901407752699,0.73129879127680497,0.58691090582705396]
[null,null,null,null,null,null,null,null,null,null,5598,0.85213707301183905,0.84888066826685404,0.79532060240497904,1.29405307298579,0.78029664802834098,0.79031330531880795,0.69615227612140096,0.56305035222265598]
[null,null,null,null,null,null,null,null,null,null,5600,0.82067314405176695,0.81914795161226694,0.75837588151062896,1.2000395026652699,0.77671933673669102,0.75699703326824896,0.67805197296942699,0.56691243254051105]
[null,null,null,null,null,null,null,null,null,null,5601,0.81501246441528497,0.82144014120443898,0.76477634065538003,1.17667827897157,0.790194917715353,0.76786796490606901,0.69280727491352201,0.586905889105512]
[null,null,null,null,null,null,null,null,null,null,5604,0.85345437157466797,0.85739306943910198,0.78418017324936296,1.26038691093101,0.78792722000900095,0.77707400483552203,0.70565402362907903,0.60185325056099004]
[null,null,null,null,null,null,null,null,null,null,5605,0.88096254998663703,0.87576111406326795,0.78800164536111805,1.29413361578039,0.78208033505591801,0.77099371463583699,0.69519353731023403,0.59219123960985298]
[null,null,null,null,null,null,null,null,null,null,5607,0.92503098417181695,0.91131026818400296,0.80611558892518098,1.3387760956604899,0.788799628780399,0.77638188288715704,0.68930662605628201,0.58896869045912004]
[null,null,null,null,null,null,null,null,null,null,5608,0.934375913185853,0.92211879880550296,0.81646313652399305,1.3622388076409599,0.79872454703376505,0.78578139659038504,0.69700824535747397,0.59808502109974904]
[null,null,null,null,null,null,null,null,null,null,5611,0.93677751749036897,0.93116128371796403,0.83983984834013203,1.35505357109832,0.828871408857207,0.81634974857489295,0.73162069272939401,0.636159222508351]
[null,null,null,null,null,null,null,null,null,null,5612,0.93074400457088402,0.92696795333349602,0.84251499415991005,1.3074938250066099,0.83012658786618199,0.82256711938191196,0.73724287412272205,0.640626598614639]
[null,null,null,null,null,null,null,null,null,null,5614,0.88926061717010396,0.895002794030899,0.82382664185985099,1.2019041888941699,0.80708200837381305,0.81107237082954897,0.72440135603011102,0.62043152905516596]
[null,null,null,null,null,null,null,null,null,null,5615,0.862515397179067,0.874237884002941,0.80654633413013199,1.17965822198312,0.788936022608281,0.79474347770133202,0.70646705862928405,0.59713029526977701]
[null,null,null,null,null,null,null,null,null,null,5618,0.84446397412589902,0.85694375343930895,0.78103605509298402,1.19277246085535,0.75715858487669996,0.76005208615692299,0.65441991974370195,0.53191719627925604]
[null,null,null,null,null,null,null,null,null,null,5619,0.85110759080472798,0.860341752344573,0.78075946819032405,1.1763495412912199,0.75319237847156095,0.75714253940945597,0.64394364809554105,0.51881379946386996]
[null,null,null,null,null,null,null,null,null,null,5621,0.86562293790989797,0.86871952090009597,0.78600582929258,1.09811543588341,0.75144478330821396,0.75878121164911905,0.63091618996070398,0.50238112025643999]
[null,null,null,null,null,null,null,null,null,null,5622,0.86610242441729601,0.868477984436684,0.78824348936159006,1.0376164891367701,0.75366321809145598,0.76200233067221201,0.63083651098216098,0.502096348380492]
[null,null,null,null,null,null,null,null,null,null,5625,0.83006028440017199,0.84422484420681898,0.78179029148410495,0.83356554315669895,0.76332004728499403,0.76911885350746201,0.65331216261055103,0.52659015192235303]
[null,null,null,null,null,null,null,null,null,null,5626,0.83224904603883398,0.84510428532561099,0.78026929235296505,0.78848990852345702,0.76187758887920498,0.76809442734975597,0.66011385720786497,0.53419289074551801]
[null,null,null,null,null,null,null,null,null,null,5628,0.86603748051465901,0.85744614741938696,0.76888077031186997,0.76372099985901598,0.74561159607451399,0.74979841389916602,0.65863124003426299,0.536684442601154]
[null,null,null,null,null,null,null,null,null,null,5629,0.88589188712687195,0.86352678359900903,0.76034870355012296,0.775964439365456,0.739202733294267,0.73708655478589202,0.65286338963685497,0.53491168630725805]
[null,null,null,null,null,null,null,null,null,null,5632,0.92139786917532396,0.89242077150608501,0.78012648247043503,0.82061115202803003,0.76845494070070597,0.75138868752137,0.66774099094475203,0.56226264166862205]
[null,null,null,null,null,null,null,null,null,null,5633,0.92084875236113395,0.89930843841803798,0.79460831885985805,0.827075529436192,0.78018459731469203,0.76613600082429101,0.68234115452288702,0.57827209089902398]
[null,null,null,null,null,null,null,null,null,null,5635,0.900950115792857,0.89195493229207901,0.79902592804458505,0.83714009169187997,0.779132720235583,0.77267050475520804,0.69568097152878405,0.59349958264663105]
[null,null,null,null,null,null,null,null,null,null,5636,0.88678170468800399,0.88119161971551696,0.79004937540129705,0.84221838373640301,0.771179389968627,0.76574168719217095,0.69235471583558506,0.59179407017293195]
[null,null,null,null,null,null,null,null,null,null,5639,0.86441005652071601,0.86125534022530503,0.76576086380256903,0.82512119422996499,0.75916426569339701,0.74887243860137398,0.67686600032003796,0.57813363968679599]
[null,null,null,null,null,null,null,null,null,null,5640,0.86092608704136397,0.85905154009656304,0.76385782473507702,0.82301255989056399,0.76175003720161505,0.74954589988363596,0.67604264597619601,0.57630059514004695]
[null,null,null,null,null,null,null,null,null,null,5642,0.85576449957846201,0.85889314859454602,0.76990472077600802,0.84923101705169302,0.775681980825491,0.76056770193466505,0.68328257598676301,0.58091714619534895]
[null,null,null,null,null,null,null,null,null,null,5643,0.85751784484931104,0.86164638196468801,0.777209009065151,0.86949625346478798,0.78620237692691397,0.76979792827110105,0.69129744035952601,0.58835216886734998]
[null,null,null,null,null,null,null,null,null,null,5646,0.87182157631422796,0.87647252662854103,0.80817777520175904,0.90079440292889301,0.82692582219408295,0.80770053632716199,0.72868941239402796,0.63095723739785603]
[null,null,null,null,null,null,null,null,null,null,5647,0.87594042716188103,0.88378378901216603,0.82001014218574897,0.89262216604724998,0.84146708437855999,0.82212164643797703,0.74304584345855496,0.64822475783187505]
[null,null,null,null,null,null,null,null,null,null,5649,0.88956140878364798,0.90589946947045796,0.84926219556876603,0.84741812521607796,0.87000368574097997,0.85336799804872299,0.77119419443180004,0.68052320048788795]
[null,null,null,null,null,null,null,null,null,null,5650,0.90165650155348198,0.92161492648863197,0.86705576231489201,0.81568285308435395,0.88424469828052199,0.87063993123578798,0.78498960158129005,0.69560809740588703]
[null,null,null,null,null,null,null,null,null,null,5652,0.92755984937720903,0.95192614515993002,0.90125116683270801,0.75777475043058895,0.91348507641816101,0.905541424061578,0.81381506235987899,0.728362744970246]
[null,null,null,null,null,null,null,null,null,null,5653,0.93197902579355796,0.957707070586167,0.91195264886709504,0.73733351378263401,0.92685746004581804,0.92000355868833805,0.82934989834049799,0.74639294746564999]
[null,null,null,null,null,null,null,null,null,null,5656,0.88990139329471596,0.917718721122187,0.89795198667587806,0.70878572179836896,0.94559822120738701,0.93251011870729295,0.86695661402163904,0.79205278583931005]
[null,null,null,null,null,null,null,null,null,null,5657,0.86382963038084604,0.89245664393197599,0.88114614476805797,0.71605075476717694,0.94495325059956903,0.92664959569527505,0.87326388632308205,0.80226991481273602]
[null,null,null,null,null,null,null,null,null,null,5659,0.83522680062987797,0.86436676150382097,0.85806201969187001,0.74981917201748005,0.93433750380393998,0.91309772127911404,0.87499171237081497,0.81038367170513903]
[null,null,null,null,null,null,null,null,null,null,5660,0.84030651163936598,0.865510690881513,0.85273297083126798,0.76778597488772304,0.92017769328459198,0.903188087452653,0.86599552758926002,0.80268231169830995]
[null,null,null,null,null,null,null,null,null,null,5663,0.87161499387262598,0.87533313148151304,0.83074994104258304,0.79700669172919503,0.86550989062408401,0.85521915559470896,0.80632915639163505,0.73501257798523401]
[null,null,null,null,null,null,null,null,null,null,5664,0.88349938361626001,0.88174536386019897,0.82881788854253402,0.80045187595156098,0.85496936334824003,0.84529856907463996,0.78826909096654996,0.71043873576926098]
[null,null,null,null,null,null,null,null,null,null,5666,0.89616958861134299,0.88832493291634795,0.826709342877881,0.816192506210206,0.83778601638801997,0.83382783210842004,0.76428466282283802,0.67677304192990395]
[null,null,null,null,null,null,null,null,null,null,5667,0.89145216936162197,0.88228511799938802,0.81906661187999896,0.828466717441384,0.82635812939833597,0.82498408749887897,0.75404090545566804,0.66469167880760305]
[null,null,null,null,null,null,null,null,null,null,5670,0.88340972868650203,0.86944591280517203,0.79709522244507902,0.85475030508442895,0.80683122373629301,0.79961636519791601,0.72890225238196305,0.63983428224990302]
[null,null,null,null,null,null,null,null,null,null,5671,0.895087965829653,0.87997945251334997,0.804532565981807,0.86002040343339003,0.81529983053403998,0.80443854082851995,0.73122790545537397,0.64270046845475803]
[null,null,null,null,null,null,null,null,null,null,5673,0.93339190860221,0.918273403074226,0.84066973813754897,0.861479521927765,0.84603539496999203,0.83478257034756598,0.75292522544829898,0.66496818594500395]
[null,null,null,null,null,null,null,null,null,null,5674,0.95051477604772905,0.93683961333299504,0.86065235126357698,0.85377757676791799,0.86180111193817099,0.85345566597163902,0.76731184373206496,0.679994164605211]
[null,null,null,null,null,null,null,null,null,null,5677,0.96812610906672403,0.96135250166672004,0.89653702003295699,0.79397440396242003,0.89900353076860595,0.89628186535668797,0.80616933091249798,0.72108930489249301]
[null,null,null,null,null,null,null,null,null,null,5678,0.96240043431594302,0.95848319699832296,0.899955512774954,0.76412062370712797,0.90917749672746095,0.90537221481513297,0.81710699103071704,0.73316170723316598]
[null,null,null,null,null,null,null,null,null,null,5680,0.93979420765935495,0.94466821037931603,0.90380146839247,0.71406368827778099,0.93309175063922201,0.92453574657158899,0.84183702194398102,0.76141164277537099]
[null,null,null,null,null,null,null,null,null,null,5681,0.92882269880924395,0.93944362004507298,0.90888701765506796,0.70670562238240897,0.94777709403410704,0.93763387970313605,0.85742756382343899,0.778611675353994]
[null,null,null,null,null,null,null,null,null,null,5684,0.92117843150371803,0.94050743086646904,0.93248607785402304,0.72929940653005099,0.97823472339219997,0.97512998424717601,0.89907926063709598,0.82434260924341296]
[null,null,null,null,null,null,null,null,null,null,5685,0.92110113640944802,0.93890025810412603,0.93262440040490102,0.72858490389869301,0.97645882762145397,0.976515076527391,0.90431910571486296,0.83086430195873195]
[null,null,null,null,null,null,null,null,null,null,5687,0.90964016264054204,0.92390909862312998,0.91726874365551003,0.70031857867693603,0.965123481475336,0.96333427524340798,0.90139189796756003,0.82845214083112295]
[null,null,null,null,null,null,null,null,null,null,5688,0.90853993159540902,0.92271868524002398,0.91499572156593501,0.68251447215359795,0.96366250673907194,0.96036091129289103,0.89706455940657504,0.82355093091786202]
[null,null,null,null,null,null,null,null,null,null,5691,0.95624284454612896,0.97052367962747299,0.95242956979084603,0.67084924169637705,0.97778855605993298,0.98304454500508298,0.89236784256186796,0.82205478710134305]
[null,null,null,null,null,null,null,null,null,null,5692,0.97367587495532704,0.98519359668870699,0.962876345620027,0.67369116180171096,0.98233921127766899,0.98927633220822597,0.89541827767669102,0.82814758444312497]
[null,null,null,null,null,null,null,null,null,null,5694,0.97953469921163805,0.98622862871568795,0.95904081523082896,0.67191449689988603,0.98841729492133901,0.98810999399171795,0.90755424418175101,0.84827625496674397]
[null,null,null,null,null,null,null,null,null,null,5695,0.96869629547936098,0.97549391727651802,0.94929007954382705,0.67232984184464595,0.99371655201704101,0.98548095021702897,0.91730728578868204,0.86208959891533299]
[null,null,null,null,null,null,null,null,null,null,5698,0.90974685179693404,0.92668468392816505,0.92298130839678005,0.71132749758454505,1.01482194035589,0.98958326895298998,0.95813772286263399,0.91415202006725305]
[null,null,null,null,null,null,null,null,null,null,5699,0.89076041572283005,0.91208183575900204,0.91767469635629395,0.72725315931919499,1.0206562481634101,0.99313048227057599,0.97065370215729296,0.93116713743446999]
[null,null,null,null,null,null,null,null,null,null,5701,0.86991211305824301,0.89702840727306699,0.91391128292391799,0.73619269666435305,1.02988823298929,1.00106786439634,0.99097872180101199,0.96178058276050504]
[null,null,null,null,null,null,null,null,null,null,5702,0.87028095937087402,0.89807059422556601,0.91708406792793096,0.72817263598923099,1.0356362484655199,1.00586643057589,0.99989683206715596,0.97610307901615201]
[null,null,null,null,null,null,null,null,null,null,5705,0.88267771805794104,0.91101114086011503,0.93889267914766905,0.70012204568001701,1.0695612255351601,1.0347326720099399,1.03765923361596,1.0233895772783099]
[null,null,null,null,null,null,null,null,null,null,5706,0.87086663738928205,0.902086161222588,0.93739623364261204,0.69982625974617696,1.0816291545416601,1.0439847313220001,1.0541084868014901,1.0411103719407699]
[null,null,null,null,null,null,null,null,null,null,5708,0.83359819367082899,0.87403010758872901,0.92673289651243596,0.71033303618190302,1.1018938513149501,1.0587291836697601,1.08317419771366,1.07177856461187]
[null,null,null,null,null,null,null,null,null,null,5709,0.82506818740350296,0.86881246540718804,0.92722439442858995,0.72219231390336602,1.10733636342939,1.06556636277223,1.0901589075178499,1.07816789079312]
[null,null,null,null,null,null,null,null,null,null,5712,0.86257283392640405,0.900236232951934,0.94667050069279102,0.77251672321666998,1.0862927826654201,1.0624345762810601,1.0551435998705201,1.02952159195751]
[null,null,null,null,null,null,null,null,null,null,5713,0.88870983274068305,0.91983647235792598,0.95607006818409201,0.78415509143114503,1.0764231328792999,1.05788943909132,1.03417743804999,1.00135005997062]
[null,null,null,null,null,null,null,null,null,null,5715,0.936946432646382,0.95194381496783798,0.97096162429564004,0.79203806966541501,1.05963270629911,1.0511593877871599,1.0051720846391701,0.96051794820436398]
[null,null,null,null,null,null,null,null,null,null,5716,0.95103918806646104,0.95829001284603998,0.96958617368275801,0.79200664656297703,1.04784951813812,1.0423387079773001,0.99526383106245198,0.94584367909149503]
[null,null,null,null,null,null,null,null,null,null,5718,0.96814195614309695,0.96493515583908696,0.96012662976120999,0.79327740218496801,1.0296176571296001,1.01932962302807,0.97776124516788299,0.92213989741950197]
[null,null,null,null,null,null,null,null,null,null,5719,0.97680932527558395,0.97210451290113697,0.96296036178203204,0.79172392651179002,1.03190501938798,1.01713566340076,0.97552479212564802,0.919631739859474]
[null,null,null,null,null,null,null,null,null,null,5722,1.0068741179290699,1.0015614237503301,0.99788705189960203,0.75891068493290104,1.0622868802410299,1.0494979577310799,1.00408935583134,0.95274223531350299]
[null,null,null,null,null,null,null,null,null,null,5723,1.00716893376005,0.99975775835955505,0.99824853641587397,0.75710673498110403,1.06341203650125,1.0525488460764501,1.0164942388373499,0.96648855881636897]
[null,null,null,null,null,null,null,null,null,null,5725,0.98056661947145696,0.97063737116570703,0.97068778206200901,0.795953093388717,1.04879931117389,1.03356326404902,1.0332280138936301,0.98739754976216199]
[null,null,null,null,null,null,null,null,null,null,5726,0.96062233681406695,0.95174094801222198,0.95271289638599499,0.82619289645111305,1.0435915563795699,1.0201941829782799,1.0379000492399999,0.99666562503689404]
[null,null,null,null,null,null,null,null,null,null,5729,0.94489164140422499,0.94432754883308101,0.95679507042769296,0.87694922134160902,1.0821328441123199,1.0360317245809401,1.07009076297567,1.04496792573638]
[null,null,null,null,null,null,null,null,null,null,5730,0.94988209794595202,0.95234501154704099,0.97268275710616003,0.87119699168126397,1.1034373035938601,1.05692648665427,1.08886176955195,1.0672932363834999]
[null,null,null,null,null,null,null,null,null,null,5732,0.96088246994359805,0.96800067849072802,1.00268264343644,0.85089642912932995,1.1346797085968701,1.0944838959663601,1.11992301452764,1.0994428636628999]
[null,null,null,null,null,null,null,null,null,null,5733,0.97064971805199496,0.97767766085246199,1.0151003745504401,0.84742145045163597,1.1396336760599901,1.1064854073564601,1.12478892842545,1.0981649585734901]
[null,null,null,null,null,null,null,null,null,null,5736,0.98435124978336896,0.98427989905020097,1.0139785395838701,0.87293616277082098,1.10790774998402,1.09466275765595,1.06952511450331,0.97752267930728598]
[null,null,null,null,null,null,null,null,null,null,5737,0.98162385666269103,0.98144172622196602,1.00791071431686,0.872809128204732,1.09902425968298,1.0862120654963701,1.0408563357031,0.918052319593605]
[null,null,null,null,null,null,null,null,null,null,5739,0.97597834639766201,0.97951926308724702,1.00762145582537,0.83843035196556703,1.1065320947935,1.08853591374133,1.0173898619341599,0.85702349119129195]
[null,null,null,null,null,null,null,null,null,null,5740,0.97518806805171498,0.98212725177861904,1.01438244520768,0.81504479687074605,1.1189253310869001,1.0992250244983499,1.02545400730257,0.86080492383577301]
[null,null,null,null,null,null,null,null,null,null,5743,0.98412071922771505,1.00128394453826,1.04841694303488,0.80169475654960398,1.1646097134921201,1.1466992119138699,1.0742769448576499,0.91498448617005801]
[null,null,null,null,null,null,null,null,null,null,5744,0.99330723294366197,1.0113496239715301,1.0636742111037101,0.81439096377203601,1.18245518582201,1.1661667356248999,1.0913197065981199,0.93356345134590601]
[null,null,null,null,null,null,null,null,null,null,5746,1.00526314737337,1.0242989144633901,1.0873410079364101,0.84961748681191795,1.2135645896509499,1.19883720305143,1.12656272958336,0.97057119944139703]
[null,null,null,null,null,null,null,null,null,null,5747,1.0007205550121401,1.02180914865537,1.0895990950996,0.87273422626282904,1.22501424342607,1.2064673563138899,1.1443586967456301,0.98923093519619798]
[null,null,null,null,null,null,null,null,null,null,5750,0.98970239066265897,1.0167408781031,1.09793679705752,0.93977908024798196,1.26047778820892,1.22897525521275,1.19302688951476,1.0412449891818201]
[null,null,null,null,null,null,null,null,null,null,5751,0.98539735214448598,1.01420922435699,1.1016797197549799,0.95982433583322502,1.2699839170978799,1.23855345721563,1.2065712408418501,1.0571589329005]
[null,null,null,null,null,null,null,null,null,null,5753,0.965268094356311,1.00130634510022,1.0994214994256599,0.98896866573252795,1.2800114213478999,1.2463705025554499,1.2300499681060699,1.0868698487875901]
[null,null,null,null,null,null,null,null,null,null,5754,0.96586204931097397,1.0033395579026201,1.10267463006289,0.99200263471893901,1.28053532720688,1.2478315807248399,1.2392139239258899,1.0983841507471099]
[null,null,null,null,null,null,null,null,null,null,5757,1.01817212520533,1.03945706886836,1.1151259167665399,0.95658979680955902,1.22289540427468,1.22134846048035,1.2124826192190401,1.0803961521322201]
[null,null,null,null,null,null,null,null,null,null,5758,1.01992609282891,1.0355911868715499,1.0937512509382501,0.94057537084064202,1.1729025531639601,1.1824642904676099,1.17088503154853,1.04550660298049]
[null,null,null,null,null,null,null,null,null,null,5760,0.98143178867747405,0.99033647798749602,1.01203895539606,0.91563391419295703,1.0657186931210101,1.0736765989103101,1.06177058765099,0.95669829523491801]
[null,null,null,null,null,null,null,null,null,null,5761,0.96048949302856601,0.96527813996414802,0.97382261877105203,0.91335380621456497,1.0284945319179299,1.02718863080784,1.01612698567265,0.92234232601075805]
[null,null,null,null,null,null,null,null,null,null,5764,0.99385229678777898,0.97294853252148605,0.95597175560537195,0.96280001025414896,1.0011024189939399,0.98629938184635901,0.96598507346672202,0.89562375591724497]
[null,null,null,null,null,null,null,null,null,null,5765,1.021491198741,0.99317147013571905,0.97024677983898799,0.97898064898146597,1.0067135510585701,0.99397092364309803,0.96910411349529302,0.90296488867551195]
[null,null,null,null,null,null,null,null,null,null,5767,1.0510120693399401,1.0197294334031299,0.99343087675046604,0.99624638897316897,1.02277992993256,1.0135174940637099,0.98417521229736804,0.92237154472525296]
[null,null,null,null,null,null,null,null,null,null,5768,1.05169371337989,1.02436560299409,1.00145427045222,1.0018096289974701,1.03361316625042,1.02444492808229,0.99470569672537301,0.93368654473685098]
[null,null,null,null,null,null,null,null,null,null,5771,1.03051883240924,1.0190090095117601,1.0181841778513601,1.0424834264503899,1.06577607791285,1.0562199163834201,1.0292110736531499,0.97232223798147799]
[null,null,null,null,null,null,null,null,null,null,5772,1.02321391204349,1.01433041460513,1.0212393210895101,1.06571947914026,1.07324196810003,1.0636534143432701,1.03778659548123,0.98400060399593603]
[null,null,null,null,null,null,null,null,null,null,5774,1.0134191326772499,1.0059075685800301,1.02427766773644,1.0965808746961101,1.08293138382563,1.0733067780722301,1.0502821765647301,1.00268979235305]
[null,null,null,null,null,null,null,null,null,null,5775,1.01191628172417,1.0040637190913899,1.0258623035018199,1.1000289515780599,1.08710471066009,1.07754684060386,1.05614515876014,1.0118333310548699]
[null,null,null,null,null,null,null,null,null,null,5777,1.00707995102746,1.00268073173026,1.0313703071561899,1.1024235407358201,1.09732218776432,1.08983721499524,1.07406975441248,1.0372889626942201]
[null,null,null,null,null,null,null,null,null,null,5778,0.99550633880209005,0.99744564000815705,1.03271356386193,1.1059685109186701,1.10184328436454,1.09733158658913,1.0876044653055501,1.0541103765497]
[null,null,null,null,null,null,null,null,null,null,5781,0.90937190839471305,0.94011269247159701,1.01019247773198,1.1216355306169701,1.1208946245675,1.1107666028127099,1.1366596110401199,1.1111538830163601]
[null,null,null,null,null,null,null,null,null,null,5782,0.88627257830704997,0.92295336034180198,1.0012327926851201,1.12477437074194,1.1343513946666499,1.1130473241715699,1.15139815342492,1.12845137450358]
[null,null,null,null,null,null,null,null,null,null,5784,0.87247305346974302,0.91307379182426596,0.99557518872561002,1.13321609620192,1.16024601139884,1.11767874929893,1.1739970071143699,1.1553359809750099]
[null,null,null,null,null,null,null,null,null,null,5785,0.87979637426773805,0.91922707237801005,1.0005305811848599,1.1370046176592701,1.1706940289808101,1.1217769380670399,1.1816440233165,1.1648237195453599]
[null,null,null,null,null,null,null,null,null,null,5788,0.94265047932114898,0.96778787993848803,1.04288182983254,1.14236933944732,1.2045369884330199,1.1507250812946801,1.2046041273767401,1.18999112746545]
[null,null,null,null,null,null,null,null,null,null,5789,0.95985137101190898,0.98068407660393198,1.05592214441168,1.1476743407844401,1.2178878916876099,1.1621276312745299,1.2162159967080499,1.2017393345710199]
[null,null,null,null,null,null,null,null,null,null,5791,0.98309331272179501,1.0022768807657101,1.0847170814006999,1.1673622069768299,1.2582428070286999,1.19543605588299,1.24762740351576,1.23554291296273]
[null,null,null,null,null,null,null,null,null,null,5792,1.00007114738717,1.0204607128414001,1.10918990672026,1.1816894167415399,1.2841913652682,1.2230602230354399,1.26787499160117,1.25708734472432]
[null,null,null,null,null,null,null,null,null,null,5795,1.0425494216784099,1.06503825172158,1.1754709061262101,1.2187825297314201,1.34082279311981,1.30180090681504,1.33110438446297,1.32213147272832]
[null,null,null,null,null,null,null,null,null,null,5796,1.0354430760520099,1.0603933238930201,1.1781715887711699,1.2308486295202401,1.3503648898212599,1.3117553817816601,1.3482001463887201,1.3410921091196]
[null,null,null,null,null,null,null,null,null,null,5798,1.02419309850346,1.0545457545755399,1.1852090228810299,1.2383782946767601,1.38243714443711,1.33145169357119,1.38052970425194,1.3779448986482901]
[null,null,null,null,null,null,null,null,null,null,5799,1.03753734143858,1.0674161953899199,1.20322754635243,1.2281753631650201,1.40651388890497,1.3517886461161199,1.39706374442693,1.39576303799236]
[null,null,null,null,null,null,null,null,null,null,5802,1.0827814015013799,1.1062242882046101,1.2561217986935,1.23291151316467,1.4641591954601401,1.4099290463796099,1.4398669505529,1.44641527381889]
[null,null,null,null,null,null,null,null,null,null,5803,1.07388112680238,1.0999102836335899,1.25443951557906,1.25608665688689,1.47456565039661,1.4159364926962199,1.4542147148953299,1.4659781120267299]
[null,null,null,null,null,null,null,null,null,null,5805,1.044539520172,1.08239727408839,1.2438148981974999,1.28945342529254,1.48019929345266,1.4188094371826401,1.47706175745386,1.49718104886456]
[null,null,null,null,null,null,null,null,null,null,5806,1.0380963163151999,1.0803336209176599,1.2415509463672501,1.2867291155457901,1.46849511272102,1.4147917409497399,1.4760697789516699,1.49723957268209]
[null,null,null,null,null,null,null,null,null,null,5809,1.05093460106703,1.0804560001675101,1.2020861778284999,1.2141814966954501,1.32548738060639,1.31756592808401,1.3675190745525401,1.3798771387792099]
[null,null,null,null,null,null,null,null,null,null,5810,1.05727848004183,1.0761582305215001,1.17113333004217,1.2055209345404601,1.2568948450500199,1.25514351324692,1.2974865382352301,1.3067454530322899]
[null,null,null,null,null,null,null,null,null,null,5812,1.0549813586765,1.05663489358004,1.1036075392051501,1.2381024570238,1.14893774336871,1.1378103943225599,1.1677181327109201,1.1743366052430699]
[null,null,null,null,null,null,null,null,null,null,5813,1.0451604847967699,1.04256896758923,1.0744800915580901,1.2600352648958599,1.1145835448524599,1.0960725173133601,1.12395552784774,1.12901120538266]
[null,null,null,null,null,null,null,null,null,null,5816,1.02213285640759,1.0174496378598099,1.02638303881299,1.25945306339484,1.0679596097589601,1.0352012701783699,1.06311700518871,1.0660146068393599]
[null,null,null,null,null,null,null,null,null,null,5817,1.03219582549622,1.02307733075922,1.0268163841718501,1.24029098515067,1.0645061196324701,1.0310030196348099,1.0579605884793,1.06184257912964]
[null,null,null,null,null,null,null,null,null,null,5819,1.0685502609172499,1.0420618491626501,1.0385370529059601,1.1995128137375399,1.0650217054225599,1.0304834238503,1.05432910077361,1.0600696932532001]
[null,null,null,null,null,null,null,null,null,null,5820,1.08011848689309,1.0485394935665699,1.0443991459986901,1.18112039975799,1.0697950704752699,1.0326393266560401,1.0558868408612101,1.06323009505612]
[null,null,null,null,null,null,null,null,null,null,5823,1.0667631586155,1.0508548750323401,1.0592168919131,1.12103135910671,1.1033495214664299,1.0550777554444,1.08630376906935,1.0998187450772701]
[null,null,null,null,null,null,null,null,null,null,5824,1.06146229271519,1.05219696156081,1.06745729943301,1.10737327549705,1.1166155272674601,1.06708510584382,1.10153181015362,1.1149794989081001]
[null,null,null,null,null,null,null,null,null,null,5826,1.06584229988739,1.06116681688467,1.0888406785545299,1.1085789894162199,1.13938808928348,1.0913246616941701,1.12627381515783,1.1379792345362301]
[null,null,null,null,null,null,null,null,null,null,5827,1.0711571763187999,1.0662089164479001,1.10011984633042,1.12137789938312,1.15156567569011,1.1037367743550499,1.13561588914409,1.14854035563084]
[null,null,null,null,null,null,null,null,null,null,5830,1.0804543032948299,1.07833128768274,1.13666442045676,1.1994667063406099,1.2029826709034299,1.1550187179861999,1.1823385657999701,1.2084649853799301]
[null,null,null,null,null,null,null,null,null,null,5831,1.0771056154663901,1.0792350709662799,1.1460560867059899,1.23540611996625,1.2206670708673,1.1723805654741599,1.2045924524040399,1.2345185552776501]
[null,null,null,null,null,null,null,null,null,null,5833,1.0612491632679799,1.0745263964488401,1.15197931288801,1.30165884521362,1.2390549890307401,1.1903424458324501,1.23972085093886,1.27171965077241]
[null,null,null,null,null,null,null,null,null,null,5834,1.0527344301955801,1.07042146428422,1.14881116522461,1.3232997115151599,1.2360939241211899,1.1879752017203,1.2439260302950499,1.2729718488831301]
[null,null,null,null,null,null,null,null,null,null,5836,1.0450427577400601,1.0651168305468399,1.1390793850321399,1.35109716594798,1.20551069212034,1.1664789859801701,1.2138887154753799,1.2218096311722]
[null,null,null,null,null,null,null,null,null,null,5837,1.04459625708972,1.06238723609474,1.1317424369948099,1.3649253892284201,1.18028999871994,1.14843717762807,1.18037698774341,1.1690457404418]
[null,null,null,null,null,null,null,null,null,null,5840,1.0621750051108401,1.0669668615199299,1.1251442058166401,1.38290323724071,1.14535848881883,1.1152387417472001,1.09236298322187,1.0312589685667399]
[null,null,null,null,null,null,null,null,null,null,5841,1.0742057943543499,1.0779093514395399,1.1384412490148901,1.3708659511844401,1.15594656252894,1.12667643930606,1.0938417243246199,1.02790003758786]
[null,null,null,null,null,null,null,null,null,null,5843,1.0798883039618301,1.0903351206680401,1.1580233870002801,1.3281185944407401,1.1591736553572201,1.1472318483258901,1.1094958341855901,1.0366792258014299]
[null,null,null,null,null,null,null,null,null,null,5844,1.0703508824102299,1.0846978850945499,1.15074907478834,1.3155201155512199,1.1342989792957301,1.1366332553718801,1.09812810999475,1.0160440915464499]
[null,null,null,null,null,null,null,null,null,null,5847,1.02925476020716,1.0330559853736601,1.045685690789,1.33809737223195,0.94476182695792199,0.98523817677566095,0.91991311803501297,0.77861223682991398]
[null,null,null,null,null,null,null,null,null,null,5848,1.0230099310932399,1.0165147484983199,0.99940805736914895,1.3394850451501099,0.87697330818888897,0.91778530430612304,0.83439368800651303,0.67385104939330298]
[null,null,null,null,null,null,null,null,null,null,5850,1.0117900169564,0.98898887103708499,0.92852402710644999,1.3281843822656001,0.79504529008735203,0.82211968259505097,0.70999094520079697,0.529279299889444]
[null,null,null,null,null,null,null,null,null,null,5851,1.0009604988566401,0.97550739632585604,0.90866285406067004,1.32633730722967,0.78081886655169197,0.80040668162561002,0.68248172689984399,0.49851466199272398]
[null,null,null,null,null,null,null,null,null,null,5854,0.97467250296529995,0.95464589596916805,0.90443524741431902,1.33551213514065,0.79555266428441995,0.80144670584847899,0.685257109282015,0.50230320983136301]
[null,null,null,null,null,null,null,null,null,null,5855,0.97032709296113995,0.95319198746705902,0.911151786574662,1.33196609629494,0.80700693286342495,0.80977632039596004,0.69596830001068,0.51517688716445498]
[null,null,null,null,null,null,null,null,null,null,5857,0.95720222071977901,0.94988382653649295,0.92208130180464698,1.3126239158367099,0.82759382860657604,0.825493033546012,0.71857430663255495,0.54278825454054602]
[null,null,null,null,null,null,null,null,null,null,5858,0.95589152187672499,0.95384725086458,0.92744153463062495,1.3120965250460099,0.83301156190065795,0.83130337485976802,0.72813040696835196,0.55426923907295]
[null,null,null,null,null,null,null,null,null,null,5861,0.98139182635834399,0.973795521306833,0.91933493394676702,1.3799804959117199,0.81005493496677505,0.81544296610571598,0.72226490445509695,0.55389678956746902]
[null,null,null,null,null,null,null,null,null,null,5862,0.98332457664505502,0.96865712908785595,0.90286923727460699,1.3927159473927,0.79887000230761396,0.79943504334484405,0.71022464361216298,0.54521538548513004]
[null,null,null,null,null,null,null,null,null,null,5864,0.97446211386463399,0.95113185865050198,0.87810460746339603,1.37919724582404,0.80162086626987605,0.78322361572309696,0.70544018730218705,0.55067237096008603]
[null,null,null,null,null,null,null,null,null,null,5865,0.96846351039156198,0.94426569384366099,0.87586286321269202,1.3791244594957499,0.81283682714791705,0.78671388946984899,0.717936046740415,0.56833310023315797]
[null,null,null,null,null,null,null,null,null,null,5868,0.97892740459156702,0.95712522613126905,0.89672603511993798,1.46321233006103,0.82776176085104802,0.80555492866849299,0.751408847925368,0.601252871519806]
[null,null,null,null,null,null,null,null,null,null,5869,0.99299747088073498,0.97141274378807196,0.90409623385998605,1.48234731848196,0.81615666069129,0.80376970328475805,0.74378202148730999,0.58722915859153801]
[null,null,null,null,null,null,null,null,null,null,5871,1.0101500305130899,0.98437923626420498,0.89573501082479201,1.4844245973902801,0.77343925429321903,0.77790975544720498,0.69932527842941705,0.52904147205671803]
[null,null,null,null,null,null,null,null,null,null,5872,1.0096610389123699,0.98002393251594699,0.88188748211079304,1.4784780977535701,0.75223773254176596,0.75907275622919801,0.671261713544821,0.49660435646648998]
[null,null,null,null,null,null,null,null,null,null,5875,0.99658410809736298,0.95946157675616095,0.84751868580961898,1.4500196729325701,0.71628370800223196,0.71913597473978697,0.61290967016092301,0.43441741413037199]
[null,null,null,null,null,null,null,null,null,null,5876,0.98678804739942305,0.95087678690288202,0.83927140709006298,1.4263552313713199,0.71197206463930196,0.71278183270107098,0.60445111859596401,0.42637624793284201]
[null,null,null,null,null,null,null,null,null,null,5878,0.95177022988645199,0.926760358193498,0.82772406793954101,1.3891332839517601,0.719583191269074,0.71248897967818503,0.60733449052463695,0.43064955677699701]
[null,null,null,null,null,null,null,null,null,null,5879,0.93290384383436198,0.91707598790801603,0.82871957706650601,1.3898447165502901,0.73049391656090401,0.719976956966904,0.61904336791588299,0.442553079277481]
[null,null,null,null,null,null,null,null,null,null,5882,0.920779639156734,0.93092694102472895,0.86252293510336198,1.3931829617176801,0.76524766598869298,0.75483183966786405,0.66032688778543303,0.48327555960152502]
[null,null,null,null,null,null,null,null,null,null,5883,0.92338347244091601,0.93982679554545301,0.87470071357532297,1.3724471663738,0.771699927350185,0.76362198640287304,0.66940356726541295,0.491934256843503]
[null,null,null,null,null,null,null,null,null,null,5885,0.89751212271372105,0.93143518791907398,0.87621406845512795,1.32903039577149,0.75963179869402198,0.76267885084173803,0.67411153128561296,0.48878071419992702]
[null,null,null,null,null,null,null,null,null,null,5886,0.85792556792517405,0.90533544040605396,0.85851682532462104,1.3282770707751299,0.73525533303426704,0.747440013042874,0.66530927084190195,0.46983428812040101]
[null,null,null,null,null,null,null,null,null,null,5889,0.64581678874346604,0.74398454043514695,0.74372767597438105,1.3958443457257701,0.64044391026973901,0.65747380771890296,0.60111301915871795,0.36396804363315199]
[null,null,null,null,null,null,null,null,null,null,5890,0.60884803969864598,0.71803348353275898,0.72918657002377496,1.41343568870905,0.64603702365748905,0.64930606293340498,0.59678207928532401,0.35467418118527599]
[null,null,null,null,null,null,null,null,null,null,5892,0.64439161450101701,0.753751552677982,0.76507865617422399,1.41785337768305,0.69353743923931599,0.684310685216585,0.63295212636646803,0.40097728578292602]
[null,null,null,null,null,null,null,null,null,null,5893,0.67082878980341298,0.77468556926495302,0.78079483950218498,1.4010110613537401,0.69480315793426195,0.69547294723208497,0.64681085536217098,0.42035297664177901]
[null,null,null,null,null,null,null,null,null,null,5896,0.66550875235579798,0.75649435568057,0.74250173543002196,1.3553293647286599,0.63370987479533902,0.64584381074889397,0.60367107994519698,0.37854576405165002]
[null,null,null,null,null,null,null,null,null,null,5897,0.68887762053972701,0.76630654911863505,0.73418419011324199,1.3703181503692601,0.63057579834877397,0.63465121665420599,0.58636769156504298,0.36971402668386799]
[null,null,null,null,null,null,null,null,null,null,5899,0.78336000109486204,0.81735567589886304,0.74047776269560905,1.4190255744342399,0.64326519525439296,0.63504867154239297,0.56733379738783596,0.38174885938401998]
[null,null,null,null,null,null,null,null,null,null,5900,0.82714808053266597,0.84173347335544402,0.74957964444728797,1.4386545078872399,0.651282655883336,0.64035690371245602,0.564331472715356,0.39401391767508698]
[null,null,null,null,null,null,null,null,null,null,5902,0.88214521256315903,0.87505153652478695,0.77162705453844005,1.46010734496691,0.66226655937878098,0.65395393424943704,0.56951181688707697,0.41685472349227098]
[null,null,null,null,null,null,null,null,null,null,5903,0.89400567016254895,0.88102542794252903,0.77500210202453201,1.4671601998264301,0.65891468614925597,0.65412470103803499,0.56846602380365696,0.416684563958792]
[null,null,null,null,null,null,null,null,null,null,5906,0.90376917284648095,0.87996381275322999,0.75573604864298405,1.53846043064926,0.63663416927014604,0.63103238665193395,0.53951596570112903,0.37863133149058398]
[null,null,null,null,null,null,null,null,null,null,5907,0.90726396073191495,0.88298872847806298,0.75394400133397499,1.5632399418599601,0.63658413436397998,0.62841710583711397,0.53519390097858799,0.37372466143638]
[null,null,null,null,null,null,null,null,null,null,5909,0.91782287414271002,0.89372662014558701,0.76410067177938601,1.5709987911935599,0.64627056969747498,0.63689308004318801,0.54409258028394303,0.38563684267498]
[null,null,null,null,null,null,null,null,null,null,5910,0.920896646583933,0.89620114026616504,0.76969109894912102,1.55055655342034,0.65172301635379803,0.64276645550115297,0.55186924152970596,0.39603960405447902]
[null,null,null,null,null,null,null,null,null,null,5913,0.89172627119764702,0.87341215838962205,0.76921231326289197,1.4065828573532999,0.67137248227738899,0.65498675494998904,0.57460459673573505,0.42690349244984999]
[null,null,null,null,null,null,null,null,null,null,5914,0.873424052630423,0.86332350647503198,0.770414495700669,1.3644831569731299,0.68247682187014902,0.66207757771340503,0.58581944867803704,0.43998261855145199]
[null,null,null,null,null,null,null,null,null,null,5916,0.85538143604092798,0.86318781871164396,0.78500114275975497,1.3680412575022201,0.70494171698642805,0.68189465128892401,0.61328142465323598,0.46912481491098601]
[null,null,null,null,null,null,null,null,null,null,5917,0.858466085345852,0.87029184788332803,0.793439937488436,1.40567387256048,0.71206170852235895,0.69015053649949598,0.625322950970291,0.48167696881903899]
[null,null,null,null,null,null,null,null,null,null,5920,0.88430828306267295,0.88499350493481899,0.79881012570643395,1.5022032944824699,0.710052371320117,0.69389691540143905,0.63748483761715702,0.49823476938134797]
[null,null,null,null,null,null,null,null,null,null,5921,0.88576996237235195,0.88236696857007801,0.79305629493838503,1.52305056762123,0.70582690661806402,0.68903877020437898,0.63414005075364799,0.49682904109762299]
[null,null,null,null,null,null,null,null,null,null,5923,0.88590972922928302,0.87945978534247404,0.786341301686449,1.5591798074838199,0.70246197881174399,0.682574341001841,0.62644451677433499,0.49237964103835802]
[null,null,null,null,null,null,null,null,null,null,5924,0.89198037719228396,0.88478779839507105,0.79061360143732595,1.56433059871424,0.70452432788698904,0.68459306909837903,0.62470003403347796,0.492710646794152]
[null,null,null,null,null,null,null,null,null,null,5927,0.91386995240381397,0.90652332399952595,0.81421520964567395,1.51007109717859,0.722463552587568,0.70066427525199204,0.63177723751705395,0.50530781930277402]
[null,null,null,null,null,null,null,null,null,null,5928,0.91427035674789303,0.90966104713801899,0.82125737074697602,1.5055533374830901,0.730925107666344,0.70636817411943997,0.63906628856152103,0.51370368230252295]
[null,null,null,null,null,null,null,null,null,null,5930,0.91006975940962598,0.91399022325055101,0.83589458681343098,1.5424651609215601,0.74878809481470898,0.71953048125597896,0.65997450837538196,0.53663574532037295]
[null,null,null,null,null,null,null,null,null,null,5931,0.90972299253560196,0.91783629668674105,0.84402339549056105,1.56458407778528,0.75746848970908298,0.72787785120909798,0.67169359706980802,0.54931716410979003]
[null,null,null,null,null,null,null,null,null,null,5934,0.89674745272161904,0.91566887573227795,0.86100783371694001,1.5842170023228099,0.78453551653182996,0.75524776455020104,0.70344873651912798,0.58341305196808402]
[null,null,null,null,null,null,null,null,null,null,5935,0.89314526022817997,0.91303489305591301,0.86631757199583703,1.5707245700619601,0.79443653669588199,0.76378237790041104,0.712705254227744,0.59317916989769903]
[null,null,null,null,null,null,null,null,null,null,5937,0.90074444548347599,0.91680178604422402,0.88147635651165901,1.51333678155678,0.81262660778268303,0.77852528098548801,0.73044849040637705,0.61693897821510901]
[null,null,null,null,null,null,null,null,null,null,5938,0.90346402430818495,0.91941668301556601,0.88804457013560401,1.4754293152964699,0.81998522178140498,0.78443962351297203,0.74055469801215201,0.63239409367198895]
[null,null,null,null,null,null,null,null,null,null,5941,0.88368780372996503,0.91301706692669604,0.89484192103854698,1.4417262100719801,0.83647141858552498,0.80051195611066694,0.77751775427883396,0.67980314823548305]
[null,null,null,null,null,null,null,null,null,null,5942,0.88302825267046303,0.91687267766118297,0.90252637554383597,1.45161565871023,0.84438534176996105,0.80991234992086603,0.78965535216719196,0.69420784935301705]
[null,null,null,null,null,null,null,null,null,null,5944,0.90144030161331601,0.941072884818696,0.92626817353184399,1.42687340782002,0.85686675755547503,0.82860470560002297,0.80876042859699504,0.71576543362253697]
[null,null,null,null,null,null,null,null,null,null,5945,0.91211791895869299,0.95172070243547602,0.93250830691578501,1.3906526463353901,0.85353675544428298,0.83042404469286302,0.81131803932808799,0.71775624545751204]
[null,null,null,null,null,null,null,null,null,null,5948,0.91488040403053705,0.93667296086267904,0.89497725937284001,1.3025986851259099,0.80475271912193502,0.79029570008250705,0.76871745461834795,0.671487617788047]
[null,null,null,null,null,null,null,null,null,null,5949,0.910764943775351,0.92327134003478295,0.87519271092412299,1.3067062982987301,0.79224815606415899,0.77432877669916,0.74777072638856101,0.65084304091672796]
[null,null,null,null,null,null,null,null,null,null,5951,0.90830074109894199,0.910735660534431,0.86233945665415201,1.3417162555665301,0.79455127104458501,0.76921076137351696,0.73277573357399395,0.63995887187209699]
[null,null,null,null,null,null,null,null,null,null,5952,0.905582176288379,0.90857124317870996,0.86575419533179199,1.3556441428630801,0.80106454876371302,0.77586620877785994,0.73879634352638301,0.64739484117127899]
[null,null,null,null,null,null,null,null,null,null,5955,0.888536988521483,0.893156208245099,0.849829625544266,1.3413588686290201,0.78428382743513603,0.76668224965918297,0.73654819596682997,0.63388104910999199]
[null,null,null,null,null,null,null,null,null,null,5956,0.88461437935570297,0.88796994715351696,0.83738355922716401,1.32387855697029,0.77563028147078295,0.75588593531566495,0.72594278263506096,0.61878227221275905]
[null,null,null,null,null,null,null,null,null,null,5958,0.89918243611687099,0.89968504762477597,0.83799648558839501,1.2612336828794599,0.77935103442570997,0.75406877739563904,0.71881084821516605,0.61092646632306902]
[null,null,null,null,null,null,null,null,null,null,5959,0.91836773509917302,0.91677300065575995,0.852837469995256,1.2195772037317401,0.78966205758749197,0.76448937763519198,0.72545499424196702,0.62089590834879804]
[null,null,null,null,null,null,null,null,null,null,5961,0.95171323801548802,0.94674545759434403,0.88273278427165502,1.17093238404016,0.81087778028327695,0.78806029949477496,0.74750325379793503,0.65191481169253296]
[null,null,null,null,null,null,null,null,null,null,5962,0.95665968333587204,0.95201956245544395,0.88930752548373104,1.1760694308730399,0.81847015702021597,0.79563899196160803,0.75832696742314998,0.66690013815579496]
[null,null,null,null,null,null,null,null,null,null,5965,0.93859713543829204,0.94364850183847504,0.89303109553776305,1.2652147612201801,0.84159444680304596,0.81208795068455197,0.78939334814982398,0.70704624874265198]
[null,null,null,null,null,null,null,null,null,null,5966,0.93791965544891398,0.94623869611883804,0.899712836763368,1.3013485735536501,0.85106547411046596,0.82122334420704501,0.80134111348223902,0.72098782071338396]
[null,null,null,null,null,null,null,null,null,null,5968,0.95730922147583697,0.96528835727886397,0.92152187895398197,1.3572717903245299,0.86731898368241001,0.84331647905435903,0.82314821106626601,0.74737712545915802]
[null,null,null,null,null,null,null,null,null,null,5969,0.970912137014454,0.97540863639492803,0.93078861638920096,1.3735811574761401,0.87228931581674396,0.85210483190248498,0.83091910074038999,0.75735557768853801]
[null,null,null,null,null,null,null,null,null,null,5972,0.98899288873999602,0.98302328508255798,0.93058966498284801,1.37339624759325,0.87147408359687495,0.85333747496163004,0.83909379923901195,0.76271549527591498]
[null,null,null,null,null,null,null,null,null,null,5973,0.98295359366454405,0.97791945260755198,0.92417887435305901,1.3677803037695599,0.87046880333054899,0.85067991007960597,0.83989223188247597,0.76169137296920697]
[null,null,null,null,null,null,null,null,null,null,5975,0.95712038106056996,0.96040974005063695,0.91215450095496997,1.3802348233677899,0.871615721599176,0.85184704440582404,0.84460653830022603,0.767989645221828]
[null,null,null,null,null,null,null,null,null,null,5976,0.94386931843158695,0.94994278385897801,0.90697475849759601,1.38815531720312,0.87314408057429005,0.85413807248810103,0.847350486847958,0.77403208180569405]
[null,null,null,null,null,null,null,null,null,null,5979,0.93841121304374997,0.93746299479614204,0.905094463390684,1.3725745847216,0.892019730161693,0.86888232588103398,0.86098571109288102,0.80069870193966097]
[null,null,null,null,null,null,null,null,null,null,5980,0.94251908267514795,0.94048056679484604,0.90962317185979902,1.36442320262288,0.90178278949398105,0.87753696789955804,0.870552697240637,0.81289380893665197]
[null,null,null,null,null,null,null,null,null,null,5982,0.93670948738268001,0.94152179531643598,0.91538922488097496,1.3643399570905399,0.91903251296788802,0.89474819449822096,0.89407173939665197,0.83971262333473495]
[null,null,null,null,null,null,null,null,null,null,5983,0.92940180239551295,0.93868823098113796,0.91625171113440296,1.37613602957033,0.927034679055182,0.90271200477038704,0.90680909449045,0.85426064187557404]
[null,null,null,null,null,null,null,null,null,null,5986,0.95059151484891702,0.95899029014836001,0.94039487569756197,1.44114340626521,0.95377673771934901,0.93546426055059895,0.94671280402661795,0.897723589960707]
[null,null,null,null,null,null,null,null,null,null,5987,0.96705117743838998,0.97164834479214901,0.95111104685660397,1.45776812071996,0.963123997216215,0.94641821072872101,0.95878773615971502,0.90924834416184797]
[null,null,null,null,null,null,null,null,null,null,5989,0.98929073727127803,0.98828927445319803,0.96763226681660497,1.4763162926418301,0.98773847013651295,0.96976130767136604,0.98443142067107003,0.93803776082519996]
[null,null,null,null,null,null,null,null,null,null,5990,0.99619541334622297,0.99477875439260299,0.97772440771971403,1.4801453067254899,1.00416507253806,0.98597431247255496,0.99992223842569905,0.959499896460697]
[null,null,null,null,null,null,null,null,null,null,5993,1.0257466695213,1.0246008026871001,1.0194800665166699,1.4953867074408,1.0529895422055899,1.04251530677494,1.0501679998212501,1.0320857978550499]
[null,null,null,null,null,null,null,null,null,null,5994,1.03344103893794,1.03185714612825,1.0283269289221699,1.5031620566691399,1.0609549114324099,1.0549457563625999,1.0639693143681599,1.0498826140648201]
[null,null,null,null,null,null,null,null,null,null,5996,1.0261729013406899,1.0238041559945701,1.0201563638851201,1.50960492158475,1.05433354456409,1.05688397214872,1.07585544872397,1.0644833830467799]
[null,null,null,null,null,null,null,null,null,null,5997,1.0166758894483501,1.01181328271544,1.0044475866446001,1.51440089622466,1.04035943609768,1.04667395867584,1.0702863445134401,1.05859883323227]
[null,null,null,null,null,null,null,null,null,null,6000,1.0029400731782201,0.98204196000681698,0.94906925931069397,1.55882422549755,0.98800870884399605,0.99501495031929599,1.01852446093412,0.99940721214300798]
[null,null,null,null,null,null,null,null,null,null,6001,1.0003514689776301,0.97919289466461501,0.94383734089148497,1.57075323277225,0.98177407083042201,0.98422043422758299,1.00564643315156,0.984956800395002]
[null,null,null,null,null,null,null,null,null,null,6003,0.99527511130988999,0.98415426598703704,0.96245089442601195,1.58510603281972,0.98385482234116295,0.98446091860107598,1.0041894975011301,0.98562766821436598]
[null,null,null,null,null,null,null,null,null,null,6004,0.99295562625221401,0.98754561155545195,0.97348853784591804,1.5878298261739401,0.98187040433391304,0.98658344073442905,1.0058688642523199,0.98884445858220704]
[null,null,null,null,null,null,null,null,null,null,6007,0.973439238270421,0.97667403699378896,0.96919635391439696,1.51859165251845,0.96481826482113298,0.97444966870578498,0.98787479571498504,0.97630842222775904]
[null,null,null,null,null,null,null,null,null,null,6008,0.97441444799730104,0.976257110520795,0.97091549960386303,1.4779238794405301,0.96742021287955604,0.97627390106295697,0.98648198223953298,0.97922584218486297]
[null,null,null,null,null,null,null,null,null,null,6010,0.99247998576485397,0.99044645186748403,0.99211361040793,1.42456561535043,0.98516086184598695,0.99715107049699203,1.0017998115123701,1.00577203782604]
[null,null,null,null,null,null,null,null,null,null,6011,0.99619383263935102,0.99568950579898696,1.00169465487923,1.4168993849192699,0.99525084827366295,1.00984942693946,1.0141626422444701,1.02411782850952]
[null,null,null,null,null,null,null,null,null,null,6014,0.98208470162542705,0.99345107683431899,1.0122104053059,1.4100834002379601,1.02148531074383,1.0410425751154599,1.0498705220593501,1.07781530896938]
[null,null,null,null,null,null,null,null,null,null,6015,0.978186157383372,0.99168151383646597,1.01501815259908,1.3978615087683,1.0293100277948899,1.0507510976646599,1.06099388851398,1.09535928852233]
[null,null,null,null,null,null,null,null,null,null,6017,0.97255634124749002,0.98577073988446595,1.0205210955294699,1.3765195052324199,1.0473010893338699,1.0694414855041099,1.08450996334293,1.1320570763348401]
[null,null,null,null,null,null,null,null,null,null,6018,0.97470719506005699,0.987210005191549,1.0275731362195299,1.3700918304897101,1.0597700379795201,1.0806463679640199,1.0975240510645701,1.1498004343470301]
[null,null,null,null,null,null,null,null,null,null,6021,1.00061788855875,1.0131061477941501,1.0609684801310499,1.38078284438597,1.09928940090118,1.1143381366574501,1.13490075109252,1.19253084013211]
[null,null,null,null,null,null,null,null,null,null,6022,1.01073248813155,1.02132036159464,1.06878318696687,1.3998688551748899,1.1079705127178401,1.1201492170207199,1.14309033454903,1.20226930098423]
[null,null,null,null,null,null,null,null,null,null,6024,1.02862660929,1.03402078793592,1.0811051044909199,1.40863260650213,1.12188825302145,1.12962919574279,1.1543306631302599,1.2167723534449599]
[null,null,null,null,null,null,null,null,null,null,6025,1.0374853294576301,1.04033887027873,1.0882905001852201,1.3690950924385801,1.1283160988670899,1.1363982568504001,1.1594755617969099,1.22305716378396]
[null,null,null,null,null,null,null,null,null,null,6027,1.0567966954714001,1.0535963596360201,1.10365741365606,1.23603442439011,1.1382134608066401,1.1513540664456701,1.17072205150255,1.23367965885755]
[null,null,null,null,null,null,null,null,null,null,6028,1.06465239125296,1.0585857159277501,1.10941777415608,1.21257510652824,1.1426817467264501,1.15802529496308,1.17828379714136,1.2397863942331799]
[null,null,null,null,null,null,null,null,null,null,6031,1.0690538910121801,1.0601442107296399,1.1165759183586501,1.36538633614001,1.1622442381038101,1.1784751442888499,1.21257610001686,1.2784863206577799]
[null,null,null,null,null,null,null,null,null,null,6032,1.0729930504674601,1.0650051862645999,1.1221824353830601,1.40478555879717,1.1662847897189501,1.18575683519894,1.22006368968927,1.29064549840388]
[null,null,null,null,null,null,null,null,null,null,6034,1.0901440159528799,1.0848450265355201,1.13209563068258,1.4240272089013,1.14703511128268,1.1812052889007201,1.2022006996544801,1.2858139924613099]
[null,null,null,null,null,null,null,null,null,null,6035,1.09710524004372,1.0913244331462599,1.1271240883748701,1.4126185485268801,1.1257593987132399,1.1613977321076101,1.17209341918068,1.26484715372565]
[null,null,null,null,null,null,null,null,null,null,6038,1.09526335513356,1.0852046419271799,1.1102088411559901,1.3626325070156999,1.1168109020789601,1.12902569826383,1.1211143665660499,1.24008550517459]
[null,null,null,null,null,null,null,null,null,null,6039,1.09031360242446,1.08107146166183,1.1165114845853801,1.36419138211726,1.13693213374977,1.146617414666,1.1412372127743,1.2648285168245901]
[null,null,null,null,null,null,null,null,null,null,6041,1.0927327126627,1.0866795733897101,1.14435352884523,1.3944812517405301,1.1813787890727701,1.1960017107249099,1.1921975979061401,1.3220106444094499]
[null,null,null,null,null,null,null,null,null,null,6042,1.10223696577137,1.0970436605035401,1.1630174655725301,1.40274528295249,1.20091641043376,1.2202946647736901,1.21155576451317,1.3447189941506299]
[null,null,null,null,null,null,null,null,null,null,6045,1.1328591532838601,1.12864069483559,1.2119858440306699,1.39102030149028,1.24706319505496,1.28000582716705,1.25706668914578,1.4031110247715299]
[null,null,null,null,null,null,null,null,null,null,6046,1.1359299232098401,1.1332898409423999,1.2208554437108099,1.4021046301823401,1.2579956998753901,1.2942129326777301,1.2728185953392499,1.4237432201342399]
[null,null,null,null,null,null,null,null,null,null,6048,1.1316916998775099,1.13299555718546,1.2247554952919499,1.4468695004654599,1.2671627520120099,1.3078750553613301,1.2978920845858599,1.4565520413661099]
[null,null,null,null,null,null,null,null,null,null,6049,1.1281763845376001,1.1309495103160301,1.2220745829769899,1.4651504194549601,1.26454774842419,1.3068652642991101,1.30340481846189,1.46387304366093]
[null,null,null,null,null,null,null,null,null,null,6052,1.1146279486057999,1.12116871690972,1.2060596450199299,1.50798223920056,1.2529964386817301,1.28793040301593,1.30297973826268,1.46365442282122]
[null,null,null,null,null,null,null,null,null,null,6053,1.10475125440198,1.1145465172356399,1.20035157368069,1.5151986337407699,1.2565105777846099,1.28551543696741,1.3093915392043201,1.4711738377314501]
[null,null,null,null,null,null,null,null,null,null,6055,1.08094136462787,1.0959193902878701,1.1872660634096901,1.4837309824236,1.2655898815861,1.2895581078645999,1.3319947064172699,1.49882314509702]
[null,null,null,null,null,null,null,null,null,null,6056,1.07058279336395,1.0845559878,1.17694218109592,1.44601963601439,1.2651506639968899,1.2887581902590901,1.3382460389444299,1.5070234473060899]
[null,null,null,null,null,null,null,null,null,null,6059,1.07661415995265,1.07928596641654,1.1693512374133499,1.3723847141686401,1.2633154207244199,1.2883045827276001,1.3345468677546599,1.4995146630920899]
[null,null,null,null,null,null,null,null,null,null,6060,1.0828711415773,1.0860141977492399,1.1756550174276701,1.38032626145257,1.2617237686645499,1.2918999877750901,1.33401001989338,1.4959428635298599]
[null,null,null,null,null,null,null,null,null,null,6062,1.07001841916295,1.0794709033001,1.16677555369298,1.39850698416718,1.24151793372855,1.27811443157131,1.3246806204202,1.48832960944121]
[null,null,null,null,null,null,null,null,null,null,6063,1.05525827881523,1.0663799607686399,1.15197105074142,1.4041121041767499,1.2284381529982999,1.26068399081725,1.3117915610448301,1.48237738665929]
[null,null,null,null,null,null,null,null,null,null,6066,1.0701928977800701,1.07508471646294,1.1670458029417301,1.4463702670694101,1.26107484859033,1.2730838117121599,1.3060785666158501,1.5032546819185699]
[null,null,null,null,null,null,null,null,null,null,6067,1.0985082662168399,1.1009057134401199,1.2013865465193401,1.4545242406332499,1.2925767156925101,1.3111883306524199,1.33246828091936,1.5347905018717001]
[null,null,null,null,null,null,null,null,null,null,6069,1.1473195875636399,1.1473107426862099,1.2635894809108601,1.4342021633431801,1.3362717928963199,1.3810386758333599,1.3896543071792999,1.59861852423527]
[null,null,null,null,null,null,null,null,null,null,6070,1.1606442455289701,1.1600246255801401,1.27841174572848,1.41317071703976,1.34008488874627,1.3952348470998299,1.4025856709665001,1.61535394521211]
[null,null,null,null,null,null,null,null,null,null,6073,1.1691647647010199,1.1708710727490601,1.27817869710938,1.3728700759941399,1.3389880513164101,1.3851711743186299,1.3904566284928199,1.62628779424565]
[null,null,null,null,null,null,null,null,null,null,6074,1.1625306555586401,1.16847471583245,1.27705286074997,1.38068716925033,1.3506414808060501,1.3909350760946699,1.40047550669228,1.64431363337485]
[null,null,null,null,null,null,null,null,null,null,6076,1.1391139804602499,1.1545304276061199,1.2701276420681999,1.4189710030616101,1.35357489212378,1.4033985774340401,1.429893553636,1.6835774950753299]
[null,null,null,null,null,null,null,null,null,null,6077,1.12414368959035,1.1425082873759,1.25585677642608,1.4328440542613701,1.33004044685889,1.3885453612684799,1.4208526311746299,1.67789830724109]
[null,null,null,null,null,null,null,null,null,null,6080,1.0814435537115501,1.1029544114572201,1.1914728853655301,1.4436337811664499,1.2494936879304901,1.28924027500612,1.30476154652001,1.58067988849021]
[null,null,null,null,null,null,null,null,null,null,6081,1.0712426688451899,1.09433635287155,1.1831555313203601,1.44362039761047,1.2536856465642801,1.28099338956672,1.28833402130342,1.5715853134506099]
[null,null,null,null,null,null,null,null,null,null,6083,1.06818236685353,1.0939533331633,1.19900389990687,1.43440224222974,1.2932726596214701,1.31731973621883,1.3133449057420401,1.5942079167646801]
[null,null,null,null,null,null,null,null,null,null,6084,1.07388727970682,1.10086031701883,1.2146935469892499,1.42866915670307,1.31127594323509,1.3433959219188401,1.33300391508137,1.5977530371586799]
[null,null,null,null,null,null,null,null,null,null,6086,1.0839077770947001,1.11422011808217,1.23804502055833,1.40775834339336,1.32750301919879,1.37712659832252,1.35218330636437,1.54925933965873]
[null,null,null,null,null,null,null,null,null,null,6087,1.0842431214388299,1.1162902243210699,1.2422060761015901,1.38629389537429,1.32831613530569,1.3833154985405101,1.35369543551025,1.5118993265745899]
[null,null,null,null,null,null,null,null,null,null,6090,1.05072663727572,1.08793022316007,1.22272559568842,1.31715560193238,1.34606733106603,1.3901829535286701,1.3809834169781801,1.50264106939035]
[null,null,null,null,null,null,null,null,null,null,6091,1.04545633931063,1.0833973230877401,1.2237230214280701,1.3159109153330799,1.36570180516901,1.4046772330797299,1.4027810848062501,1.53059676491452]
[null,null,null,null,null,null,null,null,null,null,6093,1.06294210346659,1.1032670190666301,1.2534678666043599,1.34126039391484,1.41335605469959,1.4522049182560499,1.4506663435674201,1.58665344414835]
[null,null,null,null,null,null,null,null,null,null,6094,1.07868219188229,1.12144304633119,1.2758472016929501,1.3549592553747201,1.4336786863258899,1.4778788027135901,1.47176744136573,1.6088998153552001]
[null,null,null,null,null,null,null,null,null,null,6097,1.09931376803859,1.1513847620305699,1.31964743677575,1.36431885271729,1.4629747272334901,1.5255862077337601,1.5140093613013399,1.6547478767409101]
[null,null,null,null,null,null,null,null,null,null,6098,1.09900473142782,1.1520195891468601,1.3244785254903,1.35564274132596,1.4609256434334299,1.53073509101521,1.5220240455363501,1.66513596347528]
[null,null,null,null,null,null,null,null,null,null,6100,1.08335903640204,1.1389700879793101,1.30986600501739,1.33964603935344,1.4219981461245501,1.5073458100258099,1.5146056814361399,1.6618860110767699]
[null,null,null,null,null,null,null,null,null,null,6101,1.06102684020255,1.1192850808640999,1.2833623093442399,1.34000433302882,1.39371831095687,1.47397443783403,1.4960120352302,1.64640118916536]
[null,null,null,null,null,null,null,null,null,null,6104,1.0362107931662901,1.0941034791775801,1.2407314820669499,1.36527714035183,1.4047040642942501,1.4324778117835,1.4897040878385599,1.6626193194044701]
[null,null,null,null,null,null,null,null,null,null,6105,1.05121918646667,1.1089490857172499,1.2564065212188,1.37225611161616,1.43246959512632,1.45776541085561,1.5204440050091801,1.70174795962836]
[null,null,null,null,null,null,null,null,null,null,6107,1.07132972185058,1.12882425750778,1.2807579320589799,1.3717624312691501,1.4610852484174599,1.5006915587233101,1.5771347725327001,1.7723751171036499]
[null,null,null,null,null,null,null,null,null,null,6108,1.0756617734634299,1.1309049264045501,1.2826053927738501,1.3668141338842199,1.4591331194799999,1.50478623592769,1.58732287735761,1.7899089754836299]
[null,null,null,null,null,null,null,null,null,null,6111,1.08520390779438,1.1345901099710101,1.29224801536395,1.3600526282820999,1.47194821181089,1.5133529480475501,1.5962331163383601,1.82173033542484]
[null,null,null,null,null,null,null,null,null,null,6112,1.09333512123051,1.1427396905382501,1.30933504110193,1.3482166193624101,1.4914391774300599,1.53674062771913,1.6124072059227801,1.84203900690266]
[null,null,null,null,null,null,null,null,null,null,6114,1.11171632286303,1.1658491958524999,1.34644794854223,1.2861440834637701,1.50571443970414,1.5768039390609001,1.6310080083473,1.86697136764073]
[null,null,null,null,null,null,null,null,null,null,6115,1.1111934093414,1.1691304744392601,1.35019894285264,1.2414492529033201,1.4940809137389199,1.572667568642,1.61798945644407,1.8615560604425501]
[null,null,null,null,null,null,null,null,null,null,6118,1.0663779089669101,1.1325574448889399,1.3029110515206701,1.17210350438544,1.44257061522888,1.5088110895467199,1.5677037785041501,1.83603459047077]
[null,null,null,null,null,null,null,null,null,null,6119,1.0393313800544901,1.10599598523561,1.2740942319197599,1.1771064603638299,1.42819599226144,1.48561221600836,1.5654438581371,1.8307566786817899]
[null,null,null,null,null,null,null,null,null,null,6121,0.99646270172247697,1.0598789841063201,1.2335303397255699,1.1881660648846899,1.4297606145653099,1.46279177673535,1.57197514531546,1.81515335471957]
[null,null,null,null,null,null,null,null,null,null,6122,0.99901794716013903,1.0603136393024399,1.24283828623866,1.1912913785289501,1.4548104952998799,1.4824531696832199,1.5895665171972799,1.8251714274202]
[null,null,null,null,null,null,null,null,null,null,6125,1.0432006964576299,1.1080352187434801,1.31113048580486,1.19842613049352,1.53747662567072,1.5867155932836401,1.7016099593204299,1.9640667929356099]
[null,null,null,null,null,null,null,null,null,null,6126,1.0390837416212999,1.10920638012782,1.31332601823517,1.1985065029544999,1.55307014311726,1.6022443198921701,1.7350873595079499,2.0122531858758101]
[null,null,null,null,null,null,null,null,null,null,6128,1.0310878435580999,1.11436620214646,1.3205186502253199,1.2021170105798999,1.58603617964302,1.6307189905335999,1.78521747302298,2.0739422695529202]
[null,null,null,null,null,null,null,null,null,null,6129,1.0430116780382901,1.1320666657762199,1.33989472026802,1.2094232938952101,1.59423663200324,1.64958927674663,1.8022226046108101,2.0778920606138298]
[null,null,null,null,null,null,null,null,null,null,6132,1.0779442693107999,1.1714588758070299,1.3710323798545601,1.2450542862337799,1.53226759340427,1.62606596648156,1.7879597499956299,1.9375284929451599]
[null,null,null,null,null,null,null,null,null,null,6133,1.0538314939548801,1.1490659268364301,1.3422348878616399,1.26241764134599,1.5032141362533999,1.58830697848682,1.7686124463090001,1.8834383301695701]
[null,null,null,null,null,null,null,null,null,null,6135,0.96194545047679902,1.066250062275,1.2545688423888,1.30049751481916,1.48501448123848,1.52932941377358,1.75926393275429,1.8696339586406301]
[null,null,null,null,null,null,null,null,null,null,6136,0.92717238649532496,1.03460271062529,1.2273964036879501,1.31467949033262,1.5001790564027799,1.5265145153083499,1.7795852088331501,1.9013864218249401]
[null,null,null,null,null,null,null,null,null,null,6139,0.98104903289534295,1.0830316470150001,1.3084065067681101,1.31183860470768,1.58901449412378,1.63992271883787,1.87510322642529,1.9905326869406601]
[null,null,null,null,null,null,null,null,null,null,6140,1.0122913025435201,1.11365368082414,1.3490416988520799,1.29384723515457,1.6134954065071301,1.68263743728297,1.89966011657642,2.0100787068669601]
[null,null,null,null,null,null,null,null,null,null,6142,1.0420822561736101,1.1436985879928501,1.39694328435229,1.2340719755374101,1.67760848251995,1.75206393668745,1.96000141096716,2.0718976956380399]
[null,null,null,null,null,null,null,null,null,null,6143,1.05373106548732,1.1553368200146901,1.4180029042420099,1.19910271654953,1.7103107703059801,1.7899063422699899,1.99722444142834,2.1094791783829199]
[null,null,null,null,null,null,null,null,null,null,6146,1.06828721862036,1.16976262404819,1.4180202350625399,1.1066936670163601,1.60804255126983,1.7646105177335401,1.9313580413251701,2.0012019568310699]
[null,null,null,null,null,null,null,null,null,null,6147,1.0559645957903701,1.1522295139852801,1.3709220706090299,1.0954707766162499,1.4941224278449501,1.6670518031298101,1.8055518926659899,1.84484391978353]
[null,null,null,null,null,null,null,null,null,null,6149,1.02306964799764,1.0995187766210599,1.2491838024822901,1.1093970652903999,1.29238056651231,1.4277970616555999,1.4980650189687801,1.48858160417052]
[null,null,null,null,null,null,null,null,null,null,6150,1.0166054374376801,1.08547230013183,1.2164549056907701,1.11837786018987,1.2549587368863699,1.35914600934172,1.3982652409399301,1.38444897892063]
[null,null,null,null,null,null,null,null,null,null,6152,1.0307825759456199,1.1000753073764,1.22817706072137,1.12755550169734,1.2541757973332099,1.34729354862717,1.3533183041124299,1.3559543740084501]
[null,null,null,null,null,null,null,null,null,null,6153,1.0364151391410199,1.1100771526687101,1.23733350616606,1.1317730047411401,1.24340347065319,1.3476320721375901,1.3521315550188,1.36089437608644]
[null,null,null,null,null,null,null,null,null,null,6156,1.0137023249594399,1.0783444283177499,1.16065525029452,1.14621134579258,1.1000055991834099,1.2214501882258899,1.2301671241465899,1.2129859342397999]
[null,null,null,null,null,null,null,null,null,null,6157,0.99580802944914504,1.0458370343616199,1.09696755184271,1.14782917435864,1.0179385107468,1.1373913455903699,1.1439502387412199,1.1021323390944699]
[null,null,null,null,null,null,null,null,null,null,6159,0.93492592006769704,0.953838686767157,0.93773384272486704,1.1468994257245599,0.85374886215357804,0.94097107993281204,0.93431731483342795,0.83761176568343498]
[null,null,null,null,null,null,null,null,null,null,6160,0.89294954515316605,0.90301448639672,0.86575009008786696,1.14825524188116,0.79603271883436,0.85877922031713705,0.844198747964098,0.72743187453014702]
[null,null,null,null,null,null,null,null,null,null,6163,0.83805340169921805,0.82905852791554102,0.77215039957748099,1.1799285668609001,0.74395300565802602,0.75849903903703197,0.72777892728872795,0.59221890058317594]
[null,null,null,null,null,null,null,null,null,null,6164,0.86050939803631299,0.84275277898689904,0.77989525276975802,1.1954430373343401,0.75192951241261796,0.76285655173552602,0.72793194466306499,0.59302128407847798]
[null,null,null,null,null,null,null,null,null,null,6166,0.90678431221117695,0.881800434106225,0.81287319916870204,1.2169716732498399,0.77356866824762205,0.78885072488688801,0.75127379464013999,0.62013112493871603]
[null,null,null,null,null,null,null,null,null,null,6167,0.91227091695585505,0.89125735825982699,0.82609821688027096,1.2219187216357701,0.78351790816002997,0.80181542687485396,0.76564589055333498,0.63733619266097696]
[null,null,null,null,null,null,null,null,null,null,6170,0.89433297407506496,0.89157186161726898,0.84842185403517301,1.2268515356277401,0.80549813842066997,0.83313296714423002,0.80187837983515098,0.68646072332520702]
[null,null,null,null,null,null,null,null,null,null,6171,0.90515628080020905,0.89991963867932201,0.85525620069286401,1.2315117952027601,0.80470828045539,0.83822931936316702,0.80641486989401701,0.69466078008050103]
[null,null,null,null,null,null,null,null,null,null,6173,0.93448162741190099,0.91318760930893295,0.84870818799570003,1.2403378779160199,0.78208410170478504,0.82211027368086698,0.789418113623095,0.68160402786907703]
[null,null,null,null,null,null,null,null,null,null,6174,0.94260433896081297,0.91264133112177404,0.83694173220956003,1.23887337818153,0.77124607282604296,0.80589303424716496,0.77296047788180799,0.66636006811978998]
[null,null,null,null,null,null,null,null,null,null,6177,0.95736080705767701,0.92852751544243906,0.84960110125649202,1.1891114124178801,0.79846915618417402,0.81501923531797205,0.78274547586907595,0.68732249298135795]
[null,null,null,null,null,null,null,null,null,null,6178,0.96343208561647198,0.94233249386644702,0.87019077262493805,1.1490342417071,0.81693119067078201,0.836689735761873,0.80728207773376004,0.71795917065676595]
[null,null,null,null,null,null,null,null,null,null,6180,0.97565524818543703,0.96580487810677296,0.90250752488867902,1.0580108911385999,0.83727089035226399,0.87025313135471905,0.848706646039602,0.76795898841712895]
[null,null,null,null,null,null,null,null,null,null,6181,0.98001194752216503,0.97062716152059203,0.90586142521253299,1.0257696884130101,0.83252110787035705,0.87261345304603499,0.85407058382409795,0.77312819719165604]
[null,null,null,null,null,null,null,null,null,null,6184,0.96512104776736896,0.94061627503844403,0.84988845218100595,1.0081770838867901,0.76684688789803102,0.81198966928555805,0.78798995973731101,0.69152550348756403]
[null,null,null,null,null,null,null,null,null,null,6185,0.94518854033491495,0.91430815071790605,0.81591648798816496,1.01795706611908,0.74127080192940098,0.78053772276097499,0.75323901561532602,0.65200336946430404]
[null,null,null,null,null,null,null,null,null,null,6187,0.89226541395038805,0.85333847478191704,0.75284234187234,1.03653212614027,0.70672011862263395,0.72931315817280595,0.70112555506784202,0.59509276509298004]
[null,null,null,null,null,null,null,null,null,null,6188,0.86707001918757098,0.827193548290174,0.73085912178762602,1.0434158018695701,0.69677527439452402,0.71367705652263602,0.68720019299000901,0.57998053353220202]
[null,null,null,null,null,null,null,null,null,null,6191,0.82909049813800595,0.78641212354128998,0.69853565766433601,1.0642078700667399,0.68044550383782298,0.68974690970104402,0.66223017755973501,0.55088009088470302]
[null,null,null,null,null,null,null,null,null,null,6192,0.84317478253049605,0.79513899186247095,0.70186504996813504,1.0742375399265101,0.68380020312234202,0.68994639762041099,0.65951032705006296,0.54798161592472205]
[null,null,null,null,null,null,null,null,null,null,6194,0.90187312357520899,0.84077091518061298,0.72865939621236098,1.09522903614909,0.70006774233828095,0.70451486770154104,0.67175323298002398,0.56211498441144403]
[null,null,null,null,null,null,null,null,null,null,6195,0.926831348745767,0.86328457338866305,0.74469474042595296,1.10446851139375,0.70952623879665899,0.71559377116699896,0.68383390720708204,0.57587242383684201]
[null,null,null,null,null,null,null,null,null,null,6198,0.92045328927715497,0.87925437891677904,0.77549713862192204,1.12250998160523,0.73452189062408002,0.74789951424270296,0.72520506171806198,0.62641996938363798]
[null,null,null,null,null,null,null,null,null,null,6199,0.90725957660759404,0.87504197799548,0.78078773491601094,1.12507245883068,0.74099135239798497,0.75560131217809501,0.73655313544503997,0.64206555073570104]
[null,null,null,null,null,null,null,null,null,null,6201,0.913962408950313,0.88564668367418697,0.79862302825097897,1.12917317742806,0.75466441321312205,0.77141007923065597,0.75667561706450304,0.67019352972843105]
[null,null,null,null,null,null,null,null,null,null,6202,0.92959993318682499,0.89939239662729598,0.811522366855147,1.1300676592449701,0.76236065455169799,0.78097856663239595,0.76738289785295499,0.68404624623349597]
[null,null,null,null,null,null,null,null,null,null,6205,0.95569657260590901,0.92720971363609805,0.83988423642917698,1.1328782515440801,0.78575557827473597,0.80688690864231105,0.79587731281884899,0.72077437902473196]
[null,null,null,null,null,null,null,null,null,null,6206,0.95699277773890101,0.93178841832871395,0.84603873392857099,1.13693338466559,0.79312498145654597,0.81415432161039303,0.80367884316730498,0.73256952175926005]
[null,null,null,null,null,null,null,null,null,null,6208,0.94947848982483996,0.93186425668537598,0.85023386518062605,1.1446134540408801,0.80109822792994101,0.82319639513577603,0.81799646914707103,0.75790007154852201]
[null,null,null,null,null,null,null,null,null,null,6209,0.93635557093878297,0.920905976534524,0.84324247721048795,1.1439368478776899,0.79925977443141005,0.82192263367138696,0.82220783248040197,0.76800428296878598]
[null,null,null,null,null,null,null,null,null,null,6211,0.89101438898125895,0.87553582566430799,0.80900563140025095,1.11683295822956,0.77993017211268101,0.80369255398330397,0.81399468179321499,0.76709558012322498]
[null,null,null,null,null,null,null,null,null,null,6212,0.86154734650370102,0.84540606845044997,0.78352505037937004,1.09398938546369,0.76091112198067101,0.78608071937788104,0.79834905856948302,0.75087127962514699]
[null,null,null,null,null,null,null,null,null,null,6215,0.80093748859650404,0.76799265287475504,0.69906162561012097,1.0662603411818601,0.69584615438506203,0.71069947606370498,0.71455818118574499,0.64889163737928102]
[null,null,null,null,null,null,null,null,null,null,6216,0.80531108816728003,0.76352017715125298,0.68798275085509397,1.0687335223913901,0.69226633829624296,0.69827544465334501,0.69782639746007002,0.62771976241071903]
[null,null,null,null,null,null,null,null,null,null,6218,0.82374489144883301,0.78007647298272398,0.70180712608509199,1.0826923347989701,0.71120958920708699,0.71161159149269004,0.71144697553108005,0.64429736661750503]
[null,null,null,null,null,null,null,null,null,null,6219,0.82398537801362803,0.78607027809959196,0.71253578419473396,1.0989689742050499,0.71834687117136198,0.72424588271939205,0.72764848763935197,0.664348654761163]
[null,null,null,null,null,null,null,null,null,null,6222,0.81385524690590605,0.76357098098753995,0.69075793035576805,1.1604049138158801,0.67859472069847204,0.70359584747736903,0.70117299483366402,0.62689326377119903]
[null,null,null,null,null,null,null,null,null,null,6223,0.81676251985778303,0.75163376198425502,0.67078337265368004,1.1738345730799,0.65967841366246305,0.68096416681708805,0.67013658414013799,0.58673441353952205]
[null,null,null,null,null,null,null,null,null,null,6225,0.83095032182051198,0.74607070537953102,0.65118509089332999,1.1868185811077401,0.64717895259692404,0.65481888178446401,0.63278699158763696,0.53983424895308596]
[null,null,null,null,null,null,null,null,null,null,6226,0.83553064197789095,0.750504973821985,0.65299542033056301,1.18989565245221,0.65131499759696998,0.65500800873346798,0.63268783482605195,0.54012411874241395]
[null,null,null,null,null,null,null,null,null,null,6229,0.797994234167967,0.74062635939650701,0.66104273455292295,1.2044717795222899,0.67200608969392495,0.67390593608405802,0.66312809282016005,0.58015751686129402]
[null,null,null,null,null,null,null,null,null,null,6230,0.78043471365234096,0.73219926862871199,0.66264479031949397,1.20918528439275,0.67927414123224905,0.68093536990264003,0.674308853847983,0.59569904158589404]
[null,null,null,null,null,null,null,null,null,null,6232,0.79106493088275498,0.74381016386633703,0.68119982064094897,1.2218419670974601,0.697214751400413,0.69921667358415895,0.696910291828571,0.626165981262222]
[null,null,null,null,null,null,null,null,null,null,6233,0.81999392599079801,0.76540447766556496,0.69810789968232001,1.2318190590145499,0.70619680439674504,0.71014086300109502,0.70882069859526897,0.64063944102844905]
[null,null,null,null,null,null,null,null,null,null,6236,0.87760646755274296,0.809349371372724,0.726421949323377,1.2653998668283699,0.71902838515501799,0.72942197315493496,0.73352868446169495,0.672819852011593]
[null,null,null,null,null,null,null,null,null,null,6237,0.864145581343568,0.800641848764303,0.72006777560238,1.2827002991321099,0.71865414266472305,0.72875343059495201,0.73689047010854902,0.680518722107188]
[null,null,null,null,null,null,null,null,null,null,6239,0.80816384262915897,0.762098432372458,0.69740168271407799,1.3187371979573601,0.71927516855444296,0.72380379781593596,0.74364082828588496,0.69761635050070903]
[null,null,null,null,null,null,null,null,null,null,6240,0.78660780175840594,0.74826815376907796,0.69129212707323995,1.33087692675119,0.72150392452031098,0.72339152838467102,0.74917292668708901,0.70763869126667001]
[null,null,null,null,null,null,null,null,null,null,6243,0.77529910290324899,0.748510997996086,0.699162398465767,1.3240175160068901,0.735188050786592,0.73152018379495698,0.76698656280916599,0.73360775960759395]
[null,null,null,null,null,null,null,null,null,null,6244,0.78738672058695602,0.76050138884491303,0.70967055265099899,1.3016052611826101,0.74461506375749598,0.73948036786292304,0.77478086978351401,0.74327625851580503]
[null,null,null,null,null,null,null,null,null,null,6246,0.83520214085084199,0.80251699455373204,0.74426459127433098,1.21709548647703,0.76894676934489803,0.76543297281755995,0.79826636245419702,0.771861922038793]
[null,null,null,null,null,null,null,null,null,null,6247,0.85841620922832595,0.82390343667004595,0.76199337683357204,1.16737743518774,0.780736369696171,0.77936161128928905,0.81213600321443402,0.78937367355064203]
[null,null,null,null,null,null,null,null,null,null,6250,0.86757791417529695,0.84726207719928404,0.79093427308346798,1.1002825797382101,0.80548384227069303,0.81036494527031899,0.85254790090112997,0.84266624046569905]
[null,null,null,null,null,null,null,null,null,null,6251,0.85147381421066703,0.84071521629592705,0.79223294484129703,1.1084157539725701,0.81225538973271705,0.81789160066015199,0.86458143609336302,0.85987295597954005]
[null,null,null,null,null,null,null,null,null,null,6253,0.81965607335825597,0.82604309568856304,0.79318905187362398,1.1363927580631199,0.82780133521006005,0.83353110951021203,0.88886250735844996,0.89520625499094897]
[null,null,null,null,null,null,null,null,null,null,6254,0.80554090155575397,0.817930293856867,0.79205094648215602,1.14623337829923,0.83398940709795299,0.83962936233325602,0.90127457637464603,0.91325380532971701]
[null,null,null,null,null,null,null,null,null,null,6257,0.74321401447688695,0.761845425083022,0.75907213910364901,1.1655487612781501,0.83991691707498295,0.83670306492857605,0.933482892286155,0.96491090150598902]
[null,null,null,null,null,null,null,null,null,null,6258,0.73660126781429702,0.75198619874647799,0.753203727086726,1.1739731593676701,0.84736415920992003,0.83774470506104604,0.94364417348138996,0.98197112312415002]
[null,null,null,null,null,null,null,null,null,null,6260,0.781877735447844,0.78938719140642,0.78702473255587901,1.1989890208310201,0.87822140877088695,0.86503250944507304,0.97009686881875001,1.0203878177379799]
[null,null,null,null,null,null,null,null,null,null,6261,0.81862835768185804,0.82484422238736599,0.81842327114802704,1.2140085104890601,0.89592504246787197,0.88741628035748399,0.98599144321825605,1.04135879532539]
[null,null,null,null,null,null,null,null,null,null,6264,0.87369224179767602,0.88812793694398395,0.87694175016831999,1.260793706679,0.92014421213505304,0.93249674867856003,1.0216435983410299,1.08634340597648]
[null,null,null,null,null,null,null,null,null,null,6265,0.86784500583758095,0.88429717521237206,0.87389961723058995,1.2763348691710901,0.91432730886991098,0.93085974679530004,1.02272156382416,1.0875846722634599]
[null,null,null,null,null,null,null,null,null,null,6267,0.85641690574235896,0.86692903843890001,0.85413968128965001,1.2931474761802,0.89416798173859902,0.91155489347677998,1.00696646366362,1.0660998155961801]
[null,null,null,null,null,null,null,null,null,null,6268,0.85759851013698196,0.86390440116683698,0.848384826446686,1.29218607756035,0.88943729081556,0.90401746344885103,0.99817753569642298,1.0544953058077999]
[null,null,null,null,null,null,null,null,null,null,6270,0.87312354899949296,0.87754603677773402,0.86102526116785005,1.28705473123192,0.90228642025469297,0.91363982023414503,1.0059322325351701,1.0682767738094401]
[null,null,null,null,null,null,null,null,null,null,6271,0.88260087992660097,0.887225288604227,0.87265454480877902,1.29000930178734,0.91196361534703896,0.92523532524410201,1.02112763691941,1.0910922362204201]
[null,null,null,null,null,null,null,null,null,null,6274,0.87002343595764398,0.86721409589887599,0.85920830706733697,1.31754540725708,0.89853605688997096,0.91614512043827301,1.0345959473323101,1.0989240066855499]
[null,null,null,null,null,null,null,null,null,null,6275,0.85775513214694699,0.85424374881507503,0.84412552839081201,1.3218003819128801,0.88099204102717799,0.89846400270250004,1.0188696126732399,1.0652098875770999]
[null,null,null,null,null,null,null,null,null,null,6277,0.84934293144388895,0.85288376011247702,0.83108778409419104,1.3122547258552799,0.84731825954774898,0.87668787198504095,0.98289272733057298,1.0036072425359699]
[null,null,null,null,null,null,null,null,null,null,6278,0.85265398829958094,0.860994419432206,0.83526773589221104,1.2983103831477301,0.83860506903696996,0.87996933412884604,0.97319583770107698,0.99975722264232703]
[null,null,null,null,null,null,null,null,null,null,6281,0.86494691527569101,0.88300260153379495,0.865796142948425,1.26900030749588,0.86020149022536196,0.92309621402503905,0.99744935883738395,1.0770568890745]
[null,null,null,null,null,null,null,null,null,null,6282,0.87721727131238503,0.89560634950619,0.88259114739974298,1.27702142301543,0.87561458618690202,0.94226786162601694,1.01971345110792,1.11216906265115]
[null,null,null,null,null,null,null,null,null,null,6284,0.91311958971408602,0.92833248813250901,0.92005191954298804,1.29840709697593,0.91174703924977196,0.97934515589917803,1.06703935183064,1.17602819468335]
[null,null,null,null,null,null,null,null,null,null,6285,0.93150189513446202,0.94509075030446899,0.93892356071581395,1.3060222866221001,0.93440166575010997,0.99711531522588703,1.08979021321378,1.2038709189019401]
[null,null,null,null,null,null,null,null,null,null,6288,0.97211162344920998,0.98601994627079503,0.989884596303511,1.33348372925155,0.99445217854230294,1.0445475063584599,1.14760040691646,1.26907659073315]
[null,null,null,null,null,null,null,null,null,null,6289,0.97086860037814704,0.98736004774291597,0.99475363577446296,1.34337809701252,1.0011594839332401,1.0515188397191899,1.15797109135873,1.28104735149196]
[null,null,null,null,null,null,null,null,null,null,6291,0.94267525592795498,0.965810878029984,0.97788987166604702,1.3556108446136801,0.99557834765527498,1.04581396471,1.15797931978066,1.2808612963825401]
[null,null,null,null,null,null,null,null,null,null,6292,0.92440336880098595,0.94903623487670496,0.96200970297652399,1.3555898036612899,0.98775632883088604,1.03660985263509,1.1497892193047099,1.2689257303709101]
[null,null,null,null,null,null,null,null,null,null,6295,0.88219866930451096,0.90457826293135601,0.92058609599721297,1.3579122062591999,0.97077166597742504,1.01024323884608,1.1175649507208101,1.2071188543147899]
[null,null,null,null,null,null,null,null,null,null,6296,0.87323373273088001,0.89714276457799602,0.917455912219867,1.36320423179376,0.97724076943299598,1.0117789876108401,1.1167032332473099,1.1985021573818899]
[null,null,null,null,null,null,null,null,null,null,6298,0.88234970744565799,0.91262444409861598,0.94389550436088199,1.38451726477767,1.0114197994544301,1.0441989090733901,1.1448628486882899,1.22020606255441]
[null,null,null,null,null,null,null,null,null,null,6299,0.896040311248952,0.929278771888433,0.96555737715018697,1.4015415791544299,1.0303720218588099,1.06741080816447,1.1670763593131099,1.24244988374804]
[null,null,null,null,null,null,null,null,null,null,6302,0.91277565645057801,0.95164365005226403,0.99890688251108195,1.4312632377727399,1.0619514402725101,1.1098681751075801,1.21610182336477,1.3200844658101301]
[null,null,null,null,null,null,null,null,null,null,6303,0.91511484963567002,0.95334663182745905,1.0023990258169699,1.4281134431057201,1.0678815313155501,1.11644746012315,1.226493557448,1.3478210229807299]
[null,null,null,null,null,null,null,null,null,null,6305,0.92837978244856101,0.96451928633630402,1.01576830807161,1.4176218495539099,1.0896501826699201,1.1363901030927399,1.25353584399856,1.4064250762609001]
[null,null,null,null,null,null,null,null,null,null,6306,0.943625149466781,0.97960225449296201,1.0324131399529399,1.42014304558579,1.1074959164633,1.1559416248033101,1.27229140057847,1.4362762205022701]
[null,null,null,null,null,null,null,null,null,null,6309,0.98203453820605102,1.0237464768536599,1.0895766596018299,1.4655064869756,1.1617870461270401,1.22620101997361,1.3353525947477201,1.5197932661079401]
[null,null,null,null,null,null,null,null,null,null,6310,0.97592466038055503,1.0219593578814901,1.09429114886109,1.4727399993908299,1.17475021674014,1.2403268570055299,1.35386396084479,1.5453304600106601]
[null,null,null,null,null,null,null,null,null,null,6312,0.95594536637683902,1.0098594924609701,1.0971198099550901,1.4542597753970301,1.2030343279042,1.2646472863373699,1.38968338984006,1.5995143860136001]
[null,null,null,null,null,null,null,null,null,null,6313,0.94891042461672503,1.00724470452957,1.1017843708778701,1.4305924569378801,1.2182105720881,1.27860348869387,1.4092444405517599,1.6281222956232999]
[null,null,null,null,null,null,null,null,null,null,6316,0.93451247347714295,1.0098252796436,1.1231134093721999,1.35362999536771,1.2481633818686999,1.31936974809883,1.4629019976298501,1.7028436636391799]
[null,null,null,null,null,null,null,null,null,null,6317,0.92994514028213004,1.01030707850905,1.12623287488326,1.3427516203949601,1.2479181102568799,1.3260852235573,1.4701430986475501,1.7085500299299701]
[null,null,null,null,null,null,null,null,null,null,6319,0.93671685526415704,1.0183551629386201,1.1286775025278499,1.33973194404466,1.22530226228426,1.3235708983658501,1.4472707996954799,1.65286020323551]
[null,null,null,null,null,null,null,null,null,null,6320,0.95039748862272699,1.0260951159996601,1.1276288696041199,1.3445527355599201,1.2071674732352899,1.3124541184303899,1.4154889470901599,1.5917793046912501]
[null,null,null,null,null,null,null,null,null,null,6323,0.99317363427725602,1.0431181626094199,1.1184182115591501,1.3656498552243099,1.19147923036851,1.28104485997822,1.34566727730775,1.46180477126797]
[null,null,null,null,null,null,null,null,null,null,6324,1.00162823656164,1.0467611729714901,1.12012710834334,1.36507223865919,1.20247618310297,1.28635709658861,1.3514118871901799,1.4678673203786201]
[null,null,null,null,null,null,null,null,null,null,6326,1.0115976607219099,1.0542419128418801,1.1345654857554599,1.36108607832095,1.2298655317685401,1.31564836455181,1.3780696691430401,1.5043742559226001]
[null,null,null,null,null,null,null,null,null,null,6327,1.01758337779537,1.06082433175041,1.14663282319807,1.3693263359093699,1.2396345889546401,1.3328036284911999,1.3896716644838401,1.5193346920514501]
[null,null,null,null,null,null,null,null,null,null,6330,1.0385981759159899,1.0872933402615299,1.1771070652695801,1.4007375034196801,1.2599484830732399,1.3634697835638101,1.4142553688745401,1.55232749241373]
[null,null,null,null,null,null,null,null,null,null,6331,1.0458957170201599,1.0973673231327901,1.1887512600002601,1.3968222127551599,1.2727862367265701,1.3772961689663901,1.4306200803585101,1.57782092017694]
[null,null,null,null,null,null,null,null,null,null,6333,1.0447660375194801,1.10131880452051,1.2003820444934299,1.39232611011994,1.29837418429947,1.40643442699216,1.47681224064015,1.65223952275104]
[null,null,null,null,null,null,null,null,null,null,6334,1.02875608248293,1.08893679626089,1.1927338391979201,1.3929663451735901,1.307959548428,1.41418277349766,1.49924995811029,1.6905124071545501]
[null,null,null,null,null,null,null,null,null,null,6336,0.999135725507452,1.06733925262921,1.1811327091060499,1.38540079199772,1.3344967772241101,1.4318549931047899,1.5343571210837199,1.75347608788549]
[null,null,null,null,null,null,null,null,null,null,6337,1.0016089053758399,1.07392731507516,1.1929665484085299,1.3854727523649999,1.3554921411166501,1.45323965892067,1.55167975274355,1.78198422032283]
[null,null,null,null,null,null,null,null,null,null,6340,1.0386446575234001,1.12079928426818,1.25744472598572,1.44996424677859,1.4174469967010099,1.5388605102155799,1.6253589848140799,1.88508108205549]
[null,null,null,null,null,null,null,null,null,null,6341,1.0382778713812699,1.1215270260566499,1.2628905730489599,1.47814446482831,1.42545822284375,1.55188877355721,1.65160654549992,1.9200139369828699]
[null,null,null,null,null,null,null,null,null,null,6343,1.01150642732123,1.0933999517792301,1.2329226512251801,1.51520675164314,1.4164265857750999,1.53370210410642,1.6887359342475201,1.96773455650578]
[null,null,null,null,null,null,null,null,null,null,6344,1.00286610052349,1.07991658506654,1.2124994269088301,1.52010600681676,1.4088341749978499,1.51366284679187,1.6983195246098399,1.97811020096444]
[null,null,null,null,null,null,null,null,null,null,6347,1.0470797308897499,1.1080493525691599,1.22636296508015,1.47897012449836,1.4154488988205001,1.51303855370384,1.7069305942261099,1.9780784548233199]
[null,null,null,null,null,null,null,null,null,null,6348,1.06465815675555,1.1242224723594101,1.2432059234819199,1.46760765051721,1.4137582201502901,1.5266692663483901,1.6990056785863901,1.95891571873458]
[null,null,null,null,null,null,null,null,null,null,6350,1.0795781816412,1.1344064530707101,1.24803503542816,1.48702077853838,1.37424037918355,1.5164607064023301,1.64017476780841,1.8452123097956701]
[null,null,null,null,null,null,null,null,null,null,6351,1.07777116478293,1.1287994479667001,1.2345011645659101,1.5071487789227,1.34566509496639,1.4903128734673701,1.5940466639483699,1.7626313789338801]
[null,null,null,null,null,null,null,null,null,null,6354,1.04024015481079,1.08677480339447,1.1729968532220001,1.54126561125345,1.28691205835002,1.4127457789014199,1.4961045742199599,1.6005338150147399]
[null,null,null,null,null,null,null,null,null,null,6355,1.02543074026498,1.07129987578476,1.15407616050651,1.5468773020216999,1.2688918170541901,1.3933998641582099,1.4745041954910401,1.56802884137767]
[null,null,null,null,null,null,null,null,null,null,6357,0.99281867954450498,1.03799251586515,1.11399119206615,1.5658060826108799,1.2324438531481201,1.35014995528918,1.4271685905584499,1.5000860630756201]
[null,null,null,null,null,null,null,null,null,null,6358,0.97106986065201994,1.0190702432993,1.09476590628931,1.5772703357412301,1.22510746094675,1.3327069304094801,1.41310393006323,1.48227652331436]
[null,null,null,null,null,null,null,null,null,null,6361,0.92983750225967099,0.99468572186305504,1.0882910999900099,1.58745956194705,1.2637028648103601,1.35221910268259,1.44714521787822,1.53204091731506]
[null,null,null,null,null,null,null,null,null,null,6362,0.93364705821055105,0.99991077050913901,1.09995978012177,1.5827819591832999,1.2841545769610401,1.37546060704714,1.47143317969246,1.56142216463737]
[null,null,null,null,null,null,null,null,null,null,6364,0.970180487059358,1.0273762024778601,1.1327494265465801,1.5754685139031599,1.32614207239182,1.4288407740575499,1.51780888722636,1.6182308694781]
[null,null,null,null,null,null,null,null,null,null,6365,1.0002201801783199,1.0502295713787499,1.1562332250516401,1.5806519499449501,1.3476520116839099,1.45862290951809,1.5388267238131399,1.64753179960701]
[null,null,null,null,null,null,null,null,null,null,6368,1.0926859054637601,1.1306634818598,1.2429092969079001,1.62678620411812,1.40996576762348,1.5526289942312499,1.6049597710150001,1.7483594087110199]
[null,null,null,null,null,null,null,null,null,null,6369,1.1109637671932899,1.1488044337287799,1.26401875351369,1.64133361091756,1.4262839455641101,1.5773724869682599,1.62774901658708,1.7837364265448701]
[null,null,null,null,null,null,null,null,null,null,6371,1.13172100576079,1.1684959209275101,1.28967750977304,1.6752414513293299,1.45689046645075,1.61567986873334,1.6697218406769601,1.8489023013421699]
[null,null,null,null,null,null,null,null,null,null,6372,1.1394707384546701,1.17587433924572,1.30031975976446,1.6938792818566799,1.4747349393201199,1.6362375976027701,1.6915661636411199,1.8807520507329201]
[null,null,null,null,null,null,null,null,null,null,6375,1.14127216023529,1.18527072955535,1.31687265294819,1.7010099943249699,1.5190433753617301,1.69382617171315,1.7729042969192499,1.99205598938984]
[null,null,null,null,null,null,null,null,null,null,6376,1.1329655637381599,1.17840370840404,1.3101784724213501,1.6893514688051801,1.52123902284905,1.69835026168214,1.79701055403063,2.0266598801952602]
[null,null,null,null,null,null,null,null,null,null,6378,1.107088237153,1.1518231768018099,1.27909147952511,1.67467101618421,1.51296837477001,1.6796170039960701,1.8301774241517199,2.07662020796508]
[null,null,null,null,null,null,null,null,null,null,6379,1.0976419027403499,1.14157310439294,1.26678934866433,1.6716692525311601,1.51181188994885,1.67113838238157,1.8405384575609101,2.0917032941287301]
[null,null,null,null,null,null,null,null,null,null,6382,1.1161780934316601,1.15396057552996,1.2739549356564801,1.65249230238725,1.4907934005082699,1.66848742415287,1.80572081180598,2.04015239522756]
[null,null,null,null,null,null,null,null,null,null,6383,1.1267777775243999,1.15956847002104,1.2724298109427199,1.64158769249289,1.4675129919063501,1.65067278321458,1.7629160682124401,1.97881154045411]
[null,null,null,null,null,null,null,null,null,null,6385,1.1388378960461201,1.16022741510425,1.2598036608197001,1.6239681145818701,1.44001070785831,1.6102775865962,1.69319149045062,1.87856574090311]
[null,null,null,null,null,null,null,null,null,null,6386,1.14232341335496,1.16037083089697,1.25790102814951,1.61751690765606,1.4440155737475,1.6061746556887999,1.68865503355101,1.87094759886356]
[null,null,null,null,null,null,null,null,null,null,6389,1.14242907287468,1.16514372383391,1.2659383588591699,1.5919780387865401,1.4782261452803001,1.64040652491464,1.7344240638900199,1.9321956396669899]
[null,null,null,null,null,null,null,null,null,null,6390,1.13162557822661,1.1596513564536199,1.2631895114893399,1.5901897503732001,1.48912672506975,1.65198463834293,1.7534523825894699,1.95922604594017]
[null,null,null,null,null,null,null,null,null,null,6392,1.0920182281711299,1.1340614311017501,1.2460650413329799,1.6130568789486199,1.51345721908077,1.66710482753922,1.80467444053936,2.0310936014823699]
[null,null,null,null,null,null,null,null,null,null,6393,1.07901161021694,1.1250757616914,1.2430613135683199,1.6302517359597599,1.5329347594085201,1.6799785319537099,1.83694885906786,2.0748117946133799]
[null,null,null,null,null,null,null,null,null,null,6395,1.1008387252153899,1.14275114853518,1.27239060822533,1.6525140234101099,1.57809890634442,1.73459086771715,1.8997758832817599,2.15693755426748]
[null,null,null,null,null,null,null,null,null,null,6396,1.1226770584010599,1.1605796296325701,1.2935451129689399,1.6548099529006299,1.5938757041656599,1.7644401784552699,1.9204543032211701,2.1860512907914602]
[null,null,null,null,null,null,null,null,null,null,6399,1.11546552058462,1.1551854586414201,1.2927659527948401,1.6623257756974701,1.61083458734235,1.7892924782194599,1.9541830444414701,2.2602031347549598]
[null,null,null,null,null,null,null,null,null,null,6400,1.10887838743678,1.1495447805919701,1.29023735014526,1.6703695410478501,1.62961765452481,1.7983368997592699,1.97441282639647,2.2961187291761398]
[null,null,null,null,null,null,null,null,null,null,6402,1.1432871495513299,1.1802016471644601,1.33374780609154,1.68710238042093,1.69479082937748,1.86957653364875,2.0391341157976699,2.3810421818000802]
[null,null,null,null,null,null,null,null,null,null,6403,1.1666494176890501,1.2026773117490701,1.3639918141971099,1.6978124033831601,1.72436122758278,1.91346717781094,2.0731703637858701,2.4212433199621701]
[null,null,null,null,null,null,null,null,null,null,6406,1.1695344121203399,1.21445066961184,1.39241434363895,1.72044867375023,1.7576035015195599,1.97048511252164,2.1293219056395101,2.4984489477054899]
[null,null,null,null,null,null,null,null,null,null,6407,1.1580111455934601,1.2071612974427699,1.3860858870017401,1.71372466061396,1.7574007630739401,1.9712158718892301,2.1339033418045799,2.51101216789049]
[null,null,null,null,null,null,null,null,null,null,6409,1.14699746096249,1.1982217772502399,1.3707842417446301,1.69828361917243,1.7448548202982499,1.96319203003261,2.1344447241509101,2.5247207870036199]
[null,null,null,null,null,null,null,null,null,null,6410,1.14205535552271,1.19106297253853,1.35691052397259,1.7046449148492699,1.7246822311180201,1.9458239238261701,2.1284195601059799,2.5177316021816698]
[null,null,null,null,null,null,null,null,null,null,6413,1.1303073675336099,1.16040543051445,1.29557538775949,1.7661199743015601,1.6193921039234001,1.83594215146669,2.0217948766315899,2.3528644299924699]
[null,null,null,null,null,null,null,null,null,null,6414,1.1413953128979,1.1637109996555599,1.28949664272486,1.7719560324416499,1.5916884898627099,1.80895478162368,1.9580602717625499,2.2557486333292198]
[null,null,null,null,null,null,null,null,null,null,6416,1.1618428179598199,1.17745936293674,1.29177829066997,1.7420858176941301,1.56151838260927,1.78796065268643,1.86007946379474,2.10552147461773]
[null,null,null,null,null,null,null,null,null,null,6417,1.15855812932646,1.17475418908883,1.2848315344941399,1.7192494039476101,1.54387155758469,1.77578845930517,1.8326284426800401,2.0652556466540801]
[null,null,null,null,null,null,null,null,null,null,6420,1.12458019070846,1.13568922482321,1.22333241296118,1.72856208629613,1.4550545270011299,1.6727741912030401,1.7324384007808,1.9448071613582101]
[null,null,null,null,null,null,null,null,null,null,6421,1.13172329689245,1.13607284237219,1.2162393615945499,1.7573164157004699,1.44370083647716,1.6487568187713999,1.70082130329514,1.9111653223432701]
[null,null,null,null,null,null,null,null,null,null,6423,1.1770559317887399,1.17100293082456,1.2441934249173401,1.8089223157558401,1.46655540983746,1.6645725775003299,1.6887821498581701,1.9062544947829001]
[null,null,null,null,null,null,null,null,null,null,6424,1.1982829408110001,1.1912957363602099,1.26502760837871,1.82688020916843,1.4874990196946301,1.6923294147116901,1.7064288426474401,1.93048844108151]
[null,null,null,null,null,null,null,null,null,null,6427,1.21185449538493,1.2060190587263599,1.2915916242732099,1.86057160775512,1.5341986024593099,1.7609757737721801,1.7771378753537801,2.02308522831121]
[null,null,null,null,null,null,null,null,null,null,6428,1.19451491699996,1.1924187663456001,1.28180121673736,1.8638951676642199,1.5402724524415901,1.76674791730698,1.7955397357257801,2.0510018548875899]
[null,null,null,null,null,null,null,null,null,null,6430,1.1406810114714501,1.1544024522215901,1.24850120870092,1.8677140832908301,1.5509810983328101,1.76381582727685,1.8231985269403701,2.1070655669226399]
[null,null,null,null,null,null,null,null,null,null,6431,1.1283478041758399,1.1478000593320301,1.2437828561734201,1.8725438797596401,1.5645074748279399,1.7715091691242999,1.8372916840658999,2.1395470192071402]
[null,null,null,null,null,null,null,null,null,null,6434,1.17376576993541,1.18742753297579,1.2913056741250999,1.8747374840209801,1.6246505519646599,1.8474028345834499,1.92019448673142,2.2536318127223001]
[null,null,null,null,null,null,null,null,null,null,6435,1.18706449509718,1.1980782196103701,1.3057345312279001,1.8683230608867201,1.64344884549415,1.87293634044686,1.9541198039446199,2.2920664429835802]
[null,null,null,null,null,null,null,null,null,null,6437,1.18679958189322,1.20061383715243,1.3190810439280101,1.86589633213219,1.67380576515443,1.91181799153744,2.0056509974548899,2.3600312121507998]
[null,null,null,null,null,null,null,null,null,null,6438,1.1810194321357499,1.19824989378961,1.3227490965770301,1.8656771583957299,1.6918106758971501,1.9282470939094101,2.0236142585703498,2.3893698639405399]
[null,null,null,null,null,null,null,null,null,null,6441,1.2254441219988399,1.2406105228595401,1.3802293685590401,1.8075428462412499,1.79079703706852,2.0385676119254899,2.1118910686910501,2.5101113616822102]
[null,null,null,null,null,null,null,null,null,null,6442,1.2476841871625199,1.26062510711257,1.40378771949519,1.7762313063108099,1.8152391094193401,2.0798459564266998,2.1505480924834499,2.5555343423746901]
[null,null,null,null,null,null,null,null,null,null,6444,1.2655301681555899,1.2745851047786501,1.4177453371536199,1.7643798892303899,1.8075195821216301,2.1022285829157701,2.1871489332222098,2.5995735136331599]
[null,null,null,null,null,null,null,null,null,null,6445,1.2591650527785401,1.26546828147337,1.4037146393856501,1.7940058356200499,1.77207204303845,2.0752818409118499,2.17247571641242,2.5845480346738099]
[null,null,null,null,null,null,null,null,null,null,6448,1.15789259848271,1.1654094116704099,1.28191142106557,1.8982477125011801,1.63239253845195,1.88831422939182,2.0369573884783798,2.4252209655397001]
[null,null,null,null,null,null,null,null,null,null,6449,1.1135526674652201,1.12641962371045,1.24164284206015,1.9127894462489199,1.61695200692264,1.8423869460811599,2.0100969644148301,2.3917729469854998]
[null,null,null,null,null,null,null,null,null,null,6451,1.1001580873596899,1.1140277161007399,1.2325860252958201,1.90626743355981,1.6439732028763701,1.8500663619336399,2.0194644133323001,2.4001593710725402]
[null,null,null,null,null,null,null,null,null,null,6452,1.13281224698414,1.14111015549531,1.2606388181264401,1.88782860836523,1.66943030516706,1.8899673529612,2.0384086423237999,2.42162498489615]
[null,null,null,null,null,null,null,null,null,null,6455,1.2154777424905401,1.2182743625035,1.3425833287401201,1.84548379512866,1.73869944051164,2.0079594046897502,2.0994819757596899,2.5008332991792401]
[null,null,null,null,null,null,null,null,null,null,6456,1.2285002695470399,1.2334592510420701,1.35963671995789,1.8549628101178299,1.76236467966795,2.0386143553537202,2.1244429327215602,2.53340116247686]
[null,null,null,null,null,null,null,null,null,null,6458,1.25250425805093,1.2588386809981,1.38733173357382,1.87954597385533,1.80165494934537,2.0920288229739299,2.17519506333623,2.59907274284447]
[null,null,null,null,null,null,null,null,null,null,6459,1.2561872263279601,1.2616773610884,1.3919499762740799,1.88224635807498,1.80909846912251,2.1062913368679501,2.1934044779775701,2.6266900614084698]
[null,null,null,null,null,null,null,null,null,null,6461,1.22415949783591,1.22961239957797,1.36715034654929,1.8792232736474701,1.8096305679195499,2.0962510792582401,2.2176336959218301,2.6756079767022198]
[null,null,null,null,null,null,null,null,null,null,6462,1.2004224811203601,1.2075918125885301,1.3492906555489701,1.8810250352258899,1.82102291368476,2.08960557984246,2.2359798791620502,2.7081176184254598]
[null,null,null,null,null,null,null,null,null,null,6465,1.20821361094317,1.2217751669616601,1.3713951437666101,1.8979053729272699,1.9175093850751701,2.1742468059134401,2.3570424257173199,2.8675452730052999]
[null,null,null,null,null,null,null,null,null,null,6466,1.2241144736735801,1.2412798843410899,1.3913871674137901,1.9037902164154099,1.9487047800908099,2.2153548033847201,2.4021445145226501,2.9209104816555702]
[null,null,null,null,null,null,null,null,null,null,6468,1.2352762148883201,1.26175950930475,1.4147484240097199,1.9050464046594999,1.9842428306597899,2.2711577783219301,2.46816731130839,2.9971196874671402]
[null,null,null,null,null,null,null,null,null,null,6469,1.23132285069314,1.2601281376311699,1.4155415977597099,1.9016533625401699,1.9846927863832899,2.27850568152191,2.4859323236613098,3.0192819383782901]
[null,null,null,null,null,null,null,null,null,null,6472,1.20910717073428,1.2287854518330501,1.3714164168367,1.9095577186298001,1.9147324285276399,2.1972112902418202,2.5198829813576999,3.0349991518335302]
[null,null,null,null,null,null,null,null,null,null,6473,1.20305542240143,1.2181391714876499,1.3447526845381099,1.9162971436646701,1.8745374266888399,2.1371226219091102,2.52562021180271,3.01350530026507]
[null,null,null,null,null,null,null,null,null,null,6475,1.2020432154064999,1.2108685007714199,1.3110543875660201,1.9331872129994401,1.81521468103254,2.0437395824283802,2.5032029010488301,2.93384624149239]
[null,null,null,null,null,null,null,null,null,null,6476,1.2115010587517101,1.2173886774501499,1.3129571658520001,1.94006671909256,1.7891847258848601,2.0281624544318699,2.4616740771198198,2.8694797552026698]
[null,null,null,null,null,null,null,null,null,null,6479,1.2267416616655999,1.22020607583491,1.2937029287836299,1.9040648880450399,1.65531484952254,1.9314689157324401,2.2054948430882799,2.55837262667781]
[null,null,null,null,null,null,null,null,null,null,6480,1.2114066145550899,1.2017992615041699,1.26389928423902,1.87964464534419,1.61154218534699,1.8710563793960699,2.1319619737278801,2.48123378273332]
[null,null,null,null,null,null,null,null,null,null,6482,1.17114558123558,1.1590735558379801,1.2006713091532899,1.89843641721017,1.5508981858745801,1.7649476816045799,2.0507826012743,2.4082093069161199]
[null,null,null,null,null,null,null,null,null,null,6483,1.1677852729264599,1.15155620901004,1.1837585212208801,1.93415247179143,1.53454290039555,1.7322757592954801,2.02350219899265,2.3839408500622801]
[null,null,null,null,null,null,null,null,null,null,6486,1.2195486442993799,1.1851413083911699,1.2087801811791901,1.96543502108468,1.5541436997456399,1.7425834531406601,2.0013677020037499,2.3737394764659698]
[null,null,null,null,null,null,null,null,null,null,6487,1.22665567336784,1.1932690211183601,1.22229694057831,1.94524284734127,1.5727086251078299,1.76702735952038,2.0254200247828198,2.4034875694891902]
[null,null,null,null,null,null,null,null,null,null,6489,1.2066586471077001,1.1854875795761901,1.22823670080431,1.9106118910930801,1.5982292476667499,1.8033646889616599,2.0863385092317799,2.4754177645126401]
[null,null,null,null,null,null,null,null,null,null,6490,1.1846307140827701,1.1716205628743399,1.22106772138648,1.9078810892471301,1.60453197220142,1.8116950219035399,2.1140287570679299,2.5090566835360599]
[null,null,null,null,null,null,null,null,null,null,6493,1.08570244189399,1.09609953242091,1.15966485463965,1.9338173832446399,1.56987457611513,1.7769737450055301,2.1659524079959902,2.5773387106753201]
[null,null,null,null,null,null,null,null,null,null,6494,1.04468813532601,1.06270289600667,1.1245883065278399,1.94841001883473,1.5432555720326799,1.73656167915556,2.16448192304544,2.5795550211908398]
[null,null,null,null,null,null,null,null,null,null,6496,1.0112197431108501,1.0259641960649599,1.0783521062369901,1.9700510857047699,1.51882257505833,1.67019479497444,2.1589059753388402,2.58450625318204]
[null,null,null,null,null,null,null,null,null,null,6497,1.0253736105981699,1.02928578172758,1.07891772044443,1.9722004679485099,1.53473361933757,1.66875691791661,2.1741257545253401,2.61197304284426]
[null,null,null,null,null,null,null,null,null,null,6500,1.11684487941157,1.0963296577919599,1.15277533571742,1.9507665093664499,1.64441681571539,1.7801974098398201,2.2995855879118201,2.7776127013803098]
[null,null,null,null,null,null,null,null,null,null,6501,1.1478437908966601,1.1267716661915099,1.1864482405155401,1.93357699003023,1.67605387098178,1.8271891589624201,2.34057906689941,2.8256650908243999]
[null,null,null,null,null,null,null,null,null,null,6503,1.1941120633686699,1.1736107162251801,1.2393016137928099,1.9219650246850799,1.71518223155257,1.8957870623392901,2.39317763760276,2.89131622698154]
[null,null,null,null,null,null,null,null,null,null,6504,1.2081440841446001,1.18562177818592,1.25472157351709,1.9493466774039701,1.72763574498571,1.91615096430872,2.4091684394314798,2.91350415827899]
[null,null,null,null,null,null,null,null,null,null,6507,1.2132234223320799,1.1861254522560001,1.26036019374945,2.06460866868807,1.7420625168146699,1.9315197813701399,2.4494570992261,2.9612265468659502]
[null,null,null,null,null,null,null,null,null,null,6508,1.2087963128263199,1.18311770815017,1.25632365762787,2.0726013279518298,1.74305764339977,1.9262642628239399,2.4582685557207702,2.9708743294097002]
[null,null,null,null,null,null,null,null,null,null,6510,1.2175187648008501,1.19470324586,1.2653057505015901,2.0649636988280999,1.74150635475392,1.93103482779414,2.4604807794244099,2.9713451436153]
[null,null,null,null,null,null,null,null,null,null,6511,1.22535113802886,1.2039314906916201,1.2711922145471499,2.0673402745435299,1.73274446513042,1.93274675068279,2.4455098905771,2.95116034704506]
[null,null,null,null,null,null,null,null,null,null,6514,1.2126208075812801,1.20685175389711,1.25737739527832,2.0628717020514702,1.7021206952364301,1.90505818364305,2.3852162196647901,2.8722438496370399]
[null,null,null,null,null,null,null,null,null,null,6515,1.20240776750031,1.2023842864216701,1.2503952004271099,2.0136681092786501,1.69868141815205,1.89841088803019,2.3866930119171399,2.8734863258186398]
[null,null,null,null,null,null,null,null,null,null,6517,1.1968226767649199,1.19561520758906,1.2481607927545799,1.79222688729004,1.70511412695207,1.9009722886928599,2.4079851052233598,2.9148369832082301]
[null,null,null,null,null,null,null,null,null,null,6518,1.2038074491072099,1.1977441238748301,1.2563360475437799,1.64096413332753,1.7187390726105101,1.91437829297972,2.4233185501447498,2.9479049245134799]
[null,null,null,null,null,null,null,null,null,null,6520,1.2308934153375899,1.2177905696399001,1.29010745459639,1.4102497319238401,1.7641273352820701,1.96812701962421,2.47184933095647,3.0263178962769399]
[null,null,null,null,null,null,null,null,null,null,6521,1.2441278991318301,1.23065532665466,1.30906195294119,1.37197727142399,1.7901196712779299,2.00225734852383,2.5061847240211699,3.0680531656352801]
[null,null,null,null,null,null,null,null,null,null,6524,1.25832021027185,1.2490422461160799,1.34297168079669,1.3499328284347401,1.84910798439052,2.0815817666490202,2.60331818392434,3.1819988718879699]
[null,null,null,null,null,null,null,null,null,null,6525,1.2552921261652401,1.2487042936703701,1.34764763309834,1.3285694722644501,1.86583938499205,2.0989211212601999,2.6272314916630699,3.2184021231089401]
[null,null,null,null,null,null,null,null,null,null,6527,1.2429646601859199,1.2467925007804499,1.3559383836384999,1.3034001755424001,1.90620111942993,2.13559263150173,2.6811938297618001,3.2927316475686501]
[null,null,null,null,null,null,null,null,null,null,6528,1.23933925838332,1.2477078511950701,1.36220625787039,1.30325001147848,1.9266777437604901,2.1582784038660101,2.7103425221728998,3.3240764026646499]
[null,null,null,null,null,null,null,null,null,null,6531,1.22466736367986,1.2416988256393,1.3688588958796399,1.3235861791632499,1.95621851115403,2.2077227594009998,2.7526520294401302,3.3339467229519899]
[null,null,null,null,null,null,null,null,null,null,6532,1.22177339549285,1.2409860996854301,1.3717384288763399,1.3403681052496801,1.9645725087963499,2.2190210484182602,2.75460926285895,3.3205896294637198]
[null,null,null,null,null,null,null,null,null,null,6534,1.23969588547773,1.25608161125881,1.3967910534485499,1.39898485126699,2.0005667337566102,2.2632099994648298,2.7864230739700302,3.3483089228079801]
[null,null,null,null,null,null,null,null,null,null,6535,1.25422127058581,1.2666721189279599,1.41272977410306,1.43686978778539,2.0221917487583898,2.2914324949459499,2.8182435369690699,3.39261255228323]
[null,null,null,null,null,null,null,null,null,null,6538,1.2741746074895799,1.28133544848633,1.4396253620608099,1.5052822796707299,2.0779898923570399,2.3503793487147502,2.9122516443289301,3.5323266102276598]
[null,null,null,null,null,null,null,null,null,null,6539,1.2774415751001,1.2843214581518001,1.4442777657286801,1.5078388182198901,2.0835439628490802,2.3606195123060898,2.9342988932785898,3.5591047427679099]
[null,null,null,null,null,null,null,null,null,null,6541,1.2651512579591599,1.2751069176227201,1.42401969979368,1.51623789325897,2.0241601659277899,2.3181063052135098,2.91826858566741,3.5354169320797202]
[null,null,null,null,null,null,null,null,null,null,6542,1.24656161605636,1.2577211993891699,1.3931321573120301,1.52961495297227,1.96394145314762,2.2528191723702902,2.8629334600840202,3.4748965938304899]
[null,null,null,null,null,null,null,null,null,null,6545,1.19609627544634,1.20167376128847,1.3021369335097801,1.57727167761529,1.8279177120372501,2.0536233440373302,2.6368673895804098,3.2623790885338302]
[null,null,null,null,null,null,null,null,null,null,6546,1.1913601013459101,1.1962361209461501,1.2925498247143199,1.5759007193610199,1.8100183539911701,2.0282161825521698,2.58682250782558,3.2179205258144301]
[null,null,null,null,null,null,null,null,null,null,6548,1.20236703154991,1.2023846034073999,1.29064806562738,1.5189625941465601,1.7670544316202099,1.99862559170103,2.4976536621765901,3.10619275709489]
[null,null,null,null,null,null,null,null,null,null,6549,1.20756050599375,1.20288179451234,1.2855999794661499,1.4652313383800899,1.73850342126209,1.9730450718975401,2.4434179040714001,3.0289216986962901]
[null,null,null,null,null,null,null,null,null,null,6552,1.1838628521327099,1.1777666419003301,1.2535689772288701,1.2170088066590099,1.69603153057336,1.9027038012703701,2.3449759047310601,2.9020905736693599]
[null,null,null,null,null,null,null,null,null,null,6553,1.1707023598244399,1.16684318405503,1.2458596434126701,1.1435757276065299,1.7013564802438801,1.8995489547445401,2.3581368486884502,2.9314387419801902]
[null,null,null,null,null,null,null,null,null,null,6555,1.1534312322613001,1.15322736023009,1.2433003438590899,1.10453905098327,1.73526149311686,1.9177471657662299,2.4239973639099901,3.0396156021220602]
[null,null,null,null,null,null,null,null,null,null,6556,1.15666717228792,1.15891857581951,1.2553806983903999,1.1186249351715001,1.7588111829022699,1.9406068961054499,2.45963578797266,3.08549786641241]
[null,null,null,null,null,null,null,null,null,null,6559,1.1565219075261299,1.1695497286199401,1.2876754802199299,1.1247981508081499,1.7035744105699,1.9476345523312599,2.4887280421673101,3.10063461430595]
[null,null,null,null,null,null,null,null,null,null,6560,1.11413384879765,1.1328692175653801,1.2540383054809101,1.12284267463638,1.6105650164421701,1.86341915934388,2.4484756947489701,3.04574038201695]
[null,null,null,null,null,null,null,null,null,null,6562,0.98823872012874903,1.01744295144761,1.1257150772984199,1.1397555585568599,1.44250963200857,1.60960187217484,2.28937185127683,2.8305499113416599]
[null,null,null,null,null,null,null,null,null,null,6563,0.96940837001081404,0.99712813084596297,1.0938646284332301,1.15273335773179,1.4367769688447001,1.55146855987945,2.2036969991274198,2.7048008707976701]
[null,null,null,null,null,null,null,null,null,null,6566,1.1437761362174399,1.1455744524548701,1.2248176618315001,1.1686443138907501,1.5786066902584299,1.7577011290037401,2.0730051467521,2.4842571540547]
[null,null,null,null,null,null,null,null,null,null,6567,1.1892153151687399,1.1869075596452201,1.2654199280704901,1.1730245940909201,1.60249244202048,1.8196767524953901,2.0597207703549998,2.4586701627614298]
[null,null,null,null,null,null,null,null,null,null,6569,1.2054883621666901,1.20808922736459,1.29079211506011,1.2066139078707601,1.61271054033682,1.86296806214831,2.04886740568812,2.42937877147715]
[null,null,null,null,null,null,null,null,null,null,6570,1.19012293606812,1.1979234560573699,1.2845212275204401,1.23434268232713,1.60613115686904,1.8604668367296,2.0440946643944602,2.41072520869022]
[null,null,null,null,null,null,null,null,null,null,6573,1.1293362211867199,1.1487152853621201,1.24551408309468,1.2959085468697,1.60534724734959,1.8373942219149899,2.0516939987776301,2.3980977469208402]
[null,null,null,null,null,null,null,null,null,null,6574,1.12608909688152,1.14785469864394,1.2455183783929,1.2968824657356499,1.61710921152454,1.84159909449398,2.07298892140457,2.4433070741398399]
[null,null,null,null,null,null,null,null,null,null,6576,1.16686585836977,1.1814985641918501,1.2721763009829401,1.28742687672124,1.61700893914671,1.8514799905444299,2.0960490827176801,2.5219561911186101]
[null,null,null,null,null,null,null,null,null,null,6577,1.1914224624913401,1.19782971384753,1.2807407997878799,1.29086320298831,1.6024931117399299,1.8393365910958701,2.0814911336262001,2.5182262153298001]
[null,null,null,null,null,null,null,null,null,null,6580,1.1952251380087799,1.19844330040901,1.2714628250739499,1.33928305525076,1.5968348632041101,1.7966266995485101,2.0329078014566702,2.4697296803322302]
[null,null,null,null,null,null,null,null,null,null,6581,1.1906014360687101,1.1996549119867399,1.27935537332344,1.3620777592342901,1.62236754429256,1.8153283602125601,2.0514400449020802,2.4986964220168599]
[null,null,null,null,null,null,null,null,null,null,6583,1.2037072831353099,1.2192084281461599,1.3179646999680299,1.40438934622101,1.68628226326782,1.89099522897867,2.1319249920666699,2.6108619853816801]
[null,null,null,null,null,null,null,null,null,null,6584,1.2125225845599501,1.22847620333671,1.3362026039244399,1.4190938189331299,1.7143558875010101,1.9281237169952801,2.1764358308205898,2.6691451028167998]
[null,null,null,null,null,null,null,null,null,null,6586,1.2243931565891,1.23973367856907,1.36388855884315,1.4112278904465101,1.7544109502713801,1.98812294131739,2.2488887834432698,2.7575743158731401]
[null,null,null,null,null,null,null,null,null,null,6587,1.23164344321928,1.2464195936704801,1.3772310190753301,1.3743810759325199,1.76217267792159,2.0110115887646498,2.2695876341122498,2.7807292970816202]
[null,null,null,null,null,null,null,null,null,null,6590,1.2144784082354501,1.2334890958346101,1.3669692371975499,1.1129412486377801,1.7004707653262201,1.9827304047427901,2.2272745343331799,2.7146596311453601]
[null,null,null,null,null,null,null,null,null,null,6591,1.1857962135144899,1.20934300999053,1.3380960911425599,1.0310002177330699,1.65914030058316,1.9351806899664199,2.1795848294201599,2.6474904984726]
[null,null,null,null,null,null,null,null,null,null,6593,1.13350668894758,1.16575791202433,1.28225405109332,0.97082545321837799,1.59351430597729,1.8360548970919499,2.07410279921847,2.5006602481051998]
[null,null,null,null,null,null,null,null,null,null,6594,1.1298051779535401,1.1629671592519599,1.2744905139062701,0.97099539040711103,1.58292933760862,1.8091377377835101,2.0358095400637199,2.4475725967331701]
[null,null,null,null,null,null,null,null,null,null,6597,1.16515791131321,1.1890791248005399,1.2991183722843,0.97181931681518896,1.59316092838205,1.81150713492704,2.0150145971501998,2.41597331310032]
[null,null,null,null,null,null,null,null,null,null,6598,1.17125760983445,1.1912614041874501,1.30232547681847,0.97601829844174703,1.5940455561928,1.8126040834039601,2.0145767127953902,2.41220961230507]
[null,null,null,null,null,null,null,null,null,null,6600,1.1929705544583,1.2077130738091699,1.32166205967824,0.99194649613299102,1.6021940030877599,1.8236544885358199,2.0066631001647499,2.3951757361102102]
[null,null,null,null,null,null,null,null,null,null,6601,1.2049337457271101,1.2200652053584899,1.3374419123085599,0.99934762564772195,1.60937111727649,1.8367069331228201,2.0077546879192898,2.3954256985576099]
[null,null,null,null,null,null,null,null,null,null,6604,1.18503888585725,1.21137346108328,1.3409162897070299,1.02741974494834,1.61396670681065,1.85038628494956,2.0289872556677402,2.4239005122816999]
[null,null,null,null,null,null,null,null,null,null,6605,1.16221617514359,1.1943489996639201,1.3252447822892499,1.0439164741048801,1.6104018655524699,1.8397361333693101,2.0329465478633599,2.4289758428196202]
[null,null,null,null,null,null,null,null,null,null,6607,1.1220525743715299,1.1656015484087601,1.29551918733008,1.08140961807047,1.6082034979366899,1.81649913505134,2.0387058923089398,2.4442556019077002]
[null,null,null,null,null,null,null,null,null,null,6608,1.1151396037119701,1.16132183245287,1.29014269474622,1.0969504093871101,1.6115352364826401,1.81157155591987,2.0443763202393601,2.4611175136747301]
[null,null,null,null,null,null,null,null,null,null,6611,1.1618885100643701,1.1976152374823801,1.32873766267178,1.1226426060391701,1.6364126275555799,1.8446983654029701,2.0896113969192198,2.5424736036224198]
[null,null,null,null,null,null,null,null,null,null,6612,1.1788236670636201,1.2109306580458901,1.34450210398815,1.12568416923409,1.6371781717760601,1.85904954688764,2.1091476308945598,2.5681646833237699]
[null,null,null,null,null,null,null,null,null,null,6614,1.1950255741617699,1.22337062315627,1.35628022988707,1.1323963823438601,1.6241824510690599,1.85855931467844,2.1175157903934401,2.5788421323356898]
[null,null,null,null,null,null,null,null,null,null,6615,1.2017815889321,1.22869469427373,1.35863525565956,1.1419776937689901,1.6158065475032799,1.8477625304335801,2.10282610737067,2.5619330362454198]
[null,null,null,null,null,null,null,null,null,null,6618,1.2143767958124301,1.2355242368969599,1.35502465451915,1.20669664539535,1.57705445189479,1.79338810837311,2.0188389263605502,2.4645894165267901]
[null,null,null,null,null,null,null,null,null,null,6619,1.2156037903196699,1.2333969810690499,1.3501702106329501,1.2269409924447201,1.56380739274918,1.7741721325800299,1.9924130751210101,2.4350748615840798]
[null,null,null,null,null,null,null,null,null,null,6621,1.20417742549908,1.2187657962286,1.3335355578321499,1.2374708313248499,1.53535260868107,1.74081199855512,1.9577606088227499,2.39457698026535]
[null,null,null,null,null,null,null,null,null,null,6622,1.1861698036971899,1.20261653440072,1.3166766636760401,1.2226943425532699,1.5146216903596901,1.7189655137320801,1.9419313625184,2.3715280508566998]
[null,null,null,null,null,null,null,null,null,null,6625,1.1321149734990399,1.1532797562907799,1.25255969147798,1.17278819726873,1.4473518939679799,1.62366485329753,1.8561865573646801,2.2408361978798599]
[null,null,null,null,null,null,null,null,null,null,6626,1.13653401560759,1.1550666407267001,1.2483245371159299,1.1763468910124799,1.44610198602323,1.6067904307854799,1.8319948418852301,2.2049206637499399]
[null,null,null,null,null,null,null,null,null,null,6628,1.15366248180569,1.1733839908554,1.2707494233883501,1.1830137510218299,1.4856792346672201,1.6286487015253099,1.8467961280407601,2.22743163982615]
[null,null,null,null,null,null,null,null,null,null,6629,1.1516306243071801,1.1780189550226401,1.2857653833198901,1.1799094900711999,1.51292403901395,1.6571188918765201,1.88202665890177,2.2796354756219901]
[null,null,null,null,null,null,null,null,null,null,6632,1.12057556522086,1.1737702466484901,1.3073154397297,1.19285339190554,1.53277170928212,1.7096445411779999,1.9559013301136501,2.3862908991302199]
[null,null,null,null,null,null,null,null,null,null,6633,1.11653146398659,1.17290147334612,1.3020453281239599,1.2066205480494001,1.5050216673671799,1.6923860266125099,1.93409003646781,2.3529369432134701]
[null,null,null,null,null,null,null,null,null,null,6635,1.13432794322662,1.1801353706431801,1.2835770810062701,1.23526655011658,1.4391272299589499,1.6189490075122901,1.82983131757984,2.19887888561153]
[null,null,null,null,null,null,null,null,null,null,6636,1.1497860608950601,1.18741851106276,1.28000144031689,1.2470022867375901,1.4246971374528301,1.5898509107651999,1.7825154357744499,2.1291401737893501]
[null,null,null,null,null,null,null,null,null,null,6639,1.16363071958915,1.2024073057215801,1.30358692684697,1.2647932980518399,1.4620518171902299,1.6062198308736499,1.78612207929456,2.1269760847444799]
[null,null,null,null,null,null,null,null,null,null,6640,1.1594064243656499,1.2024577303019399,1.3146327799214499,1.2701832991194499,1.4814269610028199,1.6289076542640299,1.8182312054579599,2.1707435952578802]
[null,null,null,null,null,null,null,null,null,null,6642,1.14558709138575,1.1921641081721599,1.32547005150131,1.2860071142496301,1.5073180940858699,1.66261930253137,1.8789681396818001,2.25679494309097]
[null,null,null,null,null,null,null,null,null,null,6643,1.13795484508572,1.1844213236715999,1.3250920721823101,1.2939178278924499,1.5131605527476999,1.6696510934653499,1.8985912599550201,2.2870799105706401]
[null,null,null,null,null,null,null,null,null,null,6645,1.1351078016618801,1.1804413396788001,1.3260775759188099,1.3063061929008499,1.50614482400739,1.6698428321515599,1.9089437434782699,2.3077642041432398]
[null,null,null,null,null,null,null,null,null,null,6646,1.1378387041062601,1.1830541896508799,1.32467105994615,1.3166870260361601,1.48537837178331,1.6589423420682901,1.8932398124221499,2.2849865505041498]
[null,null,null,null,null,null,null,null,null,null,6649,1.14042798793432,1.16700592390769,1.25677840164403,1.35659621615391,1.31670520995648,1.5118024753983199,1.6802298076089399,1.93346663758004]
[null,null,null,null,null,null,null,null,null,null,6650,1.1392293946302201,1.1511407327968,1.2126282504930299,1.3519450049870401,1.2459652699070001,1.42819698375441,1.55819330635001,1.7288451276105301]
[null,null,null,null,null,null,null,null,null,null,6652,1.13398994356171,1.1248224622679801,1.1438337306616899,1.3201980434162199,1.17001133624687,1.30077577814858,1.36527581158013,1.4040880484193301]
[null,null,null,null,null,null,null,null,null,null,6653,1.13293795081523,1.1222394206228401,1.13565701433304,1.30833692314543,1.1681376453457499,1.2817466917073499,1.33119384028649,1.34368051356734]
[null,null,null,null,null,null,null,null,null,null,6656,1.1318900121967601,1.12955073301398,1.1567721691283299,1.33718786098955,1.1890016903734399,1.3057606344539101,1.35328260216609,1.36321386899326]
[null,null,null,null,null,null,null,null,null,null,6657,1.1304105294010101,1.1309135394240999,1.1619967055231999,1.3540681611738801,1.19467711010033,1.3125002842300699,1.36212845962288,1.3732841268260101]
[null,null,null,null,null,null,null,null,null,null,6659,1.1203799913146799,1.13217586529256,1.1714973316311801,1.35926420653053,1.2134363813914799,1.3284996328598899,1.3868796839027899,1.4066105764550101]
[null,null,null,null,null,null,null,null,null,null,6660,1.1109582053170199,1.13002327013078,1.1765238427406699,1.34238542637901,1.22767538030838,1.34068499755824,1.4068024102850401,1.43554314935073]
[null,null,null,null,null,null,null,null,null,null,6663,1.07498802318112,1.11219977005267,1.1913649124302299,1.2810009185432201,1.2902960844839999,1.39217113940005,1.4928373500558201,1.5659681532718699]
[null,null,null,null,null,null,null,null,null,null,6664,1.0679378724225901,1.1108795965575,1.2017021059873401,1.28124722107963,1.3132826550957799,1.4145354278334901,1.5279237171858899,1.6181400878724099]
[null,null,null,null,null,null,null,null,null,null,6666,1.0667885193883599,1.11920412331259,1.22878096833082,1.29688201412488,1.34809920322955,1.45461823462895,1.5869229138360199,1.7029643764974101]
[null,null,null,null,null,null,null,null,null,null,6667,1.07462253220893,1.12881029808482,1.24402957387505,1.3029298025182099,1.3591036026296399,1.47001460765006,1.60432986008529,1.7271336874661001]
[null,null,null,null,null,null,null,null,null,null,6670,1.1297622988353599,1.17606521009772,1.2961834863873201,1.30447997383325,1.38214549764587,1.50887034292397,1.62945035326778,1.7664825573573799]
[null,null,null,null,null,null,null,null,null,null,6671,1.14388073806146,1.18787181956937,1.3096259602471201,1.29571912496935,1.3886685371751,1.5194484278282401,1.6389474621776701,1.7844783648948299]
[null,null,null,null,null,null,null,null,null,null,6673,1.1464322535601099,1.19285760011723,1.3193280340714599,1.28711568014454,1.3946432623093199,1.5285736527645299,1.65941515012512,1.82874222711662]
[null,null,null,null,null,null,null,null,null,null,6674,1.13538816376864,1.1855898354632499,1.31398509836346,1.29970421232085,1.39306549908216,1.5248329080599801,1.6666681464780499,1.8485592900304]
[null,null,null,null,null,null,null,null,null,null,6677,1.0637409385882099,1.12288875686935,1.2500389033981001,1.3683757886528101,1.3362152528942399,1.46489943745655,1.63814841681225,1.8154935052068999]
[null,null,null,null,null,null,null,null,null,null,6678,1.04792314599362,1.10123353793191,1.21538431183429,1.38034325457253,1.2876625478071899,1.41910488696004,1.58570544170725,1.7315009277642499]
[null,null,null,null,null,null,null,null,null,null,6680,1.06058922978513,1.0804631979781101,1.1402845314033401,1.39600457764342,1.1720200205495701,1.2910322508913901,1.4088720000949,1.4546361867252799]
[null,null,null,null,null,null,null,null,null,null,6681,1.0773573240677601,1.0778436292642799,1.1087249306731699,1.41075060916713,1.1324988879576501,1.23016139549936,1.3219931269657299,1.3217077380809299]
[null,null,null,null,null,null,null,null,null,null,6684,1.11070130465697,1.09115949717917,1.0991403814251499,1.4711995056798399,1.12497743910563,1.18140492054346,1.2462507273749901,1.20221509848189]
[null,null,null,null,null,null,null,null,null,null,6685,1.11134653355994,1.09567555973459,1.1109868696897101,1.48221422869998,1.1345463696889799,1.1924067097439699,1.2572246682330099,1.21340308049671]
[null,null,null,null,null,null,null,null,null,null,6687,1.1021793869552901,1.09780036103086,1.1295672864503099,1.49658141311132,1.1541388448610299,1.21600058580726,1.2845501115759399,1.24316381103897]
[null,null,null,null,null,null,null,null,null,null,6688,1.0988882932624999,1.09899192424014,1.1369573006646201,1.50838501668568,1.1631579622801,1.2278012700902201,1.3001501266017901,1.26414257854839]
[null,null,null,null,null,null,null,null,null,null,6691,1.1051745406359501,1.1077190042109599,1.1517013372137901,1.5483015136218501,1.17830003877058,1.25108277052316,1.33573697084391,1.3360868700939901]
[null,null,null,null,null,null,null,null,null,null,6692,1.1051246970223001,1.10840465428404,1.15413974226683,1.55159841624586,1.1826706034241701,1.25457134628045,1.3445235493241099,1.35846309285981]
[null,null,null,null,null,null,null,null,null,null,6694,1.09078166098542,1.10255442717729,1.15911263387196,1.54716803806401,1.19994837963295,1.26534677379881,1.3704927110421301,1.4083331893297899]
[null,null,null,null,null,null,null,null,null,null,6695,1.07886057184436,1.0980449696433501,1.1635372866708,1.5448427476947799,1.2125606972041101,1.2750464074012,1.3891989454360301,1.43874775700388]
[null,null,null,null,null,null,null,null,null,null,6698,1.07478612754097,1.1080628915216699,1.19614746489709,1.5573859759602,1.25392419648534,1.31946627151818,1.4506478825247699,1.5368512856927801]
[null,null,null,null,null,null,null,null,null,null,6699,1.0859617862027999,1.1197784523104899,1.2116898454843801,1.56492534241482,1.26697136376555,1.3359209714515099,1.4693998837537501,1.5684854401945501]
[null,null,null,null,null,null,null,null,null,null,6701,1.10116486455503,1.1381119221009901,1.23666375564941,1.5691886000848001,1.29062215915585,1.36408683814247,1.5042798543197,1.6282810568845001]
[null,null,null,null,null,null,null,null,null,null,6702,1.1001904509697,1.1407206891942601,1.2436099955181299,1.57078981365121,1.30092341481777,1.37514537292199,1.5206986011532599,1.656105483785]
[null,null,null,null,null,null,null,null,null,null,6704,1.0909028212322001,1.13712393042584,1.24973087796061,1.5760744686468799,1.31969642329991,1.39152820790219,1.54898021761206,1.7051731194375801]
[null,null,null,null,null,null,null,null,null,null,6705,1.0900746632092899,1.1368873110953499,1.25321583507717,1.57656108902763,1.33012930754086,1.3996786205265801,1.5620235470931001,1.7272236968735999]
[null,null,null,null,null,null,null,null,null,null,6708,1.0908468393414099,1.14555083869548,1.27110945872057,1.58010809954843,1.3578000645783299,1.43014341498203,1.6078751423116,1.8016026583593301]
[null,null,null,null,null,null,null,null,null,null,6709,1.0845981448355499,1.14401308351419,1.2716633313078101,1.5945929113160999,1.3550135214749599,1.4325645963682501,1.6174403028322499,1.81882002247639]
[null,null,null,null,null,null,null,null,null,null,6711,1.0699552607084999,1.1308055245791899,1.2497274931407101,1.6590968668609101,1.3073508133490801,1.4023984774795399,1.58547785139848,1.7672966906352501]
[null,null,null,null,null,null,null,null,null,null,6712,1.0622500870159799,1.11725405799069,1.22220518201432,1.6934497659068299,1.25878724809528,1.36346982971704,1.52975374666193,1.6742650848398299]
[null,null,null,null,null,null,null,null,null,null,6715,1.02133763682726,1.0393570813213799,1.0852550550773701,1.6846739506350199,1.10393488776132,1.1869929995953701,1.2801149906896601,1.27026151894855]
[null,null,null,null,null,null,null,null,null,null,6716,1.00945894046623,1.0152469038310299,1.04736286914647,1.6600612059278199,1.0764861559798999,1.14210723296238,1.2249527390939701,1.18642353309571]
[null,null,null,null,null,null,null,null,null,null,6718,1.0144665621371201,0.99855980103448505,1.01095068010985,1.65627935950532,1.05790376513254,1.09752200408197,1.17993920226605,1.12372886038546]
[null,null,null,null,null,null,null,null,null,null,6719,1.0302738608728099,1.0063983797653999,1.00906774087211,1.6783235530748799,1.0608841761932599,1.092243046865,1.1764238780218099,1.1192262495071099]
[null,null,null,null,null,null,null,null,null,null,6722,1.06226234742884,1.0393177705594201,1.0152970121631999,1.7455781752303701,1.0891716036460399,1.1083182109642,1.2030643693652601,1.1534029484614601]
[null,null,null,null,null,null,null,null,null,null,6723,1.06414151777774,1.0443737986330801,1.0194215486349101,1.7505266241347801,1.10081596311841,1.1189806154380699,1.2190802664993099,1.1760729587896299]
[null,null,null,null,null,null,null,null,null,null,6725,1.0631710315796601,1.04920663543729,1.046193081864,1.7357662604480799,1.12482132073446,1.14925657630421,1.2570622079035401,1.2330164970853199]
[null,null,null,null,null,null,null,null,null,null,6726,1.06341997448133,1.0529086224691599,1.06384683608688,1.7298779765065899,1.13584319375075,1.1658900224337401,1.2767649137957899,1.26393546177813]
[null,null,null,null,null,null,null,null,null,null,6729,1.0742259251630699,1.07297894139992,1.1019123416916601,1.7692523312597901,1.1637963014468899,1.20443118563872,1.3230091911591599,1.3524423598708]
[null,null,null,null,null,null,null,null,null,null,6730,1.07600095687278,1.07765681964699,1.10992343037646,1.7879073320644101,1.1743623184114,1.2151187442795901,1.3383279908601899,1.38265160718623]
[null,null,null,null,null,null,null,null,null,null,6732,1.0737270573122699,1.08353946869611,1.1240850457649501,1.8123708182075899,1.1934522913399299,1.2371863917802399,1.37550333227536,1.44531243761103]
[null,null,null,null,null,null,null,null,null,null,6733,1.07278258438148,1.0865324431741299,1.1291952293584,1.80863210235677,1.20009051415507,1.2461334631557299,1.3918647746664701,1.4729697256280501]
[null,null,null,null,null,null,null,null,null,null,6736,1.0765575868420001,1.0918294632904,1.13693518599793,1.7467216239024901,1.2211439146896199,1.26665564748433,1.42888935920922,1.5425382627667501]
[null,null,null,null,null,null,null,null,null,null,6737,1.0753311954662601,1.0888901141987799,1.13814390894254,1.74401318772581,1.23060356953717,1.2757917750016601,1.4454807677250701,1.5712185934813101]
[null,null,null,null,null,null,null,null,null,null,6739,1.0689167113051701,1.07842851691038,1.13859386828987,1.77384053864722,1.25029720047548,1.2953010354021399,1.48642637620179,1.63852642121159]
[null,null,null,null,null,null,null,null,null,null,6740,1.06705277593271,1.07482626485383,1.14035987359838,1.7924558788390801,1.2608530228257,1.3060335850006399,1.5081452188208999,1.67243932674666]
[null,null,null,null,null,null,null,null,null,null,6743,1.0572659082845399,1.06925978574132,1.14844288910862,1.81762808936394,1.28389045310659,1.3377992466628701,1.557553125156,1.7476040984327501]
[null,null,null,null,null,null,null,null,null,null,6744,1.0536373708895701,1.06900335389154,1.1480442685023999,1.81375596879696,1.2774450979068901,1.34074636363209,1.5575913990205901,1.75131636276437]
[null,null,null,null,null,null,null,null,null,null,6746,1.0472341110469301,1.05976062137275,1.12220986023687,1.79889527111569,1.2326108937770499,1.3115485663077899,1.5128177387080499,1.6977941080101699]
[null,null,null,null,null,null,null,null,null,null,6747,1.04348291283284,1.0486066600791499,1.09649980191123,1.7994181866882399,1.2086909905110099,1.28259612361922,1.47618516882198,1.65258655389163]
[null,null,null,null,null,null,null,null,null,null,6750,1.0290933243062099,1.02778653652592,1.0544814596252801,1.84289493382314,1.2007902827658701,1.24510871517582,1.4403888033979499,1.6250587018450799]
[null,null,null,null,null,null,null,null,null,null,6751,1.02234706392703,1.02689305409733,1.05612792990348,1.84963005110571,1.20847761076125,1.25167032012401,1.45277231110383,1.6474257946812101]
[null,null,null,null,null,null,null,null,null,null,6753,1.0190556458228801,1.03354562766714,1.0673918238444799,1.82507518760584,1.2233279306581699,1.2688160291366899,1.4765647656010501,1.6850367399511099]
[null,null,null,null,null,null,null,null,null,null,6754,1.0304026242021,1.0462905410260299,1.0794225644501001,1.79824120900995,1.2326721208092399,1.2803543316891799,1.4888604437025601,1.70279317099099]
[null,null,null,null,null,null,null,null,null,null,6757,1.08773272647958,1.0981995854836499,1.1272099037760701,1.7788313462299701,1.2641454402771599,1.3281902870315301,1.54188609165963,1.78086761958718]
[null,null,null,null,null,null,null,null,null,null,6758,1.0991906449472799,1.10884434364906,1.1381963861290201,1.8144127712742899,1.27234849762129,1.34223186204776,1.55912522240533,1.8088401616576699]
[null,null,null,null,null,null,null,null,null,null,6760,1.1033179524049701,1.11756869279382,1.1498265840290001,1.9071378962254499,1.2876711765536299,1.3656144128063199,1.5882108613902599,1.86072847723405]
[null,null,null,null,null,null,null,null,null,null,6761,1.09843210369021,1.1176919756503501,1.1528892097496499,1.9360607436678099,1.29643638710161,1.37768422199565,1.6025583236649601,1.8866574355913399]
[null,null,null,null,null,null,null,null,null,null,6764,1.0744625645060499,1.11307116293515,1.16176628936618,1.91623986624252,1.33046431108923,1.42236024756988,1.65433429470576,1.9705264087537899]
[null,null,null,null,null,null,null,null,null,null,6765,1.0625327456101901,1.1085655856747401,1.16373209353436,1.9118564688769299,1.3434484851795401,1.44033221570837,1.6766994505177899,2.0054209288460298]
[null,null,null,null,null,null,null,null,null,null,6767,1.04134840413538,1.1002617490389099,1.16986387316498,1.9305139936167901,1.3697258052228301,1.4802144266472601,1.72703635294436,2.0855008801158101]
[null,null,null,null,null,null,null,null,null,null,6768,1.0395971731292299,1.1018333666793001,1.1760727909731199,1.9418798117676499,1.38061248164113,1.49914562339063,1.7499019771800099,2.1223464856017502]
[null,null,null,null,null,null,null,null,null,null,6770,1.0486670035874801,1.11272033630226,1.18735475447873,1.9539829136267199,1.39976583537303,1.5274591100611501,1.7809797005891601,2.17470019359904]
[null,null,null,null,null,null,null,null,null,null,6771,1.05649822173812,1.1210907296846699,1.1936323858145199,1.95431086196223,1.4121729210721701,1.542298327091,1.7952480579158401,2.1994048523308698]
[null,null,null,null,null,null,null,null,null,null,6774,1.09604492024003,1.16300261381804,1.22732649422385,1.9630509117213599,1.44658450122253,1.6076219796529501,1.8613401289609299,2.30932806433507]
[null,null,null,null,null,null,null,null,null,null,6775,1.10857775493892,1.17537932822893,1.2358549136407999,1.9688980371893701,1.45172791000026,1.6247154325945801,1.8815805886358301,2.34209161931676]
[null,null,null,null,null,null,null,null,null,null,6777,1.1249769445817801,1.1881845125386601,1.2356162213395201,1.98486845970151,1.43919390752496,1.6318145343939201,1.8904101702621501,2.35735483127926]
[null,null,null,null,null,null,null,null,null,null,6778,1.12819720412433,1.18584802779258,1.22300332734035,1.9868130735988501,1.41469800340508,1.61610879434206,1.8677910646156799,2.3225834935674201]
[null,null,null,null,null,null,null,null,null,null,6781,1.0990747065628601,1.11874812943378,1.1129075781045801,1.95690664816819,1.26914672498489,1.46742727852694,1.6715516187978401,2.0032583397724699]
[null,null,null,null,null,null,null,null,null,null,6782,1.07387827549613,1.08073660705827,1.06175963912933,1.96184314410547,1.22423048835486,1.4031031737534001,1.59447408703587,1.8754839881413401]
[null,null,null,null,null,null,null,null,null,null,6784,1.0318124365072601,1.03139318043396,0.98924088692252199,2.0042278392003698,1.18538687329046,1.3220146204501999,1.5057196645281801,1.72907277231983]
[null,null,null,null,null,null,null,null,null,null,6785,1.0277572467523799,1.0305776843397301,0.96796550511567603,2.02259767743341,1.1862526275117999,1.29860297763009,1.49479606175108,1.7142577818455]
[null,null,null,null,null,null,null,null,null,null,6788,1.0632954858080199,1.0725689234553999,0.77393867661952997,2.0006504259686602,1.21298872476241,1.02271092729883,1.5128450725607401,1.7593751735652601]
[null,null,null,null,null,null,null,null,null,null,6789,1.07183506662178,1.08252070892577,0.60475977811860404,1.9897485859914299,1.2213173884474999,0.78510690919151005,1.52224382193538,1.77995123507385]
[null,null,null,null,null,null,null,null,null,null,6791,1.07626792370631,1.09139453755366,0.229858489392751,2.0110517585915102,1.24035775420988,0.279637434598143,1.5447607947317401,1.8289413254514399]
[null,null,null,null,null,null,null,null,null,null,6792,1.07435678617671,1.09361703798789,0.105799221833448,2.0393825353207902,1.2545685958191,0.121834933830863,1.56010043874902,1.8595104663628901]
[null,null,null,null,null,null,null,null,null,null,6795,1.07427731539171,1.10579233219532,3.2714606892819199E-4,2.0664050891611998,1.3276020365411001,-1.1166267001284E-3,1.5967044626920801,1.9666194192453399]
[null,null,null,null,null,null,null,null,null,null,6796,1.08107780626971,1.1134732757541701,8.7366668547947501E-5,2.0582900599435101,1.3556906223674501,9.7671597988877105E-5,1.5578925241586901,2.0001081840169399]
[null,null,null,null,null,null,null,null,null,null,6798,1.09780262159154,1.12878108643985,8.8387964159889195E-5,2.0680762760430098,1.4009298246656401,9.2499520998596204E-5,1.2297749018334501,2.06523413233149]
[null,null,null,null,null,null,null,null,null,null,6799,1.10534875473092,1.1360391865714401,8.8387010141174405E-5,2.0845299963519701,1.4202694207322799,9.2504348447725406E-5,0.92684053889815998,2.1012897897089702]
[null,null,null,null,null,null,null,null,null,null,6802,1.1166074707487099,1.1530292726984199,8.8388404001654702E-5,2.1352252652897401,1.46340445485368,9.2506038058682303E-5,0.13696410848801499,2.2043747524315802]
[null,null,null,null,null,null,null,null,null,null,6803,1.11604867362848,1.1535382192413799,8.7953807635986602E-5,2.1506323400705698,1.4688305622119799,9.2651059648407095E-5,4.4757893350892301E-2,2.2262291205931102]
[null,null,null,null,null,null,null,null,null,null,6805,1.11401947900585,1.15037951518978,4.0169539026450402E-4,2.1705428896029,1.4792867396609399,-1.20421775006292E-5,-1.21623420394441E-3,2.2624114721567499]
[null,null,null,null,null,null,null,null,null,null,6806,1.1136286113246601,1.1495112836054,1.2817685610266799E-2,2.1618456572378899,1.49069705069548,-2.30825027760578E-4,1.00702629405428E-4,2.2868617938200599]
[null,null,null,null,null,null,null,null,null,null,6809,1.11771923598043,1.1561023679304101,0.30397257002303102,2.07293106537858,1.53765582417703,0.15645055217272399,5.78365564607254E-2,2.3904283981167702]
[null,null,null,null,null,null,null,null,null,null,6810,1.1183515390997001,1.15694723330022,0.539389331160125,2.07754225559647,1.5441788338528499,0.346560470225724,0.17233620203317099,2.4185958935613301]
[null,null,null,null,null,null,null,null,null,null,6812,1.1141323618344801,1.15009422616726,1.0236220482837699,2.1378401589710299,1.5263149231090001,0.93431082569151003,0.72353942886727896,2.4279410874404102]
[null,null,null,null,null,null,null,null,null,null,6813,1.1100020188023301,1.14187504746602,1.16492700772614,2.1582258756177,1.5041532447561901,1.2036682291319301,1.1002914919640201,2.4022530443876802]
[null,null,null,null,null,null,null,null,null,null,6816,1.1149468095281401,1.1257729834441801,1.2395971458928099,2.1230013617576899,1.47142003596197,1.51499127345359,1.79095318630962,2.3116106731956898]
[null,null,null,null,null,null,null,null,null,null,6817,1.1241037332543999,1.1322128808726399,1.23932534802683,2.0945793934011898,1.4829086183441,1.54208883515683,1.86027063019535,2.3240971459295001]
[null,null,null,null,null,null,null,null,null,null,6819,1.13591376018811,1.14738026607434,1.25372206131554,2.0208565350400698,1.50696396287336,1.5872008806133899,1.9246599481695501,2.3850896486786]
[null,null,null,null,null,null,null,null,null,null,6820,1.1396846602483499,1.15166599323028,1.2587113941208901,1.9871160848196301,1.51455185787521,1.60633453534419,1.9420697236947499,2.40974894356986]
[null,null,null,null,null,null,null,null,null,null,6823,1.1633542373308601,1.1648368756857099,1.2734319017023801,2.0387478573189699,1.53782680213317,1.64987466657904,1.9854783694250999,2.4704140254883802]
[null,null,null,null,null,null,null,null,null,null,6824,1.1684970045179299,1.16955052824253,1.2792326149445401,2.0726919319774901,1.5487301183090401,1.66455017216757,2.00329050497669,2.4975619473880499]
[null,null,null,null,null,null,null,null,null,null,6826,1.16332310564025,1.1751332831206101,1.28783188053251,2.0672924579512402,1.57337834828407,1.6987827300334799,2.0483757102062601,2.5800926971832201]
[null,null,null,null,null,null,null,null,null,null,6827,1.1546700386538999,1.17437105159896,1.28867890688525,2.04960304418797,1.5837308883796899,1.71444687278747,2.0733468818684502,2.6340559486852699]
[null,null,null,null,null,null,null,null,null,null,6829,1.14184294393164,1.1707957468355199,1.28576217338634,2.06526529826185,1.59786431817893,1.73869168013595,2.1178501610162899,2.7356153186649901]
[null,null,null,null,null,null,null,null,null,null,6830,1.14222360752039,1.1706140233923401,1.28596090908301,2.09916806663982,1.60318288902441,1.75088018443164,2.1344619879358602,2.7658862947159402]
[null,null,null,null,null,null,null,null,null,null,6833,1.1568381789340301,1.1780485587232501,1.2997486619582399,2.2135962513269298,1.63108046716536,1.7969792425516899,2.17999485103701,2.7918373020736098]
[null,null,null,null,null,null,null,null,null,null,6834,1.1659869075592799,1.1852013323422901,1.31009389614382,2.2376136759377498,1.64538816507518,1.8174293255610401,2.20131764441309,2.80635038455853]
[null,null,null,null,null,null,null,null,null,null,6836,1.1790203381650599,1.1956221819286299,1.3284920559284401,2.2690641312616702,1.6673204628412099,1.85629475972741,2.2437480528500999,2.8413576535255198]
[null,null,null,null,null,null,null,null,null,null,6837,1.17549851335894,1.19287367938091,1.33027006677531,2.2795531743629698,1.67261074357021,1.87004134316643,2.2599385517478399,2.8506732850440302]
[null,null,null,null,null,null,null,null,null,null,6840,1.13392370099371,1.1605504317022599,1.30990930494133,2.2925419623888201,1.6923039925040899,1.89566709102805,2.3058193251265102,2.8683268314944899]
[null,null,null,null,null,null,null,null,null,null,6841,1.1251714673226001,1.1541756361976101,1.30608080062383,2.2971754669463902,1.70745343349221,1.9096565948555899,2.3297219583378701,2.88864414601395]
[null,null,null,null,null,null,null,null,null,null,6843,1.1381593513777499,1.16603763299112,1.3209330004375499,2.3023905691882498,1.7441003777875499,1.9613714824397399,2.3915417942979098,2.9521514946806899]
[null,null,null,null,null,null,null,null,null,null,6844,1.1541548395455199,1.17861381470611,1.33359024126282,2.2958267168913702,1.7538601246885599,1.98850568884769,2.4199088253978198,2.9814891880252401]
[null,null,null,null,null,null,null,null,null,null,6847,1.1849431846345799,1.18726618124312,1.3259402452205999,2.2372283517323499,1.69839664018044,1.98118247310058,2.4107110899743098,2.9426307106665202]
[null,null,null,null,null,null,null,null,null,null,6848,1.18664676929229,1.1766395007670301,1.3015150447520001,2.2213575297305099,1.6493088381352099,1.9416219067665801,2.3608967757322699,2.86701930427783]
[null,null,null,null,null,null,null,null,null,null,6850,1.1835474164698501,1.14741493426026,1.23371153531037,2.1925115809747302,1.54528528968282,1.83378140256014,2.2179203045790601,2.66589199834613]
[null,null,null,null,null,null,null,null,null,null,6851,1.1809078734805201,1.13614842585235,1.2035902798593401,2.1787779787128301,1.51102985984419,1.78915609422997,2.1590533022357898,2.58648193552082]
[null,null,null,null,null,null,null,null,null,null,6854,1.1648298979449601,1.1226234405934601,1.1676826495439501,2.1516075213522599,1.4892902998394899,1.75727043577632,2.1186274757136201,2.5237192244679201]
[null,null,null,null,null,null,null,null,null,null,6855,1.15919051796823,1.1216485138002701,1.1682763390261099,2.1575499645290899,1.4961375001513499,1.7696107576072999,2.13207777586757,2.5342024063026001]
[null,null,null,null,null,null,null,null,null,null,6857,1.1591768474792401,1.12358963639832,1.17735799583081,2.2010709020446901,1.51585732954492,1.80444577249063,2.1718232615540698,2.5734509490511899]
[null,null,null,null,null,null,null,null,null,null,6858,1.1609227477783399,1.1235933242835501,1.18193790242345,2.2276379033074099,1.52634432938739,1.82218582045849,2.19442378781789,2.6000771505764502]
[null,null,null,null,null,null,null,null,null,null,6861,1.1544496128780299,1.11541536070128,1.1813557544801701,2.2756912833148202,1.54738452785287,1.8585341208628601,2.2534324952409901,2.6820718405504098]
[null,null,null,null,null,null,null,null,null,null,6862,1.1634130012264201,1.1222988853465601,1.18622042663202,2.2656822206307399,1.5557332144863001,1.8725448704194601,2.26937890609786,2.7067953463988901]
[null,null,null,null,null,null,null,null,null,null,6864,1.20032266566736,1.1529029276815901,1.2127632324675599,2.2216906235701401,1.57140708302418,1.9129076461768,2.3047980623897599,2.7546024194540899]
[null,null,null,null,null,null,null,null,null,null,6865,1.2128466717166999,1.1663416625973999,1.2250822054199799,2.2151700853963399,1.57470242449016,1.92998700773403,2.3195248571975302,2.7702484490246699]
[null,null,null,null,null,null,null,null,null,null,6868,1.2101991680342701,1.1859998174261499,1.2321171459518101,2.3038727807228598,1.59914318884367,1.9671052756232399,2.3500121898652502,2.7921622118932499]
[null,null,null,null,null,null,null,null,null,null,6869,1.2038088843390899,1.18524021280929,1.2311663295086499,2.3266886480276701,1.62059239330574,1.9882656778104599,2.3734723613983899,2.8207146984351001]
[null,null,null,null,null,null,null,null,null,null,6871,1.1842913271223201,1.16770345556178,1.23976833920425,2.3253199398456799,1.67728658690996,2.0446360773454502,2.4561434807067699,2.9396327141584702]
[null,null,null,null,null,null,null,null,null,null,6872,1.17648849385337,1.1578905253523799,1.2511606249426701,2.3079469135952002,1.7027825774897301,2.0746550947098501,2.50397704275349,3.0148947649240201]
[null,null,null,null,null,null,null,null,null,null,6875,1.19685622567438,1.16724920392802,1.29322487340867,2.2461522186331302,1.74050705157289,2.1538649173790798,2.59034673531316,3.1704553563003199]
[null,null,null,null,null,null,null,null,null,null,6876,1.2121607030096599,1.1791627727067999,1.29899479420473,2.2328299074258502,1.7466859624700399,2.1742792038176901,2.6053081908496498,3.1850806192742902]
[null,null,null,null,null,null,null,null,null,null,6878,1.2343411921535099,1.19645979027843,1.2943039926262101,2.1926393566750799,1.7565502325498801,2.2040744179242102,2.6356511131045202,3.1971138410065398]
[null,null,null,null,null,null,null,null,null,null,6879,1.2340615479663899,1.1957220721312201,1.28623621353114,2.1650333631093899,1.7565948860174301,2.21087131786792,2.6472529309902,3.2063432068365798]
[null,null,null,null,null,null,null,null,null,null,6882,1.2045330639382399,1.1642409280644599,1.24795865080691,2.1359903651227898,1.6947950990095799,2.1747773345938701,2.6316860800817299,3.1991845285704601]
[null,null,null,null,null,null,null,null,null,null,6883,1.20696728183683,1.1607854293842801,1.23820766590989,2.1542297555105399,1.6749005965380399,2.1532566819669299,2.6143872689760799,3.1774898060624301]
[null,null,null,null,null,null,null,null,null,null,6885,1.2388904812263599,1.1783971327220799,1.2480278268093601,2.18040391517351,1.68912148740976,2.1553604775411501,2.62859570930341,3.1900570243273498]
[null,null,null,null,null,null,null,null,null,null,6886,1.25747353237574,1.1915668212066799,1.2627389903234401,2.1688405293880999,1.70893153668023,2.17822083780589,2.6593293623381902,3.2290114766833899]
[null,null,null,null,null,null,null,null,null,null,6889,1.3012111984788199,1.21754447224304,1.2819638710344301,2.1811710366815902,1.7348655843361001,2.2352499985365801,2.7131413250689298,3.2869801168780599]
[null,null,null,null,null,null,null,null,null,null,6890,1.31053109571832,1.2214825603581201,1.2815221664396601,2.22524779048931,1.74025512075074,2.2438804945376698,2.71864114045326,3.2824806748337201]
[null,null,null,null,null,null,null,null,null,null,6892,1.3194901865097399,1.22645821429505,1.28729755042106,2.2917980833234499,1.76384005389128,2.2619462857328498,2.7502397677770198,3.3000686309006699]
[null,null,null,null,null,null,null,null,null,null,6893,1.3192403962650301,1.2279705617581,1.2936270994168799,2.28857638500505,1.78099013232633,2.2762856157654401,2.7803166233089902,3.3431855578212]
[null,null,null,null,null,null,null,null,null,null,6895,1.31062389109674,1.2290414603320201,1.3068317819866799,2.2266444921289499,1.8046471678785201,2.3138715136656001,2.8497022604300599,3.4828325349575802]
[null,null,null,null,null,null,null,null,null,null,6896,1.3034079321885601,1.2277862717032799,1.3103548186017,2.20146174897067,1.80863126116738,2.3312968520653699,2.8744804645911799,3.54742500407498]
[null,null,null,null,null,null,null,null,null,null,6899,1.2832221470343499,1.21967644759524,1.3037929584544301,2.2599698778985702,1.81663509451893,2.3684244352996902,2.9212957643039501,3.6691002792639198]
[null,null,null,null,null,null,null,null,null,null,6900,1.2814916189385499,1.2205298163979399,1.30123081962719,2.2876733961338398,1.82631817854503,2.37729504597581,2.9386546215179599,3.6970700159324501]
[null,null,null,null,null,null,null,null,null,null,6902,1.2887126185531099,1.23313429849172,1.3100105249926799,2.2866959254645498,1.8628420811272399,2.4101951932960399,2.9882762584126299,3.7690040671706799]
[null,null,null,null,null,null,null,null,null,null,6903,1.2937389925278,1.24097738416253,1.3201864677781201,2.2601570524870298,1.8847699461033101,2.43862305099938,3.0226385581223498,3.8190085986490798]
[null,null,null,null,null,null,null,null,null,null,6906,1.3060967311076901,1.2567796142623699,1.3525405811654601,2.2205231859516501,1.9551947005080399,2.54708118608607,3.15307023536465,4.0030837813655502]
[null,null,null,null,null,null,null,null,null,null,6907,1.3122593603413599,1.26282697330525,1.3631970158909399,2.2387049236173802,1.9766223765907101,2.5807729180421402,3.1974254546588798,4.05549473986924]
[null,null,null,null,null,null,null,null,null,null,6909,1.3156185561211999,1.2680174582780099,1.3735168290777999,2.2672133403008901,2.00703682692515,2.6252950033252298,3.2708023930465702,4.1414539006122002]
[null,null,null,null,null,null,null,null,null,null,6910,1.30656986329033,1.2623392872155399,1.37008914386226,2.2728141824002601,2.0168705111516001,2.6341275368871502,3.3045585849647301,4.1918810461585103]
[null,null,null,null,null,null,null,null,null,null,6913,1.26753949546797,1.23301740643879,1.3490689343323099,2.31563586421212,2.0296421208789202,2.64134348078723,3.3994290773831199,4.3566808502434098]
[null,null,null,null,null,null,null,null,null,null,6914,1.2644992263095001,1.2294537438556099,1.3476189101949601,2.3344490099663502,2.0223639202431301,2.6412038207908601,3.41049301274073,4.3798200218469701]
[null,null,null,null,null,null,null,null,null,null,6916,1.27820750498464,1.23385648210305,1.35036205835217,2.3620334817062401,1.9687364087574699,2.6089625790342099,3.3601642366489402,4.31483252095921]
[null,null,null,null,null,null,null,null,null,null,6917,1.29164290031059,1.23821625361182,1.3468001279592801,2.36822371979255,1.91778907416205,2.5656957627167198,3.2864208205785999,4.2168011998332799]
[null,null,null,null,null,null,null,null,null,null,6920,1.32512970315198,1.24748723113308,1.31055755147868,2.3461011316996099,1.7835529372669501,2.3992820160087498,3.0048792897780201,3.88726436051039]
[null,null,null,null,null,null,null,null,null,null,6921,1.3247089614352601,1.2469023896643301,1.3034156271122299,2.3360580900322998,1.7730459283664,2.3778916786491102,2.9712919903617201,3.8592840223549998]
[null,null,null,null,null,null,null,null,null,null,6923,1.29784735231482,1.23206587537607,1.29442313348178,2.3243648178275902,1.77261337856637,2.3749610356216402,2.9841362202663699,3.90018713398478]
[null,null,null,null,null,null,null,null,null,null,6924,1.27755595306673,1.2218158568947799,1.28811040456974,2.3052469136070299,1.7755343783737401,2.3783269170361501,2.9997171312986701,3.93336747874161]
[null,null,null,null,null,null,null,null,null,null,6927,1.2760268957525001,1.2368031658591501,1.2983596136684801,2.2414971991728398,1.81096175956956,2.4206226378790499,3.05643652108605,4.03565805775294]
[null,null,null,null,null,null,null,null,null,null,6928,1.29289780498244,1.2517165433664501,1.3117584041624999,2.2692170012273398,1.82648761720078,2.44235893053113,3.0861847111421401,4.0723233396429199]
[null,null,null,null,null,null,null,null,null,null,6930,1.31020696693863,1.2655235192620999,1.32889220722952,2.3589259528331898,1.85160616832088,2.47573325065818,3.1602409232027902,4.1542020614257096]
[null,null,null,null,null,null,null,null,null,null,6931,1.3062640975287201,1.2625173963758001,1.33078338048256,2.3822709224617999,1.86474696016712,2.4865880656207402,3.2018274704474599,4.2041626311220099]
[null,null,null,null,null,null,null,null,null,null,6934,1.29704127542924,1.2555056196054799,1.3404406656026799,2.32618944669934,1.9212447232436001,2.5357572569873699,3.33147488642595,4.3934192831420402]
[null,null,null,null,null,null,null,null,null,null,6935,1.30259206568533,1.2618514096454101,1.3489177927007201,2.2979977481079898,1.9435180287120599,2.56148643462069,3.3711113667561001,4.4571885550305099]
[null,null,null,null,null,null,null,null,null,null,6937,1.3130929158486699,1.28010871442364,1.3675721841386701,2.28395074608903,1.98301569194156,2.6129316485266298,3.4408615941365799,4.5738939067445896]
[null,null,null,null,null,null,null,null,null,null,6938,1.31844273534678,1.28943122079335,1.3784007596447601,2.2907272884890002,2.0045932407018099,2.6400235400543099,3.47529268472256,4.63257695795894]
[null,null,null,null,null,null,null,null,null,null,6941,1.3286707058951199,1.3050707981430201,1.4110112648867099,2.32962909604466,2.0652125247487798,2.7281904838885001,3.6018151054220899,4.8347940836446996]
[null,null,null,null,null,null,null,null,null,null,6942,1.3195774860267,1.2997044504514199,1.41158945577409,2.3473936709630698,2.0769201429510402,2.74161182205874,3.63539470056172,4.89111831591973]
[null,null,null,null,null,null,null,null,null,null,6944,1.29196036539285,1.27962130518172,1.4006211821358201,2.3553024119115502,2.0930505474686099,2.7430896267419298,3.6815463457305801,4.9762699175294003]
[null,null,null,null,null,null,null,null,null,null,6945,1.2876437437805699,1.2766551158582899,1.4007567962063301,2.3391235910692498,2.1093740858085699,2.7506994273096401,3.70529392077859,5.0158695823136901]
[null,null,null,null,null,null,null,null,null,null,6948,1.3180119997937501,1.3062741233606301,1.44455862627264,2.2941379540418798,2.1759075628739502,2.8506957968923401,3.8159981832024399,5.1886504598804501]
[null,null,null,null,null,null,null,null,null,null,6949,1.32095257676019,1.3103834247156501,1.4521860514676801,2.3091558772774201,2.1734040907710699,2.8684251333002,3.8343040002418598,5.23288531031048]
[null,null,null,null,null,null,null,null,null,null,6951,1.30214096629487,1.2991375488758401,1.4355149880417899,2.3446097786907401,2.1183337767238402,2.8224540936398101,3.7869769077170998,5.2090694977376204]
[null,null,null,null,null,null,null,null,null,null,6952,1.29017635038095,1.29055111652767,1.4199578600299401,2.3391633947535602,2.0933855274376798,2.7786014573506499,3.7405370813383598,5.1586427996842197]
[null,null,null,null,null,null,null,null,null,null,6954,1.2868120400039,1.2874417007452801,1.4101545034291101,2.2813024157063699,2.1052006341299498,2.7457372446905102,3.7151851123800999,5.1372944013356099]
[null,null,null,null,null,null,null,null,null,null,6955,1.2978459782788101,1.2955542105214799,1.42235635170803,2.2502755203581999,2.1334099553015,2.7681002718855199,3.7471739546737002,5.1848616139500203]
[null,null,null,null,null,null,null,null,null,null,6958,1.3361821233496201,1.32856916821786,1.47408606678416,2.20665164391208,2.23075742815691,2.8770023398893998,3.8985558507786102,5.3836089537332903]
[null,null,null,null,null,null,null,null,null,null,6959,1.3416531339751501,1.3349428628764,1.48653248294913,2.2020226586576999,2.27256479243233,2.9178092059956802,3.9721306287887499,5.4615647559502101]
[null,null,null,null,null,null,null,null,null,null,6961,1.3465215831663999,1.3402601478202301,1.5073329224454399,2.2442997822624999,2.3451807150542998,2.9977558290342601,4.1143315567976799,5.6254106972133497]
[null,null,null,null,null,null,null,null,null,null,6962,1.3464046689442299,1.3396849730551199,1.5136785915115401,2.2852824701424201,2.3672751290610399,3.02336511082297,4.1538350031376199,5.6946100744238297]
[null,null,null,null,null,null,null,null,null,null,6965,1.34516785791162,1.3390917794216599,1.5271276218637899,null,2.4178879654315599,3.0689924278641598,4.22040030875886,5.8911910876792302]
[null,null,null,null,null,null,null,null,null,null,6966,1.3471718845177301,1.3422238847728201,1.5353298187151101,null,2.4457963212907599,3.0930588920215301,4.2685013428141803,5.9734760957093496]
[null,null,null,null,null,null,null,null,null,null,6968,1.3487036020957901,1.34653258778703,1.55217964303907,null,2.4967673065901201,3.1376254038835398,4.3935151084299298,6.1184772116261197]
[null,null,null,null,null,null,null,null,null,null,6969,1.3438671896151799,1.3453522702056999,1.55428686909836,null,2.5071889133303999,3.1419048594042098,4.4370114931021103,6.1590853322947403]
[null,null,null,null,null,null,null,null,null,null,6972,1.3298703074029401,1.3401782671890801,1.5518387209275799,null,2.5345067397938399,3.1397599982068298,4.4647615728894001,6.2280609703934502]
[null,null,null,null,null,null,null,null,null,null,6973,1.3267114436488301,1.3381365663739599,1.5566912511608699,null,2.5585094428342599,3.1575457116036301,4.4996140606344399,6.2728516824795504]
[null,null,null,null,null,null,null,null,null,null,6975,1.29393362468052,1.3158617285846801,1.55348181564879,null,2.6077897632275802,3.1779790880148999,4.63238050391121,6.3964224383344002]
[null,null,null,null,null,null,null,null,null,null,6976,1.26343728449883,1.29382459977303,1.5385220065392899,null,2.6193689872416202,3.1666228372352698,4.70022167584494,6.4618487930550197]
[null,null,null,null,null,null,null,null,null,null,6979,1.2028485714152399,1.25066707862033,1.4982376243670199,null,2.6635608870987899,3.1532677501308801,4.8378720444363896,6.6130653288175196]
[null,null,null,null,null,null,null,null,null,null,6980,1.2208783325268699,1.26812843808186,1.5157129449676801,null,2.6971652066932599,3.1927155481373499,4.8735759656585103,6.6635768359831902]
[null,null,null,null,null,null,null,null,null,null,6982,1.2901139690693599,1.3302856450024401,1.58420524881608,null,2.7687481650547201,3.3021893211436302,4.9557908236939197,6.8144698323399604]
[null,null,null,null,null,null,null,null,null,null,6983,1.31947485841339,1.3564929906235199,1.6158052495442601,null,2.79796501217684,3.34909966302977,5.00332751770644,6.9016180630280104]
[null,null,null,null,null,null,null,null,null,null,6986,1.3450763304132001,1.3801930357546099,1.65051324327782,null,2.7634462838972902,3.3774144570537601,5.0131202258340801,6.9405137568489499]
[null,null,null,null,null,null,null,null,null,null,6987,1.33634892054481,1.37016414229543,1.6376672515469199,null,2.6938719316698001,3.3217951852191199,4.9081288994010297,6.8368852715249302]
[null,null,null,null,null,null,null,null,null,null,6989,1.31461153681327,1.3410585793404199,1.59697144369358,null,2.5765309318038598,3.17118656292801,4.6406239462163796,6.5764039049447502]
[null,null,null,null,null,null,null,null,null,null,6990,1.3122795624367101,1.33310918946006,1.58783773029996,null,2.5683432999887899,3.1345077016963501,4.5747657046367101,6.51159378543987]
[null,null,null,null,null,null,null,null,null,null,6993,1.33355126086244,1.3446886511699501,1.61397171320365,null,2.6450367677231199,3.1970706589570401,4.6804361767393896,6.60172344339479]
[null,null,null,null,null,null,null,null,null,null,6994,1.33409820839157,1.34737647372175,1.6201422509617001,null,2.6602850516432599,3.2141285714332999,4.7265617798542001,6.64126185511837]
[null,null,null,null,null,null,null,null,null,null,6996,1.32322331398282,1.34540729153606,1.62389910745466,null,2.69322129286205,3.2251265193965701,4.7941474740848298,6.7020452537822699]
[null,null,null,null,null,null,null,null,null,null,6997,1.31522148780929,1.3439522447363299,1.62724184365341,null,2.72072026199413,3.23801683440802,4.8322372381856802,6.7515303744531101]
[null,null,null,null,null,null,null,null,null,null,7000,1.2951108333635799,1.34393943103042,1.64473419593218,null,2.7990755759135202,3.2949251252191698,4.9210800090821101,6.9445573525966697]
[null,null,null,null,null,null,null,null,null,null,7001,1.29645049037866,1.3480958569380199,1.65339031808945,null,2.8018621842679501,3.30698966709451,4.9236729949505396,6.9494346846267101]
[null,null,null,null,null,null,null,null,null,null,7003,1.3003763753247399,1.3538405960223301,1.6691099765301001,null,2.78082495694541,3.3076990391837802,4.88475160734348,6.8263322672347098]
[null,null,null,null,null,null,null,null,null,null,7004,1.2973342566350901,1.35197859176341,1.6725571646266999,null,2.7800176535838501,3.3020020330612101,4.8654246320303303,6.76800691595425]
[null,null,null,null,null,null,null,null,null,null,7007,1.2933787650483499,1.3512181907427601,1.6847362295586801,null,2.8782538108205999,3.3497274807626498,4.9854037901074104,6.9247479837394899]
[null,null,null,null,null,null,null,null,null,null,7008,1.2969870858363099,1.35461700829364,1.6935510770772,null,2.9272598946023698,3.38779140053084,5.0734534010444401,7.0287450159475302]
[null,null,null,null,null,null,null,null,null,null,7010,1.3051676009255,1.36293062477045,1.7142888028607799,null,2.9910114513544199,3.45613049147746,5.19237692557319,7.128529014763]
[null,null,null,null,null,null,null,null,null,null,7011,1.3060710715605,1.36575640322832,1.7223358163654301,null,3.0058627535918698,3.4738414125221402,5.1996898127561799,7.12069566902926]
[null,null,null,null,null,null,null,null,null,null,7014,1.26878528742505,1.3393459208181899,1.70743261296461,null,3.01593613773646,3.44934125371234,5.19620472361881,7.1557503092271002]
[null,null,null,null,null,null,null,null,null,null,7015,1.2459231321903499,1.3197730650364401,1.6911666188718599,null,3.0286709035420798,3.4325162580020798,5.2210129154821603,7.20244481841093]
[null,null,null,null,null,null,null,null,null,null,7017,1.24429332969957,1.32069861185214,1.7001279065552,null,3.0929374222755599,3.47020280443326,5.27194596978965,7.2549503435091696]
[null,null,null,null,null,null,null,null,null,null,7018,1.26808961514207,1.3433560820013699,1.7287040813002701,null,3.1275179963031499,3.51326467787846,5.2753616612330196,7.2406117100212501]
[null,null,null,null,null,null,null,null,null,null,7020,1.30705819910507,1.38104905151895,1.7788573092684401,null,3.1556414505986301,3.5689811887595901,5.2759235367629804,7.2071387496845798]
[null,null,null,null,null,null,null,null,null,null,7021,1.3053244414426399,1.3823075590437699,1.7838664007829601,null,3.1417116543144501,3.5634484411678899,5.2725097385907604,7.19958921077271]
[null,null,null,null,null,null,null,null,null,null,7024,1.25783189861875,1.35502877599828,1.7620611235822901,null,3.0983391042199502,3.4857382557998302,5.1904357220440396,7.1613400096485202]
[null,null,null,null,null,null,null,null,null,null,7025,1.2536249368172401,1.3533964984698601,1.7654502003721,null,3.1054720526255402,3.4830134318077,5.1899766238332496,7.1768647077326104]
[null,null,null,null,null,null,null,null,null,null,7027,1.2653801784980101,1.35887137850555,1.7829664737766,null,3.1446839942067402,3.5063715550542001,5.2376864557040097,7.2397532980348496]
[null,null,null,null,null,null,null,null,null,null,7028,1.27328619561206,1.3626602440387501,1.7910215743418301,null,3.17868189185238,3.5263119997944501,5.2741401426343097,7.2780895296765902]
[null,null,null,null,null,null,null,null,null,null,7031,1.28992958376,1.3780263384959901,1.8174781253427701,null,3.2580472038978101,3.59966651742497,5.3888353294162101,7.4220556222973197]
[null,null,null,null,null,null,null,null,null,null,7032,1.2915913894208,1.37953851223124,1.8249999566136501,null,3.2706846879182998,3.6105596300833298,5.4109902717415501,7.4622440569519597]
[null,null,null,null,null,null,null,null,null,null,7034,1.2893269799002101,1.3764857441184699,1.83557764105243,null,3.2859901489239101,3.6192311803348698,5.4353294277962796,7.46072643509308]
[null,null,null,null,null,null,null,null,null,null,7035,1.2844537278169099,1.37217830117267,1.8358590693058101,null,3.2745893405058601,3.6140679063175298,5.4185237271257103,7.3778820066318298]
[null,null,null,null,null,null,null,null,null,null,7038,1.2590037538794301,1.35092399627293,1.80923858253179,null,3.2149061460274901,3.5313368002834,5.1716854016884701,6.8379697330318399]
[null,null,null,null,null,null,null,null,null,null,7039,1.2684514367567401,1.3597664865483301,1.8203296210225099,null,3.2447134848064398,3.5408967680834298,5.1183672032005498,6.7398768209363702]
[null,null,null,null,null,null,null,null,null,null,7041,1.3173489899631501,1.4036814358392899,1.89004060395611,null,3.3603183367846499,3.6569282160938998,5.1777128202329497,6.8372966328477398]
[null,null,null,null,null,null,null,null,null,null,7042,1.335426471188,1.4214233911771399,1.9234279468098301,null,3.40603216876218,3.7182368269558101,5.2550140155289302,6.9597803296252403]
[null,null,null,null,null,null,null,null,null,null,7045,1.33373223152497,1.43307376980285,1.9485338096287801,null,3.4843945311611701,3.7811514515090598,5.4461826771150301,7.1878840533033497]
[null,null,null,null,null,null,null,null,null,null,7046,1.3335291453545599,1.43464319039852,1.9511400056566099,null,3.51268015590813,3.7936138856931199,5.4920006176158198,7.2165877462039303]
[null,null,null,null,null,null,null,null,null,null,7048,1.3391542977873001,1.4358522342317199,1.96456885401355,null,3.54192220616974,3.8292122826127102,5.5781673650968102,7.2665857448315503]
[null,null,null,null,null,null,null,null,null,null,7049,1.3320532712836299,1.42585100308108,1.9582412720893201,null,3.4936106180636499,3.81274052859145,5.5764335955331497,7.2425928864896996]
[null,null,null,null,null,null,null,null,null,null,7052,1.2406925234997701,1.3065208504644199,1.74173732690614,null,2.76221135106183,3.2853376294002201,4.80878334887724,6.1953043880404701]
[null,null,null,null,null,null,null,null,null,null,7053,1.20762394506739,1.2435150882744199,1.59221546835313,null,2.3332899032999399,2.9033260792692999,4.1721686431245804,5.3314948632826002]
[null,null,null,null,null,null,null,null,null,null,7055,1.1877331614298801,1.1559007815406499,1.31112488152784,null,1.63115567228974,2.1235598723607301,2.7707375157601501,3.4359046810179601]
[null,null,null,null,null,null,null,null,null,null,7056,1.1965303300072101,1.14917349883993,1.24490470828225,null,1.4700664953599301,1.8903693336534599,2.3023406916851998,2.8094606473058801]
[null,null,null,null,null,null,null,null,null,null,7059,1.1955533472608499,1.1615132488875599,1.22966319157116,null,1.3537450894266601,1.7112497945771601,1.8961234870269199,2.2707763319941998]
[null,null,null,null,null,null,null,null,null,null,7060,1.1828972084562099,1.1511237175504501,1.21451333040389,null,1.3363156120736901,1.6820522890540801,1.86662890519341,2.23095993239976]
[null,null,null,null,null,null,null,null,null,null,7062,1.1637854535593199,1.1314049124472301,1.1899646220167901,null,1.3355183214109301,1.6540115313233299,1.84407947985555,2.2036340560529699]
[null,null,null,null,null,null,null,null,null,null,7063,1.1566419441261799,1.1267418122517401,1.1914646657026899,null,1.35361480173973,1.66533351967544,1.8570751443512601,2.2240829031947298]
[null,null,null,null,null,null,null,null,null,null,7066,1.1261381951200899,1.1262831066040799,1.22401221391721,null,1.4385331396260701,1.74289125404206,1.9425824794325901,2.3588458792996798]
[null,null,null,null,null,null,null,null,null,null,7067,1.12079437374349,1.1321195065597101,1.2421106994483999,null,1.4706130770728401,1.7748168785069001,1.97826620277726,2.41366237462907]
[null,null,null,null,null,null,null,null,null,null,7069,1.14034482543044,1.1578444481940999,1.2954009943779801,null,1.5476444084705101,1.85365418123723,2.06431502457967,2.5280385407172501]
[null,null,null,null,null,null,null,null,null,null,7070,1.1621781944620599,1.17660139742423,1.32988220514899,null,1.58907395092554,1.90234459708318,2.1138831198257302,2.5885073171953099]
[null,null,null,null,null,null,null,null,null,null,7073,1.21313208756786,1.2217178601766201,1.40905896503756,null,1.6441566931137099,2.00035880521405,2.20495295049041,2.7109835686611898]
[null,null,null,null,null,null,null,null,null,null,7074,1.21730034601779,1.2265906648160501,1.41639501115072,null,1.64627993592029,2.0051922100420199,2.2111445244226502,2.7245586363339198]
[null,null,null,null,null,null,null,null,null,null,7076,1.21558364098727,1.2298382292216501,1.4236240203981101,null,1.6731142512181501,2.02125993753143,2.2412425488831,2.7695459426690299]
[null,null,null,null,null,null,null,null,null,null,7077,1.21598725059811,1.2340307019128101,1.43212826693416,null,1.7030435453272099,2.0431907413047199,2.2732413853684399,2.8139523956435299]
[null,null,null,null,null,null,null,null,null,null,7079,1.2256048579749801,1.2509631852133201,1.4674079319531299,null,1.7867664570409201,2.1148339935422702,2.3692007804986002,2.9586444177152198]
[null,null,null,null,null,null,null,null,null,null,7080,1.2267634964880401,1.25640905204278,1.4876899162781501,null,1.8281014669700799,2.1585891323104098,2.4316281119326701,3.05399505480344]
[null,null,null,null,null,null,null,null,null,null,7083,1.1640364114716,1.2058343296566401,1.46928721057574,null,1.83991754033787,2.1970598760246798,2.5601987024271202,3.22594226737026]
[null,null,null,null,null,null,null,null,null,null,7084,1.1297374233033,1.16836796027677,1.42701222125896,null,1.7783367257409299,2.1454317172924302,2.5232710698025098,3.16836424183214]
[null,null,null,null,null,null,null,null,null,null,7086,1.08185732317408,1.0876592136568399,1.2853928099073699,null,1.5270445598312099,1.91555487647481,2.2466500523581199,2.76956788771618]
[null,null,null,null,null,null,null,null,null,null,7087,1.07006218130222,1.0491757914056501,1.1882015698275901,null,1.3774375102388801,1.74486154732193,2.0242041712219101,2.4554433192093801]
[null,null,null,null,null,null,null,null,null,null,7090,1.0750152884853199,1.0191749670415,1.01757714006522,null,1.1846672246073799,1.40336991884796,1.5774353486547701,1.84684861929494]
[null,null,null,null,null,null,null,null,null,null,7091,1.0834809756472701,1.03519111020362,1.02641591286154,null,1.1876907909022401,1.3936438605483199,1.5613242518494399,1.8273933455256799]
[null,null,null,null,null,null,null,null,null,null,7093,1.0882326020562101,1.0502797796741801,1.04455631829553,null,1.1913220314849999,1.39417368403901,1.56208877587246,1.81839337901719]
[null,null,null,null,null,null,null,null,null,null,7094,1.0861972741121599,1.0478231280252199,1.0427108867797299,null,1.19295531300712,1.38662027844763,1.5578775028852601,1.8044060945878999]
[null,null,null,null,null,null,null,null,null,null,7097,1.08760656085674,1.04661636238836,1.05387217914672,null,1.2310669491286099,1.4011207596489099,1.5926100612429199,1.8388092416701101]
[null,null,null,null,null,null,null,null,null,null,7098,1.0918185260439499,1.05266478204511,1.06645769686993,null,1.2473462281710199,1.41934821128139,1.6149137127148601,1.87148017452339]
[null,null,null,null,null,null,null,null,null,null,7100,1.09288642934056,1.06079621911166,1.0860847296496601,null,1.27618460590911,1.4526406733843999,1.65337924685797,1.94154676412125]
[null,null,null,null,null,null,null,null,null,null,7101,1.08545776810018,1.0585400666553999,1.0909057904688799,null,1.29237727393848,1.4667667074585999,1.67295256142371,1.9787899124655299]
[null,null,null,null,null,null,null,null,null,null,7104,1.0757479290955101,1.0669753336762899,1.12927444289988,null,1.3646450916917101,1.5329511113019001,1.7583147038617499,2.1042095202271098]
[null,null,null,null,null,null,null,null,null,null,7105,1.0843950853489699,1.0839815645564901,1.15761412613354,null,1.3977432011656199,1.5704929994500301,1.7978547417591999,2.1556708099384201]
[null,null,null,null,null,null,null,null,null,null,7107,1.09294366947601,1.1137643210661901,1.2175455812356799,null,1.46366835745478,1.66269711905997,1.89457468010315,2.2858022362892298]
[null,null,null,null,null,null,null,null,null,null,7108,1.08754120021939,1.1165314983303201,1.2362770655106401,null,1.4849886370959,1.6994996665422399,1.94038396309771,2.3475413060281198]
[null,null,null,null,null,null,null,null,null,null,7111,1.05616691541718,1.0912500994831,1.23425329870019,null,1.4927463646493999,1.71538876405615,1.9954507200741001,2.42493792974361]
[null,null,null,null,null,null,null,null,null,null,7112,1.0570968499390101,1.0904383771245401,1.2344382267282401,null,1.4959789452050301,1.7138189555069501,1.99811641174761,2.4328063577131398]
[null,null,null,null,null,null,null,null,null,null,7114,1.0803738147333199,1.1091402609919301,1.25603551572669,null,1.52998475426474,1.7382122646224401,2.0247520612653802,2.4765757476244499]
[null,null,null,null,null,null,null,null,null,null,7115,1.0921197595982199,1.1215657511355901,1.27509890023489,null,1.5641925318396399,1.7668896168439401,2.05571094087732,2.5229086091808899]
[null,null,null,null,null,null,null,null,null,null,7118,1.1053165079473,1.1587272750755899,1.3515573048723599,null,1.6676353426661701,1.8971003895557501,2.1975323103428099,2.7269377881526999]
[null,null,null,null,null,null,null,null,null,null,7119,1.1038598124458201,1.16671848880635,1.3695392310782499,null,1.6859576424274301,1.9307825278000901,2.2375606711143101,2.78487518880066]
[null,null,null,null,null,null,null,null,null,null,7121,1.0954474229434299,1.16181834541303,1.3737082791395301,null,1.66721323301946,1.94201477992148,2.2579072455394198,2.8126901216513298]
[null,null,null,null,null,null,null,null,null,null,7122,1.08753809538807,1.14390133775307,1.3473704751254101,null,1.6059840325764401,1.9008143071688,2.2111412740899299,2.7481657776241701]
[null,null,null,null,null,null,null,null,null,null,7125,1.02792668245026,1.0035398727998199,1.0910514045780999,null,1.2513830778053501,1.5183455189872199,1.74407554973701,2.1004054953201998]
[null,null,null,null,null,null,null,null,null,null,7126,1.0040467453476001,0.95498923614289599,0.99129573991100295,null,1.16739488226282,1.37701418549699,1.5721138086453099,1.8533063700038599]
[null,null,null,null,null,null,null,null,null,null,7128,0.97821717121064999,0.92028946958760505,0.89925757002162698,null,1.1283235800939,1.25036671405816,1.42470490327874,1.6343870402144201]
[null,null,null,null,null,null,null,null,null,null,7129,0.97091190300555397,0.92133429816638801,0.89701084685869104,null,1.1342468104917101,1.24598514198293,1.4246160673863999,1.63228278801212]
[null,null,null,null,null,null,null,null,null,null,7132,0.97215213304079096,0.92334318459881104,0.89566988294305905,null,1.1232133196108101,1.2316951386606401,1.4105016870328499,1.5967172293871701]
[null,null,null,null,null,null,null,null,null,null,7133,0.98614609885501503,0.92880224503420405,0.895426493401277,null,1.1220636233867201,1.22472978616828,1.40074860630404,1.5729597524838901]
[null,null,null,null,null,null,null,null,null,null,7135,1.0089793536827001,0.94320383964273202,0.90760456677413204,null,1.1348190372540901,1.2345859031316699,1.4133079329836999,1.58069602597007]
[null,null,null,null,null,null,null,null,null,null,7136,1.0107522328876699,0.946597113793197,0.91468373539556402,null,1.14471623202993,1.24751892412742,1.43066273103777,1.60537965762682]
[null,null,null,null,null,null,null,null,null,null,7138,1.0001914734796999,0.94702445976197602,0.92786398293914596,null,1.1700226948592301,1.27951912199461,1.4726265475304701,1.6699875946120999]
[null,null,null,null,null,null,null,null,null,null,7139,0.99770029867576604,0.95164737785264497,0.93848580654675196,null,1.18644706318627,1.29774436876955,1.4951219101866799,1.7041230840119901]
[null,null,null,null,null,null,null,null,null,null,7142,1.0191398012519901,0.991104432967155,0.99329498551648499,null,1.23838680742243,1.3606998273147,1.5684966450937801,1.8095492125199799]
[null,null,null,null,null,null,null,null,null,null,7143,1.0232026092016899,1.00050985197083,1.0115761395841101,null,1.25350468236195,1.38047745572522,1.5946774397578001,1.84578417168616]
[null,null,null,null,null,null,null,null,null,null,7145,1.01668580642776,1.00435435483257,1.0394292874745099,null,1.2841833991121501,1.4100463652842199,1.6452353249842999,1.9121450750493201]
[null,null,null,null,null,null,null,null,null,null,7146,1.0071706149925801,1.00109925379987,1.0492960567898,null,1.29875481028102,1.4218836519512399,1.6681558884350101,1.9416534195247099]
[null,null,null,null,null,null,null,null,null,null,7149,0.989986809683989,1.00106402309842,1.0634024111963101,null,1.32892614940723,1.45066324026243,1.7180855461892499,2.0269886215391502]
[null,null,null,null,null,null,null,null,null,null,7150,0.998481629322576,1.0097939294954801,1.0681017338650001,null,1.34541638241368,1.46347696373868,1.73592213734117,2.0636289246914301]
[null,null,null,null,null,null,null,null,null,null,7152,1.0257117513929099,1.03477700553153,1.10097276052182,null,1.4032990979836999,1.5207142475987501,1.80288128243695,2.1740977416907099]
[null,null,null,null,null,null,null,null,null,null,7153,1.0344537869741199,1.0469443416324,1.12715662083932,null,1.4349858249284699,1.5636506961124099,1.8515786149527,2.23987665915095]
[null,null,null,null,null,null,null,null,null,null,7156,1.0349692678443001,1.0626648554631399,1.1613131072182801,null,1.4478038409885201,1.6344174568218399,1.9286260687810599,2.3326753512920502]
[null,null,null,null,null,null,null,null,null,null,7157,1.0330195932865101,1.0566537676929799,1.1449968937199599,null,1.4198716886174401,1.6110747652006701,1.90029624428695,2.3077736833551601]
[null,null,null,null,null,null,null,null,null,null,7159,1.02612103099246,1.0365815518330801,1.0960191075473,null,1.36969190597631,1.53231134025548,1.8154699190749299,2.2369039946229701]
[null,null,null,null,null,null,null,null,null,null,7160,1.0252833974014799,1.0338377318368701,1.0833053645764701,null,1.36572854916993,1.5089503934931201,1.7952155782033301,2.2248012440687401]
[null,null,null,null,null,null,null,null,null,null,7163,1.0278525851728499,1.0514348517775201,1.10579487647562,null,1.40005436105811,1.5281222711828899,1.8432569166577899,2.2921031575017401]
[null,null,null,null,null,null,null,null,null,null,7164,1.0222838042970299,1.0530218782665299,1.1127795908265701,null,1.4128536455485401,1.5426803452443301,1.8675621039103201,2.3219852872953801]
[null,null,null,null,null,null,null,null,null,null,7166,1.02223917821721,1.0605822285040101,1.1244454611624199,null,1.44309883044015,1.57715623864578,1.9146593290468801,2.37675753491233]
[null,null,null,null,null,null,null,null,null,null,7167,1.0306302480291201,1.0678313611571699,1.1321486609851401,null,1.4587182492817301,1.59519055613356,1.9370943595427701,2.4045699067476201]
[null,null,null,null,null,null,null,null,null,null,7170,1.0594175204844301,1.0943503055061199,1.16612747050303,null,1.50645521639396,1.64367806175891,2.0065242617437802,2.5032001441810898]
[null,null,null,null,null,null,null,null,null,null,7171,1.0702116732657201,1.1056480506837001,1.18092149068765,null,1.52103896930236,1.6632364226670999,2.0326160659487198,2.5402445838292902]
[null,null,null,null,null,null,null,null,null,null,7173,1.0861046668590499,1.1183738707006301,1.2024430462642499,null,1.54355291957528,1.69655098989334,2.0722717508308199,2.60703426949831]
[null,null,null,null,null,null,null,null,null,null,7174,1.0881994783137201,1.11684295724806,1.2101339314347299,null,1.55626264463125,1.7098409212727399,2.0840415191053001,2.6369044065734801]
[null,null,null,null,null,null,null,null,null,null,7177,1.0867077915976,1.10576881010122,1.2332412144441101,null,1.6024090682443699,1.7643555730298299,2.1284829901698998,2.7319813107892599]
[null,null,null,null,null,null,null,null,null,null,7178,1.0818851038722599,1.1031564751576699,1.2375200263867501,null,1.6205573003988001,1.7849663256406201,2.1539963505405999,2.77406983420402]
[null,null,null,null,null,null,null,null,null,null,7180,1.05945583414751,1.0996492101822199,1.2450929504499,null,1.65938631058386,1.82627614973054,2.2317072894596599,2.8830324315685498]
[null,null,null,null,null,null,null,null,null,null,7181,1.0547043037221,1.10573841604154,1.25443945443348,null,1.68055855343506,1.8470179451014299,2.2728742514978801,2.9351286581654299]
[null,null,null,null,null,null,null,null,null,null,7184,1.0741682420943801,1.15232879087667,1.31005750941862,null,1.74728576601287,1.9313934377219399,2.3437610088395,3.0529439634109501]
[null,null,null,null,null,null,null,null,null,null,7185,1.0630919419843701,1.1496041570633699,1.31582475809138,null,1.76368044439815,1.94986677405077,2.3482952217058699,3.0819111562614299]
[null,null,null,null,null,null,null,null,null,null,7187,1.01389781178274,1.1067358877494,1.2947857577412001,null,1.7836209826834,1.9556022734243801,2.3617136224801198,3.1404353756553198]
[null,null,null,null,null,null,null,null,null,null,7188,0.99483593870017994,1.0873207405899801,1.28259394422374,null,1.7880471549027701,1.9578291080899299,2.38199582900178,3.1678535464165098]
[null,null,null,null,null,null,null,null,null,null,7191,1.01312137031771,1.1198219812252801,1.3023952796568099,null,1.7834795375511401,2.0032255666537599,2.46342747225065,3.2182496930982198]
[null,null,null,null,null,null,null,null,null,null,7192,1.02721509766705,1.1393744611343599,1.3144103688637601,null,1.77806738884871,2.0151934554357598,2.4719532665177502,3.2294293416584599]
[null,null,null,null,null,null,null,null,null,null,7194,1.04484555950264,1.1503221296719599,1.31555385291441,null,1.73997618477934,2.0072602159194401,2.4342962860798001,3.2237085171432001]
[null,null,null,null,null,null,null,null,null,null,7195,1.04665191790256,1.1402110882174099,1.29962008887782,null,1.6968842822060399,1.97441502782684,2.3831568562813001,3.17842980275945]
[null,null,null,null,null,null,null,null,null,null,7198,1.0417543691321101,1.10462667550087,1.21759140503596,null,1.5838202786958899,1.8141070968614099,2.20375474185616,2.9043100544707698]
[null,null,null,null,null,null,null,null,null,null,7199,1.04494427175469,1.10713804724958,1.20744892130485,null,1.5893258223114399,1.7937320378976001,2.1913026000404701,2.86269204176857]
[null,null,null,null,null,null,null,null,null,null,7201,1.0531875323987401,1.1129764249099201,1.2161080149704799,null,1.61916043724909,1.8134931241593799,2.2253163819130801,2.89979069209034]
[null,null,null,null,null,null,null,null,null,null,7202,1.0592456086330899,1.1141203350511999,1.2226295744012901,null,1.62168980828527,1.82853894731221,2.2369183765238798,2.9257733053158801]
[null,null,null,null,null,null,null,null,null,null,7204,1.0726860388805599,1.1203117314284201,1.22905788743475,null,1.6071112218702499,1.84019485298568,2.2300296472015999,2.92595634433453]
[null,null,null,null,null,null,null,null,null,null,7205,1.0669114038298999,1.1149862280226399,1.2235442804191301,null,1.6011549940622101,1.8370158403868699,2.22582976770709,2.92148726170872]
[null,null,null,null,null,null,null,null,null,null,7208,1.0266084033606999,1.0766831040136,1.19234589784626,null,1.61726373442204,1.8271837563623901,2.2617962810067,2.9959729481880699]
[null,null,null,null,null,null,null,null,null,null,7209,1.0348130285857999,1.07998804168589,1.19531600058405,null,1.63500798763704,1.8374301428781299,2.28737941541051,3.0360523422833499]
[null,null,null,null,null,null,null,null,null,null,7211,1.0702045654553001,1.10839642868759,1.2255808994940001,null,1.6765793416202499,1.8884125468094799,2.35205985881624,3.1229312218132002]
[null,null,null,null,null,null,null,null,null,null,7212,1.0785842902305101,1.11964361266644,1.2396752906420101,null,1.6940259348765201,1.91679563513222,2.3870323638573998,3.1671162887972599]
[null,null,null,null,null,null,null,null,null,null,7215,1.0712229243851501,1.13160338646933,1.2571752930296101,null,1.7425539724857899,1.9764002110724901,2.47415462455983,3.2919208289650301]
[null,null,null,null,null,null,null,null,null,null,7216,1.0783491906620499,1.1391056761026599,1.2681837687042501,null,1.76144495000914,2.00011286238639,2.5009853547552798,3.33367434796553]
[null,null,null,null,null,null,null,null,null,null,7218,1.1091661604687599,1.16381122159096,1.3017419741465801,null,1.7951685906033299,2.05724160048727,2.5506932624973002,3.4109553226045302]
[null,null,null,null,null,null,null,null,null,null,7219,1.1203229448490799,1.1741343996348801,1.31568268836958,null,1.81028773785356,2.08370730497903,2.5725912860069702,3.4449349144821899]
[null,null,null,null,null,null,null,null,null,null,7222,1.1270542876513401,1.18681787121467,1.3397088954707199,null,1.8588380616978899,2.15531434351829,2.6456607632978799,3.5666465536540501]
[null,null,null,null,null,null,null,null,null,null,7223,1.13029317390722,1.1909844457266101,1.3503263236871099,null,1.8778550754486401,2.18347654002504,2.6744040593227001,3.6169147101636101]
[null,null,null,null,null,null,null,null,null,null,7225,1.1438718094831899,1.20583263652816,1.3794558499923999,null,1.91873509001995,2.2446775169489799,2.7381534880213398,3.7132193178635502]
[null,null,null,null,null,null,null,null,null,null,7226,1.1499890517909499,1.2125106707148601,1.3930431185135099,null,1.93317677563057,2.2696419087716402,2.7691693862053599,3.7532484479571]
[null,null,null,null,null,null,null,null,null,null,7229,1.1521122128866701,1.21444081256348,1.3887117644659199,null,1.9186391159148299,2.2737896340259902,2.7916936685926399,3.7910424275469699]
[null,null,null,null,null,null,null,null,null,null,7230,1.1566894440883499,1.2152557221786,1.3795008424678901,null,1.90662052064555,2.2591190415375602,2.77984650544159,3.7751926042619801]
[null,null,null,null,null,null,null,null,null,null,7232,1.1700817198636699,1.2181902998940499,1.37258048815953,null,1.92601494310696,2.2580483081987901,2.7959963565438,3.7871793752961098]
[null,null,null,null,null,null,null,null,null,null,7233,1.1729547274041101,1.2192277147369699,1.3775962558227199,null,1.9546177669895499,2.2813640810979199,2.83518535822693,3.8447165071538998]
[null,null,null,null,null,null,null,null,null,null,7236,1.1589272263700201,1.2194491238101399,1.3931868750384599,null,2.0090772861902102,2.3563457400545702,2.9544269971328001,4.0490313642413698]
[null,null,null,null,null,null,null,null,null,null,7237,1.1539025086010499,1.2213830509256101,1.3932241246349899,null,2.0109504250286201,2.3657910180150701,2.9646549878059498,4.0721801208931598]
[null,null,null,null,null,null,null,null,null,null,7239,1.15438813155773,1.2271347723619701,1.39595750574721,null,2.0233423756685398,2.3872641050324002,2.9713989984430298,4.1077269614124798]
[null,null,null,null,null,null,null,null,null,null,7240,1.1583296725801699,1.22630697074866,1.3983376262410401,null,2.03764104053012,2.4076576720441598,2.9821781255294799,4.1508759110247402]
[null,null,null,null,null,null,null,null,null,null,7243,1.16159676397414,1.2140930031008701,1.39155851201509,null,2.0989265528588801,2.4838037968915199,3.0725088240931,4.3477582718449899]
[null,null,null,null,null,null,null,null,null,null,7244,1.1579759055021399,1.2136519058489901,1.39111260215392,null,2.12525033231399,2.5052025657624699,3.1169493687127101,4.4220704160323701]
[null,null,null,null,null,null,null,null,null,null,7246,1.1740455779366801,1.2402202707574901,1.4315731368709399,null,2.1972312909737699,2.58364628316024,3.2162174459271,4.5755980667335798]
[null,null,null,null,null,null,null,null,null,null,7247,1.1917311168653,1.2607586095767001,1.46631734761226,null,2.2344032967699698,2.64377206836796,3.2743147384024298,4.6526451723015096]
[null,null,null,null,null,null,null,null,null,null,7250,1.19331613269764,1.2691963087346501,1.49689288891931,null,2.24666037999115,2.7359857358336099,3.3987816008818901,4.8303166117176399]
[null,null,null,null,null,null,null,null,null,null,7251,1.1773883383983701,1.2560846396155101,1.47567825606791,null,2.2434496775042101,2.7186437649864401,3.4068828665809101,4.8617685706452303]
[null,null,null,null,null,null,null,null,null,null,7253,1.16840864170767,1.24490194513486,1.4516612662439801,null,2.2918682551459799,2.72201992812822,3.45156111480869,4.9456326860932096]
[null,null,null,null,null,null,null,null,null,null,7254,1.1804875695294701,1.2529965875065101,1.46210248109567,null,2.3257936521633198,2.7618854314439099,3.50235634845337,5.0054556739789504]
[null,null,null,null,null,null,null,null,null,null,7257,1.22562397882892,1.2930250896762401,1.5172428535464899,null,2.3602494492250399,2.8676175249401501,3.6040430634585698,5.1568540645395604]
[null,null,null,null,null,null,null,null,null,null,7258,1.2247446667285899,1.2944303884558901,1.52271954424259,null,2.3665569372136899,2.8774465073007298,3.6178306496341599,5.2073090484483604]
[null,null,null,null,null,null,null,null,null,null,7260,1.1954963173686699,1.27157059095042,1.5102308260201101,null,2.40757644852079,2.9030929041787599,3.6926605761159101,5.3451024378886496]
[null,null,null,null,null,null,null,null,null,null,7261,1.1827696778722101,1.2595667933088399,1.5048139222828301,null,2.4420410875494998,2.9310038583089502,3.75199805090269,5.4254810959112101]
[null,null,null,null,null,null,null,null,null,null,7263,1.1923385270692299,1.26570906755004,1.52326121764023,null,2.5127810131442598,3.0062086644819201,3.86600061762632,5.5868606928711202]
[null,null,null,null,null,null,null,null,null,null,7264,1.20704384898404,1.2791104652346199,1.5404265348023001,null,2.53127607343683,3.0321173555029501,3.8944137771053202,5.6496145133228]
[null,null,null,null,null,null,null,null,null,null,7267,1.2351761789456599,1.3078928219616199,1.5561646105909099,null,2.5303269535682298,3.0766826133693601,3.9169556549756801,5.7055129630737502]
[null,null,null,null,null,null,null,null,null,null,7268,1.24001904836447,1.3100915853533699,1.54643322477265,null,2.48267962556928,3.0723495949278701,3.9045765638422401,5.6481973512971804]
[null,null,null,null,null,null,null,null,null,null,7270,1.2363532598296501,1.29760999164576,1.5001947718859601,null,2.3312670873397598,2.9626309434870501,3.7448986657701702,5.3738717217902501]
[null,null,null,null,null,null,null,null,null,null,7271,1.2299689103950999,1.2914385563889199,1.47896057579885,null,2.2890342177826701,2.90486506543628,3.6540150644646299,5.2575543688530599]
[null,null,null,null,null,null,null,null,null,null,7274,1.2368192868808801,1.31525975207558,1.51307274238764,null,2.35741477257374,2.9934010253248902,3.68842034570085,5.3951596867938703]
[null,null,null,null,null,null,null,null,null,null,7275,1.24877666280565,1.3290830996468399,1.5393667468839101,null,2.38360128365249,3.0595108884718001,3.73423830888194,5.4794034288106603]
[null,null,null,null,null,null,null,null,null,null,7277,1.2638102401042699,1.3395504287815301,1.55817919805214,null,2.3965245465271798,3.1207937510351398,3.7536137973006198,5.5432018512453602]
[null,null,null,null,null,null,null,null,null,null,7278,1.26204348452658,1.3351437737731999,1.5502455593634299,null,2.3931312518177399,3.1154444503569301,3.7493244844613298,5.5634482237005898]
[null,null,null,null,null,null,null,null,null,null,7281,1.22241281562668,1.3027694895681501,1.5037198655164401,null,2.3795733320661698,3.0627866296213702,3.8066506366295099,5.6871523776585597]
[null,null,null,null,null,null,null,null,null,null,7282,1.2083931674867301,1.29568412030087,1.4949474979534301,null,2.3880130682732901,3.0686347027667802,3.8430809505290302,5.7385825776935198]
[null,null,null,null,null,null,null,null,null,null,7284,1.20512647330945,1.30306460363389,1.5059994827207199,null,2.4395101541361099,3.1314737027034201,3.9231833377030201,5.8604833470915603]
[null,null,null,null,null,null,null,null,null,null,7285,1.2154702582866199,1.3148406827881001,1.5226519801068199,null,2.4753103463522499,3.1799367278944399,3.97382072955546,5.93637107681272]
[null,null,null,null,null,null,null,null,null,null,7288,1.22433702487587,1.3248406359109099,1.53726008014198,null,2.5411523087711299,3.2663537715420099,4.1289790893548801,6.1751381439081303]
[null,null,null,null,null,null,null,null,null,null,7289,1.2110894099238101,1.3130790876569101,1.5188568683836401,null,2.5454983189641802,3.2557102394197002,4.1610202582944797,6.2415111316136702]
[null,null,null,null,null,null,null,null,null,null,7291,1.18358639720169,1.29078207866604,1.4797006723255099,null,2.5571590420589598,3.2253241229152398,4.1981706915863404,6.3693085105396801]
[null,null,null,null,null,null,null,null,null,null,7292,1.181694964931,1.29219170116152,1.4781262178525001,null,2.5791033887645698,3.24292786744487,4.2253352922678999,6.4445085380506404]
[null,null,null,null,null,null,null,null,null,null,7295,1.2492180003890501,1.3490727541838201,1.5586857735361701,null,2.6857686063405701,3.45427076678875,4.4016900382696997,6.7643786050208901]
[null,null,null,null,null,null,null,null,null,null,7296,1.27228167093467,1.3636423886156901,1.5810246081656101,null,2.7030756432307501,3.5066780823042398,4.4558125346691604,6.8720940028892104]
[null,null,null,null,null,null,null,null,null,null,7298,1.27850728099611,1.3652838786661401,1.58632168278884,null,2.6997629062005801,3.5278791262417899,4.5374163580135702,7.0358713301243698]
[null,null,null,null,null,null,null,null,null,null,7299,1.2674948236111401,1.3598029648460199,1.5781660749254101,null,2.7081374478667399,3.5279167333305299,4.5811527032316803,7.1112511442631403]
[null,null,null,null,null,null,null,null,null,null,7302,1.25251596776685,1.36773858353833,1.5851790442325699,null,2.7865432134708601,3.6233566438418201,4.7737646904819302,7.4425157399189796]
[null,null,null,null,null,null,null,null,null,null,7303,1.2527593993693,1.3696569431200301,1.5895979802983,null,2.8073217434356201,3.64960973309155,4.82986179224394,7.5550240551225398]
[null,null,null,null,null,null,null,null,null,null,7305,1.25257904174756,1.3599583112025,1.58455186075529,null,2.8576902989495099,3.6780866459338601,4.9267452421746496,7.7469959638072901]
[null,null,null,null,null,null,null,null,null,null,7306,1.25115019361563,1.35410581931191,1.5805871821200099,null,2.8932731617760701,3.7012198382230701,4.9848926455004197,7.8472157099650097]
[null,null,null,null,null,null,null,null,null,null,7309,1.25828702379073,1.3651611399008301,1.59308213579868,null,2.95676875359479,3.8133311664011198,5.1858374326343899,8.1961081326581908]
[null,null,null,null,null,null,null,null,null,null,7310,1.2638195966250201,1.3710333054817201,1.5952667260623401,null,2.9451593506285301,3.8323926162198898,5.2183993277276501,8.2544870499351006]
[null,null,null,null,null,null,null,null,null,null,7312,1.27380730669418,1.3798095299651201,1.59295150044453,null,2.9164447831332301,3.8459390895766101,5.2096043263722196,8.2584506276008192]
[null,null,null,null,null,null,null,null,null,null,7313,1.27955221127138,1.3816764260460199,1.5910452651660101,null,2.9063475719184799,3.85092950047996,5.1960730949957403,8.2624275287858193]
[null,null,null,null,null,null,null,null,null,null,7316,1.2691820016519899,1.3598047654761201,1.5629968190453101,null,2.91340114373648,3.8579306083841698,5.2693758863212699,8.4868273048844305]
[null,null,null,null,null,null,null,null,null,null,7317,1.2642922647475301,1.3549489470952401,1.5602674821434801,null,2.9386209554098,3.8868807792016802,5.3427714406871001,8.6310909532588198]
[null,null,null,null,null,null,null,null,null,null,7319,1.27548423364431,1.36312346609777,1.5813722828738701,null,2.9953765106342298,3.9856616233062101,5.5072388594827704,8.9303257092100505]
[null,null,null,null,null,null,null,null,null,null,7320,1.28557602641972,1.3703389340989101,1.5943904270991101,null,3.0005278227515602,4.0205713757145203,5.5644229932131299,9.0341253080180905]
[null,null,null,null,null,null,null,null,null,null,7323,1.2747303958563501,1.35504516664259,1.57449264395663,null,2.9525787801780301,3.9648829736629998,5.5945943881750102,9.1836698035924105]
[null,null,null,null,null,null,null,null,null,null,7324,1.2630990935333699,1.34428511584504,1.5590503723728599,null,2.95920652096556,3.9423762564390099,5.6132969792546499,9.2747623284908904]
[null,null,null,null,null,null,null,null,null,null,7326,1.2639793614148001,1.34537757066252,1.55681618784447,null,3.0283648987041398,3.9870841056994499,5.7221386269785199,9.5381169232676495]
[null,null,null,null,null,null,null,null,null,null,7327,1.2789672581040801,1.3601334516800201,1.57209328321291,null,3.0672075053490402,4.0517919626704799,5.79829582763624,9.6719041330101394]
[null,null,null,null,null,null,null,null,null,null,7329,1.30332378443728,1.38507622959785,1.59376902495085,null,3.0855788970955702,4.1492159703267397,5.8778457454395703,9.8072169673976095]
[null,null,null,null,null,null,null,null,null,null,7330,1.3055075823305899,1.38531064820431,1.5895117572228199,null,3.0701486097214601,4.1511694082947503,5.8553102128803296,9.7679924495801504]
[null,null,null,null,null,null,null,null,null,null,7333,1.3140427747118699,1.3889053034941601,1.5855337074773099,null,3.09923380688865,4.1743662311242504,5.8333456464713196,9.52085742938403]
[null,null,null,null,null,null,null,null,null,null,7334,1.3215702890399299,1.39786353634483,1.5960532268491101,null,3.1380610402231,4.2233019995432199,5.9091246982854999,9.5667596284922691]
[null,null,null,null,null,null,null,null,null,null,7336,1.3347501026631099,1.41117572694621,1.6149215507069901,null,3.2286738134173301,4.33376146188004,6.1563474118090298,9.9727920624526192]
[null,null,null,null,null,null,null,null,null,null,7337,1.33964850894013,1.4156383820160801,1.62107811033977,null,3.2681100465698401,4.3796467348686603,6.2854640511831299,10.2446823537675]
[null,null,null,null,null,null,null,null,null,null,7340,1.35828838008979,1.4329356646950999,1.6390782337746499,null,3.2828503826286299,4.4777006336785998,6.4859913424051703,10.785536035343201]
[null,null,null,null,null,null,null,null,null,null,7341,1.3598602624523799,1.4313965696316899,1.6366836699348799,null,3.2237030975023901,4.4689612489702997,6.4293642540438896,10.723003018651299]
[null,null,null,null,null,null,null,null,null,null,7343,1.33224260473058,1.39883856600638,1.59336247144461,null,3.0712553035280701,4.3314247950726097,6.1226742148848698,10.0975425138425]
[null,null,null,null,null,null,null,null,null,null,7344,1.3150872122094599,1.38240442769092,1.56877559942574,null,3.0415735899451599,4.2673268055942799,5.9794962554509601,9.6887366925543201]
[null,null,null,null,null,null,null,null,null,null,7347,1.3401380064111399,1.4113326830478801,1.5923917545809501,null,3.1418193737737101,4.3688807666117304,6.0120071008909202,9.2840786146723602]
[null,null,null,null,null,null,null,null,null,null,7348,1.35344527041247,1.42555481860946,1.61013349221177,null,3.1705854328991001,4.4286913732870303,6.1043303680393102,9.4113573874029708]
[null,null,null,null,null,null,null,null,null,null,7350,1.34581158119077,1.4201592566713399,1.60887139446414,null,3.1705290654520799,4.4575942937929796,6.2309801374553704,9.6373936802828606]
[null,null,null,null,null,null,null,null,null,null,7351,1.3324121942806899,1.4057341970367501,1.59446784728223,null,3.1528337959840602,4.4347106785791803,6.2619640996717099,9.6787380969535999]
[null,null,null,null,null,null,null,null,null,null,7354,1.29019192012401,1.35750320711968,1.52998530426996,null,3.0613382061763099,4.3164706118499296,6.3368209155946396,9.7962093724315409]
[null,null,null,null,null,null,null,null,null,null,7355,1.2735403069220499,1.3392707661458501,1.5006395636487699,null,3.0215908659557398,4.2539926835721102,6.3321154438728096,9.9017860727694202]
[null,null,null,null,null,null,null,null,null,null,7357,1.2701443758597699,1.33069634859645,1.47395365552517,null,3.0367943852275698,4.2058749485428297,6.3081008229135902,10.1311299175842]
[null,null,null,null,null,null,null,null,null,null,7358,1.2890870564955901,1.34851206662681,1.4910910847683501,null,3.0892898591284799,4.2647944205834198,6.3571072431322699,10.2647605117641]
[null,null,null,null,null,null,null,null,null,null,7361,1.3115324062171301,1.37559672131383,1.52948467952065,null,3.1264039155406098,4.3863436615044398,6.5215127535536199,10.6467916496687]
[null,null,null,null,null,null,null,null,null,null,7362,1.29617080588482,1.36429764518749,1.5158790806012601,null,3.11167037774677,4.3588355981079996,6.5270353034817497,10.7500021026522]
[null,null,null,null,null,null,null,null,null,null,7364,1.2916324680209701,1.3634621995482801,1.51018798692955,null,3.15568078298362,4.3818206768210501,6.5979239788394501,11.019899011424]
[null,null,null,null,null,null,null,null,null,null,7365,1.30898936244195,1.38127095761305,1.5281294648116599,null,3.2161686517697601,4.45770184885966,6.6961338527617196,11.2270120656835]
[null,null,null,null,null,null,null,null,null,null,7368,1.3687579658393301,1.45129061814475,1.6047105553105501,null,3.4016804294876599,4.7645137619213802,7.11775426878358,11.949219228055]
[null,null,null,null,null,null,null,null,null,null,7369,1.3817268281319599,1.4655743408555999,1.6221366136692299,null,3.4322656119148802,4.8365936360880397,7.2356978565861896,12.095796811820399]
[null,null,null,null,null,null,null,null,null,null,7371,1.4037575817521899,1.48109203278125,1.64194171006141,null,3.43350538701567,4.9092770147465101,7.3038750799443504,11.894406705511701]
[null,null,null,null,null,null,null,null,null,null,7372,1.4118054830370901,1.4841076760681799,1.64686089474647,null,3.4166750611346299,4.91840144851564,7.2353956280088401,11.5107131373848]
[null,null,null,null,null,null,null,null,null,null,7375,1.41855161071842,1.4823090572631299,1.6506623639764,null,3.3998665794515799,4.9320230806968404,7.0325865387018096,10.5743706626651]
[null,null,null,null,null,null,null,null,null,null,7376,1.42101141615371,1.4834875164902299,1.6521867118154401,null,3.4196447388346001,4.9562445285482903,7.0896493423909401,10.7113219113398]
[null,null,null,null,null,null,null,null,null,null,7378,1.4312486020728099,1.48884723659286,1.6562030915029999,null,3.4702382086764598,5.02089521720118,7.3339846146232199,11.4396087746983]
[null,null,null,null,null,null,null,null,null,null,7379,1.4326711215449399,1.4895003320559701,1.65419844072848,null,3.4806915577291102,5.0422972227498803,7.4457483493487304,11.790392210258601]
[null,null,null,null,null,null,null,null,null,null,7382,1.3906485392699299,1.46346823188565,1.6123518530024901,null,3.4272987819180898,4.9714893033544696,7.4895527676646099,11.9970798741333]
[null,null,null,null,null,null,null,null,null,null,7383,1.3742407055019501,1.45112487347026,1.5977136490824699,null,3.4081231601270399,4.9340069462135698,7.4536853648529799,11.8930733114675]
[null,null,null,null,null,null,null,null,null,null,7385,1.3494574380939,1.42754299295512,1.57630444252382,null,3.3784863394315701,4.8725520905382398,7.4261465907180098,11.8700384670919]
[null,null,null,null,null,null,null,null,null,null,7386,1.33907568913946,1.4176796259404201,1.5674689258015899,null,3.3686079236354098,4.8504002233342396,7.4455535796243399,11.9920755794807]
[null,null,null,null,null,null,null,null,null,null,7388,1.3235478360077799,1.4074109912794901,1.5505249862885999,null,3.3480210933627399,4.8252817363488401,7.5575679551855703,12.382094993355899]
[null,null,null,null,null,null,null,null,null,null,7389,1.3226090891409701,1.4081732920652801,1.5433235036597299,null,3.3352151243076702,4.8162224860018297,7.6052267421602497,12.513865092235999]
[null,null,null,null,null,null,null,null,null,null,7392,1.3606815832399199,1.43608546942777,1.5623395251853101,null,3.3689333771314498,4.8945571899540896,7.5842793403987399,12.145328599006]
[null,null,null,null,null,null,null,null,null,null,7393,1.37562251459447,1.44818065056352,1.5780988740967801,null,3.3930557391375502,4.9445433675726704,7.5418330629868899,11.8358933482838]
[null,null,null,null,null,null,null,null,null,null,7395,1.40131744597273,1.47222873433952,1.6070597453834601,null,3.4283397028741498,5.0271777709540304,7.5045482235982197,11.4695886397837]
[null,null,null,null,null,null,null,null,null,null,7396,1.40824688278573,1.4787350666805099,1.6138287073144799,null,3.4267213860755001,5.0483336038927096,7.5434470004443801,11.538410035184]
[null,null,null,null,null,null,null,null,null,null,7399,1.38026390009175,1.44878196966359,1.5725637711941001,null,3.35880226990969,4.9512433661078497,7.6684601589088297,12.1336759224011]
[null,null,null,null,null,null,null,null,null,null,7400,1.37093630694831,1.4393260369817999,1.5575964484104401,null,3.37251892697783,4.9269616233528701,7.7157407269066596,12.336604018069]
[null,null,null,null,null,null,null,null,null,null,7402,1.3923392943189401,1.4582227937406,1.5737656164348801,null,3.45745421319659,5.0245899177439597,7.8168427866219297,12.533044050798001]
[null,null,null,null,null,null,null,null,null,null,7403,1.4162828201051201,1.4779437889307201,1.59654517422339,null,3.4873509820717898,5.1090552639155602,7.8117606587097796,12.4024958551636]
[null,null,null,null,null,null,null,null,null,null,7406,1.4362496718758899,1.4939806503056099,1.6219418628812901,null,3.4750359059242601,5.1990907959980097,7.6077125402353198,11.5204332072684]
[null,null,null,null,null,null,null,null,null,null,7407,1.42472841842551,1.4841887004379399,1.61358789974887,null,3.46272888055337,5.1726056576089796,7.5935213684005198,11.468902507640401]
[null,null,null,null,null,null,null,null,null,null,7409,1.3959393676802401,1.4589979692886199,1.5877023718158201,null,3.4443681852495098,5.0999576317718702,7.7200648825086402,11.9205764784358]
[null,null,null,null,null,null,null,null,null,null,7410,1.38617506642295,1.4508601807185499,1.5764796944091599,null,3.43318054426793,5.0683021463390698,7.7911841481878596,12.252661115079]
[null,null,null,null,null,null,null,null,null,null,7413,1.3714169324282799,1.43914393983819,1.5575488696775399,null,3.3657903884604599,5.0031699752787198,7.8339977310591102,12.9068385538118]
[null,null,null,null,null,null,null,null,null,null,7414,1.3569440768087699,1.42982743319697,1.5438885814802701,null,3.3226262810110501,4.9639228222788798,7.76699824682286,12.8286179653941]
[null,null,null,null,null,null,null,null,null,null,7416,1.33511943877919,1.4155551787571099,1.5159260453510699,null,3.2520222970538102,4.8783009189370796,7.49249460686005,12.130909088614301]
[null,null,null,null,null,null,null,null,null,null,7417,1.3378572847167101,1.4178823912051099,1.5138275357200699,null,3.2480992379051199,4.8711566943637399,7.3739058748064998,11.697307609984501]
[null,null,null,null,null,null,null,null,null,null,7420,1.3638897460078101,1.43993797266816,1.54258247165235,null,3.2772036706745902,4.9606722847738904,7.3953094966412198,11.2550142946073]
[null,null,null,null,null,null,null,null,null,null,7421,1.3595457436996701,1.4339664705015001,1.54018883687287,null,3.2641629787949502,4.9508803720288297,7.4414588792915399,11.3996811120809]
[null,null,null,null,null,null,null,null,null,null,7423,1.34632364780889,1.4199574248375999,1.5246648438966099,null,3.27288989865011,4.9204589057594701,7.5328656640378799,11.7751544505346]
[null,null,null,null,null,null,null,null,null,null,7424,1.35656570179431,1.43055459859186,1.53229176176731,null,3.3134315018556402,4.96617239864264,7.6182328712040297,11.969922656562501]
[null,null,null,null,null,null,null,null,null,null,7427,1.42439670784935,1.5027689000290501,1.60390903466749,null,3.43398104663757,5.2504426090583802,7.9637536570831502,12.564390720766101]
[null,null,null,null,null,null,null,null,null,null,7428,1.4273550758531199,1.5118156081749301,1.6125887477162999,null,3.4212005376087098,5.2827317919221199,8.0491230099061593,12.7696864920054]
[null,null,null,null,null,null,null,null,null,null,7430,1.3938261107020999,1.4931930982678201,1.5861481395539101,null,3.32300953433566,5.1746187480434003,8.0477810772563796,13.0581013351681]
[null,null,null,null,null,null,null,null,null,null,7431,1.37483061666385,1.4789525503429299,1.5661366371887,null,3.2818293266031402,5.0932087546489599,7.9701485156510303,13.039522824283299]
[null,null,null,null,null,null,null,null,null,null,7434,1.3923932991519601,1.49280084886692,1.58219810519834,null,3.3260320897858402,5.14291152985147,7.7444998107869001,12.1297608319601]
[null,null,null,null,null,null,null,null,null,null,7435,1.40738387502031,1.5063443989238801,1.6026999032579501,null,3.3539989750269199,5.2187178113854102,7.74633504545083,11.8526527324632]
[null,null,null,null,null,null,null,null,null,null,7437,1.4094280255916301,1.5101817724127899,1.6157511260744499,null,3.3538176691342598,5.2769204942218302,7.8441659908796399,11.802578560066801]
[null,null,null,null,null,null,null,null,null,null,7438,1.3950094985618999,1.4976515182974199,1.60336858443814,null,3.32897855562301,5.2445396394872601,7.8872365741137402,11.9156821256102]
[null,null,null,null,null,null,null,null,null,null,7441,1.35227141287803,1.4657652998777,1.5622919839232901,null,3.3068369011199299,5.1463101894627297,7.9246734970638499,12.0901298498167]
[null,null,null,null,null,null,null,null,null,null,7442,1.3580446024820101,1.47265821689917,1.5695945851550399,null,3.3229704830644402,5.1747260080011896,7.9103524144453896,12.001926176386799]
[null,null,null,null,null,null,null,null,null,null,7444,1.3796498154302199,1.48804849219074,1.5896682662158299,null,3.3427553823518101,5.2370032122358303,7.8382233902221898,11.700336603560601]
[null,null,null,null,null,null,null,null,null,null,7445,1.38428093679251,1.4898741357029699,1.59139728571177,null,3.3557361628608402,5.2498152342219404,7.8421049239397798,11.653800549296101]
[null,null,null,null,null,null,null,null,null,null,7448,1.40730521692639,1.51086611664964,1.6054898732232601,null,3.4255812918266302,5.3289756044813101,8.1121243184928602,12.256185997789]
[null,null,null,null,null,null,null,null,null,null,7449,1.42211596652088,1.5232069871105001,1.61678508375273,null,3.4382378150553499,5.3654306948628498,8.1840417754395602,12.515809818566501]
[null,null,null,null,null,null,null,null,null,null,7451,1.4460568535682401,1.5382335703859999,1.6330955971516901,null,3.44206465118718,5.4127049003637602,8.2040596581134402,12.8228900638375]
[null,null,null,null,null,null,null,null,null,null,7452,1.45343605798925,1.5396600718670601,1.63605883524681,null,3.43081615953992,5.4188796707606501,8.1578834191749401,12.816036761825499]
[null,null,null,null,null,null,null,null,null,null,7454,1.4567986622072799,1.5314953635970401,1.62826641193241,null,3.3814438628630299,5.3815369817700001,7.9596469369401204,12.435204536371399]
[null,null,null,null,null,null,null,null,null,null,7455,1.45314584542075,1.52440316692191,1.6190347456921499,null,3.3609483647838498,5.3471795858265896,7.8659576590757903,12.1876520566805]
[null,null,null,null,null,null,null,null,null,null,7458,1.438781233509,1.51692986895912,1.6039412656338301,null,3.3501165897562601,5.3079289144661903,7.8807106904532098,12.009736156981401]
[null,null,null,null,null,null,null,null,null,null,7459,1.42979149991456,1.51211028224785,1.5989927401499699,null,3.3279123180999299,5.28644656694396,7.9044229768632901,12.1206145024608]
[null,null,null,null,null,null,null,null,null,null,7461,1.39691352516639,1.4831560092163401,1.5697661846920701,null,3.28344386642876,5.1847163084325896,7.9372552272830301,12.486833482012999]
[null,null,null,null,null,null,null,null,null,null,7462,1.38839362515133,1.47504200739483,1.56112235580501,null,3.29949452983388,5.1666727911287804,7.9788204197563397,12.6891696165242]
[null,null,null,null,null,null,null,null,null,null,7465,1.4424107806841,1.5211045720651999,1.6134308672950599,null,3.4262920190458201,5.3651001315315101,8.1564740682153491,13.059430965896301]
[null,null,null,null,null,null,null,null,null,null,7466,1.4588741276641799,1.5349473630771999,1.6288654800062199,null,3.4397684626637699,5.4173980356397404,8.1936262358714504,13.0938570243933]
[null,null,null,null,null,null,null,null,null,null,7468,1.4524947117120299,1.5293631461883901,1.61901873664879,null,3.3952573693689798,5.3885114453359897,8.2041475501771899,13.179147247950899]
[null,null,null,null,null,null,null,null,null,null,7469,1.4347419972039299,1.5143284697581401,1.5992839584884799,null,3.3572915039475699,5.3240485539396998,8.15899269694388,13.1931408472817]
[null,null,null,null,null,null,null,null,null,null,7472,1.39906067338749,1.4965982809063001,1.57617182774015,null,3.3371863103830002,5.2454791648899901,7.9692710302346796,12.7830221654814]
[null,null,null,null,null,null,null,null,null,null,7473,1.39712544876809,1.50115066489386,1.58445930453682,null,3.3578029499011701,5.2722976092615204,7.9688484011634602,12.657698871551901]
[null,null,null,null,null,null,null,null,null,null,7475,1.3988794008555701,1.51002481805885,1.60186620778628,null,3.4145579247538702,5.3347381827247098,8.1020647599415003,12.8236107379758]
[null,null,null,null,null,null,null,null,null,null,7476,1.40570564513454,1.51794021106171,1.61294546841164,null,3.4427307316831102,5.3762711879691301,8.2062077864038301,13.0515577281472]
[null,null,null,null,null,null,null,null,null,null,7479,1.4234754950441999,1.5384650114332401,1.6379853574965999,null,3.46073897566446,5.4654877451988098,8.4543181030838692,13.644780297931201]
[null,null,null,null,null,null,null,null,null,null,7480,1.4180054847355399,1.53474778215859,1.6348351964649801,null,3.4412595162951498,5.4497383834055304,8.4950480930027297,13.781921458129901]
[null,null,null,null,null,null,null,null,null,null,7482,1.39695883808668,1.51999361350788,1.61826907566977,null,3.4182394394923099,5.38290997747416,8.5599374946006606,14.0470042137531]
[null,null,null,null,null,null,null,null,null,null,7483,1.39349927834524,1.5186107095347401,1.61621655322852,null,3.43559914282296,5.3779323132775501,8.6163640327748805,14.1930187734411]
[null,null,null,null,null,null,null,null,null,null,7486,1.42264484979962,1.5365887924615,1.64686499824371,null,3.5032744115691901,5.49788636466445,8.8216124132826703,14.7328551664753]
[null,null,null,null,null,null,null,null,null,null,7487,1.4257166802755199,1.53430145962523,1.64854977951735,null,3.48321396274457,5.5008804862144096,8.8132748656144297,14.857794840753099]
[null,null,null,null,null,null,null,null,null,null,7489,1.4053208103186901,1.50729850930299,1.6197741596224999,null,3.3840991699677998,5.3925113171776404,8.6165068747136697,14.830988967389599]
[null,null,null,null,null,null,null,null,null,null,7490,1.38780879640403,1.4905031370836599,1.5975615911711101,null,3.3372299186404701,5.3150804932211102,8.4655505247231808,14.6594654899465]
[null,null,null,null,null,null,null,null,null,null,7493,1.3447546154273899,1.4656903181416201,1.55614377174609,null,3.27885965687573,5.1774028519469599,8.1383172611968497,13.933554300253499]
[null,null,null,null,null,null,null,null,null,null,7494,1.3345815935234899,1.4598204487386499,1.5486891634175901,null,3.2935234838191398,5.1510012609802596,8.0989375678986004,13.7934518280786]
[null,null,null,null,null,null,null,null,null,null,7496,1.3512817909433501,1.4726391884891901,1.56862332568775,null,3.40754342690003,5.2197960850653402,8.1949138144680802,13.8719025814329]
[null,null,null,null,null,null,null,null,null,null,7497,1.3773175752612099,1.49476478212544,1.59790894686316,null,3.47904423864858,5.3240837230846099,8.3232804327869605,14.062187935884801]
[null,null,null,null,null,null,null,null,null,null,7500,1.4312363463866,1.5482515057373301,1.66270177837255,null,3.5856738495679998,5.5558284978143302,8.6604579869561,14.7376093378766]
[null,null,null,null,null,null,null,null,null,null,7501,1.4376074550190501,1.5554479646314401,1.66990439346742,null,3.5909786099436101,5.5739925850811103,8.6996554188487902,14.8260179499256]
[null,null,null,null,null,null,null,null,null,null,7503,1.43680265564502,1.5553617425016,1.67043003942695,null,3.5754270861311399,5.5560048257652097,8.6691277179988599,14.6861645350433]
[null,null,null,null,null,null,null,null,null,null,7504,1.4310490524533599,1.54977216922878,1.6658756210218799,null,3.5615630021697302,5.5335379187881397,8.6210484248241706,14.5503482249212]
[null,null,null,null,null,null,null,null,null,null,7507,1.4162585197697799,1.5301330595831999,1.64801275562543,null,3.5524052381910201,5.48181950864456,8.6135240638236805,14.6452287413414]
[null,null,null,null,null,null,null,null,null,null,7508,1.4142812049293201,1.5258432911879101,1.64338257863028,null,3.5512298454722302,5.4750060173477602,8.6723373734158091,14.8642819898464]
[null,null,null,null,null,null,null,null,null,null,7510,1.40022545928599,1.5116651095424301,1.62860668734638,null,3.5450214893188301,5.4373791492599999,8.7443001840408296,15.2101821486494]
[null,null,null,null,null,null,null,null,null,null,7511,1.3972386975342499,1.5090616857871499,1.62684243579632,null,3.5579870532659599,5.4335642973263898,8.7530030996616794,15.232791376672299]
[null,null,null,null,null,null,null,null,null,null,7513,1.4216456529374,1.5291212263498699,1.65124993606041,null,3.6067163869658598,5.5113564467858298,8.7688510204283094,15.019893571019001]
[null,null,null,null,null,null,null,null,null,null,7514,1.43982911204889,1.5435468006211099,1.66884282184809,null,3.6274059896420199,5.5630058511498497,8.7638273247555105,14.8521236345722]
[null,null,null,null,null,null,null,null,null,null,7517,1.47700076439287,1.5687337491953901,1.7034129362992401,null,3.6907204482315801,5.6748442283292997,8.8106062215611605,14.743869577398399]
[null,null,null,null,null,null,null,null,null,null,7518,1.4811481164693601,1.5696822526549701,1.7064987472176001,null,3.7110781350686501,5.6971707605486497,8.8958273502787897,14.9572695630073]
[null,null,null,null,null,null,null,null,null,null,7520,1.47205866061737,1.5588615699302799,1.69802133260302,null,3.72045302281238,5.6900419392256403,9.0858554742101205,15.5195712095557]
[null,null,null,null,null,null,null,null,null,null,7521,1.4566170053395999,1.54571429348461,1.68474272343116,null,3.7110271066992402,5.6500663055928104,9.1434293180440207,15.748936097585201]
[null,null,null,null,null,null,null,null,null,null,7524,1.42030737767238,1.51429476965914,1.65660550586556,null,3.7109300608601998,5.5500702204169396,9.1409472250928605,16.017425685263898]
[null,null,null,null,null,null,null,null,null,null,7525,1.4260873351479799,1.5177233192820301,1.66355397265248,null,3.7225387682222899,5.5602040802852599,9.1076534109398608,16.007353121512899]
[null,null,null,null,null,null,null,null,null,null,7527,1.44883343801901,1.53546673438457,1.68589853179386,null,3.7430277737467401,5.6034457154891104,9.0055926961649408,15.8950552601105]
[null,null,null,null,null,null,null,null,null,null,7528,1.4561019803508699,1.54149387359898,1.6927290795821699,null,3.75048590318326,5.6181826657738796,8.9672700406730002,15.8568636293796]
[null,null,null,null,null,null,null,null,null,null,7531,1.45079178942305,1.53772912022905,1.6889271879460801,null,3.7752263682398599,5.6153203607698501,8.9670322070330304,15.965965583618701]
[null,null,null,null,null,null,null,null,null,null,7532,1.4543509839359801,1.5413639671042401,1.69157892038031,null,3.7902415377596301,5.6266849744747702,8.9689043097086092,15.951824072288099]
[null,null,null,null,null,null,null,null,null,null,7534,1.47690297482969,1.56059138001909,1.7101697785758601,null,3.8262135152642101,5.6872764327159402,8.9830436948398908,15.819768033667801]
[null,null,null,null,null,null,null,null,null,null,7535,1.4867953520516199,1.56877837395155,1.71924699568345,null,3.8377918490276901,5.7157150534675703,9.0279904218354101,15.8466746861481]
[null,null,null,null,null,null,null,null,null,null,7538,1.48124981477246,1.5667091719387201,1.71623432344744,null,3.7998728835587001,5.6785428478741498,9.1644800143076903,16.326217504108602]
[null,null,null,null,null,null,null,null,null,null,7539,1.4725167623314801,1.5597742789498601,1.7082976215885499,null,3.78656845746921,5.63984719216693,9.1626917379937094,16.4268481214724]
[null,null,null,null,null,null,null,null,null,null,7541,1.4635258533373601,1.5511325802176199,1.70336483061774,null,3.8099298856065502,5.6179756495587103,9.2050681834880503,16.576992051699602]
[null,null,null,null,null,null,null,null,null,null,7542,1.4644782918377801,1.55192152722891,1.7079143687667,null,3.8330281752783399,5.6385382566715299,9.2651270940571102,16.683532653116501]
[null,null,null,null,null,null,null,null,null,null,7545,1.4528522862131801,1.54734062975342,1.7071166609828801,null,3.8552782988507301,5.6357559140799696,9.4062647253764293,17.084261971569902]
[null,null,null,null,null,null,null,null,null,null,7546,1.4446259596017701,1.54446598918175,1.7020092854020501,null,3.8713419525192201,5.6175026333458398,9.4409553502113894,17.2336168053431]
[null,null,null,null,null,null,null,null,null,null,7548,1.4473009150495,1.5534106092525,1.7094211312252201,null,3.9266682783165101,5.6465293137725903,9.5672502231132501,17.6035966773082]
[null,null,null,null,null,null,null,null,null,null,7549,1.4552058545187401,1.56019459637321,1.7190132281030801,null,3.9418800841626802,5.6767052966364799,9.6245889552252102,17.7445099744502]
[null,null,null,null,null,null,null,null,null,null,7552,1.45069693816042,1.54828959522606,1.7188322616875,null,3.9056458429295202,5.6620320898452796,9.62980487732451,17.735583199041201]
[null,null,null,null,null,null,null,null,null,null,7553,1.4377544665820701,1.5357286108578601,1.7076209116652501,null,3.8911957372319801,5.6265825893822896,9.6017424822553394,17.655745078570298]
[null,null,null,null,null,null,null,null,null,null,7555,1.4191442666095,1.51984197467919,1.69373841607248,null,3.9246358957613698,5.5987130131817704,9.5967575788027197,17.603858319081802]
[null,null,null,null,null,null,null,null,null,null,7556,1.42186802951043,1.52295994161133,1.7002897720011101,null,3.96651721447732,5.6289335489600498,9.6526127315104109,17.690538235669099]
[null,null,null,null,null,null,null,null,null,null,7559,1.4347816121158401,1.5414711740692599,1.7351124927231001,null,4.0417251401954202,5.7335759295227202,9.9199926163336993,18.1840297497818]
[null,null,null,null,null,null,null,null,null,null,7560,1.4325929546360701,1.54282061324336,1.73962092434778,null,4.0464805347439299,5.73820941336436,9.9866795621303908,18.360412070021201]
[null,null,null,null,null,null,null,null,null,null,7562,1.4343143862913801,1.54594922400347,1.7445732251253101,null,4.0476090310696202,5.7245571199248202,10.0127112709354,18.537009699956698]
[null,null,null,null,null,null,null,null,null,null,7563,1.4379751358510899,1.5487388660489501,1.7467732634951401,null,4.04823705776883,5.7166436752302703,9.9564525543392008,18.448137420649399]
[null,null,null,null,null,null,null,null,null,null,7566,1.4364704339901599,1.5497100602527301,1.7476375610096,null,4.0350247457115298,5.6937805036368303,9.5865393128947201,17.562589345402401]
[null,null,null,null,null,null,null,null,null,null,7567,1.4292923893031999,1.54407550390362,1.74240431877117,null,4.0220669600966703,5.6742118029561102,9.44780067848329,17.2660493780925]
[null,null,null,null,null,null,null,null,null,null,7569,1.42027254657269,1.5357681043917599,1.73354440518911,null,4.0207216121237703,5.6429456768215296,9.2494454803201602,16.940722710601499]
[null,null,null,null,null,null,null,null,null,null,7570,1.42346841950888,1.5380530835388999,1.73605054963698,null,4.0390016155504398,5.64892589546659,9.2261513883891393,16.9274174892426]
[null,null,null,null,null,null,null,null,null,null,7572,1.4299393219556,1.5432188515379399,1.7438823439519899,null,4.0716630619158503,5.6656050421281297,9.3060085951568805,17.084511036256899]
[null,null,null,null,null,null,null,null,null,null,7573,1.42687694171889,1.54119303674629,1.7425285201594201,null,4.0829848250565002,5.6545349823738302,9.34429637613502,17.145559579480398]
[null,null,null,null,null,null,null,null,null,null,7576,1.43569261354178,1.5483090146724401,1.7514142038559899,null,4.1313114797724202,5.6733887721255103,9.3505614820278709,17.0209361280113]
[null,null,null,null,null,null,null,null,null,null,7577,1.4424845474474,1.5523921058830199,1.7564126051236899,null,4.1343276404999703,5.6865443964782898,9.3241277850289404,16.9423263932858]
[null,null,null,null,null,null,null,null,null,null,7579,1.4387480342504499,1.54742702219971,1.7517936083655901,null,4.1205829536261396,5.6606421990744904,9.25530285099431,16.878224293663202]
[null,null,null,null,null,null,null,null,null,null,7580,1.4296835288226699,1.54124919251637,1.7451938110949501,null,4.1104899181200398,5.63742560098237,9.2558206831128107,16.939214486335999]
[null,null,null,null,null,null,null,null,null,null,7583,1.38161582428864,1.50871061048321,1.7064663243098599,null,3.9857457818901501,5.5030750997156703,9.1428785403276809,16.9269686622847]
[null,null,null,null,null,null,null,null,null,null,7584,1.36746378893897,1.4975528301371499,1.69057949087224,null,3.8695561380984702,5.4170546859710598,8.8927768842685992,16.4965768528251]
[null,null,null,null,null,null,null,null,null,null,7586,1.3652737340238701,1.4889538681088299,1.6603930684154899,null,3.4445650911744599,5.1285042532283898,7.8035007098219999,14.397645137031599]
[null,null,null,null,null,null,null,null,null,null,7587,1.3785073282896101,1.4878723396473901,1.63806501333456,null,3.13306107475392,4.8903626677530196,6.9890730870385998,12.8365188372308]
[null,null,null,null,null,null,null,null,null,null,7590,1.4376632413928601,1.47149179310529,1.53562687725512,null,2.3492502094219798,4.01621518217702,4.5291922298632796,8.3923286988684094]
[null,null,null,null,null,null,null,null,null,null,7591,1.4536694070507501,1.47382518060062,1.52500416541164,null,2.3051110922530902,3.90365902542462,4.1251068355905502,7.6468329399329402]
[null,null,null,null,null,null,null,null,null,null,7593,1.4716755943488899,1.49787822612038,1.5620712820757801,null,2.4166896042875998,4.0508845178202302,4.0796018077590901,7.3541661181403297]
[null,null,null,null,null,null,null,null,null,null,7594,1.47133812461378,1.5092162816891701,1.5905847487235301,null,2.4679820565928798,4.1736513220286096,4.2073362388006297,7.4703752301129596]
[null,null,null,null,null,null,null,null,null,null,7597,1.4230130487794099,1.51346270585339,1.6444858537785101,null,2.49203792612981,4.2315417250379896,4.3435789727519101,7.6901550618279098]
[null,null,null,null,null,null,null,null,null,null,7598,1.3914248976485999,1.5147741206874701,1.64639788817489,null,2.4836414646368801,4.1903965508657901,4.3300035179199403,7.7006903446974304]
[null,null,null,null,null,null,null,null,null,null,7600,1.33079424724201,1.53134275263286,1.63706632869641,null,2.4679594525063799,4.1783977925456597,4.3284955395730202,7.6274333068973403]
[null,null,null,null,null,null,null,null,null,null,7601,1.3105764068603201,1.54224726904999,1.6346651649723101,null,2.48208653807961,4.2127694880719204,4.3799878645639501,7.5648686639985696]
[null,null,null,null,null,null,null,null,null,null,7604,1.28472031330088,1.5507580924281099,1.6531362345262699,null,2.6231153999080901,4.4190747256251299,4.7869433562351,7.6031580749901497]
[null,null,null,null,null,null,null,null,null,null,7605,1.2773598975673399,1.5411357097229801,1.6562696060117099,null,2.67117470304435,4.4538110018201902,4.8741349452414902,7.7423359234206401]
[null,null,null,null,null,null,null,null,null,null,7607,1.2711037593499099,1.5258135003030799,1.6501859331430699,null,2.77260991601855,4.4402151874443101,4.9238497634664604,8.1596493216808295]
[null,null,null,null,null,null,null,null,null,null,7608,1.2747019563467701,1.52251035977647,1.65054416571278,null,2.8126217860653,4.4084348489358298,4.9090264000447998,8.3548518580005808]
[null,null,null,null,null,null,null,null,null,null,7611,1.29363604304806,1.50568601611347,1.66308814675752,null,2.8345886222957102,4.3381423869021098,4.87498584645083,8.64910346118962]
[null,null,null,null,null,null,null,null,null,null,7612,1.30269528710047,1.4939326919788301,1.65809927644996,null,2.84704949041905,4.3564957299912104,4.9090448219916798,8.7589767059908308]
[null,null,null,null,null,null,null,null,null,null,7614,1.30828127958947,1.46098380342802,1.62535681220191,null,2.9113003301411999,4.41218625466598,5.0772517654797404,9.0528767874412406]
[null,null,null,null,null,null,null,null,null,null,7615,1.30207612925815,1.4454204150850001,1.60506813581533,null,2.9510590378406398,4.4302704172179004,5.2186702478126596,9.2017523109327097]
[null,null,null,null,null,null,null,null,null,null,7618,1.27481807296501,1.4278474700795001,1.58152715729645,null,3.02520293344184,4.4279133639801103,5.5481728319875403,9.5541820408316696]
[null,null,null,null,null,null,null,null,null,null,7619,1.27350699463163,1.43807074000204,1.5902173081006099,null,3.0402587748479202,4.4579709608796101,5.57802857098185,9.5789787768796195]
[null,null,null,null,null,null,null,null,null,null,7621,1.2965560846783699,1.48102919579735,1.6261583878094901,null,3.0546040433806798,4.5622443429974204,5.5807626665445502,9.4238529395158999]
[null,null,null,null,null,null,null,null,null,null,7622,1.3154878582609599,1.5051185647938901,1.64705319528697,null,3.0326749544411502,4.5986983005094597,5.55231086056168,9.2601542263224701]
[null,null,null,null,null,null,null,null,null,null,7625,1.34845170887405,1.5263719535075799,1.6651545303473401,null,2.7608340363921098,4.3725920986384201,4.8986086411794796,8.3677758042818606]
[null,null,null,null,null,null,null,null,null,null,7626,1.3474306679124499,1.51332863083332,1.64041318739453,null,2.6102042066977602,4.1503606773277504,4.5128536042274696,7.8932328373016096]
[null,null,null,null,null,null,null,null,null,null,7628,1.3383535042822701,1.4775887823227101,1.5657897468396,null,2.2903432495946001,3.66783369652331,3.7388040006863901,6.75924209443117]
[null,null,null,null,null,null,null,null,null,null,7629,1.33537427859524,1.46894836942836,1.5387901175708001,null,2.1900141181889698,3.5425167888736002,3.4586496965464999,6.3040825975288799]
[null,null,null,null,null,null,null,null,null,null,7632,1.3432924433414699,1.4902226118089399,1.5415715023179499,null,2.2080010419820701,3.68508882012646,3.31848770823572,6.1267086169386804]
[null,null,null,null,null,null,null,null,null,null,7633,1.34367483335025,1.4970299348706999,1.5496137706199,null,2.2405379239203498,3.7314634835134899,3.3742339011953302,6.2590052770996403]
[null,null,null,null,null,null,null,null,null,null,7635,1.34364578365413,1.50090406293236,1.5499482407034,null,2.2878935335023902,3.69643368756822,3.4599303746396401,6.3856924931794996]
[null,null,null,null,null,null,null,null,null,null,7636,1.3469157993087599,1.4979512840170699,1.55154717348215,null,2.3117913194543598,3.6694218121425402,3.5010919529672799,6.4099905518884004]
[null,null,null,null,null,null,null,null,null,null,7638,1.3531385286744,1.4840646053853399,1.5677219250013901,null,2.3476701009007899,3.6768476733213502,3.65401208657768,6.5689979697864596]
[null,null,null,null,null,null,null,null,null,null,7639,1.3575437650451001,1.47923149801599,1.57706461344624,null,2.3573450379901399,3.70908875182753,3.7551558917915502,6.6925152344676997]
[null,null,null,null,null,null,null,null,null,null,7642,1.3843293277247399,1.49059564082645,1.59645600493954,null,2.4621677657477101,3.8794400777061901,3.9376738017530899,6.9249583760611797]
[null,null,null,null,null,null,null,null,null,null,7643,1.39114479141632,1.4938560839897901,1.59998844720815,null,2.5235824148200101,3.9215968892848299,3.91780865885011,6.9454494669967097]
[null,null,null,null,null,null,null,null,null,null,7645,1.39489266380785,1.4917720458632999,1.6069808695593,null,2.6254154727593302,3.9361232905519001,3.8792991289961498,7.0808175080477396]
[null,null,null,null,null,null,null,null,null,null,7646,1.39014712316918,1.4886185991476499,1.60551827791739,null,2.6541921896032301,3.9149328044048599,3.9327999197982599,7.2028355482258197]
[null,null,null,null,null,null,null,null,null,null,7649,1.3630738403609901,1.4790052045670901,1.5837844940271399,null,2.66494067378152,3.8335744880757501,4.3319777672009696,7.7002007654218403]
[null,null,null,null,null,null,null,null,null,null,7650,1.35354633072885,1.4711449359625199,1.57796294861862,null,2.6677777496116901,3.8424630700807301,4.4134605947066197,7.8228449262295303]
[null,null,null,null,null,null,null,null,null,null,7652,1.33081001314092,1.45137119135416,1.57325518308158,null,2.6979855436515501,3.9125271799798398,4.4334382673588797,7.8600523090005696]
[null,null,null,null,null,null,null,null,null,null,7653,1.3192287397139999,1.44293575678782,1.57223474500612,null,2.7122662286393902,3.9348518767428402,4.3996406194280997,7.8273407533175501]
[null,null,null,null,null,null,null,null,null,null,7656,1.3036984261866,1.42654999189002,1.57780839234541,null,2.7937112272615199,3.9840314173974698,4.3720624101149204,7.8284338973138698]
[null,null,null,null,null,null,null,null,null,null,7657,1.2968575370529101,1.4181277741356999,1.57614655580813,null,2.8352953421473099,4.0135965574346297,4.4674097767128202,7.8767576567695503]
[null,null,null,null,null,null,null,null,null,null,7659,1.2947937370703999,1.40263773194291,1.5634977191141399,null,2.8515117433808199,4.0495534469432197,4.6729287905453196,7.9464902107036899]
[null,null,null,null,null,null,null,null,null,null,7660,1.30559041437076,1.3984974533379999,1.5585191160087299,null,2.80307381166309,4.0321094114528497,4.6547355611217602,7.8864551761051702]
[null,null,null,null,null,null,null,null,null,null,7663,1.3059001538831501,1.33533497701776,1.49504979738629,null,2.4187233884841799,3.6895605610181099,4.0119917800117699,7.0275367307693202]
[null,null,null,null,null,null,null,null,null,null,7664,1.28360985171431,1.3077096123726499,1.45426992786053,null,2.2772718269989198,3.5084838619714702,3.7293305314101999,6.57269475920421]
[null,null,null,null,null,null,null,null,null,null,7666,1.2810722857383601,1.3278210434245099,1.4238261806213699,null,2.1423120780345002,3.2733991061765,3.3283807823183098,5.9179738997349904]
[null,null,null,null,null,null,null,null,null,null,7667,1.30600790286307,1.36672217970472,1.4400267020940001,null,2.1387879998021102,3.2460924246696599,3.2435418741069801,5.8129435255996498]
[null,null,null,null,null,null,null,null,null,null,7670,1.3637897274350099,1.4290053424912399,1.4642404753431499,null,2.0696874948560202,3.18910824659583,3.1207302689622498,5.6675292302995004]
[null,null,null,null,null,null,null,null,null,null,7671,1.37045914657998,1.42364666698645,1.4387765033945901,null,1.9934073844499001,3.09756319487051,3.0202445979252599,5.4902963242798197]
[null,null,null,null,null,null,null,null,null,null,7673,1.37391127324732,1.41189658420995,1.38549712648507,null,1.89775793768057,2.9083137970812198,2.8185557989065999,5.1237801519206903]
[null,null,null,null,null,null,null,null,null,null,7674,1.37692105130428,1.4156125626082501,1.3833296822376999,null,1.9082814125940399,2.8866160978615198,2.7908463010790001,5.0643466480716199]
[null,null,null,null,null,null,null,null,null,null,7677,1.3854939560795501,1.43169248378807,1.4314359579017899,null,2.0075563913821401,3.0323386345124401,2.9329018000824201,5.2596938172813603]
[null,null,null,null,null,null,null,null,null,null,7678,1.3838417840228401,1.4295584789198299,1.4386810191594801,null,2.0182864873224502,3.0577509106093999,2.9682085228135899,5.3068708191303298]
[null,null,null,null,null,null,null,null,null,null,7680,1.3771672365651499,1.4200939206932399,1.4344728344964099,null,2.0378977063753299,3.0466073224043702,2.9863416285993698,5.3096125020589602]
[null,null,null,null,null,null,null,null,null,null,7681,1.37785609324039,1.41940813376834,1.4358081439068,null,2.05603702919402,3.0515396293505699,3.0032761419462299,5.3202842518032201]
[null,null,null,null,null,null,null,null,null,null,7684,1.39209101340685,1.4303642808549799,1.4552434908189,null,2.1097953744079398,3.1064098100062298,3.08214736374766,5.4228790106760298]
[null,null,null,null,null,null,null,null,null,null,7685,1.39442511601541,1.43441818333725,1.4613301552872999,null,2.13625897930102,3.13405086340387,3.1165970320840999,5.4731148712124504]
[null,null,null,null,null,null,null,null,null,null,7687,1.3896590394396799,1.4367079200172601,1.4707498497466001,null,2.2080612516073201,3.20632015056266,3.2094504116149101,5.6033111789760603]
[null,null,null,null,null,null,null,null,null,null,7688,1.38310948968192,1.4341954408580599,1.47509168108685,null,2.24518245340836,3.2397570968879301,3.2603031213919502,5.6751140906037696]
[null,null,null,null,null,null,null,null,null,null,7691,1.3654234455600101,1.42197180428676,1.4883505042326,null,2.3299572872867498,3.3042379968540199,3.3953863986320201,5.8563816681698198]
[null,null,null,null,null,null,null,null,null,null,7692,1.36735070688606,1.42386369004039,1.4953728865112501,null,2.3514870537508199,3.32874042163815,3.43276851749338,5.9008996982517603]
[null,null,null,null,null,null,null,null,null,null,7694,1.3850101384406299,1.4329970864961199,1.5114880654583001,null,2.3813992492130001,3.3789835511169102,3.4778379105206301,5.95212182682695]
[null,null,null,null,null,null,null,null,null,null,7695,1.3956629338136,1.4310827993311399,1.5128424959159901,null,2.3854919502305099,3.3905822641956598,3.4849334390423801,5.9455599060896196]
[null,null,null,null,null,null,null,null,null,null,7697,1.3946580106361199,1.4000308417699701,1.4893377727481401,null,2.36184392247532,3.3538562224891399,3.4581869453208598,5.80689167118177]
[null,null,null,null,null,null,null,null,null,null,7698,1.37642493833642,1.38115711392253,1.47346998209828,null,2.35882333884906,3.3264968534597101,3.4476819293020999,5.7212612058308396]
[null,null,null,null,null,null,null,null,null,null,7701,1.3452565226100599,1.40364501055725,1.4843331834006499,null,2.4054370039432902,3.3571109140329201,3.53580836126936,5.8661256555538497]
[null,null,null,null,null,null,null,null,null,null,7702,1.3544553322744199,1.42262659616576,1.49159921083703,null,2.3831369912515599,3.3532496296787402,3.5315373890291801,5.9294052684173799]
[null,null,null,null,null,null,null,null,null,null,7704,1.3673699624274001,1.43204714508651,1.47040516638386,null,2.26816304840573,3.22871239429616,3.38630082465607,5.8175500760107903]
[null,null,null,null,null,null,null,null,null,null,7705,1.36843699346588,1.4260702925231099,1.45173644323717,null,2.21781741632961,3.1420115341515502,3.29082207914615,5.7015952656003801]
[null,null,null,null,null,null,null,null,null,null,7708,1.3491066795914399,1.40761504582931,1.43556340996156,null,2.2518087705779601,3.06916456812074,3.2367760518414901,5.6238359588125197]
[null,null,null,null,null,null,null,null,null,null,7709,1.3363652459873101,1.4021922415105701,1.4392766619086099,null,2.2874626029285898,3.09904395460434,3.2910664505256499,5.7003823319685001]
[null,null,null,null,null,null,null,null,null,null,7711,1.3045327429057201,1.3837065039334,1.43585209484029,null,2.32727792967404,3.1462746909671599,3.3937815798300099,5.8395422992488903]
[null,null,null,null,null,null,null,null,null,null,7712,1.2859742207840501,1.36915423307214,1.4262844807789901,null,2.3295734653803399,3.1475747547516,3.4253591830544301,5.87339875860612]
[null,null,null,null,null,null,null,null,null,null,7715,1.26932564470596,1.35815946920766,1.41610786464258,null,2.3478682872399799,3.1328814537232099,3.4581081511119001,5.8921851782892496]
[null,null,null,null,null,null,null,null,null,null,7716,1.2905363667580201,1.37818917122625,1.43398471295341,null,2.37504832007351,3.1592488407513102,3.4668642158337799,5.9082864162269004]
[null,null,null,null,null,null,null,null,null,null,7718,1.33505309173988,1.41901154152245,1.47933300456852,null,2.4648328079916699,3.2542085063680402,3.53399813290422,6.0169674455843802]
[null,null,null,null,null,null,null,null,null,null,7719,1.34551801685511,1.42840725828926,1.49629404255576,null,2.51469040889608,3.3126783670545499,3.6021594704414901,6.1170103472901598]
[null,null,null,null,null,null,null,null,null,null,7722,1.3336986834145199,1.4123002555386199,1.4988096629810099,null,2.5805853572145199,3.3808930621150801,3.7764518398881699,6.38168421349165]
[null,null,null,null,null,null,null,null,null,null,7723,1.3271150298751599,1.4058673893631,1.49355195194582,null,2.5977085310521502,3.3742930262386301,3.80046861932854,6.4198969130671903]
[null,null,null,null,null,null,null,null,null,null,7725,1.33061498575784,1.4128410658450401,1.50594493408833,null,2.68561173083509,3.43141867430234,3.8901782412114301,6.5364149224061396]
[null,null,null,null,null,null,null,null,null,null,7726,1.33611069812943,1.42048744299731,1.51996451429025,null,2.7483813803502102,3.49637876556557,3.9744825346747099,6.6490882573351504]
[null,null,null,null,null,null,null,null,null,null,7729,1.35936302068086,1.4489014634123401,1.5619831620189,null,2.8717696788383602,3.67494930584721,4.2225683869295798,6.9958644180717897]
[null,null,null,null,null,null,null,null,null,null,7730,1.36775375546817,1.4591042043407001,1.5729720915138099,null,2.88696359659918,3.7014285914745102,4.2522288274252604,7.0368271925894401]
[null,null,null,null,null,null,null,null,null,null,7732,1.3744879211826899,1.4706841986224,1.5896583638466899,null,2.9316143801282299,3.74243225035588,4.3033366774192601,7.0935769067359598]
[null,null,null,null,null,null,null,null,null,null,7733,1.37433811985309,1.4725541753682101,1.5955551608784799,null,2.9607528347376402,3.7648864685786898,4.3425013563412103,7.1450253915883]
[null,null,null,null,null,null,null,null,null,null,7736,1.3808141657092301,1.4789765206932199,1.6070621890711101,null,3.0626309388376098,3.81922924338628,4.4549122410262001,7.3389168320980103]
[null,null,null,null,null,null,null,null,null,null,7737,1.3829243566751801,1.4808284391826601,1.6087098155952499,null,3.0992792321860798,3.8397231923014501,4.5165951602345196,7.4293462387222]
[null,null,null,null,null,null,null,null,null,null,7739,1.38077763564794,1.4783656956989,1.6053839375710399,null,3.11393120218482,3.8508538579854501,4.5979891343273103,7.5351328932686599]
[null,null,null,null,null,null,null,null,null,null,7740,1.3771551197577601,1.4737994002738299,1.60012711472838,null,3.0762639753576999,3.8273163868133802,4.57702947116465,7.4963495269162399]
[null,null,null,null,null,null,null,null,null,null,7743,1.35553472181476,1.4481078165154999,1.55382230201821,null,2.8299383297810401,3.6132590816926702,4.2741902243317602,7.0333649565126102]
[null,null,null,null,null,null,null,null,null,null,7744,1.3458942971683301,1.4381211749262399,1.5347973559910399,null,2.7540926958775098,3.52626250400075,4.1424653393374804,6.84319778832384]
[null,null,null,null,null,null,null,null,null,null,7746,1.3147416335911,1.4066483315009199,1.4944342300122,null,2.62906363861245,3.3800789966906302,3.9459643057134901,6.5634285392173703]
[null,null,null,null,null,null,null,null,null,null,7747,1.2929764696703001,1.38259734186603,1.4643919031622601,null,2.5517314074417499,3.2968804097755702,3.8630760424902499,6.4370543145472503]
[null,null,null,null,null,null,null,null,null,null,7750,1.28366200631183,1.3545761365414599,1.3908607645251101,null,2.3867968780378699,3.06390060992261,3.5756255372178898,5.9427908148937396]
[null,null,null,null,null,null,null,null,null,null,7751,1.30575517825839,1.37208198567246,1.40330602221589,null,2.4116498280221998,3.0797907008564902,3.5538401446268302,5.8818662428932802]
[null,null,null,null,null,null,null,null,null,null,7753,1.3505697075104499,1.4147305073936101,1.46048122726681,null,2.5143588957796901,3.21835261600256,3.6580389443351198,6.0026974050283197]
[null,null,null,null,null,null,null,null,null,null,7754,1.36625206900851,1.4304415231126799,1.48500123847472,null,2.5505532869588001,3.2852099809959801,3.7264544979234202,6.0977425536150598]
[null,null,null,null,null,null,null,null,null,null,7757,1.3818804264842299,1.4437761189443501,1.5035662114472099,null,2.54637871402036,3.3305994336313698,3.78233149267425,6.1797010886659702]
[null,null,null,null,null,null,null,null,null,null,7758,1.3791425048545201,1.44174243181591,1.49989338458168,null,2.5453511445641901,3.3196624291054402,3.7731737485321801,6.1671043042381797]
[null,null,null,null,null,null,null,null,null,null,7760,1.3746923957691399,1.44292356089747,1.5009188590270801,null,2.5817946042728499,3.3370584975931301,3.8066434311173398,6.2105568952335597]
[null,null,null,null,null,null,null,null,null,null,7761,1.3752913102109099,1.44740936781861,1.5052490554525599,null,2.6070644776963898,3.3578791473004701,3.8418840515447901,6.2589678978903303]
[null,null,null,null,null,null,null,null,null,null,7763,1.37393942174198,1.45331368531773,1.5123614950224999,null,2.6681613683231,3.39613140503725,3.9278587482932301,6.3784362008176201]
[null,null,null,null,null,null,null,null,null,null,7764,1.3693158019212099,1.4514069740012101,1.5137162378223701,null,2.7122446790761301,3.42156067795539,3.9945031745366002,6.4664497233183997]
[null,null,null,null,null,null,null,null,null,null,7767,1.3550225587095399,1.43878479787937,1.5140695338722401,null,2.8279128811107799,3.5186185082414001,4.2312474431018998,6.7929816375032299]
[null,null,null,null,null,null,null,null,null,null,7768,1.35779653093579,1.4411826527784499,1.5187995631484399,null,2.8434832193846802,3.53629858034477,4.2582895895387001,6.8522544497627003]
[null,null,null,null,null,null,null,null,null,null,7770,1.3711878654934999,1.4536441887793701,1.53388603361019,null,2.8667386526799401,3.5487258881948098,4.2625705006505097,6.9046581861745802]
[null,null,null,null,null,null,null,null,null,null,7771,1.37622575784956,1.45812833433302,1.5402046276798,null,2.8842182966086698,3.55475744315086,4.27755098172823,6.9303839181190803]
[null,null,null,null,null,null,null,null,null,null,7774,1.3857447866557899,1.4672377359014801,1.5644690204401801,null,2.9656617635589502,3.6341779933903098,4.4129556843497602,7.0954583673834204]
[null,null,null,null,null,null,null,null,null,null,7775,1.38975276124219,1.4712324141391699,1.57535090322515,null,2.9896654788560699,3.67122256719014,4.4677684324909404,7.1712643184734803]
[null,null,null,null,null,null,null,null,null,null,7777,1.3896104331463699,1.47166439354196,1.5865445217313401,null,3.0036949540161202,3.7171583253275302,4.5424646189086797,7.2870532306976896]
[null,null,null,null,null,null,null,null,null,null,7778,1.38293613543649,1.46457440224975,1.5829682740495401,null,2.9854429907483802,3.7145391232759102,4.5465430044882398,7.2980708521590403]
[null,null,null,null,null,null,null,null,null,null,7781,1.3622258253923301,1.43743648139508,1.5469176476317701,null,2.8300794346808198,3.59416131939409,4.4138152152201897,7.1026466096697902]
[null,null,null,null,null,null,null,null,null,null,7782,1.36594162084272,1.43648598469855,1.53356054000289,null,2.76883395021326,3.5318598069382801,4.3284439886297497,6.9763576085834602]
[null,null,null,null,null,null,null,null,null,null,7784,1.37692017320557,1.4397044931990599,1.51750054009742,null,2.7211365721561198,3.4556620493951802,4.2063094526603502,6.80151812273792]
[null,null,null,null,null,null,null,null,null,null,7785,1.3752233910557301,1.4385264118129699,1.51710927506878,null,2.7363660312835001,3.4594652319880699,4.20652815721549,6.8109720182551499]
[null,null,null,null,null,null,null,null,null,null,7788,1.3333651990887501,1.40980523280902,1.5132211846310799,null,2.8221828934327799,3.5228788100283999,4.3606605522834903,7.0667050520299703]
[null,null,null,null,null,null,null,null,null,null,7789,1.3252113571954001,1.4043924131715,1.51262767458926,null,2.8491987527473399,3.5431588409627701,4.4209256302676003,7.15368480163401]
[null,null,null,null,null,null,null,null,null,null,7791,1.34659708252328,1.42371533744608,1.53231045380311,null,2.9046121353829899,3.60966867341843,4.5179993614000997,7.2854617755633404]
[null,null,null,null,null,null,null,null,null,null,7792,1.3656317038510399,1.44030535555734,1.54890445696047,null,2.9305491359924498,3.6533253802141599,4.5544917014865103,7.3364527873891898]
[null,null,null,null,null,null,null,null,null,null,7795,1.3873908426542401,1.4612956335648499,1.5789801378610999,null,3.0002415148711101,3.7409674936506199,4.6363137813479502,7.4617005181409501]
[null,null,null,null,null,null,null,null,null,null,7796,1.3802421448480999,1.4560970719233099,1.57916877908352,null,3.0263885746847499,3.7577527501143302,4.6689113932595401,7.5048273640412502]
[null,null,null,null,null,null,null,null,null,null,7798,1.36165948825939,1.44188224830695,1.5763139045738499,null,3.0998083686388198,3.7941970943013299,4.7554545619032096,7.5825362502347096]
[null,null,null,null,null,null,null,null,null,null,7799,1.3577899224779499,1.4390559671688501,1.5781186398949001,null,3.1525623111624199,3.82109880956471,4.8191447313073201,7.6383076009243096]
[null,null,null,null,null,null,null,null,null,null,7802,1.38650791125763,1.4640390671101799,1.6128088818289299,null,3.3268052166256599,3.9781652296429102,5.1075046110063997,8.0518504265179907]
[null,null,null,null,null,null,null,null,null,null,7803,1.3992955043171,1.4750353918283701,1.6259911874444699,null,3.3604740999198301,4.02825738109805,5.1913105040672898,8.2095876741740508]
[null,null,null,null,null,null,null,null,null,null,7805,1.4054643257930499,1.4827743014732,1.6383158155484401,null,3.3922480727465101,4.0771349310339202,5.2951478743391602,8.4349078414686502]
[null,null,null,null,null,null,null,null,null,null,7806,1.39768215565514,1.4791004535346099,1.6377363535942999,null,3.40297063239076,4.0843197088126297,5.3441495296935297,8.5295157540123707]
[null,null,null,null,null,null,null,null,null,null,7809,1.37168672607846,1.4647406367182101,1.63498803195209,null,3.4523601224927698,4.1230958462743299,5.5351953656406003,8.7960937129156793]
[null,null,null,null,null,null,null,null,null,null,7810,1.37143660196406,1.4654367949423599,1.64097933701848,null,3.4783564534193401,4.1541435349084601,5.5875358438944698,8.8716351230636405]
[null,null,null,null,null,null,null,null,null,null,7812,1.38655687860253,1.4780646444146901,1.6639134148940999,null,3.5434823237066801,4.2436471562754399,5.7120549261085296,9.0643651234040004]
[null,null,null,null,null,null,null,null,null,null,7813,1.3980498555221299,1.4874535682479599,1.6760854854724601,null,3.5767053040480299,4.29055703282277,5.7963905267760802,9.1919696926906909]
[null,null,null,null,null,null,null,null,null,null,7816,1.4104303813551,1.5010682144284599,1.6902462453048701,null,3.6212668531616998,4.3511751717384302,5.99016398919869,9.5360095367008206]
[null,null,null,null,null,null,null,null,null,null,7817,1.40729644584404,1.5007392374041599,1.68816985751656,null,3.6019233978280298,4.3468503172052797,6.0033516892460801,9.5839144026006]
[null,null,null,null,null,null,null,null,null,null,7819,1.3953224085189799,1.4935510884732099,1.6709131340541701,null,3.47109290202896,4.2752959508263997,5.8649222478806902,9.43010701611027]
[null,null,null,null,null,null,null,null,null,null,7820,1.39068315024262,1.48946411304186,1.6582297687259699,null,3.3882405063051899,4.2133431202709497,5.7123542296575698,9.2202475829316999]
[null,null,null,null,null,null,null,null,null,null,7822,1.3926580845591701,1.4875938455669599,1.6434636831943901,null,3.3066475384029901,4.1271051312262399,5.4479340143710902,8.8410671507518206]
[null,null,null,null,null,null,null,null,null,null,7823,1.3973801691869701,1.48922545077784,1.64445545660669,null,3.2997950467313202,4.12156188396545,5.4061742773347996,8.78285120241374]
[null,null,null,null,null,null,null,null,null,null,7826,1.39929071253256,1.4833325176041099,1.62393684703993,null,3.1503219160936702,4.0218625697798904,5.2838068196427104,8.6047478514835696]
[null,null,null,null,null,null,null,null,null,null,7827,1.3955637492326201,1.4749468640815599,1.59934898718719,null,3.0477061105110801,3.9197819068898001,5.1402154647521696,8.3787763991395199]
[null,null,null,null,null,null,null,null,null,null,7829,1.3846800982785199,1.4560720312206901,1.5519199906004,null,2.91377831582983,3.7348072751782699,4.8372546695649703,7.8899198511659803]
[null,null,null,null,null,null,null,null,null,null,7830,1.3727492239124099,1.44502859587414,1.5376760236682101,null,2.9067106121516799,3.6976830837147499,4.7761202559069398,7.7870421652341397]
[null,null,null,null,null,null,null,null,null,null,7833,1.32635714267756,1.4101511425742601,1.5188378871018799,null,2.9751316225354598,3.71983769802757,4.9157856828344499,8.0200341922215905]
[null,null,null,null,null,null,null,null,null,null,7834,1.31719980621654,1.4029765687178,1.5170585903126901,null,2.9955022892628902,3.73550647501864,4.9825317813686798,8.1278116833951106]
[null,null,null,null,null,null,null,null,null,null,7836,1.3183565425835,1.4067408844652001,1.5276495730400399,null,3.0304429670716302,3.7864771166556199,5.0680105525706596,8.2275834413486493]
[null,null,null,null,null,null,null,null,null,null,7837,1.3309077491814401,1.41863499072502,1.541547036206,null,3.0397645063304299,3.8265343539665602,5.0936073947658898,8.2353166165595297]
[null,null,null,null,null,null,null,null,null,null,7840,1.36526552000042,1.44587096642553,1.56820510850543,null,3.0278762341393799,3.8925200922557299,5.1374583501393198,8.2388056885808201]
[null,null,null,null,null,null,null,null,null,null,7841,1.3702184161939801,1.4510659818588101,1.5731628566653899,null,3.0406032836734598,3.90888498126691,5.1669135535495503,8.2806527387252604]
[null,null,null,null,null,null,null,null,null,null,7843,1.38075453114478,1.4650437712411899,1.5926905508262801,null,3.1091449647984599,3.9852264975741001,5.3015966391341296,8.4862629208735996]
[null,null,null,null,null,null,null,null,null,null,7844,1.3864976656021899,1.4713479697276,1.6026796879191301,null,3.14253659581331,4.0304614163456502,5.3881592167223502,8.6141909226089499]
[null,null,null,null,null,null,null,null,null,null,7847,1.3949941370996,1.4713305496028399,1.60720904171029,null,3.1481833689813299,4.0825259158649798,5.4693663148679299,8.7150861655075396]
[null,null,null,null,null,null,null,null,null,null,7848,1.38877836545824,1.4625647662835599,1.5983577571641501,null,3.1352576280923099,4.0684434156036602,5.4372004939244896,8.6312552855426095]
[null,null,null,null,null,null,null,null,null,null,7850,1.3683673098655,1.44271995578844,1.57684110410241,null,3.1268043377630201,4.03509726197621,5.3831928051455398,8.4233801994049795]
[null,null,null,null,null,null,null,null,null,null,7851,1.36025684200987,1.435976081035,1.5691993373251001,null,3.1412747486736601,4.02981875573896,5.37977060157717,8.3630786091685305]
[null,null,null,null,null,null,null,null,null,null,7854,1.35921004596563,1.4456359029574199,1.58008054594783,null,3.2739321623847899,4.1189014740842298,5.5580207176843599,8.6485524044058995]
[null,null,null,null,null,null,null,null,null,null,7855,1.3661813975814601,1.4566927558034699,1.59302556952777,null,3.3210153033958698,4.1689996424210296,5.6552940512748604,8.8409688748144593]
[null,null,null,null,null,null,null,null,null,null,7857,1.38452020701142,1.4747443810304,1.6143979950443199,null,3.3725596023669699,4.22695763789973,5.79855171359615,9.1559683895524095]
[null,null,null,null,null,null,null,null,null,null,7858,1.39371083457304,1.48106144504716,1.6216034907455801,null,3.3640197823804998,4.2334688779046203,5.8320392879930498,9.2565275393204303]
[null,null,null,null,null,null,null,null,null,null,7861,1.3969521625853201,1.4777005487589301,1.61008853307434,null,3.20970835666304,4.1270387093486196,5.6372176745286504,9.1010583788619392]
[null,null,null,null,null,null,null,null,null,null,7862,1.3916463016796901,1.4726370066204499,1.60099009097737,null,3.1776625914833101,4.0853074898313002,5.5206358968569296,8.8978767389475095]
[null,null,null,null,null,null,null,null,null,null,7864,1.3885503295717401,1.4741546973397299,1.60161171681989,null,3.1843286965724,4.1013944991499303,5.3834934122396403,8.3884987767313]
[null,null,null,null,null,null,null,null,null,null,7865,1.3915120559296099,1.4796014358232299,1.60849386634297,null,3.1973272176943999,4.1408742862718499,5.3584820670850704,8.1255372417799698]
[null,null,null,null,null,null,null,null,null,null,7868,1.3851986278967101,1.4742982339400299,1.6151821777706601,null,3.2042590466305501,4.2050008647455801,5.4176095305921699,7.9184276380289802]
[null,null,null,null,null,null,null,null,null,null,7869,1.3746291735237799,1.4654612249636501,1.6096813893640201,null,3.1987593512533801,4.1983438883549304,5.4594751128083301,8.0139261297796107]
[null,null,null,null,null,null,null,null,null,null,7871,1.3579407647997299,1.45761893258585,1.6045641754669,null,3.21359300950003,4.2013042358145896,5.5446728948311703,8.1731922418190806]
[null,null,null,null,null,null,null,null,null,null,7872,1.35330537797499,1.45843730181764,1.60727366557411,null,3.23971742184639,4.2253924054731202,5.6067045164071203,8.2357198640765805]
[null,null,null,null,null,null,null,null,null,null,7875,1.35358056626088,1.46489723681776,1.6234622761642401,null,3.3651134049200802,4.3616825510940203,5.90463058860351,8.5570094729220294]
[null,null,null,null,null,null,null,null,null,null,7876,1.35865666363577,1.4682371877007701,1.6314384420113499,null,3.3925426208452398,4.4109827115245501,6.0012373579734,8.72258904888219]
[null,null,null,null,null,null,null,null,null,null,7878,1.36061938402728,1.4692029910264499,1.6415425888998201,null,3.3917795781557598,4.4585383498609001,6.0870608090129004,9.0019949551113694]
[null,null,null,null,null,null,null,null,null,null,7879,1.3556253614789899,1.4663430122907399,1.6401493551775901,null,3.3751348713198701,4.4518108970575101,6.0854167659344798,9.0743123241489094]
[null,null,null,null,null,null,null,null,null,null,7882,1.33402050993166,1.4474932199767601,1.61715146196064,null,3.37613664437318,4.4119520675260304,6.1016742877000496,9.1647124072260002]
[null,null,null,null,null,null,null,null,null,null,7883,1.3313572496593999,1.4418925766501001,1.61112457243484,null,3.4043469685700298,4.4218257999469097,6.1536862740147296,9.2122263992089906]
[null,null,null,null,null,null,null,null,null,null,7885,1.33568174817957,1.44162007412611,1.6089902834618901,null,3.4874795953503002,4.4693667059019297,6.3238704607195704,9.38225110335026]
[null,null,null,null,null,null,null,null,null,null,7886,1.34316819381769,1.44947474131138,1.6174511180565301,null,3.5308980637126401,4.5059800648608004,6.4106365285517297,9.5138626014161591]
[null,null,null,null,null,null,null,null,null,null,7888,1.35855617180295,1.46635977259606,1.64432431159717,null,3.5831901588665902,4.5826473913321397,6.5145928689024002,9.7864519105334598]
[null,null,null,null,null,null,null,null,null,null,7889,1.3602013613953099,1.4674296819066199,1.6529092535872301,null,3.5897497357191601,4.6063654049482299,6.5269299617861298,9.8553844043569399]
[null,null,null,null,null,null,null,null,null,null,7892,1.33547764914115,1.4476754534471299,1.6356257184757299,null,3.53556233453053,4.57565453192547,6.4898623380059197,9.7383371884907604]
[null,null,null,null,null,null,null,null,null,null,7893,1.31746734596963,1.43876234099988,1.6166282612568601,null,3.4932387342253701,4.5264959723663702,6.4450702721235302,9.6323427238386792]
[null,null,null,null,null,null,null,null,null,null,7895,1.2951972365322999,1.43575957180805,1.5871742804387099,null,3.4024834250262299,4.4429790955053701,6.2641825963467799,9.2166857946797407]
[null,null,null,null,null,null,null,null,null,null,7896,1.29924692957808,1.44083166958981,1.58815125571877,null,3.3699442454573298,4.4385527593325698,6.1375148178476397,8.9178997208051705]
[null,null,null,null,null,null,null,null,null,null,7899,1.32246137211586,1.4422752665821299,1.61557892194515,null,3.30520969042936,4.4733523318750503,5.8922235168215797,8.2980245713432801]
[null,null,null,null,null,null,null,null,null,null,7900,1.3258881679035499,1.44405382477674,1.6152662715520101,null,3.2933998129069999,4.4657984025827497,5.89182538288813,8.3305590775118201]
[null,null,null,null,null,null,null,null,null,null,7902,1.3360857326937401,1.4569018034022501,1.61337404044508,null,3.30036528538007,4.4741109634461802,6.0035619064770298,8.7938271833916009]
[null,null,null,null,null,null,null,null,null,null,7903,1.3415164947254401,1.4605115602999501,1.6173418927497201,null,3.3042842444833198,4.49406959500448,6.0916680716440403,9.1050535803549693]
[null,null,null,null,null,null,null,null,null,null,7906,1.3294211450708699,1.43601514137361,1.6090615487225299,null,3.15838594711024,4.4227616354207102,6.1262038508290599,9.3965723693962708]
[null,null,null,null,null,null,null,null,null,null,7907,1.31680208343338,1.4250465289663801,1.5885723973564001,null,3.0707589825282402,4.3287761506992499,5.9821857479965397,9.1645662389087299]
[null,null,null,null,null,null,null,null,null,null,7909,1.2966940985677999,1.4164117973180801,1.5454048572894199,null,2.9672712555142602,4.1737247481981203,5.6419962757440301,8.61129203625541]
[null,null,null,null,null,null,null,null,null,null,7910,1.29256808204783,1.41495375606624,1.5336719884133601,null,2.9609202508866002,4.1553104625257902,5.5527014915640898,8.4875122374561798]
[null,null,null,null,null,null,null,null,null,null,7913,1.2703174640133299,1.3962532627225199,1.5160230753964099,null,3.0382167707227001,4.2053720545308799,5.6954832584981396,8.7744264417025803]
[null,null,null,null,null,null,null,null,null,null,7914,1.27128730481715,1.3999089379254099,1.5238948711662099,null,3.0621622891948599,4.23512244965461,5.7746375048974796,8.8899552426051702]
[null,null,null,null,null,null,null,null,null,null,7916,1.2807543050268599,1.4138826661599799,1.5439528133434099,null,3.0556333746338802,4.2634297989416403,5.8048867503558901,8.9093116657099092]
[null,null,null,null,null,null,null,null,null,null,7917,1.28154792000603,1.41612796688528,1.54813357828625,null,3.0397985071802198,4.2634584018844901,5.75990066072373,8.82811581027606]
[null,null,null,null,null,null,null,null,null,null,7920,1.3036749185259799,1.4370467148008701,1.56637585029316,null,3.0511244772233201,4.3188958412636396,5.6971817080814704,8.6432835115112798]
[null,null,null,null,null,null,null,null,null,null,7921,1.3134234940668199,1.4438929004763701,1.5744523499285601,null,3.0743902232727098,4.3554777256365096,5.7625359866592802,8.7700885412032896]
[null,null,null,null,null,null,null,null,null,null,7923,1.3197595841559999,1.4466377093888301,1.58914555568678,null,3.12641221334427,4.4335281996002802,5.9748556042760903,9.2093972482208901]
[null,null,null,null,null,null,null,null,null,null,7924,1.32166829573065,1.4447431833164699,1.59638764460837,null,3.1471224682910002,4.4689710778463301,6.0765551316245103,9.4065831843538295]
[null,null,null,null,null,null,null,null,null,null,7927,1.32322394498622,1.4401847293371901,1.60794747952881,null,3.1974860156467799,4.5492631194599502,6.2778362826243104,9.7174082284836096]
[null,null,null,null,null,null,null,null,null,null,7928,1.3251360535205601,1.4455959089130399,1.60902217360707,null,3.2185977491950299,4.5735514236848003,6.3277899345030102,9.7911747125456898]
[null,null,null,null,null,null,null,null,null,null,7930,1.3344048974706499,1.45632002977923,1.61866820183614,null,3.27176674540872,4.6495823902694502,6.4579995495060096,10.105516445688]
[null,null,null,null,null,null,null,null,null,null,7931,1.33646959867385,1.4584809723051999,1.62417146856967,null,3.3001845847644802,4.6874949177159202,6.5405645706709103,10.296511138981501]
[null,null,null,null,null,null,null,null,null,null,7934,1.33766517293636,1.4659394633348299,1.63189587745256,null,3.3665871447025602,4.7546106325931801,6.7774835232002903,10.7055374005655]
[null,null,null,null,null,null,null,null,null,null,7935,1.3335713147211701,1.4627155513062,1.6272102498388099,null,3.36138248083485,4.7508046634106904,6.8212647638172399,10.772522487262201]
[null,null,null,null,null,null,null,null,null,null,7937,1.30892116931836,1.4411413910106801,1.5979750407531099,null,3.2957369174779498,4.6701260622509499,6.7567474313186402,10.6246012743848]
[null,null,null,null,null,null,null,null,null,null,7938,1.2990285607869101,1.4337330861689399,1.5835913559396999,null,3.2470105700989502,4.6174117730352497,6.6303283897842604,10.3326738768158]
[null,null,null,null,null,null,null,null,null,null,7941,1.29164465693688,1.42792227957355,1.5571978218837299,null,3.1829941820742,4.50603733641129,6.2477974537977001,9.4100800244675593]
[null,null,null,null,null,null,null,null,null,null,7942,1.28355990747098,1.4209265256480901,1.5489130146021099,null,3.2020230223538602,4.4987917821054797,6.2799824381029401,9.4811763141752206]
[null,null,null,null,null,null,null,null,null,null,7944,1.2600427809765999,1.3982835223596499,1.53238480868592,null,3.2371634953220201,4.50913766668085,6.4825479966661899,9.9683880216630207]
[null,null,null,null,null,null,null,null,null,null,7945,1.25348679558106,1.3911980747424599,1.52762080051649,null,3.24486510190955,4.51886151307865,6.56200611173663,10.1695715180471]
[null,null,null,null,null,null,null,null,null,null,7947,1.2656768444405799,1.39750749723791,1.5320731022618299,null,3.24322873623951,4.5489286939517601,6.6094686690906403,10.324353455780299]
[null,null,null,null,null,null,null,null,null,null,7948,1.2797322088735199,1.40769983837961,1.54042486791571,null,3.2482315165878002,4.57388634529205,6.6043412968692499,10.354484968195299]
[null,null,null,null,null,null,null,null,null,null,7951,1.33604763738738,1.4633687687010599,1.6016365197734399,null,3.3403408627492301,4.76579369598924,6.7302785236262004,10.6297900272062]
[null,null,null,null,null,null,null,null,null,null,7952,1.35105488685424,1.4775721687815,1.6238398697879399,null,3.3603744577583301,4.8315036261739897,6.8185161250075401,10.7768191186741]
[null,null,null,null,null,null,null,null,null,null,7954,1.3492433061828399,1.4720723369908999,1.63625389715555,null,3.3524500236835801,4.8675002502543103,6.9478555651432297,11.0298939181211]
[null,null,null,null,null,null,null,null,null,null,7955,1.3361452808320899,1.45852304610595,1.6293213243454401,null,3.34114714458316,4.8547325326085904,6.9771371824470299,11.0845175204642]
[null,null,null,null,null,null,null,null,null,null,7958,1.30999139445566,1.4236396588273399,1.60021673262789,null,3.3058969663955202,4.7824716848038804,6.8851595447077703,10.7400346303058]
[null,null,null,null,null,null,null,null,null,null,7959,1.30929876921616,1.4181919437553001,1.59042444283875,null,3.2913467455496499,4.7490945812097998,6.78769814259286,10.4767423956692]
[null,null,null,null,null,null,null,null,null,null,7961,1.3117046729290001,1.4237689596268699,1.57690455904069,null,3.28816741572756,4.7153126824958704,6.6020702520582297,10.0301289451705]
[null,null,null,null,null,null,null,null,null,null,7962,1.3162762809085899,1.4365447229355599,1.57864359996573,null,3.3083715564213199,4.7364607545430299,6.5782542659482903,10.007865306921]
[null,null,null,null,null,null,null,null,null,null,7965,1.34455762336902,1.4730912081196501,1.61567274044808,null,3.453192750441,4.91590174376043,6.8659518661053198,10.783745303582601]
[null,null,null,null,null,null,null,null,null,null,7966,1.3543325751823301,1.4812877476061701,1.6312140719613899,null,3.5169810845203902,4.9909721332465002,7.0285710854711496,11.1005100217206]
[null,null,null,null,null,null,null,null,null,null,7968,1.3686753062994499,1.4960031803854501,1.65333472205177,null,3.6125091177036501,5.11373057841893,7.3173874160089802,11.641968877532699]
[null,null,null,null,null,null,null,null,null,null,7969,1.3715747350377601,1.5007540768288199,1.6581151069278599,null,3.62927198004048,5.1454510596990897,7.4054723661498496,11.867840364350799]
[null,null,null,null,null,null,null,null,null,null,7972,1.3770706606334899,1.5118429088949601,1.6576960358100601,null,3.5986499129929399,5.1432291525168399,7.4058233792209203,12.038113583625799]
[null,null,null,null,null,null,null,null,null,null,7973,1.38136689858421,1.51379698542991,1.65693830582552,null,3.5710469180142899,5.1370987887119899,7.3244505208961996,11.8402066140283]
[null,null,null,null,null,null,null,null,null,null,7975,1.38140487433059,1.5042602794494799,1.64710418930054,null,3.4984076889398001,5.11001202027985,7.1053989711030301,11.1896610150378]
[null,null,null,null,null,null,null,null,null,null,7976,1.37295166075674,1.4910295053578999,1.6357944843869301,null,3.4556312801165499,5.0799838067722503,7.0197617675641499,10.9316149788323]
[null,null,null,null,null,null,null,null,null,null,7979,1.3345309107655901,1.45574087181644,1.6001065720019101,null,3.3893794369620398,4.9705765661358798,6.9584718109893204,10.8634667813914]
[null,null,null,null,null,null,null,null,null,null,7980,1.3387099641462601,1.4619445305086201,1.60653134309405,null,3.4006748420538,4.9849360524080701,6.9854497342563899,10.9586959768809]
[null,null,null,null,null,null,null,null,null,null,7982,1.3658418625586899,1.486408771299,1.63628377610584,null,3.4167886422982399,5.0660034121723099,7.0027330930031297,10.9707649435595]
[null,null,null,null,null,null,null,null,null,null,7983,1.37210746595483,1.4929414108297601,1.64317392567019,null,3.4022991326271801,5.0885633068109097,6.9743128654304103,10.857479470053599]
[null,null,null,null,null,null,null,null,null,null,7986,1.3428370303377799,1.47333251287683,1.61655394808413,null,3.3007084390868,5.0012082814419303,6.7951765636781998,10.626012993046]
[null,null,null,null,null,null,null,null,null,null,7987,1.33639688599911,1.4681081582812801,1.6092966966504001,null,3.3049493161629102,4.9719077441501103,6.7635121862993302,10.701420427745999]
[null,null,null,null,null,null,null,null,null,null,7989,1.35995247785004,1.4862025825252301,1.6301141317880401,null,3.3900423311419998,5.0373007306746302,6.8612150776382501,11.012848436505299]
[null,null,null,null,null,null,null,null,null,null,7990,1.3751866763368901,1.49770759980835,1.6453527646424,null,3.4230307488182201,5.0915282661226904,6.9468801878857596,11.177283618212901]
[null,null,null,null,null,null,null,null,null,null,7993,1.3520108975860801,1.4768633718722,1.6251751729558701,null,3.39243729854168,5.0525233767254196,7.0090284208708296,11.400760632147501]
[null,null,null,null,null,null,null,null,null,null,7994,1.33258858762988,1.4614184921795901,1.6073339854866899,null,3.3760908063076198,5.0063319887826898,6.9950598339368701,11.415712516778999]
[null,null,null,null,null,null,null,null,null,null,7996,1.31094243388141,1.44411611191983,1.58613964803256,null,3.3662618328905798,4.9533975258990397,6.9897548187695904,11.405180469984099]
[null,null,null,null,null,null,null,null,null,null,7997,1.3081495471053199,1.4424818108442701,1.5806534385959901,null,3.3645875539303298,4.9409180225454001,6.9931768335182598,11.3793611662836]
[null,null,null,null,null,null,null,null,null,null,8000,1.32258617646415,1.46632939385577,1.5803890443626201,null,3.4016964400024698,4.97494028089198,7.0288774548604103,11.5145656698819]
[null,null,null,null,null,null,null,null,null,null,8001,1.33641730561409,1.4797398688147301,1.59429010900576,null,3.4325192552750301,5.0365364348244404,7.0866811709740398,11.7093480138487]
[null,null,null,null,null,null,null,null,null,null,8003,1.3547131868922799,1.4892346430103001,1.62056202260876,null,3.5015555506095701,5.1511528436914897,7.2674051694150101,12.1063613776459]
[null,null,null,null,null,null,null,null,null,null,8004,1.3581959517406099,1.4873457282495499,1.6276642682092399,null,3.53533545141407,5.1882789708444399,7.3615384143234603,12.246186090377]
[null,null,null,null,null,null,null,null,null,null,8006,1.36181121769467,1.4893910843676901,1.6323302422125601,null,3.59137057151856,5.2331139876171697,7.4855436768906198,12.423178403187]
[null,null,null,null,null,null,null,null,null,null,8007,1.36265123406429,1.49376600919698,1.6340059003271299,null,3.6198005347364499,5.2569539322326904,7.5197562123525303,12.5487549655429]
[null,null,null,null,null,null,null,null,null,null,8010,1.3620199779781501,1.4940717389848199,1.65536077245235,null,3.72774583385192,5.38647358573966,7.7135684969454301,12.984883356104399]
[null,null,null,null,null,null,null,null,null,null,8011,1.3613493846729099,1.49485979450852,1.66050698914166,null,3.7576436976688798,5.4180067886639502,7.8037854042609096,13.006779688624199]
[null,null,null,null,null,null,null,null,null,null,8013,1.3780355205097099,1.51092631039657,1.67059640184069,null,3.7988285450883001,5.4729395186327299,7.9326660132623603,13.054003395337199]
[null,null,null,null,null,null,null,null,null,null,8014,1.3922743089498699,1.52090649552053,1.6791183798776601,null,3.81425066553544,5.51016964159375,7.9768854238612299,13.1661712457076]
[null,null,null,null,null,null,null,null,null,null,8017,1.40922677580984,1.52748089545507,1.6923513989474199,null,3.8475528553637499,5.5911628827712798,8.1886617371847006,13.774343783346]
[null,null,null,null,null,null,null,null,null,null,8018,1.4093779912292499,1.5245703114051099,1.6906996110232599,null,3.8452925825195101,5.5972358821291799,8.2591079978553807,13.9736816037813]
[null,null,null,null,null,null,null,null,null,null,8020,1.40282100324912,1.5150478950219901,1.67641533641372,null,3.79079809782727,5.5548415142593903,8.2772220482561405,14.1278934017084]
[null,null,null,null,null,null,null,null,null,null,8021,1.3938238698996801,1.5077037394944,1.66127584474534,null,3.7371506457370098,5.5049570844627,8.2227467929457703,14.0770005599926]
[null,null,null,null,null,null,null,null,null,null,8024,1.32387719639783,1.4436339402673899,1.5667941580762299,null,3.5060059582578802,5.2017576467786899,7.9620024233850399,13.9730437003237]
[null,null,null,null,null,null,null,null,null,null,8025,1.28766960282151,1.41039463425888,1.52458780047802,null,3.4523372060604398,5.0682234091608098,7.8940024446398303,14.035057354437299]
[null,null,null,null,null,null,null,null,null,null,8027,1.2483500776548899,1.3812903094348301,1.48131359101041,null,3.5081851504062702,4.9603657058083597,7.9118554209735104,14.291417583609499]
[null,null,null,null,null,null,null,null,null,null,8028,1.2646314719173299,1.40026773588577,1.50085633870275,null,3.6145923630117398,5.05194285153192,8.0167021817254298,14.4917755478009]
[null,null,null,null,null,null,null,null,null,null,8031,1.38150491799126,1.4963272218628401,1.63964242092893,null,3.9338603213821099,5.5770103467638403,8.4808685251327205,15.0974458935888]
[null,null,null,null,null,null,null,null,null,null,8032,1.40314568033835,1.51035125162884,1.6652922277802999,null,3.9837051282251901,5.6793978330546304,8.6100474335032793,15.2323706999136]
[null,null,null,null,null,null,null,null,null,null,8034,1.41917568227409,1.5220948196124799,1.6803982531892001,null,4.01692371609965,5.7564196298832799,8.7531434908989496,15.464134385152899]
[null,null,null,null,null,null,null,null,null,null,8035,1.42419192964923,1.52718486595585,1.6829823848935299,null,4.02334307324303,5.7745675693119001,8.7927246254464908,15.595638609016101]
[null,null,null,null,null,null,null,null,null,null,8038,1.4325211754487199,1.5364590884682101,1.6970026779912699,null,4.0259020360076798,5.8506629178587302,8.9841177375530403,15.961884047748899]
[null,null,null,null,null,null,null,null,null,null,8039,1.42419080101856,1.5306747383178301,1.6928660441652901,null,4.0101046729767198,5.8479680944844601,9.0537022076537603,16.0376153220612]
[null,null,null,null,null,null,null,null,null,null,8041,1.3956001192090599,1.5115987689497501,1.6678446701173,null,3.9486640693409698,5.7824145865562899,9.0928251604213894,16.0482845481284]
[null,null,null,null,null,null,null,null,null,null,8042,1.3795054545735701,1.5020369996544001,1.6499206028967599,null,3.9024456073461198,5.7261347795436404,9.0453242399149705,15.9799936746154]
[null,null,null,null,null,null,null,null,null,null,8045,1.3387492961317899,1.4684522782564899,1.5837043107623501,null,3.7564311643585202,5.5148959247710403,8.7413713827544903,15.8269090319549]
[null,null,null,null,null,null,null,null,null,null,8046,1.3327825341833801,1.4566420877022299,1.5660903034929901,null,3.7505693805154299,5.4669361882220802,8.6744793501036703,15.9102330313151]
[null,null,null,null,null,null,null,null,null,null,8048,1.3417804549068799,1.4591623164991601,1.56925540136773,null,3.8762101033706502,5.5276919976757704,8.8210705068871995,16.368280340682801]
[null,null,null,null,null,null,null,null,null,null,8049,1.3539377948320399,1.4744397016864501,1.59230601447709,null,3.9733889445130499,5.6350402512830602,9.0350925901639592,16.723253771806199]
[null,null,null,null,null,null,null,null,null,null,8052,1.3820444694707299,1.51286570644721,1.6600131845078501,null,4.1415513272246098,5.9032416136795902,9.6474912651329898,17.584915403006299]
[null,null,null,null,null,null,null,null,null,null,8053,1.38481712421809,1.5150435332343499,1.66755744303748,null,4.1554278689281601,5.9344937323807603,9.7545549939833993,17.7392905436684]
[null,null,null,null,null,null,null,null,null,null,8055,1.390864319042,1.51476481336694,1.67361641934928,null,4.17173737159104,5.9790411871640403,9.9215654065384395,18.0271131861541]
[null,null,null,null,null,null,null,null,null,null,8056,1.3949738769842299,1.5167885205201499,1.6765215493500301,null,4.1805015728981703,6.0092637013740502,10.0117660074407,18.196164352059402]
[null,null,null,null,null,null,null,null,null,null,8059,1.3978891452222799,1.5245089787216,1.6764967112729401,null,4.1591335074057598,6.0492962216494099,10.1422628531434,18.546635937684499]
[null,null,null,null,null,null,null,null,null,null,8060,1.3931990086216699,1.5233093988934401,1.6709503040979901,null,4.1340488418707597,6.0315312106428598,10.138640729550101,18.6211526478961]
[null,null,null,null,null,null,null,null,null,null,8062,1.37998988700533,1.51509367372725,1.65314304223167,null,4.0894326881813701,5.9742602446383204,10.1179698020586,18.795029706525899]
[null,null,null,null,null,null,null,null,null,null,8063,1.3763012581693601,1.51156992149702,1.6448645262853101,null,4.0758824778995697,5.95386132714889,10.106506579536999,18.8996489180095]
[null,null,null,null,null,null,null,null,null,null,8066,1.35374408815591,1.48718947363105,1.6153791639048201,null,3.9635341786993101,5.86916962610238,9.9239056289023608,19.100238191543401]
[null,null,null,null,null,null,null,null,null,null,8067,1.3051001013899599,1.4663568335300901,1.5943594880337399,null,3.9072466914406001,5.7900331308893804,9.7959751709553498,19.007240897278901]
[null,null,null,null,null,null,null,null,null,null,8069,1.0356199829752299,1.43428784927496,1.5572052714581399,null,3.8691880076634599,5.6581984860955803,9.6040179374020092,18.7336290931867]
[null,null,null,null,null,null,null,null,null,null,8070,0.79740504436541504,1.4329483460816601,1.5543401867462601,null,3.9013036177209299,5.6593291114284101,9.6037938634285194,18.719392262460602]
[null,null,null,null,null,null,null,null,null,null,8072,0.29634413345677402,1.4516574090116501,1.5814710161354899,null,3.9721614531291101,5.7949884029772099,9.8135331510760206,19.058345172913299]
[null,null,null,null,null,null,null,null,null,null,8073,0.134877766579731,1.4581884174395101,1.5933562183606,null,3.97715973634326,5.8559800968431803,9.9247269266346692,19.234095157546001]
[null,null,null,null,null,null,null,null,null,null,null,null,1.4795837713595299,1.6187742966643399,null,4.0168971875482402,5.9769180830231399,10.101991120632199,19.6917108882481]
[null,null,null,null,null,null,null,null,null,null,null,null,1.49477577045494,1.63486161968987,null,4.0441675797960999,6.0312236499881298,10.1472806968016,19.9754975060216]
[null,null,null,null,null,null,null,null,null,null,null,null,1.5080127076512999,1.64703574519664,null,4.0532008148690801,6.0647347130350404,10.1381526967422,20.6204834040708]
[null,null,null,null,null,null,null,null,null,null,null,null,1.50250028435134,1.63960025670461,null,4.0493273686401103,6.0519516351253602,10.143867298693401,20.877284960162601]
[null,null,null,null,null,null,null,null,null,null,null,null,1.4834370212943599,1.6196984857285901,null,4.0298358394977098,6.0675925188085502,10.4524510913679,21.288155149265599]
[null,null,null,null,null,null,null,null,null,null,null,null,1.4818908418360099,1.61721262590106,null,4.0161625221489601,6.0744720348309897,10.515792504073801,21.3333197016287]
[null,null,null,null,null,null,null,null,null,null,null,null,1.4920959163685199,1.6278725804516101,null,4.0148878777682597,6.1386850265563497,10.6034086342534,21.5847040835733]
[null,null,null,null,null,null,null,null,null,null,null,null,1.49919726881074,1.63755990539758,null,4.0105557747049998,6.1845918003598399,10.675066688574701,21.803688109014502]
[null,null,null,null,null,null,null,null,null,null,null,null,1.4671010859157301,1.60084934094415,null,3.8705720416973701,6.0436311800430502,10.689374116032701,22.030729094260899]
[null,null,null,null,null,null,null,null,null,null,null,null,1.4376862102002499,1.5703106514790599,null,3.7959327710486201,5.9218460096228096,10.5644612580681,21.9529104588362]
[null,null,null,null,null,null,null,null,null,null,null,null,1.3937802048225301,1.5228321721139899,null,3.7286436901678601,5.7496133874698803,10.373154196327301,21.887958329978801]
[null,null,null,null,null,null,null,null,null,null,null,null,1.39759721815146,1.52408134027112,null,3.7501834750053802,5.7678804029680304,10.420475997422299,22.0374984539894]
[null,null,null,null,null,null,null,null,null,null,null,null,1.4467368179931399,1.57511672236027,null,3.8102659123907601,5.9914051234183896,10.8088842427697,23.021823380915201]
[null,null,null,null,null,null,null,null,null,null,null,null,1.45533643179682,1.5850082592841299,null,3.8133382823668498,6.0424685131512099,10.8811682430854,23.2805679941725]
[null,null,null,null,null,null,null,null,null,null,null,null,1.47322857881905,1.6050023566221101,null,3.8191943472307899,6.1577614186486302,10.997091626319801,23.693245353981901]
[null,null,null,null,null,null,null,null,null,null,null,null,1.4830009657888299,1.6142715538836201,null,3.8173894962679098,6.2117723506817502,11.0511429439703,23.8636618896934]
[null,null,null,null,null,null,null,null,null,null,null,null,1.4843628697503199,1.61716422273842,null,3.62710018448937,6.2514365808898003,11.220848629897,24.4941258881747]
[null,null,null,null,null,null,null,null,null,null,null,null,1.4752227670906199,1.6104024677793101,null,3.3526083383029501,6.2229641054000897,11.2630359150698,24.685243122846298]
[null,null,null,null,null,null,null,null,null,null,null,null,1.4546999534915701,1.5950167276845999,null,2.1754663281099398,6.1426447886301698,11.250034829828699,24.9041892751316]
[null,null,null,null,null,null,null,null,null,null,null,null,1.4453170050766699,1.58914519189818,null,1.4160667831443301,6.1159493428284799,11.204425821329201,24.967441490670399]
[null,null,null,null,null,null,null,null,null,null,null,null,1.42743965627425,1.5832182606795799,null,0.110214341829022,6.14195142198969,11.1707533145215,25.103202073802599]
[null,null,null,null,null,null,null,null,null,null,null,null,1.4253516667005799,1.5749377868576799,null,2.3083445363043499E-2,6.1223245986161601,11.1695250427664,25.1386515465184]
[null,null,null,null,null,null,null,null,null,null,null,null,1.40828666004685,1.53751028904397,null,1.09316497824532E-4,5.9766739535889197,10.9784198100091,25.2656036817698]
[null,null,null,null,null,null,null,null,null,null,null,null,1.3834776918079601,1.5083481277594499,null,1.00288065718353E-4,5.87174681009816,10.813025552731,25.341698222144402]
[null,null,null,null,null,null,null,null,null,null,null,null,1.3505114055537399,1.4919676197334799,null,9.5973712628059601E-5,5.8830221481730103,10.976659548193901,25.835091206861701]
[null,null,null,null,null,null,null,null,null,null,null,null,1.3683216055619001,1.5219885262081001,null,9.5973695403947097E-5,6.0042286707832497,11.211932202328301,26.048327040018201]
[null,null,null,null,null,null,null,null,null,null,null,null,1.40387483818746,1.5722056867741001,null,9.5973687161764702E-5,6.1860634376696799,11.484275831836101,25.875611549349799]
[null,null,null,null,null,null,null,null,null,null,null,null,1.4174604798192201,1.5859803692296599,null,9.5973687173182205E-5,6.2395926763105596,11.540517414780201,25.692988668540899]
[null,null,null,null,null,null,null,null,null,null,null,null,1.4597967740992299,1.60837578910152,null,9.5973687216646705E-5,6.3487561642398296,11.816543652915399,26.499501634656699]
[null,null,null,null,null,null,null,null,null,null,null,null,1.47597676604013,1.61585241176387,null,9.5973687307703695E-5,6.3850747808119097,11.9368087107002,27.1248617798419]
[null,null,null,null,null,null,null,null,null,null,null,null,1.4982905093455601,1.6408986315873799,null,9.5973589744466706E-5,6.4919337479820101,12.1844922107112,28.528030913211001]
[null,null,null,null,null,null,null,null,null,null,null,null,1.4996693243696899,1.6492754990943299,null,9.5996495604651604E-5,6.5224728185258298,12.284580966913,28.9798355466387]
[null,null,null,null,null,null,null,null,null,null,null,null,1.4887059642642599,1.64125172796615,null,7.9460414257378605E-5,6.4753665675251701,12.352193383585901,29.148466503761401]
[null,null,null,null,null,null,null,null,null,null,null,null,1.4842184218126699,1.6354421678670199,null,4.49041133190075E-5,6.4447548933862198,12.348054445477899,29.129906625382699]
[null,null,null,null,null,null,null,null,null,null,null,null,1.49393513475367,1.6695625298693599,null,0.24914549829919899,6.5851213236109896,12.5031078543417,29.574711110963701]
[null,null,null,null,null,null,null,null,null,null,null,null,1.4965686656974599,1.6857878084835001,null,0.58800110570106301,6.6532913816872901,12.6140434021044,29.761897545677101]
[null,null,null,null,null,null,null,null,null,null,null,null,1.4950188718758799,1.70224623763287,null,1.8140755578868499,6.7141818867812502,12.7753256600739,29.741886555992799]
[null,null,null,null,null,null,null,null,null,null,null,null,1.4916988788069501,1.70315628468549,null,2.4961907932841698,6.7036295364032101,12.787504190639501,29.634125426833702]
[null,null,null,null,null,null,null,null,null,null,null,null,1.46556949620399,1.6733020192197601,null,3.5493448991762899,6.5524345467536698,12.531612263763501,29.4088813592961]
[null,null,null,null,null,null,null,null,null,null,null,null,1.4548545306001599,1.65187458390278,null,3.63826219855929,6.5106372544776603,12.4283893541502,29.4664882341905]
[null,null,null,null,null,null,null,null,null,null,null,null,1.44737557908619,1.5979323950828701,null,3.75521174111483,6.5281181305586902,12.194678460908699,29.7638365514273]
[null,null,null,null,null,null,null,null,null,null,null,null,1.4534107466282999,1.5714816898086701,null,3.8125360717355399,6.5964559633135798,12.0197043797295,29.9442535605193]
[null,null,null,null,null,null,null,null,null,null,null,null,1.4702842229853399,1.5161502485651901,null,3.90158279370119,6.7718708618586403,11.3091387698248,30.115113945062699]
[null,null,null,null,null,null,null,null,null,null,null,null,1.4718776219148799,1.51296944893651,null,3.9210005411144802,6.7824343046614697,11.0995769939939,30.019186862855001]
[null,null,null,null,null,null,null,null,null,null,null,null,1.47488211124151,1.52767814000794,null,3.9829586562685999,6.7767405546590398,10.9827896552633,30.1443895602299]
[null,null,null,null,null,null,null,null,null,null,null,null,1.4750771623046799,1.5365623141476401,null,4.0257432807406097,6.7696096302620399,11.0812728019862,30.377888216642599]
[null,null,null,null,null,null,null,null,null,null,null,null,1.475306154951,1.56890827080048,null,4.1041923461089498,6.7682222022613896,11.448987823287201,30.994241684339102]
[null,null,null,null,null,null,null,null,null,null,null,null,1.4703297142243299,1.57678276962595,null,4.0606656095439,6.7216262417111601,11.473267249734899,30.927801611647599]
[null,null,null,null,null,null,null,null,null,null,null,null,1.43382204066025,1.5591189957204501,null,3.9121321307078101,6.4217848888758402,11.2640455911069,30.221360616634399]
[null,null,null,null,null,null,null,null,null,null,null,null,1.4113273248831,1.53903807198372,null,3.8980826527138701,6.2295236657995101,11.136840705727501,29.905169358267901]
[null,null,null,null,null,null,null,null,null,null,null,null,1.43598804961432,1.5612604786772899,null,4.2082433258621696,6.26746423141548,11.735126311201601,30.892200923346799]
[null,null,null,null,null,null,null,null,null,null,null,null,1.4617630630706,1.5925959004735999,null,4.29454740186815,6.4214108399958301,12.132346280658901,31.5684741453335]
[null,null,null,null,null,null,null,null,null,null,null,null,1.48898584011367,1.63533642272971,null,4.3522557682419398,6.5780558969251999,12.60721175049,32.401792278006397]
[null,null,null,null,null,null,null,null,null,null,null,null,1.4918619644264699,1.64510338306302,null,4.3496993997296203,6.5902538695479196,12.688863573152201,32.557743455476299]
[null,null,null,null,null,null,null,null,null,null,null,null,1.48527938363467,1.63890547047321,null,4.3425497960478401,6.5521288118925796,12.787597868415,32.735805890918797]
[null,null,null,null,null,null,null,null,null,null,null,null,1.4843299124281299,1.6367512430298099,null,4.3541926824583097,6.5460051359672198,12.862584631994901,32.932411055446899]
[null,null,null,null,null,null,null,null,null,null,null,null,1.48692074535768,1.64622310417492,null,4.4009358701750099,6.5506440445171004,13.1085667987647,33.557780681135199]
[null,null,null,null,null,null,null,null,null,null,null,null,1.49008337548307,1.6572405659506699,null,4.43017749840382,6.5563699640346496,13.258140380587999,33.8983741546094]
[null,null,null,null,null,null,null,null,null,null,null,null,1.4969880729671601,1.6753910824936999,null,4.4533137201658102,6.5702855018156097,13.647712531056399,34.5053192208184]
[null,null,null,null,null,null,null,null,null,null,null,null,1.4920753049239399,1.66578505889809,null,4.4225265095410702,6.5507500346915197,13.697927248438299,34.366451611286799]
[null,null,null,null,null,null,null,null,null,null,null,null,1.4684900757357999,1.6325319059068999,null,4.2992444639084297,6.4350250840089398,13.665064909462,33.554942739358502]
[null,null,null,null,null,null,null,null,null,null,null,null,1.44913576692635,1.6124711206443501,null,4.2251221184393097,6.3358166231364397,13.609060129894701,32.940291462942803]
[null,null,null,null,null,null,null,null,null,null,null,null,1.40918589281705,1.5779207264933499,null,4.2083067034693897,6.1491608202707004,13.552381445317,32.481756906420898]
[null,null,null,null,null,null,null,null,null,null,null,null,1.41327576944585,1.58123658680752,null,4.2615119942696396,6.1741172847256998,13.585280584107201,33.111980598931297]
[null,null,null,null,null,null,null,null,null,null,null,null,1.4361720338412101,1.60421501408001,null,4.4386011670859,6.2906941384988304,13.7931725212693,34.767074723318302]
[null,null,null,null,null,null,null,null,null,null,null,null,1.4551415675027,1.63055854014586,null,4.5465602896262904,6.3892081586841298,14.0557570374623,35.724109844393801]
[null,null,null,null,null,null,null,null,null,null,null,null,1.4825798983481,1.69432263644745,null,4.5022256989950904,6.5572704315690702,14.7306776337626,36.877183632737498]
[null,null,null,null,null,null,null,null,null,null,null,null,1.46181457639437,1.6787316843603599,null,4.3594549043686399,6.4319575971158898,14.567698082851001,35.904964411630701]
[null,null,null,null,null,null,null,null,null,null,null,null,1.40438833728902,1.61482710236361,null,4.1434184845546698,6.0405695592380297,13.767308366305301,32.7136962080234]
[null,null,null,null,null,null,null,null,null,null,null,null,1.3941723117567899,1.60183780624679,null,4.11087089459929,5.9278263002599196,13.3377091123619,31.235581249589998]
[null,null,null,null,null,null,null,null,null,null,null,null,1.41596714565926,1.61758362865762,null,4.0325749645156401,5.9068016300849102,12.5317981057376,28.293074100355401]
[null,null,null,null,null,null,null,null,null,null,null,null,1.42678284436352,1.61894856626928,null,3.96952251147709,5.9062061292949801,12.0617128684453,26.610642644427699]
[null,null,null,null,null,null,null,null,null,null,null,null,1.4239227265718799,1.5949181015084699,null,3.8402978270131798,5.8830885473136298,11.1334005042682,24.169168705672099]
[null,null,null,null,null,null,null,null,null,null,null,null,1.41499198929221,1.58514533377155,null,3.7671506717950898,5.84717888271474,11.0063078600175,24.0314349027297]
[null,null,null,null,null,null,null,null,null,null,null,null,1.3967375527608501,1.5658657517065799,null,3.6168094932635699,5.6998577220133502,10.445419697510401,22.6456532646068]
[null,null,null,null,null,null,null,null,null,null,null,null,1.3982655809847599,1.5678497860284499,null,3.5932574737033098,5.6513829755304501,10.022852077390301,21.451643891886199]
[null,null,null,null,null,null,null,null,null,null,null,null,1.4426851257000199,1.6239608891975701,null,3.7203828574076301,5.7812517770325602,9.39531488735064,19.637571385880801]
[null,null,null,null,null,null,null,null,null,null,null,null,1.4542143625467301,1.63872283624378,null,3.7574195112264901,5.8557418382245396,9.5233400817336609,19.9384489773655]
[null,null,null,null,null,null,null,null,null,null,null,null,1.4502674533545501,1.63827306021939,null,3.7718476746840301,5.8989040151173704,9.9130005082796497,20.9431273585448]
[null,null,null,null,null,null,null,null,null,null,null,null,1.44084873557386,1.6295962666681201,null,3.7843337115883999,5.8747052725239897,10.0671357387595,21.3418827882907]
[null,null,null,null,null,null,null,null,null,null,null,null,1.46408073004394,1.65560973547398,null,3.8975163965464898,5.9322871883086696,10.308458846286699,21.915888142679702]
[null,null,null,null,null,null,null,null,null,null,null,null,1.47831544424413,1.6714905537454701,null,3.9110674338239599,5.9768345250054802,10.359147441776001,22.058396093403999]
[null,null,null,null,null,null,null,null,null,null,null,null,1.4780440220736299,1.6760440626249899,null,3.88547115356777,5.9863696901009202,10.4300792727428,22.3584213683508]
[null,null,null,null,null,null,null,null,null,null,null,null,1.4667030973503301,1.6670893207599999,null,3.8832075295375601,5.9572739481401902,10.4698552844097,22.580933574380001]
[null,null,null,null,null,null,null,null,null,null,null,null,1.4707544129419501,1.6663126300256399,null,4.0143385813573298,6.0393344064276304,10.818209463118601,23.658411131912601]
[null,null,null,null,null,null,null,null,null,null,null,null,1.48676572520438,1.67897570404997,null,4.0634625262097499,6.1347288258698001,10.973040120288699,23.993673485563999]
[null,null,null,null,null,null,null,null,null,null,null,null,1.51319161730776,1.7003842304697601,null,4.13529513181612,6.3047795640611097,11.323570223223401,24.7099935668002]
[null,null,null,null,null,null,null,null,null,null,null,null,1.52002347202121,1.7074057476898401,null,4.1585281682042403,6.3572917230498298,11.5550065931621,25.2104537363711]
[null,null,null,null,null,null,null,null,null,null,null,null,1.51002668377733,1.70163706535968,null,4.1602297126751804,6.3336684250369499,12.3411667943854,27.0146689522706]
[null,null,null,null,null,null,null,null,null,null,null,null,1.4995674846274101,1.6956354579172599,null,4.12895349156185,6.2821871796711202,12.375172273506999,27.252237847273101]
[null,null,null,null,null,null,null,null,null,null,null,null,1.4824329268721701,1.6831418072523301,null,4.1074830205612001,6.2002583026180504,12.100669712295501,27.128868523933502]
[null,null,null,null,null,null,null,null,null,null,null,null,1.4833356970456499,1.6823591983670301,null,4.1210046256633701,6.2042515314422104,12.000728998448499,27.066230689171999]
[null,null,null,null,null,null,null,null,null,null,null,null,1.48931250902964,1.6873972494171501,null,4.0994960043022202,6.2471159190866299,11.8711451516289,26.650834776590699]
[null,null,null,null,null,null,null,null,null,null,null,null,1.48107899877043,1.67745996648588,null,4.0724840976304302,6.22206444004666,11.7624316226693,26.4711396617998]
[null,null,null,null,null,null,null,null,null,null,null,null,1.4613154473091501,1.6500716416743499,null,4.0440500681878602,6.1575480654991397,11.5955078345669,26.460494912326599]
[null,null,null,null,null,null,null,null,null,null,null,null,1.45757389556213,1.6409180362119999,null,4.05770746259424,6.1480026640013596,11.6351018931026,26.665310556334099]
[null,null,null,null,null,null,null,null,null,null,null,null,1.4770753486844701,1.65604629886271,null,4.1796253915366899,6.2743167373533302,12.011409465974999,27.402599410457199]
[null,null,null,null,null,null,null,null,null,null,null,null,1.48615478457723,1.6688916461880099,null,4.2034383027521303,6.3382286922304898,12.128311715363999,27.6481986584601]
[null,null,null,null,null,null,null,null,null,null,null,null,1.4910926259466,1.6818142486227701,null,4.1654011909832001,6.3806761222182198,12.206797144914001,28.039186974358]
[null,null,null,null,null,null,null,null,null,null,null,null,1.48833774427014,1.6809621721616499,null,4.1179336182210102,6.3544123427484802,12.120555072316201,27.9627523381894]
[null,null,null,null,null,null,null,null,null,null,null,null,1.47830755217997,1.66145551904473,null,3.8726956796983698,6.1492930258810397,11.192261931901999,25.270421028989102]
[null,null,null,null,null,null,null,null,null,null,null,null,1.4643662310312699,1.6390405169158599,null,3.7817282636601099,6.0221704985205404,10.721529864342999,23.936129280707998]
[null,null,null,null,null,null,null,null,null,null,null,null,1.4229800386053399,1.5783828831798401,null,3.7141428690143199,5.77594211625052,10.144959848199701,22.649645596398798]
[null,null,null,null,null,null,null,null,null,null,null,null,1.4097143607348901,1.56026513212707,null,3.7492182811577601,5.7244402252343702,10.136847399861599,22.829015400518202]
[null,null,null,null,null,null,null,null,null,null,null,null,1.41974455311161,1.57449946256992,null,3.9173532671832501,5.8397445967934303,10.5096648097387,23.953072893722101]
[null,null,null,null,null,null,null,null,null,null,null,null,1.44093066673913,1.60232180095913,null,4.0126586878905997,5.98513208462857,10.7668862750748,24.5281124425616]
[null,null,null,null,null,null,null,null,null,null,null,null,1.5026205465304501,1.6939657429050801,null,4.1458749447838601,6.3906346235829803,11.231934116511701,25.347523493804101]
[null,null,null,null,null,null,null,null,null,null,null,null,1.5086205544901901,1.70812862109082,null,4.1467974946817998,6.4332016304503696,11.2989746918026,25.523433093821801]
[null,null,null,null,null,null,null,null,null,null,null,null,1.5056178087662699,1.71109071788178,null,4.1337134698468398,6.4215538192910699,11.427357193673799,25.985127959491901]
[null,null,null,null,null,null,null,null,null,null,null,null,1.5016829051443199,1.7058422265287601,null,4.1251726120956196,6.4017976329768098,11.481537917848099,26.178684796231199]
[null,null,null,null,null,null,null,null,null,null,null,null,1.49362959780975,1.69260036485655,null,4.0599128728692104,6.3287980699241304,11.3661944885355,25.9324142759097]
[null,null,null,null,null,null,null,null,null,null,null,null,1.4945937373167499,1.69049267415154,null,4.0155227297618898,6.3003013263568102,11.179542269469099,25.482191800037199]
[null,null,null,null,null,null,null,null,null,null,null,null,1.5004337246480499,1.68212120232922,null,3.89650834976942,6.2261978080293101,10.541861040277601,23.9436519591797]
[null,null,null,null,null,null,null,null,null,null,null,null,1.5011904980766499,1.6736383244145101,null,3.8548256271320098,6.1815090844518901,10.2233320434175,23.1862998039751]
[null,null,null,null,null,null,null,null,null,null,null,null,1.49020950100862,1.64931181242541,null,3.8863637413071399,6.1345392685391902,10.165939002361201,22.887366804957399]
[null,null,null,null,null,null,null,null,null,null,null,null,1.48697917364474,1.6456035115691201,null,3.9130272614001398,6.1503374187776902,10.3148623941709,23.102597724661599]
[null,null,null,null,null,null,null,null,null,null,null,null,1.49091050389269,1.64921970216957,null,3.92290327324522,6.1930738112268298,10.4445701328789,23.1944124196411]
[null,null,null,null,null,null,null,null,null,null,null,null,1.49615522552816,1.6540608648681701,null,3.90460521151148,6.2017224857449698,10.376358297615701,23.0282228405427]
[null,null,null,null,null,null,null,null,null,null,null,null,1.4990228538821,1.65283483645231,null,3.8137346969990902,6.1433049752979301,9.9035057374130009,22.3634568281004]
[null,null,null,null,null,null,null,null,null,null,null,null,1.49472776231851,1.64996210629373,null,3.7973624987629999,6.1051597224035303,9.7774219152708604,22.242341739631598]
[null,null,null,null,null,null,null,null,null,null,null,null,1.4897134001744201,1.65263853281378,null,3.8017652450274202,6.0606153631875097,9.7233466025047104,22.241613736696898]
[null,null,null,null,null,null,null,null,null,null,null,null,1.4898352349911399,1.65461047760627,null,3.8031578045725598,6.0570848361868102,9.7645763872754703,22.270009343722101]
[null,null,null,null,null,null,null,null,null,null,null,null,1.4811778396361399,1.6369556340417599,null,3.6956094183271899,5.9622761552326304,9.6605236272361097,21.536461143899398]
[null,null,null,null,null,null,null,null,null,null,null,null,1.47708268906889,1.6300588366898401,null,3.6607726505201801,5.9141043962829203,9.4991721846764108,20.989734188763101]
[null,null,null,null,null,null,null,null,null,null,null,null,1.4728947648986599,1.6306430020117799,null,3.6641615114312298,5.8865529338534701,9.2847457742445894,20.487705986281199]
[null,null,null,null,null,null,null,null,null,null,null,null,1.46994540975361,1.63224286168243,null,3.6882267992375901,5.8917596599111404,9.2928926711898701,20.666380013536099]
[null,null,null,null,null,null,null,null,null,null,null,null,1.4693862293861599,1.6279626612943801,null,3.7394309183586998,5.9262316674426101,9.4346135492879295,21.337568034604601]
[null,null,null,null,null,null,null,null,null,null,null,null,1.47429437303941,1.62977683186563,null,3.7291231952203598,5.9386969816375998,9.4226495832485302,21.2407618362001]
[null,null,null,null,null,null,null,null,null,null,null,null,1.4827116970631,1.6355165483741601,null,3.6826623383062498,5.9274803191384899,9.2774945366916803,20.6244553092545]
[null,null,null,null,null,null,null,null,null,null,null,null,1.48560160794401,1.63885433557057,null,3.6449602020371601,5.9118824852814997,9.1498565165235206,20.170263990608699]
[null,null,null,null,null,null,null,null,null,null,null,null,1.47143512815472,1.61939986486152,null,3.50333750936956,5.7760086535297699,8.5267909244383304,18.541321697513499]
[null,null,null,null,null,null,null,null,null,null,null,null,1.4547076342610099,1.59588919827267,null,3.4709620166347102,5.7055698995451998,8.4120284388013609,18.344921934615101]
[null,null,null,null,null,null,null,null,null,null,null,null,1.4060545556363999,1.53222442589045,null,3.4319035278253498,5.5519109841695702,8.4707599718719493,18.718414457020401]
[null,null,null,null,null,null,null,null,null,null,null,null,1.3854350980433501,1.50655292383992,null,3.4451609183898202,5.4952026934564699,8.5822777417177196,19.121465196161999]
[null,null,null,null,null,null,null,null,null,null,null,null,1.3968912681591601,1.5227213147540599,null,3.57987345074842,5.5936356296900502,9.0122398961089907,20.202833886322001]
[null,null,null,null,null,null,null,null,null,null,null,null,1.4112871337975801,1.5407738343078501,null,3.6218324490021598,5.65433195173018,9.0976679254279809,20.284899077575801]
[null,null,null,null,null,null,null,null,null,null,null,null,1.4427314214095801,1.5795158531858899,null,3.726537011439,5.7848591344599702,9.2028260234058603,20.231801136684499]
[null,null,null,null,null,null,null,null,null,null,null,null,1.46064017118239,1.6027842607470599,null,3.7849470865152099,5.8730698831659804,9.2885320848164206,20.3181601566063]
[null,null,null,null,null,null,null,null,null,null,null,null,1.49971002791578,1.6546626547076799,null,3.9130947891558598,6.1078444081783099,9.7679702900278809,21.287991851436001]
[null,null,null,null,null,null,null,null,null,null,null,null,1.5032916811804,1.65650035611394,null,3.9277176135531402,6.1374139464044699,9.9314884354332005,21.670847714162001]
[null,null,null,null,null,null,null,null,null,null,null,null,1.4957376069731201,1.63464947502897,null,3.9353219631194798,6.1245072682573696,10.092757810205001,22.201971419154301]
[null,null,null,null,null,null,null,null,null,null,null,null,1.4890090652485599,1.6185200990054101,null,3.94397304070552,6.1131480822465596,10.122125917782901,22.404673848837401]
[null,null,null,null,null,null,null,null,null,null,null,null,1.4770405098749699,1.60223316282015,null,3.93983471069697,6.0889411953235397,10.1836667728621,22.748287283261]
[null,null,null,null,null,null,null,null,null,null,null,null,1.4676372747856099,1.6013326843097699,null,3.9033579049266698,6.04529829633994,10.1784107227415,22.797925549345599]
[null,null,null,null,null,null,null,null,null,null,null,null,1.40658822836743,1.5625986368693301,null,3.7780378966419401,5.7764713036479201,9.9169364082288105,22.415633310604498]
[null,null,null,null,null,null,null,null,null,null,null,null,1.3991294199075399,1.55549230342953,null,3.8258811341757601,5.7562275215394898,9.8971557918528692,22.425933632252601]
[null,null,null,null,null,null,null,null,null,null,null,null,1.42566852090966,1.5857433680417301,null,3.9466313797505501,5.9108687719951103,10.1256640241831,22.908012551485101]
[null,null,null,null,null,null,null,null,null,null,null,null,1.4348077116669899,1.59793126964566,null,3.9411925849713798,5.96361304146681,10.236103766354301,23.0838740648671]
[null,null,null,null,null,null,null,null,null,null,null,null,1.4162838123191701,1.5715744069786699,null,3.7364083087407698,5.7599460919314396,9.8344070430139698,21.813778350582801]
[null,null,null,null,null,null,null,null,null,null,null,null,1.41814984517033,1.5669232968268501,null,3.7113458230885099,5.6937804320951102,9.5271300485159198,20.945500217516901]
[null,null,null,null,null,null,null,null,null,null,null,null,1.4425481331827399,1.5897399262641501,null,3.7954281476187002,5.7450548943716599,9.2459334483742808,20.004655897893901]
[null,null,null,null,null,null,null,null,null,null,null,null,1.45164238245614,1.60377038566347,null,3.86286302203691,5.8188087581611496,9.3295368790892308,20.1207941285045]
[null,null,null,null,null,null,null,null,null,null,null,null,1.4602680262472001,1.6347198338414799,null,3.9923056053729198,5.9976310737402896,9.7675699396911906,21.245404755596599]
[null,null,null,null,null,null,null,null,null,null,null,null,1.46345679515052,1.64484081526364,null,3.9666989912262798,6.0017122995347503,9.8014905591077,21.365875750387701]
[null,null,null,null,null,null,null,null,null,null,null,null,1.4605090374971399,1.64369049820497,null,3.8293378340082298,5.8817233852871702,9.5271025953022104,20.7389499031163]
[null,null,null,null,null,null,null,null,null,null,null,null,1.45065281857309,1.6287974584570699,null,3.7627414654261502,5.7865415385841299,9.2964710196739997,20.248850678065399]
[null,null,null,null,null,null,null,null,null,null,null,null,1.4093591222180599,1.57008917658305,null,3.7420846892321702,5.5889204224364102,9.0658167054602394,19.919341343822499]
[null,null,null,null,null,null,null,null,null,null,null,null,1.40445201605647,1.5631088285180901,null,3.79435510271357,5.5885654928443804,9.1904101103766003,20.198297072342299]
[null,null,null,null,null,null,null,null,null,null,null,null,1.4213597743411499,1.58353793186006,null,3.8806905659576101,5.7026733578490196,9.5002035023215896,20.7512784457967]
[null,null,null,null,null,null,null,null,null,null,null,null,1.43158227470752,1.5960427327267599,null,3.8873549817766899,5.7551199576255296,9.5663306909667405,20.851376373217501]
[null,null,null,null,null,null,null,null,null,null,null,null,1.44557062832057,1.60986639823904,null,3.9837479785782199,5.7927342510511197,9.6721244644558499,21.192411711304199]
[null,null,null,null,null,null,null,null,null,null,null,null,1.4565727050423101,1.6241846855455599,null,4.0441618751429802,5.8503945982246099,9.8535134761259702,21.555387579345801]
[null,null,null,null,null,null,null,null,null,null,null,null,1.46983673166835,1.6465681009577999,null,4.1212293454331803,5.9549249998321496,10.2341830731669,22.258723513766501]
[null,null,null,null,null,null,null,null,null,null,null,null,1.4692642406101799,1.6487712433681301,null,4.1248183097122197,5.9756565963074904,10.3565465884798,22.4855035840122]
[null,null,null,null,null,null,null,null,null,null,null,null,1.4294487695743801,1.60246019737153,null,3.93635132512695,5.8095943773761896,10.218055770752599,22.317850294628201]
[null,null,null,null,null,null,null,null,null,null,null,null,1.4026345115705099,1.56647167184731,null,3.8537726087842499,5.6722315581679199,10.027679810319199,21.9957813039215]
[null,null,null,null,null,null,null,null,null,null,null,null,1.3702341356135499,1.51612071393077,null,3.8970066048734502,5.5142343017753204,9.8098825972821295,21.703020567073999]
[null,null,null,null,null,null,null,null,null,null,null,null,1.3836966515431799,1.5293321612558699,null,4.0297337998809999,5.5911497807177897,9.9389060088750902,22.0074170970437]
[null,null,null,null,null,null,null,null,null,null,null,null,1.46990385720035,1.64500780549521,null,4.2949438292256996,6.0095249526926198,10.7521330592539,23.542928268788302]
[null,null,null,null,null,null,null,null,null,null,null,null,1.4803588779929699,1.66143941820146,null,4.28020082027877,6.0341373217656802,10.828126888070701,23.591946946782102]
[null,null,null,null,null,null,null,null,null,null,null,null,1.48498752197631,1.6668443383907201,null,4.1882373587396202,5.9816068676733103,10.5724979152942,22.7914410440581]
[null,null,null,null,null,null,null,null,null,null,null,null,1.48599752765518,1.66557523864145,null,4.1387389734572499,5.9496356732071298,10.3137034897149,22.153350377795402]
[null,null,null,null,null,null,null,null,null,null,null,null,1.4610278752316901,1.63209730253424,null,4.0292948487346001,5.82609528926801,9.8685924443984803,21.261674632057399]
[null,null,null,null,null,null,null,null,null,null,null,null,1.4401341368973899,1.6077705723483999,null,3.9996568251202298,5.7522622629199596,9.8845407535470002,21.3257471077392]
[null,null,null,null,null,null,null,null,null,null,null,null,1.4085591815876799,1.5729208869965201,null,4.0234863756328201,5.6451078450334,9.9765273044709399,21.5513659205909]
[null,null,null,null,null,null,null,null,null,null,null,null,1.40501706050032,1.5708011866917999,null,4.0238857243258801,5.6445982431124202,10.047712628657701,21.707846011314398]
[null,null,null,null,null,null,null,null,null,null,null,null,1.376341571355,1.5347013555987099,null,3.90060756333376,5.5236014838877496,9.9512414217116003,21.534920593565001]
[null,null,null,null,null,null,null,null,null,null,null,null,1.3552256389716799,1.50471711774733,null,3.8607988498110801,5.4159833824708699,9.8079235551051198,21.251088303181099]
[null,null,null,null,null,null,null,null,null,null,null,null,1.3705792457169199,1.51610463381573,null,3.7667357263774499,5.3657952582054502,9.4608346152507696,20.170592650817699]
[null,null,null,null,null,null,null,null,null,null,null,null,1.3694833157887301,1.5164971182970299,null,3.6994721880288699,5.2995044351806904,9.1942913678922906,19.516071206733301]
[null,null,null,null,null,null,null,null,null,null,null,null,1.3601490280752799,1.51093718427827,null,3.79265666149659,5.1977166892998703,8.8471011866593994,18.8323472064002]
[null,null,null,null,null,null,null,null,null,null,null,null,1.3800556982950201,1.53857254456721,null,3.9522092361012802,5.2981773117232898,8.9870735268507307,19.104135789809099]
[null,null,null,null,null,null,null,null,null,null,null,null,1.48260426753742,1.67086769148031,null,4.3236017400853299,5.8374000522586798,9.85602463511173,20.6288452998004]
[null,null,null,null,null,null,null,null,null,null,null,null,1.49289955116641,1.6805795666588901,null,4.3202772756998398,5.8868290926473001,9.9582779521679008,20.807432862032002]
[null,null,null,null,null,null,null,null,null,null,null,null,1.4658109793191501,1.6391081936034999,null,4.2120523077161103,5.7406322159427097,9.7310648701802602,20.590269356046601]
[null,null,null,null,null,null,null,null,null,null,null,null,1.44614733114746,1.6122854393808901,null,4.1902084249680502,5.6422781576543999,9.5539447016083106,20.435357430705398]
[null,null,null,null,null,null,null,null,null,null,null,null,1.46140523303805,1.6298563295113799,null,4.3296778232874402,5.7228573977452797,9.7494334544976802,21.069596337640501]
[null,null,null,null,null,null,null,null,null,null,null,null,1.47291098737546,1.6459818780864199,null,4.3713301757976399,5.7864351643165,9.9384066659396808,21.439645341356201]
[null,null,null,null,null,null,null,null,null,null,null,null,1.4816669686847199,1.65914538729463,null,4.4611076170849397,5.8365421302008196,10.216114230295,21.934771742966198]
[null,null,null,null,null,null,null,null,null,null,null,null,1.48784488399197,1.6660109858956,null,4.5115750733876103,5.8629279138729702,10.3393777070329,22.113711099007801]
[null,null,null,null,null,null,null,null,null,null,null,null,1.50683026987109,1.6884283585908999,null,4.6147359178737899,5.9403782535127698,10.526736686088499,22.464225860314901]
[null,null,null,null,null,null,null,null,null,null,null,null,1.50912876197197,1.69175552223091,null,4.6081150560620197,5.9488103604732396,10.536048417503499,22.505501114241699]
[null,null,null,null,null,null,null,null,null,null,null,null,1.49481810758967,1.67637086799003,null,4.4858770308315998,5.8821517668938998,10.4591716048695,22.386107320776901]
[null,null,null,null,null,null,null,null,null,null,null,null,1.4726555502015899,1.65397309142191,null,4.40325095618633,5.8020836036723198,10.4114179200956,22.2822786300258]
[null,null,null,null,null,null,null,null,null,null,null,null,1.4200927987979299,1.5987459906919601,null,4.4417393139108396,5.6667839563530897,10.8930171765992,22.845884805245699]
[null,null,null,null,null,null,null,null,null,null,null,null,1.4296872052634499,1.6092997168788401,null,4.5040623323858799,5.7199798175269096,11.1815725680953,23.303332465146301]
[null,null,null,null,null,null,null,null,null,null,null,null,1.45183569423042,1.63412420384098,null,4.4874539335127697,5.7810415359383001,11.2830578549297,23.470297302730099]
[null,null,null,null,null,null,null,null,null,null,null,null,1.4575885781876601,1.6398147899370701,null,4.4288168485367896,5.7579833640077904,11.0276501028541,22.941900800281999]
[null,null,null,null,null,null,null,null,null,null,null,null,1.4810037822775399,1.6705330360303801,null,4.3164928307608896,5.7281329852381404,10.114206619697301,20.773760545640599]
[null,null,null,null,null,null,null,null,null,null,null,null,1.4772975682884999,1.6706896185525899,null,4.2951792266246001,5.72335206743647,10.0663660902076,20.579154196480701]
[null,null,null,null,null,null,null,null,null,null,null,null,1.4367858767842201,1.6262186933434899,null,4.1907026234079696,5.6145471960771101,10.22098978829,20.8772778574677]
[null,null,null,null,null,null,null,null,null,null,null,null,1.4090553168777999,1.58914375836545,null,4.13290840101594,5.5117938889719902,10.238165671300001,21.002297555762802]
[null,null,null,null,null,null,null,null,null,null,null,null,1.4087675914561399,1.5694101945726999,null,4.32975292148428,5.4749013370596398,10.197193515859301,21.040603548106901]
[null,null,null,null,null,null,null,null,null,null,null,null,1.44569162411656,1.61426263206854,null,4.4422707289264203,5.6184399528479503,10.261997945129,21.080422552592498]
[null,null,null,null,null,null,null,null,null,null,null,null,1.50240027447367,1.6859571176271999,null,4.3373067122984699,5.7891117538630397,10.1067947709472,20.5310895158417]
[null,null,null,null,null,null,null,null,null,null,null,null,1.4961150417395801,1.67454776780416,null,4.0764045865458796,5.6782781432235998,9.6673531657816998,19.506831312206302]
[null,null,null,null,null,null,null,null,null,null,null,null,1.34363655105318,1.45637826436671,null,3.2699546580071801,4.7002508208042197,7.4098378340652404,14.579266943158601]
[null,null,null,null,null,null,null,null,null,null,null,null,1.30689649941399,1.4022344808099401,null,3.3250665422938299,4.5089027154217698,7.0812897812603399,13.869755410553999]
[null,null,null,null,null,null,null,null,null,null,null,null,1.34392865699413,1.4501842437400201,null,3.7225644127063999,4.7271604942197101,7.5157260976457501,14.645110875508101]
[null,null,null,null,null,null,null,null,null,null,null,null,1.3849994907932199,1.50958513821956,null,3.8636864834303499,4.94479094020154,7.8980994694040696,15.3399131667541]
[null,null,null,null,null,null,null,null,null,null,null,null,1.4410335939608101,1.5848246452632699,null,3.8330731741767998,5.1493435088954396,8.1347440930356605,15.5616262107448]
[null,null,null,null,null,null,null,null,null,null,null,null,1.45736841426043,1.59726170061173,null,3.7019383257914602,5.1075136578603697,7.8482791315225002,14.8255236798492]
[null,null,null,null,null,null,null,null,null,null,null,null,1.46612784717399,1.5885297547980499,null,3.4489721738625798,4.8354088530427699,6.59403327629364,12.1031109310216]
[null,null,null,null,null,null,null,null,null,null,null,null,1.4619183158295701,1.58618305726162,null,3.4574216419128301,4.8215019790592004,6.4824609013054602,11.863228778741799]
[null,null,null,null,null,null,null,null,null,null,null,null,1.44847837244042,1.58126893529636,null,3.4951648015092101,4.8593505047457599,6.6081414031391903,12.116492072162099]
[null,null,null,null,null,null,null,null,null,null,null,null,1.4418929029960501,1.57731372767383,null,3.4768795451013199,4.8661089835793998,6.6985487126062804,12.294698130747999]
[null,null,null,null,null,null,null,null,null,null,null,null,1.4327285756988299,1.5511163688983101,null,3.21884150534434,4.6600349799226004,6.40886066181963,11.665023169855701]
[null,null,null,null,null,null,null,null,null,null,null,null,1.43789124572578,1.54577043200347,null,3.1513677296630198,4.5685585465071599,6.1467821104258098,11.1557414167068]
[null,null,null,null,null,null,null,null,null,null,null,null,1.4474746788069499,1.5432986935731501,null,3.1344315566052199,4.4971627913216103,5.84193024205097,10.5684419265522]
[null,null,null,null,null,null,null,null,null,null,null,null,1.4460009892491199,1.5406126945523,null,3.1612231156724699,4.5054367269246596,5.8621921018126297,10.592657574501899]
[null,null,null,null,null,null,null,null,null,null,null,null,1.4510743599579701,1.5556223659895501,null,3.3060315099361102,4.6034571740277697,6.1361478553834301,11.1296182661247]
[null,null,null,null,null,null,null,null,null,null,null,null,1.46205089187634,1.57406082701841,null,3.3521651876499301,4.6643904947460104,6.2122147789161497,11.274858832625]
[null,null,null,null,null,null,null,null,null,null,null,null,1.4777465027203001,1.6043778732098699,null,3.3574076412248002,4.7539817133398703,6.2650215800629798,11.349278110756799]
[null,null,null,null,null,null,null,null,null,null,null,null,1.47469372446508,1.6049045715278401,null,3.3114562076415002,4.7438811422657903,6.2256816407865996,11.2617087336944]
[null,null,null,null,null,null,null,null,null,null,null,null,1.4140499637578501,1.53883388104807,null,3.1327435314103602,4.5139164563785199,6.0761057254928801,10.9144347206805]
[null,null,null,null,null,null,null,null,null,null,null,null,1.3866366941361099,1.5083057883834601,null,3.0984384353392498,4.4274142025234697,6.0611967066577401,10.887527128591801]
[null,null,null,null,null,null,null,null,null,null,null,null,1.3640904857912901,1.4813977094780399,null,3.1355400375053999,4.3626247038759303,6.0807322051944901,10.9454662367006]
[null,null,null,null,null,null,null,null,null,null,null,null,1.38013787194874,1.4979355841980999,null,3.1906889590557199,4.4136448983146304,6.1233549708497703,11.0171660392276]
[null,null,null,null,null,null,null,null,null,null,null,null,1.4570724339702199,1.5803888160260799,null,3.3051577429769199,4.6362373196838798,6.2270556911133097,11.246887581401699]
[null,null,null,null,null,null,null,null,null,null,null,null,1.47338049179997,1.59763230385522,null,3.3445063688926102,4.6920927477548497,6.2706585562756398,11.354292731265501]
[null,null,null,null,null,null,null,null,null,null,null,null,1.4928871273390001,1.6194496608675799,null,3.4375064834418398,4.8047206249775201,6.4979320200481698,11.687927067366701]
[null,null,null,null,null,null,null,null,null,null,null,null,1.4963730617501101,1.62340920131767,null,3.4814599482397499,4.8489399949059999,6.6584399849788101,11.881928129611399]
[null,null,null,null,null,null,null,null,null,null,null,null,1.48784875056443,1.61314885133563,null,3.5277853036521698,4.8878809575280702,6.9229270877525702,12.3196353225043]
[null,null,null,null,null,null,null,null,null,null,null,null,1.4798214792844,1.6045946712294401,null,3.5264007912547899,4.8697700200370697,6.9041748906751703,12.38964574613]
[null,null,null,null,null,null,null,null,null,null,null,null,1.4670116347952999,1.5934567221065401,null,3.5642597023917899,4.8513238167813002,6.9309856661204803,12.5451873375434]
[null,null,null,null,null,null,null,null,null,null,null,null,1.4681979077127401,1.5968597815666401,null,3.6025190922918502,4.8735541994112301,7.0097603890566598,12.662169670505]
[null,null,null,null,null,null,null,null,null,null,null,null,1.4901830881471401,1.62263490238109,null,3.6904135682315,4.9876099920066999,7.2105699716253797,13.0270733600459]
[null,null,null,null,null,null,null,null,null,null,null,null,1.4931999286442601,1.62776943189752,null,3.7060300802713901,5.01085091243423,7.2246441409132602,13.1070003013063]
[null,null,null,null,null,null,null,null,null,null,null,null,1.4927207600327901,1.6392920051678099,null,3.7374133186599199,5.0592549603938402,7.27358821468267,13.256762143925201]
[null,null,null,null,null,null,null,null,null,null,null,null,1.48874095440629,1.64234768679615,null,3.73332292449523,5.07541602612429,7.3213692177965397,13.3459382056538]
[null,null,null,null,null,null,null,null,null,null,null,null,1.41674651290766,1.5719348088193099,null,3.4536997701215602,4.8576928616469504,7.1996025283347898,13.3622319551302]
[null,null,null,null,null,null,null,null,null,null,null,null,1.3557206453925399,1.5041455296497599,null,3.2607013112652798,4.6457668619150496,7.0090402551374504,13.1543757735285]
[null,null,null,null,null,null,null,null,null,null,null,null,1.17628779896535,1.31159287085521,null,2.90695954958082,4.0616382482088396,6.4975609562701999,12.511961467516601]
[null,null,null,null,null,null,null,null,null,null,null,null,1.0992008189014799,1.23279998825252,null,2.8845862472452701,3.8326392981062898,6.3146880733080399,12.318561157237101]
[null,null,null,null,null,null,null,null,null,null,null,null,1.2050534987125601,1.34788249514625,null,3.4052347552509201,4.2232958894231496,6.7670206870763696,13.150732650790101]
[null,null,null,null,null,null,null,null,null,null,null,null,1.2985027628652701,1.4437540430407201,null,3.5325435690801101,4.5098683780975399,7.0443267761591501,13.5369655022155]
[null,null,null,null,null,null,null,null,null,null,null,null,1.4177305093366701,1.55966064103391,null,3.5480061985362599,4.7925209593078897,7.2091657108193097,13.6593733418632]
[null,null,null,null,null,null,null,null,null,null,null,null,1.4442631561080701,1.58127904156471,null,3.4954134888620301,4.7955238599060701,7.0762112427372896,13.3839346852658]
[null,null,null,null,null,null,null,null,null,null,null,null,1.4648940570373099,1.5993367989723799,null,3.46534900916182,4.7477225003917596,6.7472627452178804,12.758468356144601]
[null,null,null,null,null,null,null,null,null,null,null,null,1.4698903832525601,1.6100928469193501,null,3.4999466371042001,4.77125442389766,6.7161024503196396,12.670059122890899]
[null,null,null,null,null,null,null,null,null,null,null,null,1.4593043347265,1.6153301714680499,null,3.5631025035773001,4.8722783947022403,7.0571425626518103,13.150897791611801]
[null,null,null,null,null,null,null,null,null,null,null,null,1.4407051319700099,1.5934831036536199,null,3.5227650258980598,4.8363871031545704,7.1487361344357296,13.3002125904883]
[null,null,null,null,null,null,null,null,null,null,null,null,1.37663613356294,1.5191690092408801,null,3.3474564620882599,4.6393426289303799,7.1094635660163998,13.2713078515192]
[null,null,null,null,null,null,null,null,null,null,null,null,1.34706552806345,1.48630942797834,null,3.2682794404274098,4.5267367301542896,6.9803781295174403,13.063918415123901]
[null,null,null,null,null,null,null,null,null,null,null,null,1.33811610984203,1.48248881488272,null,3.2604730843827801,4.4430311326102299,6.6565047288847596,12.4336402613442]
[null,null,null,null,null,null,null,null,null,null,null,null,1.3531604858812301,1.5013520596010199,null,3.3155917599446298,4.5007323457553197,6.6791786055761504,12.4469378675965]
[null,null,null,null,null,null,null,null,null,null,null,null,1.40410699860229,1.55781148327121,null,3.4302595128429898,4.6890920000902296,6.8549892207577701,12.7240645810632]
[null,null,null,null,null,null,null,null,null,null,null,null,1.42825284142497,1.58384432726776,null,3.4664463360561002,4.7760675069600502,6.9617193215170303,12.9066300652682]
[null,null,null,null,null,null,null,null,null,null,null,null,1.4473067317538799,1.60812701103263,null,3.5168746801447499,4.9042995058638397,7.2490667450542299,13.3966874435524]
[null,null,null,null,null,null,null,null,null,null,null,null,1.44085785100793,1.6045036197529801,null,3.52074908484119,4.9129678540503896,7.3017313500024104,13.4862625601776]
[null,null,null,null,null,null,null,null,null,null,null,null,1.43115615798676,1.59833214194423,null,3.51636407840462,4.9136764622741804,7.3581347672186102,13.5008791193869]
[null,null,null,null,null,null,null,null,null,null,null,null,1.4304008761795599,1.59658988565616,null,3.5127915699550201,4.9128753033089101,7.3760802187211398,13.4676486963905]
[null,null,null,null,null,null,null,null,null,null,null,null,1.4251442227245501,1.58431368132843,null,3.5291602596100899,4.9124176168724301,7.4168468610771097,13.5305401050081]
[null,null,null,null,null,null,null,null,null,null,null,null,1.4209221451277501,1.5796348171266399,null,3.5346993413540502,4.9150024526873102,7.4361320858172002,13.6217776484167]
[null,null,null,null,null,null,null,null,null,null,null,null,1.3973570773994699,1.55566311119902,null,3.5040119977114199,4.8707181171616902,7.45887629875745,13.8067804851198]
[null,null,null,null,null,null,null,null,null,null,null,null,1.3697583321317901,1.5264610998838,null,3.4512933865536501,4.7987826009518297,7.4454495617929002,13.8547779886095]
[null,null,null,null,null,null,null,null,null,null,null,null,1.1603338847498299,1.3075139488526399,null,3.00748441703599,4.2240306520626296,7.1171833281989798,13.554697157601501]
[null,null,null,null,null,null,null,null,null,null,null,null,1.0399230317205399,1.1838794689515599,null,2.7785906476441302,3.8875886971322702,6.8626997035788397,13.295642432366201]
[null,null,null,null,null,null,null,null,null,null,null,null,0.80767063615768497,0.94789148038831605,null,2.5065558527851599,3.2294013100469399,6.2735036912497,12.7381747112294]
[null,null,null,null,null,null,null,null,null,null,null,null,0.76600358138953495,0.90802036938428898,null,2.58594396248118,3.1208086385058098,6.1755726033598499,12.714486704963701]
[null,null,null,null,null,null,null,null,null,null,null,null,1.0257132403687801,1.18233988895238,null,3.22798301275505,3.9299005819616499,7.1238672934747598,14.0712026639276]
[null,null,null,null,null,null,null,null,null,null,null,null,1.1340331912078301,1.29366827967841,null,3.37145961220943,4.25230501528935,7.4670759735902799,14.5224441087997]
[null,null,null,null,null,null,null,null,null,null,null,null,1.2705283991766601,1.43370747104327,null,3.5607157968399301,4.6662006626711303,7.8099736165145996,15.034091273706499]
[null,null,null,null,null,null,null,null,null,null,null,null,1.3137609676042401,1.4801522186087599,null,3.6428127290926402,4.8110062882956299,7.8865831337671102,15.158475578107801]
[null,null,null,null,null,null,null,null,null,null,null,null,1.41226604324252,1.5927288299295701,null,3.8188689031888998,5.1746604069823503,8.1070725801696994,15.438762033624901]
[null,null,null,null,null,null,null,null,null,null,null,null,1.4297594751237599,1.61128315294588,null,3.8384554322248299,5.2370244150982304,8.16383090949825,15.535245416842599]
[null,null,null,null,null,null,null,null,null,null,null,null,1.4420516806304799,1.6224827600378899,null,3.83809085016473,5.2789412932784598,8.2395429251153605,15.696824434042799]
[null,null,null,null,null,null,null,null,null,null,null,null,1.44401959189652,1.62518140667567,null,3.8169351597154,5.2841417121518397,8.2395848637682896,15.6955717012428]
[null,null,null,null,null,null,null,null,null,null,null,null,1.45672956330738,1.6362312241507999,null,3.72100439672271,5.2515805030056804,8.0275107550154292,15.2722260883197]
[null,null,null,null,null,null,null,null,null,null,null,null,1.4597236679902501,1.6370784947674,null,3.7254628850909501,5.2440212598370097,7.9963537903160304,15.210081967136301]
[null,null,null,null,null,null,null,null,null,null,null,null,1.46359524982558,1.6417452294139301,null,3.79981102503374,5.3034659995862503,8.1462248990230499,15.5106239531932]
[null,null,null,null,null,null,null,null,null,null,null,null,1.46565020987377,1.64591919708302,null,3.8449429594050799,5.3605143260806303,8.2965681767800206,15.8178836867411]
[null,null,null,null,null,null,null,null,null,null,null,null,1.46853511820797,1.65038734421734,null,3.8972257892503102,5.4545273565564099,8.5838904210504108,16.404514330820898]
[null,null,null,null,null,null,null,null,null,null,null,null,1.4697531009364999,1.6500749781880699,null,3.8924020643056298,5.4713260415442697,8.6572138943101606,16.5435935286805]
[null,null,null,null,null,null,null,null,null,null,null,null,1.4667657777799199,1.63468839669678,null,3.7746176366084199,5.3712302986690599,8.4393586387749107,16.089397874144499]
[null,null,null,null,null,null,null,null,null,null,null,null,1.46434847247055,1.62691307855677,null,3.7465138708927901,5.32073754537618,8.2817357070083801,15.811618271792501]
[null,null,null,null,null,null,null,null,null,null,null,null,1.4615762334514799,1.6170547967883899,null,3.7473308550120299,5.2802181548593197,8.0910399221314808,15.5047624694686]
[null,null,null,null,null,null,null,null,null,null,null,null,1.4586107084153399,1.6137980453013201,null,3.7666684755472399,5.2837881217156104,8.0869374514485095,15.510512177508501]
[null,null,null,null,null,null,null,null,null,null,null,null,1.45620122520531,1.62578566978186,null,3.8602261588181999,5.3879451622038097,8.2966569331186797,15.9695089902698]
[null,null,null,null,null,null,null,null,null,null,null,null,1.45864450446949,1.63680382557069,null,3.8707092288042002,5.4407101468296801,8.3485362337371605,16.1525970633868]
[null,null,null,null,null,null,null,null,null,null,null,null,1.45497111972351,1.647189244507,null,3.8030316123733101,5.4723344350868404,8.2680317993706005,16.199661157295299]
[null,null,null,null,null,null,null,null,null,null,null,null,1.44572805272529,1.6401480701545601,null,3.7498515993261901,5.4343882824784098,8.1577199043520405,16.038705611030601]
[null,null,null,null,null,null,null,null,null,null,null,null,1.43142002291787,1.6187606773464001,null,3.7514749781420602,5.36041828268249,8.0146078616413892,15.8586264427268]
[null,null,null,null,null,null,null,null,null,null,null,null,1.4434976288817101,1.62816784315221,null,3.7937974848753901,5.4085646652725501,8.0928816074554994,16.0355909438377]
[null,null,null,null,null,null,null,null,null,null,null,null,1.4691041160045399,1.6512485350199499,null,3.8558639800008199,5.5265726231526902,8.3636038862208899,16.464400873117199]
[null,null,null,null,null,null,null,null,null,null,null,null,1.4744927711203899,1.6563861657994501,null,3.86605406213799,5.5630016096016499,8.4948427814245502,16.613252322062898]
[null,null,null,null,null,null,null,null,null,null,null,null,1.47055587894302,1.6503682533508099,null,3.8053338020342098,5.5500004461669503,8.5109048165013608,16.528811685159798]
[null,null,null,null,null,null,null,null,null,null,null,null,1.4676215376210999,1.64548854287266,null,3.7817151826681399,5.5234967235085399,8.4085264824349792,16.414763992519401]
[null,null,null,null,null,null,null,null,null,null,null,null,1.46409925060431,1.6404220945638499,null,3.78241045659122,5.5078675754845001,8.3122674121941404,16.4251838958245]
[null,null,null,null,null,null,null,null,null,null,null,null,1.4624758571291501,1.6403254239042999,null,3.79614912343887,5.5206060387189098,8.3605630525208703,16.5656647121967]
[null,null,null,null,null,null,null,null,null,null,null,null,1.4446108950918299,1.62778224373637,null,3.8107424770723699,5.5278149775286103,8.6347422409244903,16.927898394101]
[null,null,null,null,null,null,null,null,null,null,null,null,1.44073674603312,1.6247078480380299,null,3.8218314991231401,5.5284771343369501,8.7214855186159497,16.9526080619727]
[null,null,null,null,null,null,null,null,null,null,null,null,1.45222879540931,1.6377867324265201,null,3.8690706630635998,5.5849139403263797,8.8830572071940601,17.044496000837299]
[null,null,null,null,null,null,null,null,null,null,null,null,1.4634691855797199,1.64977787601773,null,3.8938064933607102,5.6344882371198297,8.9485493229433395,17.1438500702731]
[null,null,null,null,null,null,null,null,null,null,null,null,1.4872262773839799,1.67249347207865,null,3.9487403290976699,5.7636965335091004,9.0609060783761795,17.424136425582301]
[null,null,null,null,null,null,null,null,null,null,null,null,1.49015061931844,1.6743760584148799,null,3.9651531032917702,5.78929850367392,9.0976820613041003,17.569294463476801]
[null,null,null,null,null,null,null,null,null,null,null,null,1.48698963334543,1.6701381002969,null,3.9778527463286499,5.8088235530331396,9.2273918799377199,18.050328187789201]
[null,null,null,null,null,null,null,null,null,null,null,null,1.4790033826512301,1.66114941971654,null,3.9636767720639701,5.7928843830461201,9.2935080233391592,18.2977392928059]
[null,null,null,null,null,null,null,null,null,null,null,null,1.43095632140012,1.6088805283947001,null,3.9115507335037201,5.6498150617619602,9.3480337287306696,18.6796390431929]
[null,null,null,null,null,null,null,null,null,null,null,null,1.4241521005184501,1.6039721247855501,null,3.9347858807817002,5.6417319292085004,9.3683252530168009,18.759264944180298]
[null,null,null,null,null,null,null,null,null,null,null,null,1.4411768118799999,1.6298759962524501,null,4.0116431908350103,5.7517452787398797,9.4694196866375098,19.0479885141505]
[null,null,null,null,null,null,null,null,null,null,null,null,1.4535343781854599,1.64650314695441,null,4.0369377654969396,5.8247825136549896,9.5260900604592091,19.238173945806199]
[null,null,null,null,null,null,null,null,null,null,null,null,1.46362932569987,1.6590359669611701,null,4.0303159209343402,5.9358646752420299,9.6088323979846404,19.7008478277533]
[null,null,null,null,null,null,null,null,null,null,null,null,1.4602995309034601,1.6539388750646,null,4.0087656045421696,5.9442531908448899,9.6412668217852406,19.804179655386601]
[null,null,null,null,null,null,null,null,null,null,null,null,1.45081806420578,1.6399475767082301,null,3.9784365506955099,5.9252835781728797,9.6988127609413901,19.906200587602299]
[null,null,null,null,null,null,null,null,null,null,null,null,1.4510693712707099,1.6395354773947799,null,3.9906621487882301,5.91935083729064,9.6809429195891408,19.830607155584701]
[null,null,null,null,null,null,null,null,null,null,null,null,1.4828022706320401,1.6781973938678501,null,4.06693427774605,6.02641293485721,9.5565709419440896,19.044204711039299]
[null,null,null,null,null,null,null,null,null,null,null,null,1.4916624659030799,1.6873176927122,null,4.0738607617880502,6.0577445665685197,9.5443966044333504,18.9023046034463]
[null,null,null,null,null,null,null,null,null,null,null,null,1.49732303140012,1.6893786960307999,null,4.0749909577615702,6.0757337875614397,9.6215684544744793,19.1477199300524]
[null,null,null,null,null,null,null,null,null,null,null,null,1.49560352163957,1.68659748478174,null,4.0816111911254396,6.0748800227407802,9.7115645136426405,19.419163176382]
[null,null,null,null,null,null,null,null,null,null,null,null,1.4881984587916599,1.6805035677340601,null,4.0988477702018402,6.08125538147595,9.9609324006514495,20.058247546946699]
[null,null,null,null,null,null,null,null,null,null,null,null,1.4833321284366201,1.67699859210793,null,4.1001733012181099,6.0853850370184004,10.078311269162301,20.359143088380499]
[null,null,null,null,null,null,null,null,null,null,null,null,1.4774467593773299,1.6704638336525801,null,4.0679485836868396,6.0778333128214204,10.1783018210623,20.6371765860276]
[null,null,null,null,null,null,null,null,null,null,null,null,1.4803239715965499,1.6736175987776201,null,4.0652153572983796,6.0822544615093701,10.1166035560864,20.471982057420298]
[null,null,null,null,null,null,null,null,null,null,null,null,1.4898384237503299,1.68658533154872,null,4.0701880381732503,6.1295325425112299,10.0906839460415,20.184286161959101]
[null,null,null,null,null,null,null,null,null,null,null,null,1.49261255144718,1.69039927471002,null,4.0640106148119903,6.1491390507583104,10.1405629526282,20.1413333965641]
[null,null,null,null,null,null,null,null,null,null,null,null,1.4834466184523101,1.67405081784582,null,4.0094923006287102,6.1028903024724199,10.160840780053,20.236380777767401]
[null,null,null,null,null,null,null,null,null,null,null,null,1.4808533417092999,1.66826286263753,null,3.98496449206981,6.0851616806169702,10.084331156508901,20.266834872745498]
[null,null,null,null,null,null,null,null,null,null,null,null,1.4804075455162999,1.66520399570385,null,3.9090515676851498,6.0615830225787599,9.7932579489045093,20.092530919922002]
[null,null,null,null,null,null,null,null,null,null,null,null,1.4780146454930101,1.6619802018249701,null,3.8686365001886101,6.0379668909566098,9.6241247180273,19.904441319153801]
[null,null,null,null,null,null,null,null,null,null,null,null,1.4619316026249001,1.6421318868483701,null,3.8511911597764299,5.9669989500902503,9.4182792606309995,19.711820693624599]
[null,null,null,null,null,null,null,null,null,null,null,null,1.4585585414414499,1.63830941946397,null,3.86791868058762,5.9696616178065298,9.4579518429286296,19.8741124902641]
[null,null,null,null,null,null,null,null,null,null,null,null,1.45147787764963,1.6315381246665801,null,3.8793698992921399,5.9909538634575403,9.5670943586939501,20.3579463104785]
[null,null,null,null,null,null,null,null,null,null,null,null,1.44569043035692,1.62534745056318,null,3.8632078613405798,5.9889281676780497,9.60381208515936,20.5763374220973]
[null,null,null,null,null,null,null,null,null,null,null,null,1.39893806978615,1.57349145913307,null,3.6600843692754301,5.8212991995615804,9.5638335289851302,20.705313873911599]
[null,null,null,null,null,null,null,null,null,null,null,null,1.3510614418357401,1.52106858482847,null,3.4885582183739898,5.6349490112156104,9.4290293090310104,20.495220810262801]
[null,null,null,null,null,null,null,null,null,null,null,null,1.1619860888492799,1.31432135388724,null,2.9468794927855302,4.9168545539790198,8.8337634031551904,19.636300792692399]
[null,null,null,null,null,null,null,null,null,null,null,null,1.03124707154166,1.17343117846755,null,2.6883860025846298,4.4304570646602102,8.3738192227039292,18.999686516499199]
[null,null,null,null,null,null,null,null,null,null,null,null,0.88677461032257199,1.02791097582753,null,2.8932090801559198,3.9674867436926702,7.9042700431419499,18.641408014042199]
[null,null,null,null,null,null,null,null,null,null,null,null,0.98427613138760495,1.1352460397728401,null,3.18617927134965,4.3613456076636297,8.3250850050336602,19.335308453552699]
[null,null,null,null,null,null,null,null,null,null,null,null,1.22715305764119,1.3956998925033799,null,3.6282006501359398,5.2895298088938203,9.2374270237953304,20.469057767599999]
[null,null,null,null,null,null,null,null,null,null,null,null,1.31505983760664,1.4882463372524599,null,3.7540711513354799,5.6158446365731001,9.5218024880522005,20.672624973054099]
[null,null,null,null,null,null,null,null,null,null,null,null,1.4313454132427299,1.6083053361866599,null,3.8824281372306699,6.0551027940068698,9.9531444209852999,20.8572205060408]
[null,null,null,null,null,null,null,null,null,null,null,null,1.4356068267154201,1.61119134899612,null,3.8523198200375002,6.0723468972223698,10.019999967556,20.9283551407194]
[null,null,null,null,null,null,null,null,null,null,null,null,1.40098159631454,1.56981834127298,null,3.7283751862003398,5.9401286715881101,10.0027223583328,21.019818438322101]
[null,null,null,null,null,null,null,null,null,null,null,null,1.3759823399481499,1.54241376319798,null,3.7044069160146602,5.8549535532958101,9.9416982616161196,21.0558445160517]
[null,null,null,null,null,null,null,null,null,null,null,null,1.4006714651396901,1.57700602568696,null,3.8588037408805498,6.0259968428870296,10.0218517494155,21.572454195023099]
[null,null,null,null,null,null,null,null,null,null,null,null,1.42406788486541,1.6028432018018699,null,3.8823263573302,6.1227719918704997,10.128238258046199,21.756614549297701]
[null,null,null,null,null,null,null,null,null,null,null,null,1.4375545227020301,1.61124599617562,null,3.8417723830292401,6.1554623914200404,10.2600989006384,21.911823202120601]
[null,null,null,null,null,null,null,null,null,null,null,null,1.4303890727805899,1.5996975553547299,null,3.8075721378012899,6.1205346561472904,10.257330321338999,21.902914021298201]
[null,null,null,null,null,null,null,null,null,null,null,null,1.4170003785012499,1.5937121083094099,null,3.8380922677339901,6.1241145437082096,10.2563321185877,21.932953535732199]
[null,null,null,null,null,null,null,null,null,null,null,null,1.41911617633053,1.6021640340734999,null,3.8132300812911399,6.1516042696541904,10.294683421106701,21.955913644376299]
[null,null,null,null,null,null,null,null,null,null,null,null,1.38480602545039,1.563616052208,null,3.65044554389537,5.97081110006099,10.1678143153081,21.732836267023401]
[null,null,null,null,null,null,null,null,null,null,null,null,1.3582300473728299,1.52889078131599,null,3.61543459342513,5.8301944441501901,10.0465470103073,21.647127591703399]
[null,null,null,null,null,null,null,null,null,null,null,null,1.3556308242952999,1.51525240823477,null,3.7146219227264301,5.81462562504512,10.036977150852101,22.0496016282952]
[null,null,null,null,null,null,null,null,null,null,null,null,1.3788393921326501,1.5363310062262401,null,3.7998517412155,5.9285186563326198,10.1461578720603,22.463778661918202]
[null,null,null,null,null,null,null,null,null,null,null,null,1.45809565015751,1.61611608210642,null,4.0115501153663402,6.3062923533855999,10.518590080592899,23.449428773663101]
[null,null,null,null,null,null,null,null,null,null,null,null,1.47619657165453,1.6363916440603301,null,4.0402029840232698,6.3929058954876004,10.643188768898501,23.660163452972]
[null,null,null,null,null,null,null,null,null,null,null,null,1.4809555902429901,1.6442791654329401,null,4.0351340640398297,6.4324897434675901,10.8342425088157,24.031601751483699]
[null,null,null,null,null,null,null,null,null,null,null,null,1.4728313090551199,1.63730830201203,null,4.0230564260941097,6.4054574495834702,10.891672484288501,24.168961244961402]
[null,null,null,null,null,null,null,null,null,null,null,null,1.46683219660164,1.6361045229781499,null,4.0571669912927604,6.3840300084683097,10.9636568950271,24.215966862636702]
[null,null,null,null,null,null,null,null,null,null,null,null,1.4742846148880699,1.6451223969540101,null,4.0812348136554499,6.4204012957794303,10.981109899149301,24.2114664497124]
[null,null,null,null,null,null,null,null,null,null,null,null,1.4896557213038899,1.66526576719635,null,4.1218048277285604,6.5209818663265597,11.0463429210554,24.326120278718001]
[null,null,null,null,null,null,null,null,null,null,null,null,1.49395620523378,1.6725253874013599,null,4.1283798568780803,6.5644396600051502,11.1087268259013,24.455445741500998]
[null,null,null,null,null,null,null,null,null,null,null,null,1.4811548863661299,1.66633362840842,null,4.0977476613203301,6.5849780239871203,11.3882742768365,24.9926967638097]
[null,null,null,null,null,null,null,null,null,null,null,null,1.47054889994231,1.65740178274308,null,4.0804090748618496,6.5638800223648097,11.473388006364599,25.199260470436201]
[null,null,null,null,null,null,null,null,null,null,null,null,1.4514143787607201,1.6412259544433001,null,4.0568668086644601,6.5263310319546299,11.600999883697099,25.595790048047299]
[null,null,null,null,null,null,null,null,null,null,null,null,1.4478149097519,1.6382347466952001,null,4.0556966316111396,6.5248626583284599,11.6328776649506,25.743093582543199]
[null,null,null,null,null,null,null,null,null,null,null,null,1.4687981321368899,1.6546240123051501,null,4.0585117534077098,6.5933112988665803,11.553543843077,25.761024578541999]
[null,null,null,null,null,null,null,null,null,null,null,null,1.47510260777782,1.6573247826306201,null,4.0517639003774697,6.6013128747393797,11.4877811961403,25.697949770689501]
[null,null,null,null,null,null,null,null,null,null,null,null,1.4764891641292299,1.65059403031851,null,4.0716396167799997,6.5795140913327703,11.449617686588001,25.8156018801626]
[null,null,null,null,null,null,null,null,null,null,null,null,1.48041608958868,1.6511069206162601,null,4.1062787469182798,6.5919340791443499,11.5147281212391,26.029606040262902]
[null,null,null,null,null,null,null,null,null,null,null,null,1.50876151982655,1.67394969594779,null,4.1946849208015697,6.73413552989786,11.719337920386799,26.613529344731099]
[null,null,null,null,null,null,null,null,null,null,null,null,1.51333766520905,1.67776231359217,null,4.1979660604629503,6.76158210529898,11.7321601823426,26.680002823000301]
[null,null,null,null,null,null,null,null,null,null,null,null,1.50869601546114,1.6741842751899101,null,4.1886374674876201,6.7532222454374704,11.712806833336799,26.7426301228959]
[null,null,null,null,null,null,null,null,null,null,null,null,1.5032407040217599,1.6697900702350501,null,4.1821799396847004,6.7358295390691998,11.714889874869501,26.795195764910201]
[null,null,null,null,null,null,null,null,null,null,null,null,1.49380279921252,1.65823432562615,null,4.1576662187885702,6.6960153765332704,11.7320476718176,27.056023670803299]
[null,null,null,null,null,null,null,null,null,null,null,null,1.4952184269437501,1.6588304035767001,null,4.1398144782120303,6.6923243171725204,11.6455396171977,27.0523791256999]
[null,null,null,null,null,null,null,null,null,null,null,null,1.4892693503913501,1.65422859453577,null,4.0449564230073003,6.6499994108764202,11.350015206997,26.659728233059798]
[null,null,null,null,null,null,null,null,null,null,null,null,1.4745775783461501,1.63944925674265,null,3.9868838492541898,6.58177717629885,11.187011759890201,26.292309898324]
[null,null,null,null,null,null,null,null,null,null,null,null,1.44637356327564,1.6135227419882801,null,4.0307034312531904,6.4834321261848498,11.123674964755301,26.118949766984102]
[null,null,null,null,null,null,null,null,null,null,null,null,1.46150408018593,1.63210490826926,null,4.0868958347343396,6.5562655746536596,11.2488572078611,26.400444572603998]
[null,null,null,null,null,null,null,null,null,null,null,null,1.4932387242116401,1.66954512136012,null,4.1517609521747003,6.6975147502675396,11.4704469163597,26.961297941771502]
[null,null,null,null,null,null,null,null,null,null,null,null,1.4987804510173901,1.6774009425822201,null,4.1712008436863401,6.7347415240642103,11.540060688235,27.228261260709299]
[null,null,null,null,null,null,null,null,null,null,null,null,1.5065818924354999,1.6912845632437901,null,4.2253780759462103,6.8645173253850604,11.752262717426801,28.001620813217599]
[null,null,null,null,null,null,null,null,null,null,null,null,1.5111878825012399,1.69458687933095,null,4.2197153984400799,6.89847681057402,11.8445648129082,28.170329651001499]
[null,null,null,null,null,null,null,null,null,null,null,null,1.5108476726603399,1.68521407314421,null,4.1833349904932202,6.8721031895058697,11.9729035669779,28.270206470317301]
[null,null,null,null,null,null,null,null,null,null,null,null,1.5063718302353299,1.6775793286879801,null,4.1778930687047602,6.8397445090505498,12.0140368852013,28.281933322830199]
[null,null,null,null,null,null,null,null,null,null,null,null,1.4980095051926601,1.6794061181206399,null,4.2428045884194701,6.8710290993400198,12.2859748278411,28.767528997625298]
[null,null,null,null,null,null,null,null,null,null,null,null,1.49799591531195,1.6848612810037,null,4.2682647547637496,6.9146441887494303,12.4024817822768,29.071665233139701]
[null,null,null,null,null,null,null,null,null,null,null,null,1.50108630938221,1.6937634839251801,null,4.2848380686741701,6.9898430770074,12.572076825969001,29.5911442113044]
[null,null,null,null,null,null,null,null,null,null,null,null,1.5000806601276599,1.69271567162621,null,4.2632701993516298,6.9973266318577503,12.595822806244399,29.730783672828199]
[null,null,null,null,null,null,null,null,null,null,null,null,1.4848304782045301,1.67414133445997,null,4.2229663702581899,6.9388815177692296,12.5173797488478,29.7761548187522]
[null,null,null,null,null,null,null,null,null,null,null,null,1.48054022073804,1.6700605925635601,null,4.2391670987899097,6.9302943492573998,12.490402626098399,29.7734931718235]
[null,null,null,null,null,null,null,null,null,null,null,null,1.50245460649632,1.6994908997934699,null,4.2800049708883501,7.0434506333090203,12.6102440652773,29.818051129945999]
[null,null,null,null,null,null,null,null,null,null,null,null,1.50234704989251,1.69817547751327,null,4.2441069563032201,7.02140161993721,12.5855376200607,29.676420394763401]
[null,null,null,null,null,null,null,null,null,null,null,null,1.48263895584573,1.6704251917500601,null,4.1465066533818398,6.8758512349131502,12.365345961505,29.228608140565701]
[null,null,null,null,null,null,null,null,null,null,null,null,1.4709813237505101,1.6537172933792399,null,4.11061172567819,6.7981898831199903,12.2194274590678,29.044015759820098]
[null,null,null,null,null,null,null,null,null,null,null,null,1.4657746639157001,1.64201253981595,null,4.1767345700498097,6.7651700943699202,12.0652467978554,29.181138807057302]
[null,null,null,null,null,null,null,null,null,null,null,null,1.4754029391912,1.65524560884949,null,4.2188414316165002,6.8335943183035797,12.2360667014773,29.560753264224999]
[null,null,null,null,null,null,null,null,null,null,null,null,1.48227566567703,1.66919084763596,null,4.2051265390793899,6.8982761235775198,12.583724202368,30.243299258544202]
[null,null,null,null,null,null,null,null,null,null,null,null,1.4714357239771401,1.6592391088209699,null,4.17207310897063,6.85140077143721,12.621090211882599,30.3788843538027]
[null,null,null,null,null,null,null,null,null,null,null,null,1.4569511345731601,1.6491628510279199,null,4.2353628391670197,6.83398614715873,12.5751600030907,30.633615251551099]
[null,null,null,null,null,null,null,null,null,null,null,null,1.47424379188382,1.66790088312382,null,4.27691269932608,6.9309102418676298,12.615628975484,30.810234949307599]
[null,null,null,null,null,null,null,null,null,null,null,null,1.5028341464802599,1.69306318003253,null,4.2787897295277402,7.0452403332287004,12.659348568012,31.038615655230402]
[null,null,null,null,null,null,null,null,null,null,null,null,1.50496028213042,1.6919958407468101,null,4.2745911926276001,7.0350904925199398,12.671567994902,31.103679913742599]
[null,null,null,null,null,null,null,null,null,null,null,null,1.5165625427107801,1.70525783209811,null,4.3740917119331604,7.1234042862756599,12.9918514683705,31.876257130577098]
[null,null,null,null,null,null,null,null,null,null,null,null,1.52434190608673,1.71463731423354,null,4.4055192709025297,7.1889522381007698,13.1267879724649,32.224775713136196]
[null,null,null,null,null,null,null,null,null,null,null,null,1.53310648337813,1.72333140377281,null,4.43784434674434,7.2607309346849203,13.288195557716699,32.648544854455501]
[null,null,null,null,null,null,null,null,null,null,null,null,1.5359744895204701,1.7258672958339401,null,4.4478295699087598,7.2784681174479502,13.311093629903301,32.685470575153097]
[null,null,null,null,null,null,null,null,null,null,null,null,1.53219435859502,1.7261729585909,null,4.4482904741875204,7.2939394327343097,13.259657065038301,32.826078944307099]
[null,null,null,null,null,null,null,null,null,null,null,null,1.5223226012695901,1.7193745703572401,null,4.4409456316754898,7.2712099436385698,13.2285693041266,33.017578483826803]
[null,null,null,null,null,null,null,null,null,null,null,null,1.50034633494352,1.7020304361768901,null,4.4182210097307104,7.2104426962243,13.2102315779031,33.435524605524598]
[null,null,null,null,null,null,null,null,null,null,null,null,1.49305090197635,1.6946226866234,null,4.4100350255392096,7.1857752207418999,13.252494377802901,33.598542227217401]
[null,null,null,null,null,null,null,null,null,null,null,null,1.50032417945713,1.70150607562025,null,4.4422425795684104,7.23344310548456,13.5077391231566,34.203195568769999]
[null,null,null,null,null,null,null,null,null,null,null,null,1.50836036528383,1.7104052353058099,null,4.4506032027451496,7.2693795990919998,13.590464600558599,34.397342042365203]
[null,null,null,null,null,null,null,null,null,null,null,null,1.5189613278959899,1.7189266739319899,null,4.4170155241048796,7.2787916320219601,13.669252032604,34.461736993820999]
[null,null,null,null,null,null,null,null,null,null,null,null,1.5191829665382699,1.7147008250494999,null,4.3756793822919899,7.23824031885355,13.611163356192099,34.2799723319633]
[null,null,null,null,null,null,null,null,null,null,null,null,1.4802094985765999,1.6642257420529301,null,4.1937814738430896,6.99288751773227,13.2367037396737,33.684195826441503]
[null,null,null,null,null,null,null,null,null,null,null,null,1.4444824088691699,1.6295147554907501,null,4.0947109891783802,6.8556312147456202,13.087836295807801,33.514022409411297]
[null,null,null,null,null,null,null,null,null,null,null,null,1.34054226007963,1.5345924256196799,null,3.93822873064126,6.4749032495249299,12.6773639963279,33.103926606092003]
[null,null,null,null,null,null,null,null,null,null,null,null,1.3019808385884699,1.50311567905975,null,3.9657636868932298,6.3494106692114496,12.547691103226301,33.106174671154498]
[null,null,null,null,null,null,null,null,null,null,null,null,1.39179069512817,1.6033157332014301,null,4.3826722402584704,6.7901808321548804,13.1429506164658,34.714640650828301]
[null,null,null,null,null,null,null,null,null,null,null,null,1.44919275865028,1.6594381386730399,null,4.4920565714566099,7.03790753268136,13.4521328543008,35.370647267307497]
[null,null,null,null,null,null,null,null,null,null,null,null,1.5137867717125999,1.72238231902589,null,4.5873017630591102,7.3268732378924204,13.818808830873801,36.223875272974098]
[null,null,null,null,null,null,null,null,null,null,null,null,1.5245385616338301,1.7340253914186301,null,4.5942232953305,7.3846006006151201,13.8936609966806,36.4445095190042]
[null,null,null,null,null,null,null,null,null,null,null,null,1.5252839406235901,1.7369902517812399,null,4.57182717740075,7.4123157399176396,13.9795332245853,36.609697385348099]
[null,null,null,null,null,null,null,null,null,null,null,null,1.52166274082597,1.73235488398004,null,4.5406753846826904,7.39671601820453,14.040718447799399,36.627296483442599]
[null,null,null,null,null,null,null,null,null,null,null,null,1.4956860848840801,1.688110936807,null,4.3746891940505197,7.1936255032306198,13.8835209288667,35.994600905656803]
[null,null,null,null,null,null,null,null,null,null,null,null,1.48303519227416,1.66734429855054,null,4.2975811032377802,7.0921346411419499,13.635372807413001,35.409407786668403]
[null,null,null,null,null,null,null,null,null,null,null,null,1.45025316115748,1.62065651433612,null,4.1391140381356299,6.8638985026155801,13.055181857255601,33.889267159381703]
[null,null,null,null,null,null,null,null,null,null,null,null,1.43360708103296,1.6000313189598101,null,4.1272838178912199,6.7731351294973097,12.8646027883181,33.333672420747099]
[null,null,null,null,null,null,null,null,null,null,null,null,1.46624653131267,1.6504360852668301,null,4.4617057728002898,7.0613842563535902,13.4532171877268,34.770552977033702]
[null,null,null,null,null,null,null,null,null,null,null,null,1.4943540989723301,1.6872244036911299,null,4.5612271512308302,7.2395476375177399,13.794842533827801,35.666877587370699]
[null,null,null,null,null,null,null,null,null,null,null,null,1.5280711668212199,1.72800067381219,null,4.6592573667976396,7.4339706030906401,14.1766056225103,36.763597064262598]
[null,null,null,null,null,null,null,null,null,null,null,null,1.53532963208199,1.7356940721634599,null,4.6681318398110996,7.4721243874655698,14.2456060693534,37.020913122841002]
[null,null,null,null,null,null,null,null,null,null,null,null,1.5293761363260201,1.7283221360368599,null,4.5987048625820499,7.4066472739430598,14.2440753621034,37.050490462706598]
[null,null,null,null,null,null,null,null,null,null,null,null,1.51963193602539,1.71670871409297,null,4.5473355645620304,7.3381764585448801,14.2246120294585,36.957287798431203]
[null,null,null,null,null,null,null,null,null,null,null,null,1.4888886052616299,1.6795802261839501,null,4.4197762122553499,7.1524470498339499,14.116342253367099,36.723415533252997]
[null,null,null,null,null,null,null,null,null,null,null,null,1.47127777868493,1.6582871144879801,null,4.3809662300318903,7.0561449651311703,14.0239282844454,36.600195961473297]
[null,null,null,null,null,null,null,null,null,null,null,null,1.4725888453809799,1.6622219035580299,null,4.5313391271411696,7.0947435814175899,14.3073327259238,37.4924650225486]
[null,null,null,null,null,null,null,null,null,null,null,null,1.4912845745684,1.6871321997108799,null,4.6025607646031998,7.2103408101549,14.5797286880548,38.097712608799597]
[null,null,null,null,null,null,null,null,null,null,null,null,1.51915244225199,1.72287783991668,null,4.6690096866030997,7.3774472227437897,14.8988397689281,38.760138852373103]
[null,null,null,null,null,null,null,null,null,null,null,null,1.52344640674583,1.72773536554846,null,4.6800528416528104,7.4078107266495401,14.9324402976152,38.874563024866603]
[null,null,null,null,null,null,null,null,null,null,null,null,1.51857395685144,1.7251850986395501,null,4.7004407215245703,7.4195524052216397,15.096247927771101,39.197057517334201]
[null,null,null,null,null,null,null,null,null,null,null,null,1.5192339418957099,1.72864329452762,null,4.7096133767940698,7.4374516627008802,15.2239601902128,39.373229596441902]
[null,null,null,null,null,null,null,null,null,null,null,null,1.52459213619571,1.7389607045691899,null,4.7391047300275897,7.4893430907126604,15.474229798796699,39.861431092321503]
[null,null,null,null,null,null,null,null,null,null,null,null,1.5272182880516201,1.7431218052408799,null,4.7516848134351699,7.5143488301056003,15.5517178940442,40.065832805847698]
[null,null,null,null,null,null,null,null,null,null,null,null,1.52795585654443,1.7447188241039799,null,4.7018786454951496,7.5508061224250902,15.3636191006094,39.666920703846998]
[null,null,null,null,null,null,null,null,null,null,null,null,1.5253694778525,1.7375574390989901,null,4.6203550039152601,7.5176241333128004,15.130825831683699,39.077791865177197]
[null,null,null,null,null,null,null,null,null,null,null,null,1.5149625710292201,1.70140652838575,null,4.2181122872629002,7.2478918975039104,14.031060387063899,36.113158220840802]
[null,null,null,null,null,null,null,null,null,null,null,null,1.5045668580667699,1.67126728340471,null,3.9099587735424799,6.9682729690242002,12.9179923591867,33.046438780091599]
[null,null,null,null,null,null,null,null,null,null,null,null,1.4659604050677599,1.5975337767964299,null,3.41027394560333,6.1895872198215702,9.1568496994635993,22.077154353549599]
[null,null,null,null,null,null,null,null,null,null,null,null,1.459992268405,1.59734131730994,null,3.4814794856237299,6.1798867808100697,8.8144006658086802,20.720330607600999]
[null,null,null,null,null,null,null,null,null,null,null,null,1.4600852481014399,1.61551853785565,null,3.67210744296978,6.3890498961127404,9.3383184919913997,21.571263700652199]
[null,null,null,null,null,null,null,null,null,null,null,null,1.4574751307687801,1.6171507486538901,null,3.6979187238500799,6.4630951296703696,9.6729576179829895,22.449456311883001]
[null,null,null,null,null,null,null,null,null,null,null,null,1.4437171850410899,1.5889156500453201,null,3.4625168348297901,6.3064519147893199,9.1886598361155905,21.682722350558802]
[null,null,null,null,null,null,null,null,null,null,null,null,1.4533974646851799,1.58843380767047,null,3.3796408244879901,6.2091851423385798,8.6406991204132293,20.3182245349407]
[null,null,null,null,null,null,null,null,null,null,null,null,1.4821482102186501,1.60487046306908,null,3.3248360932059899,6.1025922722531103,7.8989582632126201,18.206587574753598]
[null,null,null,null,null,null,null,null,null,null,null,null,1.4907005576461201,1.61329838137605,null,3.33863094886298,6.1006110975501704,7.82917520580708,17.877030035697899]
[null,null,null,null,null,null,null,null,null,null,null,null,1.48824205941041,1.61515550084533,null,3.3859944010035998,6.1261967038726803,8.0276449937969101,18.160906840267501]
[null,null,null,null,null,null,null,null,null,null,null,null,1.48017408919075,1.6082832723287801,null,3.40853324921085,6.1268570686327797,8.1926808148342793,18.508559254034999]
[null,null,null,null,null,null,null,null,null,null,null,null,1.4595812303251801,1.57833174309984,null,3.4693707318273899,6.0714673348450603,8.5587804464376607,19.4044989694825]
[null,null,null,null,null,null,null,null,null,null,null,null,1.46335652606239,1.5808614832600301,null,3.4969405067723902,6.0830681495603898,8.6125164785079509,19.5770943242341]
[null,null,null,null,null,null,null,null,null,null,null,null,1.4835373530768401,1.61071099502729,null,3.5572655621947802,6.1938539433805904,8.6999110782164504,19.854091354827901]
[null,null,null,null,null,null,null,null,null,null,null,null,1.4911392051669301,1.6263136496233801,null,3.5836601138052702,6.2543943118779302,8.7737344061231894,20.054406776255501]
[null,null,null,null,null,null,null,null,null,null,null,null,1.4966010670829499,1.6507121860773,null,3.6496454128623101,6.3629360464487599,9.0777538401193993,20.650820379974199]
[null,null,null,null,null,null,null,null,null,null,null,null,1.4972013214650299,1.65502519719726,null,3.6693851953494399,6.39265440047875,9.1504058148043903,20.683341606046]
[null,null,null,null,null,null,null,null,null,null,null,null,1.49542115118912,1.6614069453550599,null,3.7025276949496599,6.4454484887341303,9.3550622332343991,20.973408171844]
[null,null,null,null,null,null,null,null,null,null,null,null,1.49082067681899,1.6611207330890201,null,3.7168935472681599,6.4547326061162202,9.5034347000104091,21.336630365119898]
[null,null,null,null,null,null,null,null,null,null,null,null,1.47444484788566,1.6528351659425899,null,3.73200670767593,6.4424926634094302,9.8022897416900392,22.310778237408002]
[null,null,null,null,null,null,null,null,null,null,null,null,1.4746076085736901,1.6524516179239801,null,3.7206559970401201,6.4368583263327199,9.7528153957888506,22.225265704005899]
[null,null,null,null,null,null,null,null,null,null,null,null,1.47951087526598,1.6525176116981,null,3.69479455989616,6.4195139296504102,9.5582573735673098,21.682071761255699]
[null,null,null,null,null,null,null,null,null,null,null,null,1.4809236426505701,1.65116133494728,null,3.6920014832530499,6.4115035768071902,9.5075304723904903,21.498639808669498]
[null,null,null,null,null,null,null,null,null,null,null,null,1.4883941596765999,1.6516574451774799,null,3.7626247440892899,6.4425665692387897,9.7529011576592808,22.1378171179982]
[null,null,null,null,null,null,null,null,null,null,null,null,1.49540994608345,1.65778382070776,null,3.8093044503664402,6.4816992578371604,9.9450226137095203,22.688038488117101]
[null,null,null,null,null,null,null,null,null,null,null,null,1.5075704778649399,1.6743206164339599,null,3.8975887847636699,6.5728051596585901,10.301358163079501,23.7641732698652]
[null,null,null,null,null,null,null,null,null,null,null,null,1.5106620183758099,1.68005233526321,null,3.92993127338362,6.6090007663955097,10.404684518368301,24.108564142523001]
[null,null,null,null,null,null,null,null,null,null,null,null,1.51441223740197,1.6812940271725501,null,3.9617063822942198,6.6834894706694801,10.529875834325001,24.598615543098798]
[null,null,null,null,null,null,null,null,null,null,null,null,1.51375525195302,1.67867155533776,null,3.95320566737337,6.6937169688273599,10.5542931704569,24.660383027358499]
[null,null,null,null,null,null,null,null,null,null,null,null,1.50864900970834,1.67009979411801,null,3.9396932973663299,6.6806995222499399,10.5591755122605,24.640667632504101]
[null,null,null,null,null,null,null,null,null,null,null,null,1.50533927114191,1.66513202817693,null,3.9444681633359502,6.6637503737767698,10.5361870736259,24.6018481724225]
[null,null,null,null,null,null,null,null,null,null,null,null,1.5009968418455299,1.66022462580048,null,3.9948851227934701,6.6758645195786297,10.5222357539778,24.5489456406955]
[null,null,null,null,null,null,null,null,null,null,null,null,1.50121845019708,1.6618670775743301,null,3.9961119962316798,6.7045533189959396,10.572648686819701,24.5539199969439]
[null,null,null,null,null,null,null,null,null,null,null,null,1.4914092860921599,1.6543926046189299,null,3.93290609856711,6.70390865753581,10.610806721565901,24.560856326174601]
[null,null,null,null,null,null,null,null,null,null,null,null,1.4781606912891401,1.6405624081055701,null,3.8743223883816298,6.6494848433745002,10.5439755275968,24.533345446657599]
[null,null,null,null,null,null,null,null,null,null,null,null,1.43601718599378,1.5927605299890499,null,3.84591226437758,6.4490463334633201,10.3060291479956,24.575538881800799]
[null,null,null,null,null,null,null,null,null,null,null,null,1.4430834878877301,1.5996943731912801,null,3.9076725775121801,6.4849761819960499,10.3899160973922,24.878010069732799]
[null,null,null,null,null,null,null,null,null,null,null,null,1.47253982149036,1.63093184368938,null,4.01473492179991,6.62383156520628,10.7408225038649,25.872971433421]
[null,null,null,null,null,null,null,null,null,null,null,null,1.48103934924864,1.64112206853596,null,4.0490554384733199,6.6634229555474001,10.934556242595701,26.447037219330301]
[null,null,null,null,null,null,null,null,null,null,null,null,1.4887104321340701,1.6569819787617801,null,4.0989458176780502,6.7468770681100496,11.4942438438195,28.090644457843801]
[null,null,null,null,null,null,null,null,null,null,null,null,1.48710097867775,1.6563211177964701,null,4.0837055409455898,6.7609581832300103,11.608209862258599,28.347907975209001]
[null,null,null,null,null,null,null,null,null,null,null,null,1.4739310646831401,1.6375937305674699,null,4.0049228870539597,6.7007292003203798,11.6210827107485,28.227528942894502]
[null,null,null,null,null,null,null,null,null,null,null,null,1.4616084777909899,1.62084595170637,null,3.9771873436240801,6.6325121778785503,11.5289824121277,28.052803922346499]
[null,null,null,null,null,null,null,null,null,null,null,null,1.46111697204768,1.62019272659111,null,4.0365829040573402,6.6220838454316402,11.308892751409701,27.8103997811018]
[null,null,null,null,null,null,null,null,null,null,null,null,1.4780003128133801,1.6391391433159599,null,4.0037327774373699,6.6703908022636096,11.1518038032526,27.325510807833599]
[null,null,null,null,null,null,null,null,null,null,null,null,1.50033124556248,1.65543421332049,null,3.84017544698311,6.6236228265890897,10.3124132141859,24.785404705893399]
[null,null,null,null,null,null,null,null,null,null,null,null,1.50074759544445,1.65066210175864,null,3.7968256736190602,6.5640388165677299,9.8762979385667702,23.495746926211901]
[null,null,null,null,null,null,null,null,null,null,null,null,1.48793756054806,1.63636981536105,null,3.8102643705269301,6.5192899601395897,9.6499265910162997,22.765248869866401]
[null,null,null,null,null,null,null,null,null,null,null,null,1.47564177616307,1.6275003985132701,null,3.8203224679813901,6.5139183141911099,9.7977011347241696,23.145514104917801]
[null,null,null,null,null,null,null,null,null,null,null,null,1.4340678472822701,1.5939574061552899,null,3.7941544126962201,6.4272056812798803,10.170454502833801,24.207896061350901]
[null,null,null,null,null,null,null,null,null,null,null,null,1.42585788834625,1.5850348640621399,null,3.7716035702623398,6.3975318539382497,10.133316989399001,24.119326959294298]
[null,null,null,null,null,null,null,null,null,null,null,null,1.43063635795396,1.5864792089400801,null,3.7615901628839401,6.3934731682124104,9.8287429560447297,23.2496580748609]
[null,null,null,null,null,null,null,null,null,null,null,null,1.4447552589581001,1.6007453263448701,null,3.7847056056466699,6.4351240725729397,9.6860055947826904,22.799253479630099]
[null,null,null,null,null,null,null,null,null,null,null,null,1.4909408804637601,1.64870205013976,null,3.8783810620410102,6.6144578345974896,9.7296757878878193,22.646774487665301]
[null,null,null,null,null,null,null,null,null,null,null,null,1.49841763561737,1.65671625378587,null,3.8964803389706399,6.6463527584627,9.8179014599163903,22.8493978164216]
[null,null,null,null,null,null,null,null,null,null,null,null,1.4987068472402301,1.6640968044516899,null,3.92924636185418,6.6581095258693201,9.9908257999742496,23.365184011568498]
[null,null,null,null,null,null,null,null,null,null,null,null,1.4968724037694501,1.66936926555011,null,3.9565958411550302,6.6715827551386298,10.085573607787399,23.668222612037098]
[null,null,null,null,null,null,null,null,null,null,null,null,1.5040199739645099,1.6934475482614799,null,4.0253005210882602,6.75716620320543,10.34393895709,24.385102436738698]
[null,null,null,null,null,null,null,null,null,null,null,null,1.5077764760261101,1.6958397047957601,null,4.0357147771127,6.7596293733683197,10.3961483043686,24.528245220611499]
[null,null,null,null,null,null,null,null,null,null,null,null,1.51267621319003,1.6891396492965201,null,4.0546335485123501,6.7438688521733496,10.512872699558599,24.803568564290899]
[null,null,null,null,null,null,null,null,null,null,null,null,1.5127930322785199,1.68414960760163,null,4.0595258310296298,6.7449833379734603,10.5706479226751,24.923330930235601]
[null,null,null,null,null,null,null,null,null,null,null,null,1.4991700766159299,1.6636835844396101,null,4.0384568639702598,6.75859178082972,10.609182161323499,25.2020000302306]
[null,null,null,null,null,null,null,null,null,null,null,null,1.49421692886894,1.65715676013327,null,4.03328805371501,6.76029911199387,10.6478584403848,25.391121991017201]
[null,null,null,null,null,null,null,null,null,null,null,null,1.4951868118253999,1.6485679493088199,null,4.0251657926815101,6.7835356548190902,10.8343516687647,25.827273209908601]
[null,null,null,null,null,null,null,null,null,null,null,null,1.4975481121141301,1.64004736980029,null,4.0144818961513398,6.7966176130308504,10.9059176561996,25.9444700531878]
[null,null,null,null,null,null,null,null,null,null,null,null,1.49683798001033,1.6274648318673499,null,4.0067622911543701,6.8017847965045597,10.930506823917,25.9856969051372]
[null,null,null,null,null,null,null,null,null,null,null,null,1.49355909784218,1.61559162234608,null,4.0113050354829296,6.8035512573892198,10.924697760130901,25.9821764556715]
[null,null,null,null,null,null,null,null,null,null,null,null,1.4895738653072901,1.6086128987461299,null,4.02600636844753,6.80171227400663,10.937211726294599,26.0354177049926]
[null,null,null,null,null,null,null,null,null,null,null,null,1.48535108806315,1.6056675380985099,null,4.0371848095869396,6.7873027049635102,10.994088992916801,26.1865804409566]
[null,null,null,null,null,null,null,null,null,null,null,null,1.4794011886759999,1.6030524972553799,null,4.0407042822942003,6.7523916215051401,11.0698446235511,26.375832787131699]
[null,null,null,null,null,null,null,null,null,null,null,null,1.4729600533604901,1.6001835575330301,null,4.0483865762779896,6.7120288533241599,11.1541957789865,26.5659045428533]
[null,null,null,null,null,null,null,null,null,null,null,null,1.47106178470393,1.6019953628002801,null,4.0731273718215704,6.69822354813265,11.2430884739275,26.743966376213201]
[null,null,null,null,null,null,null,null,null,null,null,null,1.47821432689368,1.6128922556345899,null,4.1194764713646297,6.7264719090346397,11.328891448668999,26.905184316266801]
[null,null,null,null,null,null,null,null,null,null,null,null,1.4945570732155999,1.63278133699378,null,4.1820918603971799,6.7887025949718804,11.425278981490701,27.0858330431616]
[null,null,null,null,null,null,null,null,null,null,null,null,1.51530659484028,1.6584174507401901,null,4.2465323914834903,6.8679998320751103,11.551711133235401,27.335926656533001]
[null,null,null,null,null,null,null,null,null,null,null,null,1.5354840163929599,1.6849871827321301,null,4.3026010173427798,6.9458251538481104,11.700436863934099,27.643589587026799]
[null,null,null,null,null,null,null,null,null,null,null,null,1.5510199233177899,1.70586309380243,null,4.34053687737293,7.0157853771536303,11.8670587930349,28.054829065894999]
[null,null,null,null,null,null,null,null,null,null,null,null,1.5600232817594799,1.7153376428304601,null,4.3578180272422999,7.0681210686851701,12.024233330348901,28.573768411818001]
[null,null,null,null,null,null,null,null,null,null,null,null,1.5625923252321301,1.7123367451460201,null,4.3609737823930397,7.0903753439245101,12.149148877506899,29.113141696676099]
[null,null,null,null,null,null,null,null,null,null,null,null,1.56091688677034,1.69885698327613,null,4.3679758943432399,7.0845874590323596,12.2442463342525,29.6086863976359]
[null,null,null,null,null,null,null,null,null,null,null,null,1.56009768139058,1.68315949880285,null,4.38779627890976,7.0730181206253304,12.3371051096013,29.985406755703998]
[null,null,null,null,null,null,null,null,null,null,null,null,1.5628613172863,1.6725970590280701,null,4.4157296558360297,7.0743686183098298,12.438025401787,30.149259368129499]
[null,null,null,null,null,null,null,null,null,null,null,null,1.5691348159584899,1.67141349967812,null,4.4420070935238796,7.0924424511542998,12.5373827956426,30.108468203228799]
[null,null,null,null,null,null,null,null,null,null,null,null,1.57541347211635,1.67820327571836,null,4.4607346858998298,7.1250318294363897,12.603309764008999,29.979370815163801]
[null,null,null,null,null,null,null,null,null,null,null,null,1.57925402480278,1.69208992081329,null,4.4815646706514096,7.1723034902960299,12.603950110458801,29.904765670351601]
[null,null,null,null,null,null,null,null,null,null,null,null,1.5790373422045501,1.7137987776772501,null,4.5175334060401404,7.2372844657212996,12.5654314617202,30.025123715362799]
[null,null,null,null,null,null,null,null,null,null,null,null,1.5738110023198,1.74264724174535,null,4.5584238768042296,7.3129581607496803,12.550196619015599,30.410186084329599]
[null,null,null,null,null,null,null,null,null,null,null,null,1.5626006357703399,1.7690271329715499,null,4.5896928581525902,7.3620650095112001,12.565232289906101,30.872258956801801]
[null,null,null,null,null,null,null,null,null,null,null,null,1.54719385854255,1.7803064518706599,null,4.5984524060397796,7.3530578593897902,12.6057092182515,31.205844043049598]
[null,null,null,null,null,null,null,null,null,null,null,null,1.53131081556605,1.7679864001726799,null,4.5731933728119403,7.2799735664341902,12.661679949098099,31.3311046009416]
[null,null,null,null,null,null,null,null,null,null,null,null,1.5166880760342301,1.73486649104951,null,4.5060055674907202,7.1485279270120596,12.692514149146801,31.222116952373099]
[null,null,null,null,null,null,null,null,null,null,null,null,1.5022992553336501,1.68756003087372,null,4.3997558082937003,6.9731400307061104,12.642745934135601,30.937138351963299]
[null,null,null,null,null,null,null,null,null,null,null,null,1.48433481981934,1.63166374849818,null,4.2819131442569098,6.7619201502611697,12.469891519620999,30.507904592214999]
[null,null,null,null,null,null,null,null,null,null,null,null,1.46239831878586,1.5752909336861101,null,4.1900240532714603,6.5386995488260702,12.2111177726243,30.0203029905663]
[null,null,null,null,null,null,null,null,null,null,null,null,1.4428130746955701,1.5337476274145201,null,4.1543205732695698,6.3511051848992501,11.963902106151799,29.5920126816698]
[null,null,null,null,null,null,null,null,null,null,null,null,1.4333284586118,1.5157855617104401,null,4.1676512184721597,6.2513668591330598,11.8179312305372,29.434523640368599]
[null,null,null,null,null,null,null,null,null,null,null,null,1.4367206738695899,1.51947292928051,null,4.2020636496913202,6.2549407341569099,11.769174448922699,29.576739892326099]
[null,null,null,null,null,null,null,null,null,null,null,null,1.44704685712958,1.53141034642943,null,4.2314557677056097,6.3279086027426699,11.749311538217601,29.9266666575272]
[null,null,null,null,null,null,null,null,null,null,null,null,1.4565756590963099,1.54006980735431,null,4.2420636803922402,6.4163228001167001,11.7098939359627,30.3559865637813]
[null,null,null,null,null,null,null,null,null,null,null,null,1.46082068060186,1.53973570932328,null,4.2274906632658702,6.4745622667028302,11.645101122097699,30.812533602238801]
[null,null,null,null,null,null,null,null,null,null,null,null,1.4586793498513499,1.52943703958011,null,4.1876436749285402,6.4759320311442403,11.572590489799,31.2444434755479]
[null,null,null,null,null,null,null,null,null,null,null,null,1.45089992072017,1.51074651037188,null,4.1194612722822601,6.4173073264981202,11.503660171448599,31.584134358866699]
[null,null,null,null,null,null,null,null,null,null,null,null,1.4366782746183799,1.4865633776951199,null,4.0317732373084398,6.3039570436280403,11.4113287600799,31.739649491781101]
[null,null,null,null,null,null,null,null,null,null,null,null,1.4183270855796699,1.4628358510345201,null,3.94335649315865,6.16741741391502,11.282863595975501,31.682005645118]
[null,null,null,null,null,null,null,null,null,null,null,null,1.39910262116609,1.4456858851696299,null,3.8887462014611698,6.0548596157864996,11.1516263427095,31.542033666997401]
[null,null,null,null,null,null,null,null,null,null,null,null,1.38487464770201,1.4429062521147,null,3.8888380500437001,6.0188869734494999,11.0937110036842,31.5537458628623]
[null,null,null,null,null,null,null,null,null,null,null,null,1.38053489607623,1.4595435623847199,null,3.92955196359783,6.0846029992443098,11.156799768132499,31.830305641237]
[null,null,null,null,null,null,null,null,null,null,null,null,1.38329709927638,1.48769426203503,null,3.9788165517184502,6.2207592973861399,11.304145821839301,32.279235513476401]
[null,null,null,null,null,null,null,null,null,null,null,null,1.3884024405306601,1.5160066160049701,null,4.0098399045646902,6.3725231017683299,11.4540116082542,32.575161307499997]
[null,null,null,null,null,null,null,null,null,null,null,null,1.3910070291236201,1.5372906963980499,null,4.0204065895027004,6.5041961295512101,11.5289460325333,32.444222138329103]
[null,null,null,null,null,null,null,null,null,null,null,null,1.39128469750161,1.5532941688716699,null,4.0196745002594101,6.6014659426408802,11.5513788048005,31.8379107110819]
[null,null,null,null,null,null,null,null,null,null,null,null,1.3924939436192201,1.56675670952881,null,4.01060988022118,6.6608597307489799,11.582742785001299,31.015717096431199]
[null,null,null,null,null,null,null,null,null,null,null,null,1.3951956093397899,1.57476116751738,null,3.9874124981974601,6.67101800674134,11.6480599852233,30.322435384820501]
[null,null,null,null,null,null,null,null,null,null,null,null,1.3985897328702399,1.57293037387664,null,3.9409817166670398,6.6267365699250398,11.6853159302373,29.912771858167599]
[null,null,null,null,null,null,null,null,null,null,null,null,1.3978337438537001,1.5569274104497,null,3.8746969550529902,6.5284306619520596,11.612429249943199,29.780728755853001]
[null,null,null,null,null,null,null,null,null,null,null,null,1.39120388563993,1.52867170745341,null,3.8054947356484901,6.39928552599069,11.4046879049181,29.7376230378926]
[null,null,null,null,null,null,null,null,null,null,null,null,1.38086246834799,1.49746435338732,null,3.7557577167574299,6.27632856679939,11.127462234597701,29.689693586718199]
[null,null,null,null,null,null,null,null,null,null,null,null,1.3715664032019399,1.4731161065040701,null,3.74118527434312,6.1931108073605596,10.889051060301201,29.653243586397998]
[null,null,null,null,null,null,null,null,null,null,null,null,1.36874065822236,1.4627678285383501,null,3.7506246346212699,6.1679677088331601,10.7516567068231,29.651648881545899]
[null,null,null,null,null,null,null,null,null,null,null,null,1.37161446268413,1.4651710809723,null,3.7699102804460098,6.1818674131644196,10.714469946071601,29.597718494938199]
[null,null,null,null,null,null,null,null,null,null,null,null,1.37819366042969,1.4764555810678199,null,3.7934122740741301,6.2110538928616199,10.7516555562266,29.403154541607599]
[null,null,null,null,null,null,null,null,null,null,null,null,1.38665394629924,1.49276760547901,null,3.8319244036206799,6.25515639380908,10.8213973748864,29.124767409667001]
[null,null,null,null,null,null,null,null,null,null,null,null,1.3986323299482899,1.51450924727188,null,3.88992370131619,6.3331175819023899,10.9091024079062,28.929615949472399]
[null,null,null,null,null,null,null,null,null,null,null,null,1.4149299383224001,1.54059927856253,null,3.9651489568025502,6.4527317593182101,11.0054617700519,28.939704779918099]
[null,null,null,null,null,null,null,null,null,null,null,null,1.43291869178036,1.56806161510438,null,4.04538667312631,6.6003641034354201,11.139307069049,29.2107574334633]
[null,null,null,null,null,null,null,null,null,null,null,null,1.4490236467158899,1.5948369777528699,null,4.1158685967092703,6.7540301470716901,11.3242810167377,29.679373958715399]
[null,null,null,null,null,null,null,null,null,null,null,null,1.4608079478451701,1.6180754032437299,null,4.1679132901531402,6.8913891166016397,11.5421484399861,30.223739043726798]
[null,null,null,null,null,null,null,null,null,null,null,null,1.46948588521239,1.6369164217430301,null,4.1920116634087803,7.0044093479394398,11.7610409489885,30.701589080097602]
[null,null,null,null,null,null,null,null,null,null,null,null,1.4768441681412301,1.65032028833627,null,4.1829525986036096,7.0823421562459803,11.945151477791599,31.045447255164898]
[null,null,null,null,null,null,null,null,null,null,null,null,1.48415618589592,1.6562789964642499,null,4.1497403063553797,7.1140946377001404,12.081666066906299,31.248437883411899]
[null,null,null,null,null,null,null,null,null,null,null,null,1.4929014430585801,1.6574035728112899,null,4.1233797082657597,7.1131490241110802,12.1595579950569,31.368494781655599]
[null,null,null,null,null,null,null,null,null,null,null,null,1.5043744132730299,1.65989852517942,null,4.1433190473517101,7.1166556012445197,12.229931632249,31.566868688741899]
[null,null,null,null,null,null,null,null,null,null,null,null,1.51850565773063,1.66934208040293,null,4.22537329253813,7.1664041868860897,12.380803310763,32.059916894182997]
[null,null,null,null,null,null,null,null,null,null,null,null,1.53396092507683,1.6865272199276899,null,4.3484145695805401,7.2712783581285496,12.6495128190224,32.836258476974201]
[null,null,null,null,null,null,null,null,null,null,null,null,1.5491283181897499,1.7075786438655201,null,4.4683590474669899,7.4014055070422602,12.9931134631391,33.677695944180599]
[null,null,null,null,null,null,null,null,null,null,null,null,1.56092729845081,1.7264541450747199,null,4.5509946685256102,7.5125298622861303,13.316023161989801,34.320970789943303]
[null,null,null,null,null,null,null,null,null,null,null,null,1.5669283035074499,1.7388551525099001,null,4.5865654934896902,7.5754858139836703,13.5638930836173,34.675473858606303]
[null,null,null,null,null,null,null,null,null,null,null,null,1.56595148915218,1.7434621832657999,null,4.5816069050326798,7.5866999790804801,13.711676810763301,34.765511907302702]
[null,null,null,null,null,null,null,null,null,null,null,null,1.55952986972017,1.74053883682369,null,4.5498080384953301,7.5583089284132603,13.7551574799822,34.669072688371003]
[null,null,null,null,null,null,null,null,null,null,null,null,1.5493409758916199,1.73095856005993,null,4.5067972046940303,7.5011510350992499,13.7045450012864,34.474386043207502]
[null,null,null,null,null,null,null,null,null,null,null,null,1.5370752024630201,1.71680303228848,null,4.4730427049355397,7.43488322219957,13.6042340534499,34.333071165597701]
[null,null,null,null,null,null,null,null,null,null,null,null,1.5264195914514,1.70376783522094,null,4.4593042956322302,7.3860385984879402,13.518312824436901,34.342061818925103]
[null,null,null,null,null,null,null,null,null,null,null,null,1.52051865171561,1.69734162148572,null,4.4667912377369001,7.3777121586397598,13.4828640651314,34.482616625379698]
[null,null,null,null,null,null,null,null,null,null,null,null,1.52040872413081,1.6988931711994,null,4.4880989409026402,7.4144788993936297,13.5114963311716,34.721004244010501]
[null,null,null,null,null,null,null,null,null,null,null,null,1.52385910397862,1.70399356889406,null,4.5077405646011197,7.4784568554930404,13.5920892844935,35.041606616368497]
[null,null,null,null,null,null,null,null,null,null,null,null,1.5271892975921,1.70773909866318,null,4.51795271776761,7.5358561175107797,13.6676662469162,35.296885592093503]
[null,null,null,null,null,null,null,null,null,null,null,null,1.52872139020311,1.70805758755679,null,4.5207841846331904,7.5630575973274698,13.7043353172928,35.415531284292697]
[null,null,null,null,null,null,null,null,null,null,null,null,1.5293736012260699,1.7074902886824499,null,4.5186787832110804,7.5621344284662104,13.707832011533,35.432551441053]
[null,null,null,null,null,null,null,null,null,null,null,null,1.5305622628853599,1.7080326500526199,null,4.5103257371264203,7.5435754262652699,13.7004807470042,35.428168398706397]
[null,null,null,null,null,null,null,null,null,null,null,null,1.53240327279151,1.70941263521088,null,4.4952464656161801,7.5156311904582997,13.6796340655831,35.4100862789372]
[null,null,null,null,null,null,null,null,null,null,null,null,1.5341747507868,1.71033569181649,null,4.4737904688175902,7.4862449644461604,13.6389101898123,35.365883053918303]
[null,null,null,null,null,null,null,null,null,null,null,null,1.5346567162440801,1.7094195798014999,null,4.4533047205409098,7.4541985133540196,13.5847291486609,35.309047933942502]
[null,null,null,null,null,null,null,null,null,null,null,null,1.5333005343767701,1.7054249679692599,null,4.4427863030232597,7.4237338373824002,13.568792028601401,35.386277412803103]
[null,null,null,null,null,null,null,null,null,null,null,null,1.5307767219708699,1.6984924720077601,null,4.4457165837866901,7.3968432739326602,13.630760602090501,35.688868350081997]
[null,null,null,null,null,null,null,null,null,null,null,null,1.5273916789133299,1.68917110538285,null,4.46516881927238,7.3738933106630196,13.774586598487,36.181171714956697]
[null,null,null,null,null,null,null,null,null,null,null,null,1.52330389237492,1.6800190231123899,null,4.4986638355391104,7.3588118958829902,13.9939159481304,36.838800677235]
[null,null,null,null,null,null,null,null,null,null,null,null,1.5190108918813101,1.67517337657068,null,4.53505299272868,7.3597218447569803,14.279325688959,37.579455163532401]
[null,null,null,null,null,null,null,null,null,null,null,null,1.5152873799774,1.6777939735810901,null,4.5601693577576103,7.3803173827461901,14.5719811072042,38.160646733474302]
[null,null,null,null,null,null,null,null,null,null,null,null,1.5128249853687501,1.6869220005546901,null,4.5660909920144199,7.4142166427255702,14.786167104592201,38.358986890473503]
[null,null,null,null,null,null,null,null,null,null,null,null,1.51119255186646,1.69821390112438,null,4.5511025015366204,7.4517376087335903,14.8707063436647,38.196320058071798]
[null,null,null,null,null,null,null,null,null,null,null,null,1.5083335848986601,1.70539308071934,null,4.5154438276262798,7.4790076999495199,14.818962581364101,37.8776310050742]
[null,null,null,null,null,null,null,null,null,null,null,null,1.50291020652551,1.7051462255995,null,4.4627388545316604,7.4861093800465603,14.6535796797631,37.501958888618901]
[null,null,null,null,null,null,null,null,null,null,null,null,1.4945730832656801,1.6985086655941699,null,4.4028952358879598,7.4697588173427603,14.412287641043701,37.015671989631699]
[null,null,null,null,null,null,null,null,null,null,null,null,1.48449619966933,1.68792974427653,null,4.3557127598212402,7.4347424361189196,14.1607688159538,36.381690601840901]
[null,null,null,null,null,null,null,null,null,null,null,null,1.4755881247292799,1.67724135494089,null,4.3370088821208403,7.3968010641998303,13.9847640018685,35.785881982389199]
[null,null,null,null,null,null,null,null,null,null,null,null,1.4712858869382699,1.6714220587197299,null,4.3445378700920996,7.3750843064113596,13.922963818069199,35.438594375247497]
[null,null,null,null,null,null,null,null,null,null,null,null,1.47286216795584,1.6720635471779199,null,4.3656219870823803,7.3807034090684196,13.9309851889025,35.351352193948202]
[null,null,null,null,null,null,null,null,null,null,null,null,1.4784754934238,1.6771722833610201,null,4.3880902615470099,7.4120297464783,13.946352787376201,35.461003835223998]
[null,null,null,null,null,null,null,null,null,null,null,null,1.48471300263245,1.6829841618830299,null,4.4049936504764897,7.4563859217981996,13.960880933161301,35.770257083584802]
[null,null,null,null,null,null,null,null,null,null,null,null,1.4892457192819499,1.6858306923183899,null,4.4126183775920298,7.4998730754260698,14.0070260520483,36.277770516810897]
[null,null,null,null,null,null,null,null,null,null,null,null,1.4907166530445299,1.68406250608233,null,4.4115651790043398,7.5282446171898103,14.079301069029199,36.856490246269097]
[null,null,null,null,null,null,null,null,null,null,null,null,1.4883410445274901,1.6758262810735201,null,4.4039385243997602,7.5371693360957304,14.1665043785931,37.389200495231002]
[null,null,null,null,null,null,null,null,null,null,null,null,1.48081760889148,1.6611665231916399,null,4.3930474783553404,7.5251508199213202,14.256685131791199,37.844376977016701]
[null,null,null,null,null,null,null,null,null,null,null,null,1.46880034171408,1.6427771752937099,null,4.3821457974219404,7.4961949445353397,14.359433940142999,38.137282078712303]
[null,null,null,null,null,null,null,null,null,null,null,null,1.4564735815485399,1.62881624126368,null,4.3706829722560396,7.4638529822948403,14.460028917487801,38.1401190933029]
[null,null,null,null,null,null,null,null,null,null,null,null,1.4484122702162501,1.6237268174886299,null,4.3555480500448702,7.4383645217184098,14.518280826550701,37.887059505231498]
[null,null,null,null,null,null,null,null,null,null,null,null,1.4469645096225401,1.6254750372873601,null,4.3184139849136098,7.42152744483161,14.478312055274699,37.541740060230197]
[null,null,null,null,null,null,null,null,null,null,null,null,1.4470652651587801,1.6258095210327399,null,4.2439095734438999,7.3786955276857,14.297810203582401,37.186716834012202]
[null,null,null,null,null,null,null,null,null,null,null,null,1.4415747502187699,1.6140040240792,null,4.1339264193595104,7.2751154006811802,13.9780498272077,36.7091932069861]
[null,null,null,null,null,null,null,null,null,null,null,null,1.42631501951952,1.5887345608827901,null,4.0143745253032597,7.1075380504899703,13.583234260394899,36.037697559823599]
[null,null,null,null,null,null,null,null,null,null,null,null,1.4025539527019599,1.55578817623174,null,3.9073490803223101,6.9089920568109298,13.2340976046194,35.336261465150898]
[null,null,null,null,null,null,null,null,null,null,null,null,1.37431268486055,1.5209518157314701,null,3.8315588323240202,6.7247294129873598,13.0205087334348,34.899024443495101]
[null,null,null,null,null,null,null,null,null,null,null,null,1.3484589845842001,1.4899298511745001,null,3.79805427223162,6.5938606672274904,12.957324485312,34.894413398060003]
[null,null,null,null,null,null,null,null,null,null,null,null,1.33220262840628,1.46730126629058,null,3.8204747130965102,6.54167764164358,12.9999257821688,35.2408544712059]
[null,null,null,null,null,null,null,null,null,null,null,null,1.33200163358778,1.46121854365196,null,3.9056502283524202,6.5844536329951104,13.134533544754699,35.828096249864601]
[null,null,null,null,null,null,null,null,null,null,null,null,1.34993829051237,1.4767117064572399,null,4.0414158440775498,6.7203202860820399,13.3829232288795,36.623590361078698]
[null,null,null,null,null,null,null,null,null,null,null,null,1.3819872089957199,1.5122540237620199,null,4.1913570307605399,6.9242104082284497,13.7487086343085,37.557715457942798]
[null,null,null,null,null,null,null,null,null,null,null,null,1.41800534492118,1.5568847898572,null,4.3204339599751398,7.1406794262534197,14.159970873222299,38.547710891923899]
[null,null,null,null,null,null,null,null,null,null,null,null,1.4490662775879799,1.59781574916393,null,4.4063969139042598,7.3287596201283902,14.508432764397201,39.418546671244798]
[null,null,null,null,null,null,null,null,null,null,null,null,1.46926955420316,1.62663517904721,null,4.4491914083950697,7.4632979592689104,14.728650229870199,40.022947277035101]
[null,null,null,null,null,null,null,null,null,null,null,null,1.47933732201932,1.63967330004545,null,4.4534418810631999,7.5443097338293903,14.827983744639001,40.247715254706399]
[null,null,null,null,null,null,null,null,null,null,null,null,1.4815722978195001,1.63896984773257,null,4.4266776050893704,7.5788120178911198,14.8159144380925,40.090556218436298]
[null,null,null,null,null,null,null,null,null,null,null,null,1.4778783906870101,1.62846881685964,null,4.3772274104088904,7.5701567007969999,14.7173292930611,39.633523959990903]
[null,null,null,null,null,null,null,null,null,null,null,null,1.4681467474407699,1.6140800641713,null,4.3310160321615001,7.5305959382881502,14.5494946434412,39.114883224519197]
[null,null,null,null,null,null,null,null,null,null,null,null,1.4558715587950399,1.60420074890818,null,4.3060805948736798,7.4928211884968299,14.3841416783961,38.878007873332599]
[null,null,null,null,null,null,null,null,null,null,null,null,1.44580574344171,1.6026230117109801,null,4.3027122028612199,7.4783315270960404,14.260612121442801,39.006455692920198]
[null,null,null,null,null,null,null,null,null,null,null,null,1.44103256874092,1.6069212812199101,null,4.3049282217165201,7.4874580186059498,14.185239469714601,39.302699659207299]
[null,null,null,null,null,null,null,null,null,null,null,null,1.4411529998102699,1.6098534184414399,null,4.2959417328241001,7.5018069753027197,14.1225279890477,39.506978306375103]
[null,null,null,null,null,null,null,null,null,null,null,null,1.4437151148165599,1.6076867445073999,null,4.26897542614996,7.5063098127181798,14.038858087584501,39.386147079783001]
[null,null,null,null,null,null,null,null,null,null,null,null,1.4460051571604999,1.6019132173370301,null,4.23158645714207,7.4923630841772404,13.917399332732201,38.874611135791298]
[null,null,null,null,null,null,null,null,null,null,null,null,1.44746761945452,1.59846120193185,null,4.1992599674692697,7.4673710308312504,13.7763408126296,38.075729409203902]
[null,null,null,null,null,null,null,null,null,null,null,null,1.4482087044390599,1.60104133617417,null,4.1881277689509302,7.4411278790137398,13.666228959021501,37.267753609589299]
[null,null,null,null,null,null,null,null,null,null,null,null,1.4491562202436199,1.61012467472772,null,4.2031767068777803,7.4236924746761197,13.661135156249699,36.807575477013003]
[null,null,null,null,null,null,null,null,null,null,null,null,1.4502214075936299,1.62296052199815,null,4.23578319612343,7.4213284353733098,13.768954090876001,36.879395377747898]
[null,null,null,null,null,null,null,null,null,null,null,null,1.4506509150796201,1.63521882560774,null,4.2699420153369303,7.4297647786181704,13.951757948708799,37.491276331741801]
[null,null,null,null,null,null,null,null,null,null,null,null,1.4500845143899299,1.64350810508058,null,4.2896576211279198,7.44086617325648,14.131028074269601,38.408885473586501]
[null,null,null,null,null,null,null,null,null,null,null,null,1.4484961295307901,1.64597466211051,null,4.2882978403792498,7.4395095737349699,14.2525585274793,39.274429766754601]
[null,null,null,null,null,null,null,null,null,null,null,null,1.4459274704185601,1.6407006425022199,null,4.26761311648937,7.4161994768608297,14.3139710329729,39.8027122270341]
[null,null,null,null,null,null,null,null,null,null,null,null,1.4420359973878301,1.62821570852251,null,4.2249584314129098,7.37305126416965,14.3444875788477,39.910668629437801]
[null,null,null,null,null,null,null,null,null,null,null,null,1.43265622487241,1.61009992031244,null,4.1637559332123102,7.3152519373992302,14.330691064205901,39.651097129737103]
[null,null,null,null,null,null,null,null,null,null,null,null,1.4163482499332101,1.5899776205434499,null,4.0905264590789399,7.2558464964851499,14.241655936397899,39.1460035937342]
[null,null,null,null,null,null,null,null,null,null,null,null,1.3942342087630299,1.5744065672741701,null,4.0286954206517098,7.2075540345619604,14.064383569654,38.511996753870498]
[null,null,null,null,null,null,null,null,null,null,null,null,1.3728374565271599,1.5712225671122799,null,4.0025292576989902,7.1864502380270796,13.860292500664199,37.995812985156498]
[null,null,null,null,null,null,null,null,null,null,null,null,1.36043539944002,1.58306677696829,null,4.0241010079472899,7.2038487436044196,13.7283459316261,37.820148714746097]
[null,null,null,null,null,null,null,null,null,null,null,null,1.36223630458481,1.6051561752243699,null,4.0809698199784803,7.2596789429553503,13.743312745714499,38.072651752817201]
[null,null,null,null,null,null,null,null,null,null,null,null,1.37639721050974,1.6276494708867899,null,4.1476241447433697,7.3366372328654297,13.878651328674,38.584488306715897]
[null,null,null,null,null,null,null,null,null,null,null,null,1.3949570547030801,1.64273319825106,null,4.2045319010895703,7.4082135187741098,14.05693351495,39.172880768159899]
[null,null,null,null,null,null,null,null,null,null,null,null,1.41068574119221,1.64969172263368,null,4.24531075895759,7.4639766069285001,14.2095227209482,39.704876521654597]
[null,null,null,null,null,null,null,null,null,null,null,null,1.42131765204552,1.6529784271994601,null,4.2726507646193097,7.50732810982249,14.3199063789106,40.116913013545101]
[null,null,null,null,null,null,null,null,null,null,null,null,1.4280447961618701,1.65556422178247,null,4.2928405447895397,7.54984164963005,14.401852123214301,40.385823846033702]
[null,null,null,null,null,null,null,null,null,null,null,null,1.43417993100071,1.6578076318334101,null,4.3024180323104897,7.5979251255853102,14.4760603192458,40.534868228378301]
[null,null,null,null,null,null,null,null,null,null,null,null,1.4388019835067301,1.65892589006344,null,4.3028111760060197,7.6414389048328504,14.519096140756799,40.524836727179299]
[null,null,null,null,null,null,null,null,null,null,null,null,1.44182623154176,1.6579663408402301,null,4.2933011665174403,7.6711565853540202,14.5129427387782,40.308573953375301]
[null,null,null,null,null,null,null,null,null,null,null,null,1.4427686335241401,1.65589633560649,null,4.2797898100129803,7.6864109088667201,14.460923453650199,39.869085737275597]
[null,null,null,null,null,null,null,null,null,null,null,null,1.44233192760018,1.6533762652419,null,4.2666698663837996,7.6932413030097599,14.3946579630428,39.3548924630824]
[null,null,null,null,null,null,null,null,null,null,null,null,1.4412198551512101,1.6493742784868599,null,4.2589236377102502,7.6996846134124697,14.3469262459475,38.995925884084002]
[null,null,null,null,null,null,null,null,null,null,null,null,1.44002029732978,1.6411487028257601,null,4.2582610653811201,7.70696375648299,14.3449823779253,38.976386538519201]
[null,null,null,null,null,null,null,null,null,null,null,null,1.43887860848453,1.6288522596717301,null,4.2614112878590902,7.7179126655379298,14.387691346783701,39.309155972917999]
[null,null,null,null,null,null,null,null,null,null,null,null,1.4369323561801099,1.6140806001138099,null,4.2618754161798504,7.7210411026199601,14.4574828706257,39.801478543751699]
[null,null,null,null,null,null,null,null,null,null,null,null,1.43299247906319,1.60221038994521,null,4.2531676852002702,7.7071950378602203,14.514183442824001,40.164706856866701]
[null,null,null,null,null,null,null,null,null,null,null,null,1.4263328153072199,1.5968847573287801,null,4.2334237085515101,7.6685349466725903,14.523427978908,40.272403702904697]
[null,null,null,null,null,null,null,null,null,null,null,null,1.4179721213435199,1.5976867923406699,null,4.20210960549612,7.6091420246483299,14.473535167780399,40.2042746214942]
[null,null,null,null,null,null,null,null,null,null,null,null,1.40929600259814,1.5979404069782699,null,4.1566638717178801,7.5347512865187198,14.378395072309001,40.122728275506198]
[null,null,null,null,null,null,null,null,null,null,null,null,1.4002313514812701,1.5903511146236,null,4.0997694253921102,7.4468812973305196,14.2515612781029,40.070419600186099]
[null,null,null,null,null,null,null,null,null,null,null,null,1.39041698344553,1.57301581810919,null,4.0453836402117602,7.3490961300931597,14.108115469606799,39.990713239926897]
[null,null,null,null,null,null,null,null,null,null,null,null,1.38092616497409,1.5522107436256001,null,4.0131072382712603,7.2628446379704297,13.983040987622401,39.873258620217001]
[null,null,null,null,null,null,null,null,null,null,null,null,1.3740176178367101,1.53607314761196,null,4.0101599377080603,7.2123171291457799,13.921845638278,39.823234198784697]
[null,null,null,null,null,null,null,null,null,null,null,null,1.37075207096181,1.5295327449456699,null,4.0177794657087702,7.2070059438825798,13.939242546419999,39.873856977150403]
[null,null,null,null,null,null,null,null,null,null,null,null,1.3681346837552,1.5284647510479199,null,4.0158459475646602,7.2130005183029802,13.988341073220999,39.909826177487098]
[null,null,null,null,null,null,null,null,null,null,null,null,1.3630624903889901,1.527445368562,null,4.0016634825021598,7.2047003747467002,14.0060383907107,39.841652864647003]
[null,null,null,null,null,null,null,null,null,null,null,null,1.3566157078730801,1.52326873764004,null,3.9924843047201999,7.1777172280300201,13.9814255044358,39.748338103212298]
[null,null,null,null,null,null,null,null,null,null,null,null,1.35327078470288,1.5189245031444301,null,4.0075119202456904,7.1588399697011598,13.950819992433001,39.778694185600401]
[null,null,null,null,null,null,null,null,null,null,null,null,1.3572560542118499,1.5184475147596199,null,4.0505879913220397,7.1774074820999001,13.9696314839231,40.024852457967597]
[null,null,null,null,null,null,null,null,null,null,null,null,1.36912763478266,1.52282256259029,null,4.1067832074672204,7.2378324462029502,14.0608479101661,40.423334674309302]
[null,null,null,null,null,null,null,null,null,null,null,null,1.38481468219816,1.5284130803373699,null,4.1586100077458203,7.3184877980882099,14.208050698697299,40.837428946086703]
[null,null,null,null,null,null,null,null,null,null,null,null,1.39920947927168,1.5292304624039701,null,4.1885958795810696,7.3924608342280802,14.382573586760399,41.172245767892498]
[null,null,null,null,null,null,null,null,null,null,null,null,1.4075505395376899,1.5233172164561599,null,4.1932116320229103,7.4327092904486598,14.536049473111101,41.352551215725804]
[null,null,null,null,null,null,null,null,null,null,null,null,1.40817725932263,1.5135047834816699,null,4.1752864664463596,7.4325248686723899,14.6085934256719,41.3323313277862]
[null,null,null,null,null,null,null,null,null,null,null,null,1.4020693215259801,1.5044047366200299,null,4.1455294870186501,7.3927643249714601,14.561296391136599,41.124899880892002]
[null,null,null,null,null,null,null,null,null,null,null,null,1.3922983441015,1.5005758871000601,null,4.1169669697558398,7.33482492791489,14.4302117268443,40.845158661842298]
[null,null,null,null,null,null,null,null,null,null,null,null,1.3826478618099101,1.5049005739558901,null,4.10368552609508,7.2856346536378798,14.313712473715601,40.658467342642197]
[null,null,null,null,null,null,null,null,null,null,null,null,1.37708275584784,1.51906527989989,null,4.11164695994088,7.2749560119114598,14.3007398003019,40.713974030591601]
[null,null,null,null,null,null,null,null,null,null,null,null,1.37829240543539,1.5409029394142399,null,4.1303235373433598,7.3102016810470403,14.409716903839801,41.030023390483301]
[null,null,null,null,null,null,null,null,null,null,null,null,1.3841819292575199,1.5650447737762501,null,4.1418278846582099,7.3705666847942002,14.552216768957599,41.391751336752698]
[null,null,null,null,null,null,null,null,null,null,null,null,1.3899648412061001,1.58498492353497,null,4.1349955389473996,7.4254268056077599,14.617570390502699,41.467837973979798]
[null,null,null,null,null,null,null,null,null,null,null,null,1.39168504609824,1.5962882044247599,null,4.1079158909140698,7.45260417546457,14.5584259478115,41.123419145464602]
[null,null,null,null,null,null,null,null,null,null,null,null,1.3873083059461,1.59759965091426,null,4.0684635686736499,7.4445525666736296,14.4073603520074,40.534399615831802]
[null,null,null,null,null,null,null,null,null,null,null,null,1.37796695106538,1.5886787052140801,null,4.0204128040665497,7.4030400928952496,14.230386138537201,40.028953535353899]
[null,null,null,null,null,null,null,null,null,null,null,null,1.3656071284979701,1.5729033854855601,null,3.9740912977659502,7.3329338071615,14.068294364958801,39.746735510204402]
[null,null,null,null,null,null,null,null,null,null,null,null,1.35364271794962,1.55557936734062,null,3.9374791204756701,7.2574562406500203,13.9380120325277,39.667465189667702]
[null,null,null,null,null,null,null,null,null,null,null,null,1.34491755305825,1.5397986743735499,null,3.9106101998289802,7.1955838174566198,13.8462143977486,39.703710496092199]
[null,null,null,null,null,null,null,null,null,null,null,null,1.3389390172592499,1.52484965725981,null,3.8858132464912298,7.1499183786338101,13.8041270566282,39.829270703233199]
[null,null,null,null,null,null,null,null,null,null,null,null,1.3336472271092199,1.5084849224616499,null,3.8593795242893898,7.1071232765649199,13.8014387742284,39.980554180881697]
[null,null,null,null,null,null,null,null,null,null,null,null,1.3282806247341801,1.4917756339797601,null,3.8329475124441599,7.06251572449428,13.8170326834707,40.094770992676501]
[null,null,null,null,null,null,null,null,null,null,null,null,1.3241440915326499,1.4761760651787299,null,3.8103369703887702,7.0199594955073099,13.8442955101251,40.148035625497002]
[null,null,null,null,null,null,null,null,null,null,null,null,1.3218064982200599,1.46236190976114,null,3.7926174507269299,6.9910701150752903,13.879215762851899,40.181054601600799]
[null,null,null,null,null,null,null,null,null,null,null,null,1.3200251863244501,1.44978538874173,null,3.7887217998640801,6.9731336128994403,13.923515542164701,40.224240326364203]
[null,null,null,null,null,null,null,null,null,null,null,null,1.3191434754111599,1.4417320734002601,null,3.8149524707709301,6.9715710873236798,13.9995830063,40.332064620008502]
[null,null,null,null,null,null,null,null,null,null,null,null,1.3220008257963201,1.44395791879331,null,3.8767601353038099,7.0039872315153699,14.141826172245301,40.597829534858597]
[null,null,null,null,null,null,null,null,null,null,null,null,1.33038414869341,1.46016745418111,null,3.9599289872413399,7.0778969685474999,14.341364537480301,41.046432216069199]
[null,null,null,null,null,null,null,null,null,null,null,null,1.34258813402872,1.48697686566642,null,4.0401923449824402,7.1790239017878203,14.551231569777901,41.630583461955297]
[null,null,null,null,null,null,null,null,null,null,null,null,1.35450628268703,1.5151168898479199,null,4.0985828344691999,7.2788129106806103,14.716024658579499,42.270593689889999]
[null,null,null,null,null,null,null,null,null,null,null,null,1.36337461057695,1.5355249595732201,null,4.1315615461234403,7.3532849570727103,14.796511928592601,42.849374573295499]
[null,null,null,null,null,null,null,null,null,null,null,null,1.36923033117004,1.54492386097339,null,4.1446802999961001,7.3951724320932204,14.802034146671801,43.307019548172399]
[null,null,null,null,null,null,null,null,null,null,null,null,1.3734163016655501,1.5450311355144799,null,4.1462751578025401,7.4116508427710599,14.7623847448156,43.602829074093698]
[null,null,null,null,null,null,null,null,null,null,null,null,1.3764766903849099,1.54003018204169,null,4.1457959871720202,7.4122924730276996,14.715663972510299,43.768617375541297]
[null,null,null,null,null,null,null,null,null,null,null,null,1.3790614842645901,1.5337368873572099,null,4.1509287488349704,7.4106154444861296,14.706615910734699,43.868413057835198]
[null,null,null,null,null,null,null,null,null,null,null,null,1.3821710480284199,1.5301469948969899,null,4.1634442846396098,7.4211732763717002,14.7542667666012,43.957123601900904]
[null,null,null,null,null,null,null,null,null,null,null,null,1.3859518865179301,1.53169161291335,null,4.1797215111755603,7.4439973063462901,14.859175767478201,44.061246239050902]
[null,null,null,null,null,null,null,null,null,null,null,null,1.3892420745554901,1.53835829014934,null,4.1912166425181896,7.4697125664302604,14.9864480138004,44.156808020096697]
[null,null,null,null,null,null,null,null,null,null,null,null,1.39010467088499,1.5449702425424801,null,4.1905337968663003,7.4804074766606199,15.0831212419148,44.227107620170898]
[null,null,null,null,null,null,null,null,null,null,null,null,1.38695118238726,1.5462132066648,null,4.1775134933554403,7.4644668497108997,15.097340649031199,44.252168553629097]
[null,null,null,null,null,null,null,null,null,null,null,null,1.3806359157153101,1.54072906779005,null,4.1588414037285997,7.4226225492835196,15.0320661386809,44.264658161373802]
[null,null,null,null,null,null,null,null,null,null,null,null,1.37326907852457,1.5322892162970001,null,4.1439449484141901,7.3706638630476897,14.9295205049991,44.2891136202105]
[null,null,null,null,null,null,null,null,null,null,null,null,1.3675681600330201,1.5259181857656301,null,4.1324236650511104,7.3278421548186197,14.834476543512899,44.299455389398197]
[null,null,null,null,null,null,null,null,null,null,null,null,1.3643893428743199,1.5224588139816,null,4.1209470910434201,7.29598431744565,14.748899820847299,44.207412191719797]
[null,null,null,null,null,null,null,null,null,null,null,null,1.36347518259893,1.52074517518116,null,4.1053859238195498,7.2718599805878004,14.6547142020032,43.9226210576292]
[null,null,null,null,null,null,null,null,null,null,null,null,1.3638253314522499,1.5197487517299899,null,4.0919552202379297,7.2483261671835901,14.5413777583565,43.4477210080547]
[null,null,null,null,null,null,null,null,null,null,null,null,1.3658428236669,1.52031873414463,null,4.08344891296246,7.2333167230676603,14.452457530541,42.966487034543803]
[null,null,null,null,null,null,null,null,null,null,null,null,1.36875521415289,1.52399557820617,null,4.0788793035776498,7.2337192379816697,14.4158609419549,42.6629677246207]
[null,null,null,null,null,null,null,null,null,null,null,null,1.3711043113380099,1.53081735119646,null,4.07181623436054,7.2485680525819403,14.4326658140895,42.618408000479199]
[null,null,null,null,null,null,null,null,null,null,null,null,1.36989671460003,1.53934424488479,null,4.0561801558362296,7.2661025429981496,14.448192845864501,42.643609251148]
[null,null,null,null,null,null,null,null,null,null,null,null,1.3625306999071001,1.5468272408224999,null,4.0379561219191897,7.2720905877464999,14.4107853602723,42.4972536021275]
[null,null,null,null,null,null,null,null,null,null,null,null,1.3505744746894399,1.5527303417293601,null,4.0260492219161801,7.27103871735111,14.327072477232599,42.121422008302602]
[null,null,null,null,null,null,null,null,null,null,null,null,1.33872817335318,1.55716179778175,null,4.0166345791951201,7.2736286536800501,14.2484174869459,41.635429821703802]
[null,null,null,null,null,null,null,null,null,null,null,null,1.3302933913923101,1.5591619357597599,null,4.0031243099444396,7.2785886375091202,14.2054891110099,41.147982947774203]
[null,null,null,null,null,null,null,null,null,null,null,null,1.32663896876836,1.55825972420694,null,3.9793267336827798,7.2857793017612504,14.205176140174901,40.708229451225598]
[null,null,null,null,null,null,null,null,null,null,null,null,1.3252502569087901,1.55309695712162,null,3.95004305843102,7.28838903153411,14.231393947609,40.353427169362298]
[null,null,null,null,null,null,null,null,null,null,null,null,1.32416353258902,1.54507424429975,null,3.9215871635204702,7.2882733224486698,14.2591701142918,40.094253896171203]
[null,null,null,null,null,null,null,null,null,null,null,null,1.32243601281679,1.53633562109375,null,3.8878433984835299,7.2872285092148399,14.240501962561799,39.829134300611898]
[null,null,null,null,null,null,null,null,null,null,null,null,1.3190456447949499,1.52617190106656,null,3.8361728768163599,7.2698330216374796,14.1072995368517,39.301916196479098]
[null,null,null,null,null,null,null,null,null,null,null,null,1.31269871672571,1.5137220889338601,null,3.7630598873204102,7.2182345217902304,13.806594220987099,38.204326214968198]
[null,null,null,null,null,null,null,null,null,null,null,null,1.30213532028538,1.49707672343919,null,3.6839003263253902,7.1212640451899096,13.365253252132799,36.541543022821003]
[null,null,null,null,null,null,null,null,null,null,null,null,1.28784419321719,1.4772139771944901,null,3.6241404853980699,6.9951148705710802,12.888275421600101,34.723057469462198]
[null,null,null,null,null,null,null,null,null,null,null,null,1.2732881759376899,1.45778062279897,null,3.60668683335303,6.8776863463955502,12.515376156652801,33.350218241433801]
[null,null,null,null,null,null,null,null,null,null,null,null,1.2643622947040001,1.4456738108965701,null,3.6380785255674,6.8121397308156002,12.3375724281368,32.872661549829701]
[null,null,null,null,null,null,null,null,null,null,null,null,1.2650509494622699,1.4451696046139499,null,3.6960157301669998,6.8212843503051204,12.3595971349704,33.274167178132302]
[null,null,null,null,null,null,null,null,null,null,null,null,1.2726848674451601,1.4518394163108801,null,3.7535497410557599,6.8759861113994596,12.4891548858826,34.102181235404601]
[null,null,null,null,null,null,null,null,null,null,null,null,1.2821334611139701,1.45927485284853,null,3.7941837257848001,6.9334088116983299,12.620489024200101,34.838356122252797]
[null,null,null,null,null,null,null,null,null,null,null,null,1.28981869060447,1.46271931524216,null,3.8119219444049102,6.9661823726060996,12.6894722034098,35.207323029733097]
[null,null,null,null,null,null,null,null,null,null,null,null,1.2944000893435901,1.4606609729134199,null,3.8111743304906498,6.9655269938781901,12.6712538910201,35.150406387863796]
[null,null,null,null,null,null,null,null,null,null,null,null,1.2968997583181601,1.4553166581891599,null,3.7989638507017802,6.9379661998288,12.5611967972928,34.719209703865999]
[null,null,null,null,null,null,null,null,null,null,null,null,1.29823177571435,1.44945413009073,null,3.7954012238965298,6.8922885665681504,12.370021747030499,33.987446912824097]
[null,null,null,null,null,null,null,null,null,null,null,null,1.30232070186781,1.4491324891156701,null,3.8162644745812502,6.8560039682482099,12.1559101760466,33.1274612565037]
[null,null,null,null,null,null,null,null,null,null,null,null,1.3126279935779099,1.45715664718791,null,3.8612245773032501,6.8506006328971303,11.992264932087499,32.3828526810683]
[null,null,null,null,null,null,null,null,null,null,null,null,1.3291582303353999,1.47297488615948,null,3.9122308676436899,6.8794681708169403,11.9163570801229,31.933761426040299]
[null,null,null,null,null,null,null,null,null,null,null,null,1.34844991878539,1.49121094084285,null,3.9509187339965699,6.9238123615735097,11.8970984164506,31.726925091803]
[null,null,null,null,null,null,null,null,null,null,null,null,1.36536242063187,1.5076322081739499,null,3.9803103060601099,6.95705440082628,11.872121319892299,31.627950616255799]
[null,null,null,null,null,null,null,null,null,null,null,null,1.37784582443447,1.5223789621563,null,4.0220918426017001,6.9812864644079902,11.8354675245085,31.632985934397201]
[null,null,null,null,null,null,null,null,null,null,null,null,1.3884751350343401,1.5390542888837599,null,4.0983356069334702,7.0265552653826502,11.8475004989614,31.9198736465355]
[null,null,null,null,null,null,null,null,null,null,null,null,1.40062755363714,1.5617266416206601,null,4.2097346210678497,7.1232541846248498,11.966851828956599,32.629996237076597]
[null,null,null,null,null,null,null,null,null,null,null,null,1.4144293147131699,1.5877035338816801,null,4.3240309401529204,7.27391957841985,12.1952811021894,33.682114720286101]
[null,null,null,null,null,null,null,null,null,null,null,null,1.4233138753416801,1.6062390745537101,null,4.3922672664269102,7.42420236281031,12.4459677701172,34.664969685170497]
[null,null,null,null,null,null,null,null,null,null,null,null,1.42006582902398,1.60584303129366,null,4.3848079508488498,7.4911318235357198,12.583656215440399,35.018102790576201]
[null,null,null,null,null,null,null,null,null,null,null,null,1.4020579606682,1.5826839809570601,null,4.3163915196145002,7.4235788208158997,12.524388603704701,34.415016480746402]
[null,null,null,null,null,null,null,null,null,null,null,null,1.3744348551538399,1.54496964210759,null,4.2329000465030102,7.2451045462127803,12.3049419313831,33.060857041042098]
[null,null,null,null,null,null,null,null,null,null,null,null,1.3464223509597499,1.5064265555801799,null,4.1755737661655399,7.03395930965796,12.0366733623672,31.558037331358999]
[null,null,null,null,null,null,null,null,null,null,null,null,1.32580260818483,1.4785776627559399,null,4.1487136449685398,6.86870840115966,11.8197000140071,30.4634900825465]
[null,null,null,null,null,null,null,null,null,null,null,null,1.3142312901731601,1.4624080857747499,null,4.1278119185816404,6.7706946544341102,11.661954186719299,29.916436196785298]
[null,null,null,null,null,null,null,null,null,null,null,null,1.30805523493091,1.4518628529300499,null,4.08775407732338,6.7051670122479496,11.514183909098101,29.719214210178599]
[null,null,null,null,null,null,null,null,null,null,null,null,1.30215096167392,1.4407246119092401,null,4.0251629071217696,6.6290859054168303,11.3383333045306,29.641369978785701]
[null,null,null,null,null,null,null,null,null,null,null,null,1.29521098366625,1.4274183619681999,null,3.9462592185289598,6.5334497478735303,11.153103738704599,29.6066723777909]
[null,null,null,null,null,null,null,null,null,null,null,null,1.28764325563322,1.41294894622032,null,3.8623936435027701,6.42568520010051,10.9769811939644,29.5562102495233]
[null,null,null,null,null,null,null,null,null,null,null,null,1.28123074718666,1.3994165303912101,null,3.7864134151883002,6.3244324368264904,10.8312836521278,29.458686191499702]
[null,null,null,null,null,null,null,null,null,null,null,null,1.2769107567504401,1.38969740115372,null,3.7320868279960302,6.2488982926874197,10.743609269905599,29.343331967535299]
[null,null,null,null,null,null,null,null,null,null,null,null,1.27629208602883,1.3880124378385199,null,3.71044834971313,6.2187338677976296,10.7451135045079,29.316040262170699]
[null,null,null,null,null,null,null,null,null,null,null,null,1.2810197504455501,1.39672395732129,null,3.7208235595416599,6.2463790582563297,10.8437184111572,29.4634251326558]
[null,null,null,null,null,null,null,null,null,null,null,null,1.29146045730301,1.4154599104905701,null,3.7447028944339,6.3278536593621304,11.0198982297632,29.822011277711699]
[null,null,null,null,null,null,null,null,null,null,null,null,1.3055656566149201,1.44069077845178,null,3.7557969075261601,6.4358119693567302,11.2216050685146,30.2679955451887]
[null,null,null,null,null,null,null,null,null,null,null,null,1.3195781127131501,1.46683976004923,null,3.7461596888025301,6.5400948647616497,11.4076894725527,30.601657314331501]
[null,null,null,null,null,null,null,null,null,null,null,null,1.3316788934760599,1.4922124311978999,null,3.7324563034626301,6.62924197338209,11.568483030578699,30.687683881359298]
[null,null,null,null,null,null,null,null,null,null,null,null,1.3431376566065001,1.51976345570663,null,3.74409213118166,6.7178408611138503,11.726885951693999,30.5962206930534]
[null,null,null,null,null,null,null,null,null,null,null,null,1.35576915422268,1.55223404485453,null,3.7977468060007298,6.8269240567544802,11.912803787619801,30.5683619511396]
[null,null,null,null,null,null,null,null,null,null,null,null,1.3689749378839,1.5865216299698699,null,3.88414708045757,6.9587845171960598,12.1367271865938,30.779712393259299]
[null,null,null,null,null,null,null,null,null,null,null,null,1.3796504411220001,1.61485074343121,null,3.97695741823674,7.0905274059315202,12.3721727699171,31.1869200748236]
[null,null,null,null,null,null,null,null,null,null,null,null,1.3848898161316801,1.63138372419561,null,4.0502873071749699,7.1939836823844701,12.5660525387416,31.604387112347101]
[null,null,null,null,null,null,null,null,null,null,null,null,1.3832868381794401,1.6357570474471801,null,4.0888667460048103,7.2555241843729199,12.674597429798,31.890385548975001]
[null,null,null,null,null,null,null,null,null,null,null,null,1.3770018597789799,1.6315376026826001,null,4.0849518967343004,7.27767056547109,12.681236597317399,32.0165034403853]
[null,null,null,null,null,null,null,null,null,null,null,null,1.3664179162833501,1.6189900777903501,null,4.0470157324649501,7.2551758263873696,12.5930413894704,31.977989309557898]
[null,null,null,null,null,null,null,null,null,null,null,null,1.35328848681382,1.5998692110800401,null,3.9946311649510902,7.1893242579352199,12.4620016422567,31.866874000675701]
[null,null,null,null,null,null,null,null,null,null,null,null,1.3409522354346299,1.57868995173237,null,3.9467513953612898,7.0946724372352898,12.3411608407662,31.785739663438001]
[null,null,null,null,null,null,null,null,null,null,null,null,1.3330786672956401,1.5610597555227801,null,3.92748053781381,7.0022069077425497,12.270962228720901,31.854986585600201]
[null,null,null,null,null,null,null,null,null,null,null,null,1.33400790125901,1.55297280747021,null,3.94914982281185,6.9580359846462398,12.278856984063101,32.113505952347303]
[null,null,null,null,null,null,null,null,null,null,null,null,1.3443382829800501,1.5564718283782799,null,4.0145556577194697,6.99110520184888,12.3773427598579,32.622737526672402]
[null,null,null,null,null,null,null,null,null,null,null,null,1.3613164323065099,1.56999368947107,null,4.1071640850334603,7.1030063710373996,12.5772554289806,33.375210586507997]
[null,null,null,null,null,null,null,null,null,null,null,null,1.37922824217577,1.58924003487998,null,4.1958190653408503,7.2579458500098202,12.8531698681187,34.299192390846599]
[null,null,null,null,null,null,null,null,null,null,null,null,1.39132093353099,1.60688872997675,null,4.2549316151293697,7.39550141469745,13.143457339072601,35.202790949361898]
[null,null,null,null,null,null,null,null,null,null,null,null,1.39402217241572,1.6161917727211701,null,4.2873869470732799,7.4669028160664599,13.3953391800032,35.872210302056402]
[null,null,null,null,null,null,null,null,null,null,null,null,1.3895423856511699,1.61765303719882,null,4.310712979182,7.4790057621567501,13.597903892518501,36.260402999119897]
[null,null,null,null,null,null,null,null,null,null,null,null,1.38503312818937,1.61691425058169,null,4.3338598981028698,7.4780285756262899,13.753641802332,36.476085372090999]
[null,null,null,null,null,null,null,null,null,null,null,null,1.3831187253339801,1.6168425142446701,null,4.3468311615620197,7.4915829483213603,13.8467375713831,36.593493951032599]
[null,null,null,null,null,null,null,null,null,null,null,null,1.38204842664768,1.61487975932221,null,4.3382315744805799,7.5039419427609602,13.8479842483426,36.5776054432922]
[null,null,null,null,null,null,null,null,null,null,null,null,1.3787530825367,1.6071582841224601,null,4.3022464881428597,7.4855949524324297,13.746240939177101,36.341184003111998]
[null,null,null,null,null,null,null,null,null,null,null,null,1.3714963624574601,1.59253875576655,null,4.2499207667667003,7.4252783128745898,13.5626300145379,35.926952222866298]
[null,null,null,null,null,null,null,null,null,null,null,null,1.36155382540456,1.5752725671771399,null,4.1936166244786,7.3464484166721498,13.3391587020269,35.449133143116903]
[null,null,null,null,null,null,null,null,null,null,null,null,1.35068347897354,1.55980117967976,null,4.1442282142068603,7.2728823554177904,13.097192414652699,35.018246960263603]
[null,null,null,null,null,null,null,null,null,null,null,null,1.34065783163082,1.54934580670741,null,4.1059272221790497,7.2169220808208197,12.8534995380877,34.562903062120803]
[null,null,null,null,null,null,null,null,null,null,null,null,1.3333653559401899,1.54461024769683,null,4.0728384035647798,7.1854096859964596,12.618965545186899,33.945741593300603]
[null,null,null,null,null,null,null,null,null,null,null,null,1.32944111592401,1.54215504506652,null,4.0336850575670802,7.1736968083759001,12.3808277425195,33.0458347030795]
[null,null,null,null,null,null,null,null,null,null,null,null,1.3264829711227699,1.5360422361806201,null,3.9893776714289899,7.16020779763201,12.133756761458701,31.8929891483121]
[null,null,null,null,null,null,null,null,null,null,null,null,1.3222776406288099,1.5246509975064599,null,3.9486830005286699,7.1299971489885499,11.902864965796301,30.732831364578601]
[null,null,null,null,null,null,null,null,null,null,null,null,1.31521560676067,1.51029756271017,null,3.9269265800360702,7.0829395001244002,11.737701644576401,29.9067538544172]
[null,null,null,null,null,null,null,null,null,null,null,null,1.3064876851354801,1.4994738301122099,null,3.9345495471270802,7.0391133658610299,11.6848091263596,29.642065356555701]
[null,null,null,null,null,null,null,null,null,null,null,null,1.2996688660767901,1.4976487037985899,null,3.9697081642339902,7.02317254222105,11.7499015573192,29.932466427527899]
[null,null,null,null,null,null,null,null,null,null,null,null,1.29733151925541,1.5060412040203801,null,4.0208562310240303,7.0433008327882503,11.8945261273856,30.572364915607999]
[null,null,null,null,null,null,null,null,null,null,null,null,1.2998365899584201,1.5213825584619001,null,4.0732379421109899,7.0906069876326203,12.0747440426802,31.320061174185]
[null,null,null,null,null,null,null,null,null,null,null,null,1.3050560268937399,1.53877909387679,null,4.1094507385996399,7.1475401842050301,12.257852182254799,31.987381087647499]
[null,null,null,null,null,null,null,null,null,null,null,null,1.3097058444426899,1.5527963958378901,null,4.1144796832678603,7.1988209586947001,12.398870260092799,32.4301296091624]
[null,null,null,null,null,null,null,null,null,null,null,null,1.3102147620412501,1.55918120689187,null,4.0782167916881402,7.2279453929465598,12.4339326248401,32.488365721074601]
[null,null,null,null,null,null,null,null,null,null,null,null,1.30358982084094,1.5548295290951899,null,4.0094029745202402,7.2122077983046902,12.3259140496725,32.088038360962202]
[null,null,null,null,null,null,null,null,null,null,null,null,1.29160431479368,1.5412064428371199,null,3.9306273754705301,7.1433854448260199,12.094543348874399,31.335428139274502]
[null,null,null,null,null,null,null,null,null,null,null,null,1.2782601629777499,1.52368735364362,null,3.86418362245659,7.03623016397664,11.8273193407177,30.522875930911699]
[null,null,null,null,null,null,null,null,null,null,null,null,1.2678791441975199,1.50790397858931,null,3.8201727297228798,6.92100194157217,11.606346094124699,29.923955084822101]
[null,null,null,null,null,null,null,null,null,null,null,null,1.2619001043439799,1.4953322666820601,null,3.7961096353366099,6.8228965213241697,11.459335119932399,29.5773584471589]
[null,null,null,null,null,null,null,null,null,null,null,null,1.25903797552756,1.48579846718464,null,3.7980957832647202,6.7522533390847199,11.3675263744446,29.3853410532579]
[null,null,null,null,null,null,null,null,null,null,null,null,1.2605831852473599,1.48347811061962,null,3.8200019417585498,6.7290497635196198,11.3194384174092,29.281439297251701]
[null,null,null,null,null,null,null,null,null,null,null,null,1.2661907191613999,1.4891013394071999,null,3.84816854233675,6.7467133013529299,11.3094555656682,29.278411348975698]
[null,null,null,null,null,null,null,null,null,null,null,null,1.27371633387798,1.4985716848350299,null,3.86659519597608,6.7776195817038696,11.3332887508687,29.394372211526601]
[null,null,null,null,null,null,null,null,null,null,null,null,1.2796290664219701,1.5042537120000099,null,3.8700788107129198,6.7857567890472499,11.3652520576874,29.516242260243999]
[null,null,null,null,null,null,null,null,null,null,null,null,1.2825441489614799,1.50255412454032,null,3.8643503664344601,6.76605723154975,11.383697275139101,29.536630082163899]
[null,null,null,null,null,null,null,null,null,null,null,null,1.2839416253821501,1.49551501479836,null,3.85257201397688,6.7446960813567101,11.3667730090178,29.3379435963516]
[null,null,null,null,null,null,null,null,null,null,null,null,1.28665368047441,1.4887062388730301,null,3.8347564927964202,6.7422751237381799,11.2986779326537,28.817814670339999]
[null,null,null,null,null,null,null,null,null,null,null,null,1.29260360062876,1.4844880225910799,null,3.8133571726869602,6.7536969029532301,11.1762637498323,27.908605358781699]
[null,null,null,null,null,null,null,null,null,null,null,null,1.30154161749532,1.48161056235079,null,3.7956191922039202,6.76349972882337,11.0176209618679,26.685695829857]
[null,null,null,null,null,null,null,null,null,null,null,null,1.31144071283734,1.4791823689477099,null,3.79067286615803,6.7684303671315202,10.865932172473601,25.439844079746798]
[null,null,null,null,null,null,null,null,null,null,null,null,1.3201681968763399,1.47788016694846,null,3.8010172690615698,6.78058107897641,10.769515256390701,24.521618486538902]
[null,null,null,null,null,null,null,null,null,null,null,null,1.3260782322396101,1.4788978773784101,null,3.8231507896468502,6.8098874915222902,10.759238969279901,24.150900502029799]
[null,null,null,null,null,null,null,null,null,null,null,null,1.3286155030991,1.48197585702875,null,3.8451808094117599,6.8514579011567296,10.830086027069999,24.300838870323901]
[null,null,null,null,null,null,null,null,null,null,null,null,1.32733072404539,1.4837504356973099,null,3.8598007037782298,6.8851007766285299,10.9401206852325,24.7941151683629]
[null,null,null,null,null,null,null,null,null,null,null,null,1.3221044181275301,1.48130949146167,null,3.87046933179258,6.90296711192451,11.0485861648999,25.464890987584099]
[null,null,null,null,null,null,null,null,null,null,null,null,1.3147925451082401,1.4761429414531699,null,3.8857962508783599,6.9090667161160502,11.135259960280299,26.172027457816899]
[null,null,null,null,null,null,null,null,null,null,null,null,1.3084632164061001,1.47061971232389,null,3.9112144785735099,6.91772466502435,11.2045681734367,26.837838527583301]
[null,null,null,null,null,null,null,null,null,null,null,null,1.30519367500189,1.4668954889849799,null,3.9442896508485101,6.9343322158521197,11.2741381223221,27.4243341020257]
[null,null,null,null,null,null,null,null,null,null,null,null,1.3058384988545799,1.4693459434296301,null,3.9737949033364499,6.9618656140847897,11.3507990220502,27.956487322369199]
[null,null,null,null,null,null,null,null,null,null,null,null,1.3083323426390201,1.4788223635794899,null,3.98926622172453,6.9960637102895502,11.426290335832901,28.473302246788599]
[null,null,null,null,null,null,null,null,null,null,null,null,1.31030136801853,1.49136609186358,null,3.9886842196991101,7.0250792824384396,11.473331102063799,28.9467876427756]
[null,null,null,null,null,null,null,null,null,null,null,null,1.31132437692371,1.5026191006327001,null,3.9726784260931498,7.0398224984039697,11.4834083696213,29.253885005109101]
[null,null,null,null,null,null,null,null,null,null,null,null,1.31200572587714,1.50766753624316,null,3.93792018668141,7.0208006318788501,11.4532100620268,29.232545636704899]
[null,null,null,null,null,null,null,null,null,null,null,null,1.3132680763226201,1.50511543197278,null,3.87742392631153,6.9534205397233197,11.3599674738531,28.710420971641302]
[null,null,null,null,null,null,null,null,null,null,null,null,1.3135984772289,1.4964386653771899,null,3.7977737213479399,6.8204215441381697,11.1669667781185,27.5954372615777]
[null,null,null,null,null,null,null,null,null,null,null,null,1.3115781329824301,1.48558223818431,null,3.7224257582636802,6.6419312661887702,10.8748268095875,26.023339569785598]
[null,null,null,null,null,null,null,null,null,null,null,null,1.3078819731790099,1.47559592711402,null,3.6771536747179998,6.4825784777639299,10.5609499634977,24.380757607001399]
[null,null,null,null,null,null,null,null,null,null,null,null,1.3055542274837499,1.46954895208281,null,3.6722993359418101,6.4017848489489504,10.353351939991001,23.131028307333001]
[null,null,null,null,null,null,null,null,null,null,null,null,1.30661393237767,1.46975362415418,null,3.6943981287543801,6.4230471517380199,10.319758471099901,22.536717090761201]
[null,null,null,null,null,null,null,null,null,null,null,null,1.3096761809647901,1.4752588914825999,null,3.7207259423126202,6.5100039359263002,10.4346381388995,22.544561130986501]
[null,null,null,null,null,null,null,null,null,null,null,null,1.3104195713312801,1.4825652904864,null,3.7364010370748901,6.5934664134425702,10.618048377815301,22.861680090065001]
[null,null,null,null,null,null,null,null,null,null,null,null,1.3063208521801,1.48653303946834,null,3.7375375040851901,6.6338854660753999,10.806121933575101,23.1742316864995]
[null,null,null,null,null,null,null,null,null,null,null,null,1.29886866700389,1.48536402616032,null,3.7327715472864198,6.6261448566093701,10.962980207493899,23.307383147604799]
[null,null,null,null,null,null,null,null,null,null,null,null,1.29320747484142,1.4841939873763199,null,3.7319107837494898,6.60531590884856,11.0907033326686,23.262298935967699]
[null,null,null,null,null,null,null,null,null,null,null,null,1.29289908933316,1.48830029308478,null,3.7341983600894899,6.6079323446120499,11.190447497614301,23.204153905195799]
[null,null,null,null,null,null,null,null,null,null,null,null,1.29744226917586,1.49920415258161,null,3.7355791452112301,6.6593994501372604,11.2374462193253,23.2595879039301]
[null,null,null,null,null,null,null,null,null,null,null,null,1.3035631814170501,1.5145686319417899,null,3.7306585201979598,6.7514393964427004,11.229194327364899,23.433534827115199]
[null,null,null,null,null,null,null,null,null,null,null,null,1.3082344622159201,1.5306798712819401,null,3.7200996651766398,6.8462655322973696,11.1835263529307,23.6265789190509]
[null,null,null,null,null,null,null,null,null,null,null,null,1.31193977568826,1.5430692309888501,null,3.7124092560087201,6.9113977436064502,11.131352057899999,23.724124295962199]
[null,null,null,null,null,null,null,null,null,null,null,null,1.3165034334452601,1.54890930551763,null,3.71760606061404,6.9340679608897497,11.102654587762601,23.699563233862001]
[null,null,null,null,null,null,null,null,null,null,null,null,1.32244499775709,1.5477085025478401,null,3.7389807831714799,6.9330719271266101,11.1228965945889,23.6306984547779]
[null,null,null,null,null,null,null,null,null,null,null,null,1.32804353234549,1.5384337515082001,null,3.7743893558702202,6.9324609229936298,11.1859017461608,23.633116968414701]
[null,null,null,null,null,null,null,null,null,null,null,null,1.3302930794866199,1.52211773535332,null,3.8221584038204099,6.9373083117857401,11.278687045976101,23.7812800897144]
[null,null,null,null,null,null,null,null,null,null,null,null,1.3297380193194701,1.5036683848144301,null,3.8811589416008401,6.9626250284387403,11.375175533399901,24.096322865314399]
[null,null,null,null,null,null,null,null,null,null,null,null,1.32896312238193,1.4915178253724699,null,3.94588663424254,7.02429855043939,11.4755617041319,24.596742749590501]
[null,null,null,null,null,null,null,null,null,null,null,null,1.33011440249752,1.49012601311066,null,4.0035065518968196,7.1140904111216701,11.6145303556633,25.2511825631031]
[null,null,null,null,null,null,null,null,null,null,null,null,1.3331945418746201,1.49577852387981,null,4.03907875269085,7.1905024998244498,11.813407559757101,25.932820079435]
[null,null,null,null,null,null,null,null,null,null,null,null,1.33663385877989,1.5005281041278999,null,4.0430122221956797,7.2116387587949404,12.0438324684043,26.4295414105923]
[null,null,null,null,null,null,null,null,null,null,null,null,1.3406453555942,1.5006617258219299,null,4.0139195132396397,7.1661073089309797,12.2354257862346,26.552907722069499]
[null,null,null,null,null,null,null,null,null,null,null,null,1.34639167990608,1.4966471009278299,null,3.9538445405886198,7.0751727359550198,12.326281592937701,26.244404090192099]
[null,null,null,null,null,null,null,null,null,null,null,null,1.3533453037990699,1.48792149233075,null,3.8722578996715198,6.9569410600894903,12.2537866331331,25.523017486626099]
[null,null,null,null,null,null,null,null,null,null,null,null,1.3586660777595201,1.47456842921315,null,3.7883653411506701,6.8004278443399899,12.0179357655938,24.4988818271474]
[null,null,null,null,null,null,null,null,null,null,null,null,1.35922893697679,1.46141677137965,null,3.7246435294998799,6.6124224030885603,11.655028458912,23.405257444928498]
[null,null,null,null,null,null,null,null,null,null,null,null,1.35372986624153,1.4544086393847699,null,3.69652706497601,6.44474953237318,11.229334033095499,22.522279109322501]
[null,null,null,null,null,null,null,null,null,null,null,null,1.3436659362917001,1.45854159938687,null,3.7002949785826602,6.3683433445428701,10.845760342231999,22.080903452882701]
[null,null,null,null,null,null,null,null,null,null,null,null,1.3329846383922299,1.4737570521913499,null,3.7216943085218399,6.4115337998328101,10.6056386891524,22.1337169642627]
[null,null,null,null,null,null,null,null,null,null,null,null,1.3252841379512199,1.4972307984225901,null,3.7414354604006199,6.5325593845124397,10.566551125684599,22.5731077771574]
[null,null,null,null,null,null,null,null,null,null,null,null,1.32056271253515,1.52298169668929,null,3.7484155111997302,6.6510562839374403,10.6976413161262,23.227688032109999]
[null,null,null,null,null,null,null,null,null,null,null,null,1.3174672204964599,1.54139499631471,null,3.7507262124569598,6.7114124844629099,10.888630861473301,23.909439279708199]
[null,null,null,null,null,null,null,null,null,null,null,null,1.3142828236453601,1.54576183346598,null,3.7632961820480002,6.7212540827079197,11.056745838150899,24.477755504912899]
[null,null,null,null,null,null,null,null,null,null,null,null,1.3119288708750501,1.5354452438607999,null,3.7923962971493999,6.7039070847284599,11.159795366831499,24.8331156425747]
[null,null,null,null,null,null,null,null,null,null,null,null,1.3120139979386001,1.51430300844949,null,3.8305847515881202,6.6652318984619301,11.2120215311755,24.938981618672901]
[null,null,null,null,null,null,null,null,null,null,null,null,1.3128593885478499,1.4879394677243001,null,3.84966024320389,6.6031876653500401,11.1950290133223,24.783553219324599]
[null,null,null,null,null,null,null,null,null,null,null,null,1.3103875873287301,1.46248951731981,null,3.8240516177728399,6.5279515587310497,11.0783989732154,24.400162897782]
[null,null,null,null,null,null,null,null,null,null,null,null,1.3006954635507399,1.44054718421332,null,3.74726511409881,6.4489547658433599,10.855491182195401,23.892596349392601]
[null,null,null,null,null,null,null,null,null,null,null,null,1.28457427867701,1.418929397738,null,3.6425136103845102,6.3885836089702801,10.587976199470599,23.369219275310002]
[null,null,null,null,null,null,null,null,null,null,null,null,1.2673924372880501,1.39497639306038,null,3.54587004494008,6.3509850532483396,10.3596921305964,22.903083596508299]
[null,null,null,null,null,null,null,null,null,null,null,null,1.2553229439748701,1.3739462912711999,null,3.48903744361556,6.3324682356355,10.1977969009725,22.554698501290702]
[null,null,null,null,null,null,null,null,null,null,null,null,1.2529251962075501,1.36854719442648,null,3.4742431215357299,6.3310096355968604,10.078161218815801,22.413761677436199]
[null,null,null,null,null,null,null,null,null,null,null,null,1.2590864228001,1.3851319343666699,null,3.4882428411678301,6.3414851507215699,9.9969379355997603,22.562423577023502]
[null,null,null,null,null,null,null,null,null,null,null,null,1.2707225231973001,1.4160520667999399,null,3.5208784723761002,6.3602667571248803,9.9961848315093391,22.988856845937502]
[null,null,null,null,null,null,null,null,null,null,null,null,1.28516889863759,1.4493627192199401,null,3.57212951464706,6.3989969733088001,10.125580084817599,23.553968704061798]
[null,null,null,null,null,null,null,null,null,null,null,null,1.3012695004892101,1.4777399144871901,null,3.6343509069263198,6.47044932867305,10.3717562604558,24.073445952701501]
[null,null,null,null,null,null,null,null,null,null,null,null,1.3182696544635399,1.4986386948422701,null,3.6963788849007702,6.5638429622829104,10.659289291869101,24.424257364577201]
[null,null,null,null,null,null,null,null,null,null,null,null,1.33318588380875,1.51010021848617,null,3.7370395128882099,6.6476544792634797,10.9128161298524,24.590664828320602]
[null,null,null,null,null,null,null,null,null,null,null,null,1.3430289263466899,1.5112418414642901,null,3.74947164738309,6.6977465441508297,11.069941357178299,24.6165937920997]
[null,null,null,null,null,null,null,null,null,null,null,null,1.3449369962133999,1.5013711273088299,null,3.7424384577278702,6.6931446790601399,11.1091031243893,24.594399401308898]
[null,null,null,null,null,null,null,null,null,null,null,null,1.34034623868784,1.48354846033831,null,3.7307115454836399,6.6424277789145796,11.0682993971564,24.575492897943501]
[null,null,null,null,null,null,null,null,null,null,null,null,1.33298640215605,1.4621169274814101,null,3.7235235196913199,6.5652314165339396,10.982293751650101,24.5743120973045]
[null,null,null,null,null,null,null,null,null,null,null,null,1.32766044407544,1.4438149140285901,null,3.7214321940532602,6.4772151118968404,10.8986650897837,24.586371295845002]
[null,null,null,null,null,null,null,null,null,null,null,null,1.32553768329262,1.43508019260399,null,3.7236535021755999,6.3955715526721404,10.8454003753368,24.641925303852101]
[null,null,null,null,null,null,null,null,null,null,null,null,1.32537233672151,1.4401943482845401,null,3.7334709176574701,6.3473737494169802,10.8487837339866,24.799011981124501]
[null,null,null,null,null,null,null,null,null,null,null,null,1.32572514286374,1.4589611309435,null,3.76077212413791,6.3612738016592303,10.917915091194899,25.101543741464301]
[null,null,null,null,null,null,null,null,null,null,null,null,1.3286631806106,1.4877505634582899,null,3.8107458392029399,6.4606542470683799,11.0381497457725,25.534484279276601]
[null,null,null,null,null,null,null,null,null,null,null,null,1.3359537763048099,1.5191821017007201,null,3.87549527145765,6.6238214208188504,11.188344346207501,26.016760377374599]
[null,null,null,null,null,null,null,null,null,null,null,null,1.3472311926248499,1.5437754563644099,null,3.9417015456523701,6.8102044365683598,11.348575681921799,26.434750127860301]
[null,null,null,null,null,null,null,null,null,null,null,null,1.3561781125087899,1.55514677705916,null,3.9917559647068499,6.9774844607929998,11.499855684133401,26.735106991550499]
[null,null,null,null,null,null,null,null,null,null,null,null,1.3575467537730801,1.5542759965103601,null,4.0123447419657099,7.0951357631487104,11.6483682763927,26.920887268856099]
[null,null,null,null,null,null,null,null,null,null,null,null,1.3500086523844099,1.5468115362603001,null,4.0091536879732299,7.1494352777385703,11.7901377003568,27.025087576653402]
[null,null,null,null,null,null,null,null,null,null,null,null,1.3393409198125501,1.53956855326763,null,3.9905613082148199,7.1386464811855097,11.9399395346984,27.0505204074218]
[null,null,null,null,null,null,null,null,null,null,null,null,1.3318721244052001,1.5371260055314,null,3.9675882926325601,7.0843195377448902,12.0445810321803,27.0302558336708]
[null,null,null,null,null,null,null,null,null,null,null,null,1.3319355015381,1.5427520507433701,null,3.93994168379816,7.0154010856505602,12.0483910824459,27.021336168198101]
[null,null,null,null,null,null,null,null,null,null,null,null,1.3373357962778101,1.55483234786103,null,3.90664348499471,6.9512628227812501,11.9413979172271,27.059404851421501]
[null,null,null,null,null,null,null,null,null,null,null,null,1.34497882440148,1.56895992045023,null,3.86961592451319,6.8979557088374097,11.769612138065099,27.106993606591399]
[null,null,null,null,null,null,null,null,null,null,null,null,1.3524169236174699,1.5799341654616501,null,3.8347224329054299,6.8621228854473602,11.601202743117399,27.1010772060846]
[null,null,null,null,null,null,null,null,null,null,null,null,1.3585999321814499,1.58729382093482,null,3.8091999314677301,6.84813459658666,11.470477909684099,27.031375113821301]
[null,null,null,null,null,null,null,null,null,null,null,null,1.36281972718886,1.5952322226412301,null,3.7978912116885901,6.8464888291794601,11.3695827837221,26.992365507464399]
[null,null,null,null,null,null,null,null,null,null,null,null,1.36626800500003,1.6073607631965099,null,3.8039772658878301,6.8440983484462299,11.295214567250399,27.099802183341499]
[null,null,null,null,null,null,null,null,null,null,null,null,1.3696218156029101,1.6235830705505701,null,3.8284874549335899,6.8372449283455801,11.2543998280827,27.410366748749698]
[null,null,null,null,null,null,null,null,null,null,null,null,1.37307525337435,1.63870919054968,null,3.86591924532993,6.8314101086664802,11.2731890494761,27.887763705675699]
[null,null,null,null,null,null,null,null,null,null,null,null,1.3757798404736199,1.6479112298510801,null,3.9121238075231601,6.8354789867161001,11.352781934323801,28.439447076806299]
[null,null,null,null,null,null,null,null,null,null,null,null,1.37740398594528,1.6501120662508699,null,3.9567903811551899,6.8526038229585602,11.477298578270799,28.9740184458629]
[null,null,null,null,null,null,null,null,null,null,null,null,1.3773926311428699,1.6473537815558701,null,3.9892251301609498,6.8771060888296898,11.610801293839099,29.4168442784921]
[null,null,null,null,null,null,null,null,null,null,null,null,1.37675515846611,1.6429640337672,null,4.0010344720663404,6.9015324790780701,11.709358260330699,29.6917109287138]
[null,null,null,null,null,null,null,null,null,null,null,null,1.3763921917308799,1.63838823775314,null,3.9905606955926198,6.9269564104372199,11.757830618676699,29.7445271671093]
[null,null,null,null,null,null,null,null,null,null,null,null,1.37716506756394,1.6330164038552,null,3.9640238131346099,6.9409841159295,11.7496542125324,29.589842476693899]
[null,null,null,null,null,null,null,null,null,null,null,null,1.37853034260769,1.62505291209681,null,3.9358826545651202,6.9477471730139202,11.6817066173427,29.3121155988858]
[null,null,null,null,null,null,null,null,null,null,null,null,1.3793106451636199,1.6146477501087499,null,3.9179393285509798,6.9586374231883497,11.5845309513833,29.030452299917201]
[null,null,null,null,null,null,null,null,null,null,null,null,1.3786799628764601,1.6047450560760499,null,3.9120762193070502,6.97715572040455,11.490381990269499,28.834787823589]
[null,null,null,null,null,null,null,null,null,null,null,null,1.3757460322911199,1.59709063185503,null,3.9152343904753,6.9866680104984198,11.437598106744501,28.7742659666295]
[null,null,null,null,null,null,null,null,null,null,null,null,1.3716078588287199,1.59260671744337,null,3.9206939419830902,6.9783437104826698,11.449157748581101,28.8664418344468]
[null,null,null,null,null,null,null,null,null,null,null,null,1.3688579329788699,1.5897569455924601,null,3.9279096762635701,6.96265578639143,11.530544672412701,29.115006197103]
[null,null,null,null,null,null,null,null,null,null,null,null,1.36922065853158,1.58680867314276,null,3.9373435103099301,6.9539217097705004,11.6704927857988,29.497296734955999]
[null,null,null,null,null,null,null,null,null,null,null,null,1.3725445366471301,1.5838029565015099,null,3.94948654955332,6.9536789643196304,11.855139587878501,30.00417159333]
[null,null,null,null,null,null,null,null,null,null,null,null,1.37648667976244,1.5810578175129599,null,3.9671085133514801,6.9489135248062697,12.0652806040125,30.589576328618399]
[null,null,null,null,null,null,null,null,null,null,null,null,1.3792406831119299,1.5794758990690401,null,3.9911988336314401,6.9388846182904702,12.266102587601701,31.141860697580899]
[null,null,null,null,null,null,null,null,null,null,null,null,1.3807636641163801,1.5809231542626101,null,4.0153338493535999,6.93896070836721,12.4186070526035,31.5066924527158]
[null,null,null,null,null,null,null,null,null,null,null,null,1.38143007875673,1.58620381986765,null,4.0233318147711996,6.9517729536304396,12.5165274960041,31.612281831401699]
[null,null,null,null,null,null,null,null,null,null,null,null,1.37895622415108,1.5912352214055501,null,4.0056122519075696,6.9621930372229404,12.5472250077224,31.476564201945699]
[null,null,null,null,null,null,null,null,null,null,null,null,1.37093779283184,1.59228615276873,null,3.9620861189461798,6.9601501595170197,12.5452783037519,31.203878310431101]
[null,null,null,null,null,null,null,null,null,null,null,null,1.3564463483740199,1.5889050271985901,null,3.9051253440216001,6.9372772209883502,12.513602441855101,30.920534081903199]
[null,null,null,null,null,null,null,null,null,null,null,null,1.33716000094465,1.58390071686098,null,3.8542674769549499,6.8959614008228796,12.4371121401902,30.740061731794199]
[null,null,null,null,null,null,null,null,null,null,null,null,1.3150511974188499,1.57856418034354,null,3.82620177634415,6.8392008658608603,12.2766794280836,30.726939433482698]
[null,null,null,null,null,null,null,null,null,null,null,null,1.29522914570306,1.5744842813325199,null,3.8321344649783202,6.7897438896727698,12.043509279205299,30.880376305985202]
[null,null,null,null,null,null,null,null,null,null,null,null,1.28496484657873,1.5734986479770701,null,3.8693563735318999,6.7802615544876197,11.8384044554162,31.143059139480901]
[null,null,null,null,null,null,null,null,null,null,null,null,1.28942018558335,1.5780157579952701,null,3.9234798811534701,6.83266262775021,11.777465463748699,31.448818660448399]
[null,null,null,null,null,null,null,null,null,null,null,null,1.3078515546873899,1.5878968098270301,null,3.98122198509299,6.9365482702393999,11.909019373861801,31.768155748121501]
[null,null,null,null,null,null,null,null,null,null,null,null,1.3326280146909699,1.60054099964163,null,4.0345401285566096,7.0585072802688797,12.1698562273693,32.087217781558401]
[null,null,null,null,null,null,null,null,null,null,null,null,1.35591420180069,1.61386679007564,null,4.0799473163661499,7.1667561373704602,12.429486053216401,32.3738626301297]
[null,null,null,null,null,null,null,null,null,null,null,null,1.37366467419428,1.62727360131329,null,4.1169650894052499,7.2463725200174602,12.6070110119757,32.619270621645803]
[null,null,null,null,null,null,null,null,null,null,null,null,1.38597803208765,1.6393407907448501,null,4.14524287022053,7.2982200326817397,12.662980818309601,32.813659615720297]
[null,null,null,null,null,null,null,null,null,null,null,null,1.3947363943987201,1.64706016463919,null,4.1631597491427801,7.3332329195387702,12.6359056356932,32.949050339421802]
[null,null,null,null,null,null,null,null,null,null,null,null,1.4012877761127001,1.6468412846264,null,4.1692580994867301,7.3483473206392498,12.5698065674255,33.026877894720698]
[null,null,null,null,null,null,null,null,null,null,null,null,1.4068635541568599,1.6372938682349001,null,4.16721757182881,7.3381679958184796,12.502652523781199,33.022834248216803]
[null,null,null,null,null,null,null,null,null,null,null,null,1.4104548206682299,1.6195081030580101,null,4.1622118007827904,7.2931117469327402,12.423329914704899,32.893842823606001]
[null,null,null,null,null,null,null,null,null,null,null,null,1.4104684242468699,1.6002449910254,null,4.1606966471497904,7.1998045814212102,12.318325293714899,32.633526840325104]
[null,null,null,null,null,null,null,null,null,null,null,null,1.4069191323152199,1.58742967238741,null,4.1607069183217398,7.0752673272517503,12.1756459109373,32.308465351354201]
[null,null,null,null,null,null,null,null,null,null,null,null,1.3988161732962801,1.58236813196477,null,4.15290081081986,6.9641543703829401,12.0109024265854,32.038918083004098]
[null,null,null,null,null,null,null,null,null,null,null,null,1.3856213091228899,1.5787586876547699,null,4.1290534978296396,6.9057269170336202,11.891156225707901,31.902030179999699]
[null,null,null,null,null,null,null,null,null,null,null,null,1.368491319311,1.5720050291293399,null,4.0912352431656203,6.9011776966669904,11.886498288454501,31.878448043913298]
[null,null,null,null,null,null,null,null,null,null,null,null,1.3504337224966101,1.5642874970646801,null,4.0528418223534004,6.9274604681371796,12.0024080306749,31.9238279838364]
[null,null,null,null,null,null,null,null,null,null,null,null,1.3366147969044799,1.56365566541056,null,4.0304262074815904,6.9692153749474004,12.174809086005499,32.032665729388299]
[null,null,null,null,null,null,null,null,null,null,null,null,1.33158894241288,1.57466308630188,null,4.0258120776470099,7.0319093281699399,12.3228410189566,32.239379345861302]
[null,null,null,null,null,null,null,null,null,null,null,null,1.3347791037280601,1.5931248828259801,null,4.0288495038437002,7.1213456209135604,12.4053498795165,32.517185937697299]
[null,null,null,null,null,null,null,null,null,null,null,null,1.34262586592814,1.60908651587507,null,4.02492281573626,7.2133436531381596,12.4372130184105,32.775735227077]
[null,null,null,null,null,null,null,null,null,null,null,null,1.3504626266911299,1.61385733909135,null,4.0090304907635703,7.2895733299601098,12.4414961222533,32.894031030703303]
[null,null,null,null,null,null,null,null,null,null,null,null,1.35507571712149,1.6041396336635101,null,3.98657276019898,7.3395024235945003,12.432058623300099,32.768399676635099]
[null,null,null,null,null,null,null,null,null,null,null,null,1.3568863690552799,1.5861089101350001,null,3.9701103129935502,7.3619214625528802,12.461057842103299,32.408880751097001]
[null,null,null,null,null,null,null,null,null,null,null,null,1.35910550584465,1.57060680276025,null,3.9667391267563001,7.3362795601030504,12.5208552584087,31.877937320234199]
[null,null,null,null,null,null,null,null,null,null,null,null,1.3640755735529,1.5642243443939201,null,3.9721659572878001,7.2571623704294703,12.6144850142973,31.311261032906799]
[null,null,null,null,null,null,null,null,null,null,null,null,1.3706802149502699,1.56469880766821,null,3.9703097535754401,7.1499171724939696,12.688156113417,30.862098857048199]
[null,null,null,null,null,null,null,null,null,null,null,null,1.37507840836837,1.5639372941966001,null,3.9476101088775901,7.0511346469261298,12.6817233558628,30.618496749352001]
[null,null,null,null,null,null,null,null,null,null,null,null,1.3715828801550201,1.5548749248476901,null,3.9083874405679002,6.97730834116045,12.536616684340199,30.598323731877102]
[null,null,null,null,null,null,null,null,null,null,null,null,1.3603941317953401,1.5406313372731,null,3.8572398423957099,6.9161141665907397,12.271529934254501,30.7458587384717]
[null,null,null,null,null,null,null,null,null,null,null,null,1.34339302048548,1.52361454563568,null,3.8074574997008401,6.8382304930345601,11.9368430792636,30.9714690933287]
[null,null,null,null,null,null,null,null,null,null,null,null,1.3250813572128199,1.50831447033252,null,3.7765579166813601,6.7672371329740102,11.619246612423201,31.226707275669799]
[null,null,null,null,null,null,null,null,null,null,null,null,1.3116971383767799,1.5007697792808701,null,3.7839872370668699,6.7469845560428601,11.414546220537,31.5322425921613]
[null,null,null,null,null,null,null,null,null,null,null,null,1.3096696628573099,1.50830498474649,null,3.8304355254644298,6.8234276324615699,11.3875140489441,31.944460182186202]
[null,null,null,null,null,null,null,null,null,null,null,null,1.3203367567527999,1.53151284552497,null,3.8929396529378102,6.9717039703152803,11.5234352552588,32.435614276723598]
[null,null,null,null,null,null,null,null,null,null,null,null,1.3375507148570001,1.5613859814303299,null,3.9417976787164002,7.1349568847760896,11.7560972222903,32.898399756464599]
[null,null,null,null,null,null,null,null,null,null,null,null,1.3523118614279099,1.5845135904332901,null,3.9622083339201,7.2453063477022601,11.957049361327901,33.200149912696503]
[null,null,null,null,null,null,null,null,null,null,null,null,1.3579437744827301,1.5933096500100099,null,3.9626120929545601,7.2742850282177596,12.065226355026301,33.249525655699998]
[null,null,null,null,null,null,null,null,null,null,null,null,1.35464294143953,1.58827549352949,null,3.9598180896757298,7.2513633676266798,12.0795757801073,33.039076346764702]
[null,null,null,null,null,null,null,null,null,null,null,null,1.3480102806505301,1.5749972178110401,null,3.9646527461851599,7.2150606483434698,12.0247307649778,32.644563460791197]
[null,null,null,null,null,null,null,null,null,null,null,null,1.3427621474329201,1.55953775008981,null,3.9883646664039798,7.1917604446362899,11.9344618986784,32.208613400661399]
[null,null,null,null,null,null,null,null,null,null,null,null,1.3441491826287499,1.5514606064333301,null,4.02225110600605,7.2031943040105704,11.9015581574712,31.909575668410401]
[null,null,null,null,null,null,null,null,null,null,null,null,1.3499751761699601,1.55326733489544,null,4.05639670390471,7.2388308642058599,11.9894406143298,31.8110534893591]
[null,null,null,null,null,null,null,null,null,null,null,null,1.3563470558797699,1.56200086879441,null,4.0810618850309099,7.28497831863654,12.1689429935828,31.852976372693799]
[null,null,null,null,null,null,null,null,null,null,null,null,1.3605833807057499,1.5711555326959199,null,4.0938949308486903,7.3043390323931998,12.344267873338,31.909004174140001]
[null,null,null,null,null,null,null,null,null,null,null,null,1.36300252174735,1.5771287828021801,null,4.0944834387998803,7.2757907268794897,12.421562789918999,31.886623223706799]
[null,null,null,null,null,null,null,null,null,null,null,null,1.3650878950065699,1.58216750398812,null,4.0799893636515501,7.2153429156783799,12.3514214681447,31.790939809931]
[null,null,null,null,null,null,null,null,null,null,null,null,1.3648758615626699,1.5897510277304101,null,4.0566496006447501,7.15765743738823,12.159315251971201,31.672569605362099]
[null,null,null,null,null,null,null,null,null,null,null,null,1.3620633238627,1.6008107775393601,null,4.0379722684255004,7.1357690477007099,11.952812967075801,31.610065711539502]
[null,null,null,null,null,null,null,null,null,null,null,null,1.3586678904346801,1.61380530005741,null,4.0350203983972097,7.1575140031578099,11.8366605255459,31.620940530089999]
[null,null,null,null,null,null,null,null,null,null,null,null,1.3581464847656799,1.62496001712945,null,4.04798056339685,7.2133063471362702,11.8848640275662,31.667762803517501]
[null,null,null,null,null,null,null,null,null,null,null,null,1.3617036925341,1.63302556188556,null,4.0660913135836996,7.28191498146745,12.0470878208179,31.704651249177601]
[null,null,null,null,null,null,null,null,null,null,null,null,1.36671312813117,1.6395328144231101,null,4.0791795493625598,7.3482584293356297,12.217706113637901,31.709721334248599]
[null,null,null,null,null,null,null,null,null,null,null,null,1.37122674833805,1.6468718481797899,null,4.0799073821073799,7.4102747807301803,12.326399953439999,31.701319068377199]